{"text_format":"1","workbook":"xlsx","n_sheets":9,"sheets":["Inleiding","Ooien","Rammen","Registratie dekkingen","Registratie lammeren","Berekeningen","Bedrijfsresultaten","Resultaten","Setup"],"not_rendered":{"charts":0,"images":4,"macros":1,"external_links":0,"defined_names":0,"comments":0,"pivot_tables":2},"unopened":[],"bounds":{"document_bytes":16777216,"sheet_cells":100000,"rows_first":2000,"rows_last":500,"rows_between":2000,"halvings":0,"cell_chars":16384,"cell_head_chars":4096},"cells_cut":0,"cells_raw":0,"read":"whole","date_system":"1900"}

{"sheet":"Inleiding","index":0,"n_rows":1,"n_cols":1,"rows_kept":1,"cut":false,"hidden":false,"merged":[]}
["Bedrijfsregistratie schapenhouderij"]

{"sheet":"Ooien","index":1,"n_rows":220,"n_cols":3,"rows_kept":220,"cut":false,"hidden":false,"merged":[]}
["Ooinummer","geboortedatum","leeftijd"]
[null,null,{"$f":"IF(Opzoek_ooi[[#This Row],[geboortedatum]]=\"\",\"\",(TODAY()-Opzoek_ooi[[#This Row],[geboortedatum]])/365)","v":""}]
[null,null,{"$f":"IF(Opzoek_ooi[[#This Row],[geboortedatum]]=\"\",\"\",(TODAY()-Opzoek_ooi[[#This Row],[geboortedatum]])/365)","v":""}]
[null,null,{"$f":"IF(Opzoek_ooi[[#This Row],[geboortedatum]]=\"\",\"\",(TODAY()-Opzoek_ooi[[#This Row],[geboortedatum]])/365)","v":""}]
[null,null,{"$f":"IF(Opzoek_ooi[[#This Row],[geboortedatum]]=\"\",\"\",(TODAY()-Opzoek_ooi[[#This Row],[geboortedatum]])/365)","v":""}]
[null,null,{"$f":"IF(Opzoek_ooi[[#This Row],[geboortedatum]]=\"\",\"\",(TODAY()-Opzoek_ooi[[#This Row],[geboortedatum]])/365)","v":""}]
[null,null,{"$f":"IF(Opzoek_ooi[[#This Row],[geboortedatum]]=\"\",\"\",(TODAY()-Opzoek_ooi[[#This Row],[geboortedatum]])/365)","v":""}]
[null,null,{"$f":"IF(Opzoek_ooi[[#This Row],[geboortedatum]]=\"\",\"\",(TODAY()-Opzoek_ooi[[#This Row],[geboortedatum]])/365)","v":""}]
[null,null,{"$f":"IF(Opzoek_ooi[[#This Row],[geboortedatum]]=\"\",\"\",(TODAY()-Opzoek_ooi[[#This Row],[geboortedatum]])/365)","v":""}]
[null,null,{"$f":"IF(Opzoek_ooi[[#This Row],[geboortedatum]]=\"\",\"\",(TODAY()-Opzoek_ooi[[#This Row],[geboortedatum]])/365)","v":""}]
[null,null,{"$f":"IF(Opzoek_ooi[[#This Row],[geboortedatum]]=\"\",\"\",(TODAY()-Opzoek_ooi[[#This Row],[geboortedatum]])/365)","v":""}]
[null,null,{"$f":"IF(Opzoek_ooi[[#This Row],[geboortedatum]]=\"\",\"\",(TODAY()-Opzoek_ooi[[#This Row],[geboortedatum]])/365)","v":""}]
[null,null,{"$f":"IF(Opzoek_ooi[[#This Row],[geboortedatum]]=\"\",\"\",(TODAY()-Opzoek_ooi[[#This Row],[geboortedatum]])/365)","v":""}]
[null,null,{"$f":"IF(Opzoek_ooi[[#This Row],[geboortedatum]]=\"\",\"\",(TODAY()-Opzoek_ooi[[#This Row],[geboortedatum]])/365)","v":""}]
[null,null,{"$f":"IF(Opzoek_ooi[[#This Row],[geboortedatum]]=\"\",\"\",(TODAY()-Opzoek_ooi[[#This Row],[geboortedatum]])/365)","v":""}]
[null,null,{"$f":"IF(Opzoek_ooi[[#This Row],[geboortedatum]]=\"\",\"\",(TODAY()-Opzoek_ooi[[#This Row],[geboortedatum]])/365)","v":""}]
[null,null,{"$f":"IF(Opzoek_ooi[[#This Row],[geboortedatum]]=\"\",\"\",(TODAY()-Opzoek_ooi[[#This Row],[geboortedatum]])/365)","v":""}]
[null,null,{"$f":"IF(Opzoek_ooi[[#This Row],[geboortedatum]]=\"\",\"\",(TODAY()-Opzoek_ooi[[#This Row],[geboortedatum]])/365)","v":""}]
[null,null,{"$f":"IF(Opzoek_ooi[[#This Row],[geboortedatum]]=\"\",\"\",(TODAY()-Opzoek_ooi[[#This Row],[geboortedatum]])/365)","v":""}]
[null,null,{"$f":"IF(Opzoek_ooi[[#This Row],[geboortedatum]]=\"\",\"\",(TODAY()-Opzoek_ooi[[#This Row],[geboortedatum]])/365)","v":""}]
[null,null,{"$f":"IF(Opzoek_ooi[[#This Row],[geboortedatum]]=\"\",\"\",(TODAY()-Opzoek_ooi[[#This Row],[geboortedatum]])/365)","v":""}]
[null,null,{"$f":"IF(Opzoek_ooi[[#This Row],[geboortedatum]]=\"\",\"\",(TODAY()-Opzoek_ooi[[#This Row],[geboortedatum]])/365)","v":""}]
[null,null,{"$f":"IF(Opzoek_ooi[[#This Row],[geboortedatum]]=\"\",\"\",(TODAY()-Opzoek_ooi[[#This Row],[geboortedatum]])/365)","v":""}]
[null,null,{"$f":"IF(Opzoek_ooi[[#This Row],[geboortedatum]]=\"\",\"\",(TODAY()-Opzoek_ooi[[#This Row],[geboortedatum]])/365)","v":""}]
[null,null,{"$f":"IF(Opzoek_ooi[[#This Row],[geboortedatum]]=\"\",\"\",(TODAY()-Opzoek_ooi[[#This Row],[geboortedatum]])/365)","v":""}]
[null,null,{"$f":"IF(Opzoek_ooi[[#This Row],[geboortedatum]]=\"\",\"\",(TODAY()-Opzoek_ooi[[#This Row],[geboortedatum]])/365)","v":""}]
[null,null,{"$f":"IF(Opzoek_ooi[[#This Row],[geboortedatum]]=\"\",\"\",(TODAY()-Opzoek_ooi[[#This Row],[geboortedatum]])/365)","v":""}]
[null,null,{"$f":"IF(Opzoek_ooi[[#This Row],[geboortedatum]]=\"\",\"\",(TODAY()-Opzoek_ooi[[#This Row],[geboortedatum]])/365)","v":""}]
[null,null,{"$f":"IF(Opzoek_ooi[[#This Row],[geboortedatum]]=\"\",\"\",(TODAY()-Opzoek_ooi[[#This Row],[geboortedatum]])/365)","v":""}]
[null,null,{"$f":"IF(Opzoek_ooi[[#This Row],[geboortedatum]]=\"\",\"\",(TODAY()-Opzoek_ooi[[#This Row],[geboortedatum]])/365)","v":""}]
[null,null,{"$f":"IF(Opzoek_ooi[[#This Row],[geboortedatum]]=\"\",\"\",(TODAY()-Opzoek_ooi[[#This Row],[geboortedatum]])/365)","v":""}]
[null,null,{"$f":"IF(Opzoek_ooi[[#This Row],[geboortedatum]]=\"\",\"\",(TODAY()-Opzoek_ooi[[#This Row],[geboortedatum]])/365)","v":""}]
[null,null,{"$f":"IF(Opzoek_ooi[[#This Row],[geboortedatum]]=\"\",\"\",(TODAY()-Opzoek_ooi[[#This Row],[geboortedatum]])/365)","v":""}]
[null,null,{"$f":"IF(Opzoek_ooi[[#This Row],[geboortedatum]]=\"\",\"\",(TODAY()-Opzoek_ooi[[#This Row],[geboortedatum]])/365)","v":""}]
[null,null,{"$f":"IF(Opzoek_ooi[[#This Row],[geboortedatum]]=\"\",\"\",(TODAY()-Opzoek_ooi[[#This Row],[geboortedatum]])/365)","v":""}]
[null,null,{"$f":"IF(Opzoek_ooi[[#This Row],[geboortedatum]]=\"\",\"\",(TODAY()-Opzoek_ooi[[#This Row],[geboortedatum]])/365)","v":""}]
[null,null,{"$f":"IF(Opzoek_ooi[[#This Row],[geboortedatum]]=\"\",\"\",(TODAY()-Opzoek_ooi[[#This Row],[geboortedatum]])/365)","v":""}]
[null,null,{"$f":"IF(Opzoek_ooi[[#This Row],[geboortedatum]]=\"\",\"\",(TODAY()-Opzoek_ooi[[#This Row],[geboortedatum]])/365)","v":""}]
[null,null,{"$f":"IF(Opzoek_ooi[[#This Row],[geboortedatum]]=\"\",\"\",(TODAY()-Opzoek_ooi[[#This Row],[geboortedatum]])/365)","v":""}]
[null,null,{"$f":"IF(Opzoek_ooi[[#This Row],[geboortedatum]]=\"\",\"\",(TODAY()-Opzoek_ooi[[#This Row],[geboortedatum]])/365)","v":""}]
[null,null,{"$f":"IF(Opzoek_ooi[[#This Row],[geboortedatum]]=\"\",\"\",(TODAY()-Opzoek_ooi[[#This Row],[geboortedatum]])/365)","v":""}]
[null,null,{"$f":"IF(Opzoek_ooi[[#This Row],[geboortedatum]]=\"\",\"\",(TODAY()-Opzoek_ooi[[#This Row],[geboortedatum]])/365)","v":""}]
[null,null,{"$f":"IF(Opzoek_ooi[[#This Row],[geboortedatum]]=\"\",\"\",(TODAY()-Opzoek_ooi[[#This Row],[geboortedatum]])/365)","v":""}]
[null,null,{"$f":"IF(Opzoek_ooi[[#This Row],[geboortedatum]]=\"\",\"\",(TODAY()-Opzoek_ooi[[#This Row],[geboortedatum]])/365)","v":""}]
[null,null,{"$f":"IF(Opzoek_ooi[[#This Row],[geboortedatum]]=\"\",\"\",(TODAY()-Opzoek_ooi[[#This Row],[geboortedatum]])/365)","v":""}]
[null,null,{"$f":"IF(Opzoek_ooi[[#This Row],[geboortedatum]]=\"\",\"\",(TODAY()-Opzoek_ooi[[#This Row],[geboortedatum]])/365)","v":""}]
[null,null,{"$f":"IF(Opzoek_ooi[[#This Row],[geboortedatum]]=\"\",\"\",(TODAY()-Opzoek_ooi[[#This Row],[geboortedatum]])/365)","v":""}]
[null,null,{"$f":"IF(Opzoek_ooi[[#This Row],[geboortedatum]]=\"\",\"\",(TODAY()-Opzoek_ooi[[#This Row],[geboortedatum]])/365)","v":""}]
[null,null,{"$f":"IF(Opzoek_ooi[[#This Row],[geboortedatum]]=\"\",\"\",(TODAY()-Opzoek_ooi[[#This Row],[geboortedatum]])/365)","v":""}]
[null,null,{"$f":"IF(Opzoek_ooi[[#This Row],[geboortedatum]]=\"\",\"\",(TODAY()-Opzoek_ooi[[#This Row],[geboortedatum]])/365)","v":""}]
[null,null,{"$f":"IF(Opzoek_ooi[[#This Row],[geboortedatum]]=\"\",\"\",(TODAY()-Opzoek_ooi[[#This Row],[geboortedatum]])/365)","v":""}]
[null,null,{"$f":"IF(Opzoek_ooi[[#This Row],[geboortedatum]]=\"\",\"\",(TODAY()-Opzoek_ooi[[#This Row],[geboortedatum]])/365)","v":""}]
[null,null,{"$f":"IF(Opzoek_ooi[[#This Row],[geboortedatum]]=\"\",\"\",(TODAY()-Opzoek_ooi[[#This Row],[geboortedatum]])/365)","v":""}]
[null,null,{"$f":"IF(Opzoek_ooi[[#This Row],[geboortedatum]]=\"\",\"\",(TODAY()-Opzoek_ooi[[#This Row],[geboortedatum]])/365)","v":""}]
[null,null,{"$f":"IF(Opzoek_ooi[[#This Row],[geboortedatum]]=\"\",\"\",(TODAY()-Opzoek_ooi[[#This Row],[geboortedatum]])/365)","v":""}]
[null,null,{"$f":"IF(Opzoek_ooi[[#This Row],[geboortedatum]]=\"\",\"\",(TODAY()-Opzoek_ooi[[#This Row],[geboortedatum]])/365)","v":""}]
[null,null,{"$f":"IF(Opzoek_ooi[[#This Row],[geboortedatum]]=\"\",\"\",(TODAY()-Opzoek_ooi[[#This Row],[geboortedatum]])/365)","v":""}]
[null,null,{"$f":"IF(Opzoek_ooi[[#This Row],[geboortedatum]]=\"\",\"\",(TODAY()-Opzoek_ooi[[#This Row],[geboortedatum]])/365)","v":""}]
[null,null,{"$f":"IF(Opzoek_ooi[[#This Row],[geboortedatum]]=\"\",\"\",(TODAY()-Opzoek_ooi[[#This Row],[geboortedatum]])/365)","v":""}]
[null,null,{"$f":"IF(Opzoek_ooi[[#This Row],[geboortedatum]]=\"\",\"\",(TODAY()-Opzoek_ooi[[#This Row],[geboortedatum]])/365)","v":""}]
[null,null,{"$f":"IF(Opzoek_ooi[[#This Row],[geboortedatum]]=\"\",\"\",(TODAY()-Opzoek_ooi[[#This Row],[geboortedatum]])/365)","v":""}]
[null,null,{"$f":"IF(Opzoek_ooi[[#This Row],[geboortedatum]]=\"\",\"\",(TODAY()-Opzoek_ooi[[#This Row],[geboortedatum]])/365)","v":""}]
[null,null,{"$f":"IF(Opzoek_ooi[[#This Row],[geboortedatum]]=\"\",\"\",(TODAY()-Opzoek_ooi[[#This Row],[geboortedatum]])/365)","v":""}]
[null,null,{"$f":"IF(Opzoek_ooi[[#This Row],[geboortedatum]]=\"\",\"\",(TODAY()-Opzoek_ooi[[#This Row],[geboortedatum]])/365)","v":""}]
[null,null,{"$f":"IF(Opzoek_ooi[[#This Row],[geboortedatum]]=\"\",\"\",(TODAY()-Opzoek_ooi[[#This Row],[geboortedatum]])/365)","v":""}]
[null,null,{"$f":"IF(Opzoek_ooi[[#This Row],[geboortedatum]]=\"\",\"\",(TODAY()-Opzoek_ooi[[#This Row],[geboortedatum]])/365)","v":""}]
[null,null,{"$f":"IF(Opzoek_ooi[[#This Row],[geboortedatum]]=\"\",\"\",(TODAY()-Opzoek_ooi[[#This Row],[geboortedatum]])/365)","v":""}]
[null,null,{"$f":"IF(Opzoek_ooi[[#This Row],[geboortedatum]]=\"\",\"\",(TODAY()-Opzoek_ooi[[#This Row],[geboortedatum]])/365)","v":""}]
[null,null,{"$f":"IF(Opzoek_ooi[[#This Row],[geboortedatum]]=\"\",\"\",(TODAY()-Opzoek_ooi[[#This Row],[geboortedatum]])/365)","v":""}]
[null,null,{"$f":"IF(Opzoek_ooi[[#This Row],[geboortedatum]]=\"\",\"\",(TODAY()-Opzoek_ooi[[#This Row],[geboortedatum]])/365)","v":""}]
[null,null,{"$f":"IF(Opzoek_ooi[[#This Row],[geboortedatum]]=\"\",\"\",(TODAY()-Opzoek_ooi[[#This Row],[geboortedatum]])/365)","v":""}]
[null,null,{"$f":"IF(Opzoek_ooi[[#This Row],[geboortedatum]]=\"\",\"\",(TODAY()-Opzoek_ooi[[#This Row],[geboortedatum]])/365)","v":""}]
[null,null,{"$f":"IF(Opzoek_ooi[[#This Row],[geboortedatum]]=\"\",\"\",(TODAY()-Opzoek_ooi[[#This Row],[geboortedatum]])/365)","v":""}]
[null,null,{"$f":"IF(Opzoek_ooi[[#This Row],[geboortedatum]]=\"\",\"\",(TODAY()-Opzoek_ooi[[#This Row],[geboortedatum]])/365)","v":""}]
[null,null,{"$f":"IF(Opzoek_ooi[[#This Row],[geboortedatum]]=\"\",\"\",(TODAY()-Opzoek_ooi[[#This Row],[geboortedatum]])/365)","v":""}]
[null,null,{"$f":"IF(Opzoek_ooi[[#This Row],[geboortedatum]]=\"\",\"\",(TODAY()-Opzoek_ooi[[#This Row],[geboortedatum]])/365)","v":""}]
[null,null,{"$f":"IF(Opzoek_ooi[[#This Row],[geboortedatum]]=\"\",\"\",(TODAY()-Opzoek_ooi[[#This Row],[geboortedatum]])/365)","v":""}]
[null,null,{"$f":"IF(Opzoek_ooi[[#This Row],[geboortedatum]]=\"\",\"\",(TODAY()-Opzoek_ooi[[#This Row],[geboortedatum]])/365)","v":""}]
[null,null,{"$f":"IF(Opzoek_ooi[[#This Row],[geboortedatum]]=\"\",\"\",(TODAY()-Opzoek_ooi[[#This Row],[geboortedatum]])/365)","v":""}]
[null,null,{"$f":"IF(Opzoek_ooi[[#This Row],[geboortedatum]]=\"\",\"\",(TODAY()-Opzoek_ooi[[#This Row],[geboortedatum]])/365)","v":""}]
[null,null,{"$f":"IF(Opzoek_ooi[[#This Row],[geboortedatum]]=\"\",\"\",(TODAY()-Opzoek_ooi[[#This Row],[geboortedatum]])/365)","v":""}]
[null,null,{"$f":"IF(Opzoek_ooi[[#This Row],[geboortedatum]]=\"\",\"\",(TODAY()-Opzoek_ooi[[#This Row],[geboortedatum]])/365)","v":""}]
[null,null,{"$f":"IF(Opzoek_ooi[[#This Row],[geboortedatum]]=\"\",\"\",(TODAY()-Opzoek_ooi[[#This Row],[geboortedatum]])/365)","v":""}]
[null,null,{"$f":"IF(Opzoek_ooi[[#This Row],[geboortedatum]]=\"\",\"\",(TODAY()-Opzoek_ooi[[#This Row],[geboortedatum]])/365)","v":""}]
[null,null,{"$f":"IF(Opzoek_ooi[[#This Row],[geboortedatum]]=\"\",\"\",(TODAY()-Opzoek_ooi[[#This Row],[geboortedatum]])/365)","v":""}]
[null,null,{"$f":"IF(Opzoek_ooi[[#This Row],[geboortedatum]]=\"\",\"\",(TODAY()-Opzoek_ooi[[#This Row],[geboortedatum]])/365)","v":""}]
[null,null,{"$f":"IF(Opzoek_ooi[[#This Row],[geboortedatum]]=\"\",\"\",(TODAY()-Opzoek_ooi[[#This Row],[geboortedatum]])/365)","v":""}]
[null,null,{"$f":"IF(Opzoek_ooi[[#This Row],[geboortedatum]]=\"\",\"\",(TODAY()-Opzoek_ooi[[#This Row],[geboortedatum]])/365)","v":""}]
[null,null,{"$f":"IF(Opzoek_ooi[[#This Row],[geboortedatum]]=\"\",\"\",(TODAY()-Opzoek_ooi[[#This Row],[geboortedatum]])/365)","v":""}]
[null,null,{"$f":"IF(Opzoek_ooi[[#This Row],[geboortedatum]]=\"\",\"\",(TODAY()-Opzoek_ooi[[#This Row],[geboortedatum]])/365)","v":""}]
[null,null,{"$f":"IF(Opzoek_ooi[[#This Row],[geboortedatum]]=\"\",\"\",(TODAY()-Opzoek_ooi[[#This Row],[geboortedatum]])/365)","v":""}]
[null,null,{"$f":"IF(Opzoek_ooi[[#This Row],[geboortedatum]]=\"\",\"\",(TODAY()-Opzoek_ooi[[#This Row],[geboortedatum]])/365)","v":""}]
[null,null,{"$f":"IF(Opzoek_ooi[[#This Row],[geboortedatum]]=\"\",\"\",(TODAY()-Opzoek_ooi[[#This Row],[geboortedatum]])/365)","v":""}]
[null,null,{"$f":"IF(Opzoek_ooi[[#This Row],[geboortedatum]]=\"\",\"\",(TODAY()-Opzoek_ooi[[#This Row],[geboortedatum]])/365)","v":""}]
[null,null,{"$f":"IF(Opzoek_ooi[[#This Row],[geboortedatum]]=\"\",\"\",(TODAY()-Opzoek_ooi[[#This Row],[geboortedatum]])/365)","v":""}]
[null,null,{"$f":"IF(Opzoek_ooi[[#This Row],[geboortedatum]]=\"\",\"\",(TODAY()-Opzoek_ooi[[#This Row],[geboortedatum]])/365)","v":""}]
[null,null,{"$f":"IF(Opzoek_ooi[[#This Row],[geboortedatum]]=\"\",\"\",(TODAY()-Opzoek_ooi[[#This Row],[geboortedatum]])/365)","v":""}]
[null,null,{"$f":"IF(Opzoek_ooi[[#This Row],[geboortedatum]]=\"\",\"\",(TODAY()-Opzoek_ooi[[#This Row],[geboortedatum]])/365)","v":""}]
[null,null,{"$f":"IF(Opzoek_ooi[[#This Row],[geboortedatum]]=\"\",\"\",(TODAY()-Opzoek_ooi[[#This Row],[geboortedatum]])/365)","v":""}]
[null,null,{"$f":"IF(Opzoek_ooi[[#This Row],[geboortedatum]]=\"\",\"\",(TODAY()-Opzoek_ooi[[#This Row],[geboortedatum]])/365)","v":""}]
[null,null,{"$f":"IF(Opzoek_ooi[[#This Row],[geboortedatum]]=\"\",\"\",(TODAY()-Opzoek_ooi[[#This Row],[geboortedatum]])/365)","v":""}]
[null,null,{"$f":"IF(Opzoek_ooi[[#This Row],[geboortedatum]]=\"\",\"\",(TODAY()-Opzoek_ooi[[#This Row],[geboortedatum]])/365)","v":""}]
[null,null,{"$f":"IF(Opzoek_ooi[[#This Row],[geboortedatum]]=\"\",\"\",(TODAY()-Opzoek_ooi[[#This Row],[geboortedatum]])/365)","v":""}]
[null,null,{"$f":"IF(Opzoek_ooi[[#This Row],[geboortedatum]]=\"\",\"\",(TODAY()-Opzoek_ooi[[#This Row],[geboortedatum]])/365)","v":""}]
[null,null,{"$f":"IF(Opzoek_ooi[[#This Row],[geboortedatum]]=\"\",\"\",(TODAY()-Opzoek_ooi[[#This Row],[geboortedatum]])/365)","v":""}]
[null,null,{"$f":"IF(Opzoek_ooi[[#This Row],[geboortedatum]]=\"\",\"\",(TODAY()-Opzoek_ooi[[#This Row],[geboortedatum]])/365)","v":""}]
[null,null,{"$f":"IF(Opzoek_ooi[[#This Row],[geboortedatum]]=\"\",\"\",(TODAY()-Opzoek_ooi[[#This Row],[geboortedatum]])/365)","v":""}]
[null,null,{"$f":"IF(Opzoek_ooi[[#This Row],[geboortedatum]]=\"\",\"\",(TODAY()-Opzoek_ooi[[#This Row],[geboortedatum]])/365)","v":""}]
[null,null,{"$f":"IF(Opzoek_ooi[[#This Row],[geboortedatum]]=\"\",\"\",(TODAY()-Opzoek_ooi[[#This Row],[geboortedatum]])/365)","v":""}]
[null,null,{"$f":"IF(Opzoek_ooi[[#This Row],[geboortedatum]]=\"\",\"\",(TODAY()-Opzoek_ooi[[#This Row],[geboortedatum]])/365)","v":""}]
[null,null,{"$f":"IF(Opzoek_ooi[[#This Row],[geboortedatum]]=\"\",\"\",(TODAY()-Opzoek_ooi[[#This Row],[geboortedatum]])/365)","v":""}]
[null,null,{"$f":"IF(Opzoek_ooi[[#This Row],[geboortedatum]]=\"\",\"\",(TODAY()-Opzoek_ooi[[#This Row],[geboortedatum]])/365)","v":""}]
[null,null,{"$f":"IF(Opzoek_ooi[[#This Row],[geboortedatum]]=\"\",\"\",(TODAY()-Opzoek_ooi[[#This Row],[geboortedatum]])/365)","v":""}]
[null,null,{"$f":"IF(Opzoek_ooi[[#This Row],[geboortedatum]]=\"\",\"\",(TODAY()-Opzoek_ooi[[#This Row],[geboortedatum]])/365)","v":""}]
[null,null,{"$f":"IF(Opzoek_ooi[[#This Row],[geboortedatum]]=\"\",\"\",(TODAY()-Opzoek_ooi[[#This Row],[geboortedatum]])/365)","v":""}]
[null,null,{"$f":"IF(Opzoek_ooi[[#This Row],[geboortedatum]]=\"\",\"\",(TODAY()-Opzoek_ooi[[#This Row],[geboortedatum]])/365)","v":""}]
[null,null,{"$f":"IF(Opzoek_ooi[[#This Row],[geboortedatum]]=\"\",\"\",(TODAY()-Opzoek_ooi[[#This Row],[geboortedatum]])/365)","v":""}]
[null,null,{"$f":"IF(Opzoek_ooi[[#This Row],[geboortedatum]]=\"\",\"\",(TODAY()-Opzoek_ooi[[#This Row],[geboortedatum]])/365)","v":""}]
[null,null,{"$f":"IF(Opzoek_ooi[[#This Row],[geboortedatum]]=\"\",\"\",(TODAY()-Opzoek_ooi[[#This Row],[geboortedatum]])/365)","v":""}]
[null,null,{"$f":"IF(Opzoek_ooi[[#This Row],[geboortedatum]]=\"\",\"\",(TODAY()-Opzoek_ooi[[#This Row],[geboortedatum]])/365)","v":""}]
[null,null,{"$f":"IF(Opzoek_ooi[[#This Row],[geboortedatum]]=\"\",\"\",(TODAY()-Opzoek_ooi[[#This Row],[geboortedatum]])/365)","v":""}]
[null,null,{"$f":"IF(Opzoek_ooi[[#This Row],[geboortedatum]]=\"\",\"\",(TODAY()-Opzoek_ooi[[#This Row],[geboortedatum]])/365)","v":""}]
[null,null,{"$f":"IF(Opzoek_ooi[[#This Row],[geboortedatum]]=\"\",\"\",(TODAY()-Opzoek_ooi[[#This Row],[geboortedatum]])/365)","v":""}]
[null,null,{"$f":"IF(Opzoek_ooi[[#This Row],[geboortedatum]]=\"\",\"\",(TODAY()-Opzoek_ooi[[#This Row],[geboortedatum]])/365)","v":""}]
[null,null,{"$f":"IF(Opzoek_ooi[[#This Row],[geboortedatum]]=\"\",\"\",(TODAY()-Opzoek_ooi[[#This Row],[geboortedatum]])/365)","v":""}]
[null,null,{"$f":"IF(Opzoek_ooi[[#This Row],[geboortedatum]]=\"\",\"\",(TODAY()-Opzoek_ooi[[#This Row],[geboortedatum]])/365)","v":""}]
[null,null,{"$f":"IF(Opzoek_ooi[[#This Row],[geboortedatum]]=\"\",\"\",(TODAY()-Opzoek_ooi[[#This Row],[geboortedatum]])/365)","v":""}]
[null,null,{"$f":"IF(Opzoek_ooi[[#This Row],[geboortedatum]]=\"\",\"\",(TODAY()-Opzoek_ooi[[#This Row],[geboortedatum]])/365)","v":""}]
[null,null,{"$f":"IF(Opzoek_ooi[[#This Row],[geboortedatum]]=\"\",\"\",(TODAY()-Opzoek_ooi[[#This Row],[geboortedatum]])/365)","v":""}]
[null,null,{"$f":"IF(Opzoek_ooi[[#This Row],[geboortedatum]]=\"\",\"\",(TODAY()-Opzoek_ooi[[#This Row],[geboortedatum]])/365)","v":""}]
[null,null,{"$f":"IF(Opzoek_ooi[[#This Row],[geboortedatum]]=\"\",\"\",(TODAY()-Opzoek_ooi[[#This Row],[geboortedatum]])/365)","v":""}]
[null,null,{"$f":"IF(Opzoek_ooi[[#This Row],[geboortedatum]]=\"\",\"\",(TODAY()-Opzoek_ooi[[#This Row],[geboortedatum]])/365)","v":""}]
[null,null,{"$f":"IF(Opzoek_ooi[[#This Row],[geboortedatum]]=\"\",\"\",(TODAY()-Opzoek_ooi[[#This Row],[geboortedatum]])/365)","v":""}]
[null,null,{"$f":"IF(Opzoek_ooi[[#This Row],[geboortedatum]]=\"\",\"\",(TODAY()-Opzoek_ooi[[#This Row],[geboortedatum]])/365)","v":""}]
[null,null,{"$f":"IF(Opzoek_ooi[[#This Row],[geboortedatum]]=\"\",\"\",(TODAY()-Opzoek_ooi[[#This Row],[geboortedatum]])/365)","v":""}]
[null,null,{"$f":"IF(Opzoek_ooi[[#This Row],[geboortedatum]]=\"\",\"\",(TODAY()-Opzoek_ooi[[#This Row],[geboortedatum]])/365)","v":""}]
[null,null,{"$f":"IF(Opzoek_ooi[[#This Row],[geboortedatum]]=\"\",\"\",(TODAY()-Opzoek_ooi[[#This Row],[geboortedatum]])/365)","v":""}]
[null,null,{"$f":"IF(Opzoek_ooi[[#This Row],[geboortedatum]]=\"\",\"\",(TODAY()-Opzoek_ooi[[#This Row],[geboortedatum]])/365)","v":""}]
[null,null,{"$f":"IF(Opzoek_ooi[[#This Row],[geboortedatum]]=\"\",\"\",(TODAY()-Opzoek_ooi[[#This Row],[geboortedatum]])/365)","v":""}]
[null,null,{"$f":"IF(Opzoek_ooi[[#This Row],[geboortedatum]]=\"\",\"\",(TODAY()-Opzoek_ooi[[#This Row],[geboortedatum]])/365)","v":""}]
[null,null,{"$f":"IF(Opzoek_ooi[[#This Row],[geboortedatum]]=\"\",\"\",(TODAY()-Opzoek_ooi[[#This Row],[geboortedatum]])/365)","v":""}]
[null,null,{"$f":"IF(Opzoek_ooi[[#This Row],[geboortedatum]]=\"\",\"\",(TODAY()-Opzoek_ooi[[#This Row],[geboortedatum]])/365)","v":""}]
[null,null,{"$f":"IF(Opzoek_ooi[[#This Row],[geboortedatum]]=\"\",\"\",(TODAY()-Opzoek_ooi[[#This Row],[geboortedatum]])/365)","v":""}]
[null,null,{"$f":"IF(Opzoek_ooi[[#This Row],[geboortedatum]]=\"\",\"\",(TODAY()-Opzoek_ooi[[#This Row],[geboortedatum]])/365)","v":""}]
[null,null,{"$f":"IF(Opzoek_ooi[[#This Row],[geboortedatum]]=\"\",\"\",(TODAY()-Opzoek_ooi[[#This Row],[geboortedatum]])/365)","v":""}]
[null,null,{"$f":"IF(Opzoek_ooi[[#This Row],[geboortedatum]]=\"\",\"\",(TODAY()-Opzoek_ooi[[#This Row],[geboortedatum]])/365)","v":""}]
[null,null,{"$f":"IF(Opzoek_ooi[[#This Row],[geboortedatum]]=\"\",\"\",(TODAY()-Opzoek_ooi[[#This Row],[geboortedatum]])/365)","v":""}]
[null,null,{"$f":"IF(Opzoek_ooi[[#This Row],[geboortedatum]]=\"\",\"\",(TODAY()-Opzoek_ooi[[#This Row],[geboortedatum]])/365)","v":""}]
[null,null,{"$f":"IF(Opzoek_ooi[[#This Row],[geboortedatum]]=\"\",\"\",(TODAY()-Opzoek_ooi[[#This Row],[geboortedatum]])/365)","v":""}]
[null,null,{"$f":"IF(Opzoek_ooi[[#This Row],[geboortedatum]]=\"\",\"\",(TODAY()-Opzoek_ooi[[#This Row],[geboortedatum]])/365)","v":""}]
[null,null,{"$f":"IF(Opzoek_ooi[[#This Row],[geboortedatum]]=\"\",\"\",(TODAY()-Opzoek_ooi[[#This Row],[geboortedatum]])/365)","v":""}]
[null,null,{"$f":"IF(Opzoek_ooi[[#This Row],[geboortedatum]]=\"\",\"\",(TODAY()-Opzoek_ooi[[#This Row],[geboortedatum]])/365)","v":""}]
[null,null,{"$f":"IF(Opzoek_ooi[[#This Row],[geboortedatum]]=\"\",\"\",(TODAY()-Opzoek_ooi[[#This Row],[geboortedatum]])/365)","v":""}]
[null,null,{"$f":"IF(Opzoek_ooi[[#This Row],[geboortedatum]]=\"\",\"\",(TODAY()-Opzoek_ooi[[#This Row],[geboortedatum]])/365)","v":""}]
[null,null,{"$f":"IF(Opzoek_ooi[[#This Row],[geboortedatum]]=\"\",\"\",(TODAY()-Opzoek_ooi[[#This Row],[geboortedatum]])/365)","v":""}]
[null,null,{"$f":"IF(Opzoek_ooi[[#This Row],[geboortedatum]]=\"\",\"\",(TODAY()-Opzoek_ooi[[#This Row],[geboortedatum]])/365)","v":""}]
[null,null,{"$f":"IF(Opzoek_ooi[[#This Row],[geboortedatum]]=\"\",\"\",(TODAY()-Opzoek_ooi[[#This Row],[geboortedatum]])/365)","v":""}]
[null,null,{"$f":"IF(Opzoek_ooi[[#This Row],[geboortedatum]]=\"\",\"\",(TODAY()-Opzoek_ooi[[#This Row],[geboortedatum]])/365)","v":""}]
[null,null,{"$f":"IF(Opzoek_ooi[[#This Row],[geboortedatum]]=\"\",\"\",(TODAY()-Opzoek_ooi[[#This Row],[geboortedatum]])/365)","v":""}]
[null,null,{"$f":"IF(Opzoek_ooi[[#This Row],[geboortedatum]]=\"\",\"\",(TODAY()-Opzoek_ooi[[#This Row],[geboortedatum]])/365)","v":""}]
[null,null,{"$f":"IF(Opzoek_ooi[[#This Row],[geboortedatum]]=\"\",\"\",(TODAY()-Opzoek_ooi[[#This Row],[geboortedatum]])/365)","v":""}]
[null,null,{"$f":"IF(Opzoek_ooi[[#This Row],[geboortedatum]]=\"\",\"\",(TODAY()-Opzoek_ooi[[#This Row],[geboortedatum]])/365)","v":""}]
[null,null,{"$f":"IF(Opzoek_ooi[[#This Row],[geboortedatum]]=\"\",\"\",(TODAY()-Opzoek_ooi[[#This Row],[geboortedatum]])/365)","v":""}]
[null,null,{"$f":"IF(Opzoek_ooi[[#This Row],[geboortedatum]]=\"\",\"\",(TODAY()-Opzoek_ooi[[#This Row],[geboortedatum]])/365)","v":""}]
[null,null,{"$f":"IF(Opzoek_ooi[[#This Row],[geboortedatum]]=\"\",\"\",(TODAY()-Opzoek_ooi[[#This Row],[geboortedatum]])/365)","v":""}]
[null,null,{"$f":"IF(Opzoek_ooi[[#This Row],[geboortedatum]]=\"\",\"\",(TODAY()-Opzoek_ooi[[#This Row],[geboortedatum]])/365)","v":""}]
[null,null,{"$f":"IF(Opzoek_ooi[[#This Row],[geboortedatum]]=\"\",\"\",(TODAY()-Opzoek_ooi[[#This Row],[geboortedatum]])/365)","v":""}]
[null,null,{"$f":"IF(Opzoek_ooi[[#This Row],[geboortedatum]]=\"\",\"\",(TODAY()-Opzoek_ooi[[#This Row],[geboortedatum]])/365)","v":""}]
[null,null,{"$f":"IF(Opzoek_ooi[[#This Row],[geboortedatum]]=\"\",\"\",(TODAY()-Opzoek_ooi[[#This Row],[geboortedatum]])/365)","v":""}]
[null,null,{"$f":"IF(Opzoek_ooi[[#This Row],[geboortedatum]]=\"\",\"\",(TODAY()-Opzoek_ooi[[#This Row],[geboortedatum]])/365)","v":""}]
[null,null,{"$f":"IF(Opzoek_ooi[[#This Row],[geboortedatum]]=\"\",\"\",(TODAY()-Opzoek_ooi[[#This Row],[geboortedatum]])/365)","v":""}]
[null,null,{"$f":"IF(Opzoek_ooi[[#This Row],[geboortedatum]]=\"\",\"\",(TODAY()-Opzoek_ooi[[#This Row],[geboortedatum]])/365)","v":""}]
[null,null,{"$f":"IF(Opzoek_ooi[[#This Row],[geboortedatum]]=\"\",\"\",(TODAY()-Opzoek_ooi[[#This Row],[geboortedatum]])/365)","v":""}]
[null,null,{"$f":"IF(Opzoek_ooi[[#This Row],[geboortedatum]]=\"\",\"\",(TODAY()-Opzoek_ooi[[#This Row],[geboortedatum]])/365)","v":""}]
[null,null,{"$f":"IF(Opzoek_ooi[[#This Row],[geboortedatum]]=\"\",\"\",(TODAY()-Opzoek_ooi[[#This Row],[geboortedatum]])/365)","v":""}]
[null,null,{"$f":"IF(Opzoek_ooi[[#This Row],[geboortedatum]]=\"\",\"\",(TODAY()-Opzoek_ooi[[#This Row],[geboortedatum]])/365)","v":""}]
[null,null,{"$f":"IF(Opzoek_ooi[[#This Row],[geboortedatum]]=\"\",\"\",(TODAY()-Opzoek_ooi[[#This Row],[geboortedatum]])/365)","v":""}]
[null,null,{"$f":"IF(Opzoek_ooi[[#This Row],[geboortedatum]]=\"\",\"\",(TODAY()-Opzoek_ooi[[#This Row],[geboortedatum]])/365)","v":""}]
[null,null,{"$f":"IF(Opzoek_ooi[[#This Row],[geboortedatum]]=\"\",\"\",(TODAY()-Opzoek_ooi[[#This Row],[geboortedatum]])/365)","v":""}]
[null,null,{"$f":"IF(Opzoek_ooi[[#This Row],[geboortedatum]]=\"\",\"\",(TODAY()-Opzoek_ooi[[#This Row],[geboortedatum]])/365)","v":""}]
[null,null,{"$f":"IF(Opzoek_ooi[[#This Row],[geboortedatum]]=\"\",\"\",(TODAY()-Opzoek_ooi[[#This Row],[geboortedatum]])/365)","v":""}]
[null,null,{"$f":"IF(Opzoek_ooi[[#This Row],[geboortedatum]]=\"\",\"\",(TODAY()-Opzoek_ooi[[#This Row],[geboortedatum]])/365)","v":""}]
[null,null,{"$f":"IF(Opzoek_ooi[[#This Row],[geboortedatum]]=\"\",\"\",(TODAY()-Opzoek_ooi[[#This Row],[geboortedatum]])/365)","v":""}]
[null,null,{"$f":"IF(Opzoek_ooi[[#This Row],[geboortedatum]]=\"\",\"\",(TODAY()-Opzoek_ooi[[#This Row],[geboortedatum]])/365)","v":""}]
[null,null,{"$f":"IF(Opzoek_ooi[[#This Row],[geboortedatum]]=\"\",\"\",(TODAY()-Opzoek_ooi[[#This Row],[geboortedatum]])/365)","v":""}]
[null,null,{"$f":"IF(Opzoek_ooi[[#This Row],[geboortedatum]]=\"\",\"\",(TODAY()-Opzoek_ooi[[#This Row],[geboortedatum]])/365)","v":""}]
[null,null,{"$f":"IF(Opzoek_ooi[[#This Row],[geboortedatum]]=\"\",\"\",(TODAY()-Opzoek_ooi[[#This Row],[geboortedatum]])/365)","v":""}]
[null,null,{"$f":"IF(Opzoek_ooi[[#This Row],[geboortedatum]]=\"\",\"\",(TODAY()-Opzoek_ooi[[#This Row],[geboortedatum]])/365)","v":""}]
[null,null,{"$f":"IF(Opzoek_ooi[[#This Row],[geboortedatum]]=\"\",\"\",(TODAY()-Opzoek_ooi[[#This Row],[geboortedatum]])/365)","v":""}]
[null,null,{"$f":"IF(Opzoek_ooi[[#This Row],[geboortedatum]]=\"\",\"\",(TODAY()-Opzoek_ooi[[#This Row],[geboortedatum]])/365)","v":""}]
[null,null,{"$f":"IF(Opzoek_ooi[[#This Row],[geboortedatum]]=\"\",\"\",(TODAY()-Opzoek_ooi[[#This Row],[geboortedatum]])/365)","v":""}]
[null,null,{"$f":"IF(Opzoek_ooi[[#This Row],[geboortedatum]]=\"\",\"\",(TODAY()-Opzoek_ooi[[#This Row],[geboortedatum]])/365)","v":""}]
[null,null,{"$f":"IF(Opzoek_ooi[[#This Row],[geboortedatum]]=\"\",\"\",(TODAY()-Opzoek_ooi[[#This Row],[geboortedatum]])/365)","v":""}]
[null,null,{"$f":"IF(Opzoek_ooi[[#This Row],[geboortedatum]]=\"\",\"\",(TODAY()-Opzoek_ooi[[#This Row],[geboortedatum]])/365)","v":""}]
[null,null,{"$f":"IF(Opzoek_ooi[[#This Row],[geboortedatum]]=\"\",\"\",(TODAY()-Opzoek_ooi[[#This Row],[geboortedatum]])/365)","v":""}]
[null,null,{"$f":"IF(Opzoek_ooi[[#This Row],[geboortedatum]]=\"\",\"\",(TODAY()-Opzoek_ooi[[#This Row],[geboortedatum]])/365)","v":""}]
[null,null,{"$f":"IF(Opzoek_ooi[[#This Row],[geboortedatum]]=\"\",\"\",(TODAY()-Opzoek_ooi[[#This Row],[geboortedatum]])/365)","v":""}]
[null,null,{"$f":"IF(Opzoek_ooi[[#This Row],[geboortedatum]]=\"\",\"\",(TODAY()-Opzoek_ooi[[#This Row],[geboortedatum]])/365)","v":""}]
[null,null,{"$f":"IF(Opzoek_ooi[[#This Row],[geboortedatum]]=\"\",\"\",(TODAY()-Opzoek_ooi[[#This Row],[geboortedatum]])/365)","v":""}]
[null,null,{"$f":"IF(Opzoek_ooi[[#This Row],[geboortedatum]]=\"\",\"\",(TODAY()-Opzoek_ooi[[#This Row],[geboortedatum]])/365)","v":""}]
[null,null,{"$f":"IF(Opzoek_ooi[[#This Row],[geboortedatum]]=\"\",\"\",(TODAY()-Opzoek_ooi[[#This Row],[geboortedatum]])/365)","v":""}]
[null,null,{"$f":"IF(Opzoek_ooi[[#This Row],[geboortedatum]]=\"\",\"\",(TODAY()-Opzoek_ooi[[#This Row],[geboortedatum]])/365)","v":""}]
[null,null,{"$f":"IF(Opzoek_ooi[[#This Row],[geboortedatum]]=\"\",\"\",(TODAY()-Opzoek_ooi[[#This Row],[geboortedatum]])/365)","v":""}]
[null,null,{"$f":"IF(Opzoek_ooi[[#This Row],[geboortedatum]]=\"\",\"\",(TODAY()-Opzoek_ooi[[#This Row],[geboortedatum]])/365)","v":""}]
[null,null,{"$f":"IF(Opzoek_ooi[[#This Row],[geboortedatum]]=\"\",\"\",(TODAY()-Opzoek_ooi[[#This Row],[geboortedatum]])/365)","v":""}]
[null,null,{"$f":"IF(Opzoek_ooi[[#This Row],[geboortedatum]]=\"\",\"\",(TODAY()-Opzoek_ooi[[#This Row],[geboortedatum]])/365)","v":""}]
[null,null,{"$f":"IF(Opzoek_ooi[[#This Row],[geboortedatum]]=\"\",\"\",(TODAY()-Opzoek_ooi[[#This Row],[geboortedatum]])/365)","v":""}]
[null,null,{"$f":"IF(Opzoek_ooi[[#This Row],[geboortedatum]]=\"\",\"\",(TODAY()-Opzoek_ooi[[#This Row],[geboortedatum]])/365)","v":""}]
[null,null,{"$f":"IF(Opzoek_ooi[[#This Row],[geboortedatum]]=\"\",\"\",(TODAY()-Opzoek_ooi[[#This Row],[geboortedatum]])/365)","v":""}]
[null,null,{"$f":"IF(Opzoek_ooi[[#This Row],[geboortedatum]]=\"\",\"\",(TODAY()-Opzoek_ooi[[#This Row],[geboortedatum]])/365)","v":""}]
[null,null,{"$f":"IF(Opzoek_ooi[[#This Row],[geboortedatum]]=\"\",\"\",(TODAY()-Opzoek_ooi[[#This Row],[geboortedatum]])/365)","v":""}]
[null,null,{"$f":"IF(Opzoek_ooi[[#This Row],[geboortedatum]]=\"\",\"\",(TODAY()-Opzoek_ooi[[#This Row],[geboortedatum]])/365)","v":""}]
[null,null,{"$f":"IF(Opzoek_ooi[[#This Row],[geboortedatum]]=\"\",\"\",(TODAY()-Opzoek_ooi[[#This Row],[geboortedatum]])/365)","v":""}]
[null,null,{"$f":"IF(Opzoek_ooi[[#This Row],[geboortedatum]]=\"\",\"\",(TODAY()-Opzoek_ooi[[#This Row],[geboortedatum]])/365)","v":""}]
[null,null,{"$f":"IF(Opzoek_ooi[[#This Row],[geboortedatum]]=\"\",\"\",(TODAY()-Opzoek_ooi[[#This Row],[geboortedatum]])/365)","v":""}]
[null,null,{"$f":"IF(Opzoek_ooi[[#This Row],[geboortedatum]]=\"\",\"\",(TODAY()-Opzoek_ooi[[#This Row],[geboortedatum]])/365)","v":""}]
[null,null,{"$f":"IF(Opzoek_ooi[[#This Row],[geboortedatum]]=\"\",\"\",(TODAY()-Opzoek_ooi[[#This Row],[geboortedatum]])/365)","v":""}]
[null,null,{"$f":"IF(Opzoek_ooi[[#This Row],[geboortedatum]]=\"\",\"\",(TODAY()-Opzoek_ooi[[#This Row],[geboortedatum]])/365)","v":""}]
[null,null,{"$f":"IF(Opzoek_ooi[[#This Row],[geboortedatum]]=\"\",\"\",(TODAY()-Opzoek_ooi[[#This Row],[geboortedatum]])/365)","v":""}]
[null,null,{"$f":"IF(Opzoek_ooi[[#This Row],[geboortedatum]]=\"\",\"\",(TODAY()-Opzoek_ooi[[#This Row],[geboortedatum]])/365)","v":""}]

{"sheet":"Rammen","index":2,"n_rows":6,"n_cols":3,"rows_kept":6,"cut":false,"hidden":false,"merged":[]}
["Ramnummer","geboortedatum","leeftijd"]
[null,null,{"$f":"IF(B2=\"\",\"\",(TODAY()-Tabel5[[#This Row],[geboortedatum]])/365)","v":""}]
[null,null,{"$f":"IF(B3=\"\",\"\",(TODAY()-Tabel5[[#This Row],[geboortedatum]])/365)","v":""}]
[null,null,{"$f":"IF(B4=\"\",\"\",(TODAY()-Tabel5[[#This Row],[geboortedatum]])/365)","v":""}]
[null,null,{"$f":"IF(B5=\"\",\"\",(TODAY()-Tabel5[[#This Row],[geboortedatum]])/365)","v":""}]
[null,null,{"$f":"IF(B6=\"\",\"\",(TODAY()-Tabel5[[#This Row],[geboortedatum]])/365)","v":""}]

{"sheet":"Registratie dekkingen","index":3,"n_rows":2,"n_cols":7,"rows_kept":2,"cut":false,"hidden":false,"merged":[]}
["Ooi","Dekdatum","Ram","Herdekdatum","Ram2","Verwachte aflamdatum","Datum vaccinatie"]
[null,null,null,null,null,{"$f":"IF(Table6[[#This Row],[Herdekdatum]]>Table6[[#This Row],[Dekdatum]],Table6[[#This Row],[Herdekdatum]]+145,Table6[[#This Row],[Dekdatum]]+145)","v":"1900-05-24"},{"$f":"Table6[[#This Row],[Verwachte aflamdatum]]-25","v":"1900-04-29"}]

{"sheet":"Registratie lammeren","index":4,"n_rows":501,"n_cols":16,"rows_kept":501,"cut":false,"hidden":false,"merged":[]}
["Ooi","Werp-datum","Lam-nummer","geslacht","geboorte-gewicht","Opfok met kunstmelk","Dood in geboorte","Dood na geboorte","Speen-datum","Speen-gewicht","groei tot spenen (g/dag)","Verkoop-datum","Verkoop-gewicht","groei tot verkoop (g/dag)","Verkoop-prijs","Opmerkingen"]
[null,null,null,null,null,null,null,null,null,null,{"$f":"IF(lammering[[#This Row],[Speen-gewicht]]=\"\",\"\",Berekeningen!J2*1000)","v":""},null,null,{"$f":"IF(lammering[[#This Row],[Verkoop-gewicht]]=\"\",\"\",Berekeningen!L2*1000)","v":""}]
[null,null,null,null,null,null,null,null,null,null,{"$f":"IF(lammering[[#This Row],[Speen-gewicht]]=\"\",\"\",Berekeningen!J3*1000)","v":""},null,null,{"$f":"IF(lammering[[#This Row],[Verkoop-gewicht]]=\"\",\"\",Berekeningen!L3*1000)","v":""}]
[null,null,null,null,null,null,null,null,null,null,{"$f":"IF(lammering[[#This Row],[Speen-gewicht]]=\"\",\"\",Berekeningen!J4*1000)","v":""},null,null,{"$f":"IF(lammering[[#This Row],[Verkoop-gewicht]]=\"\",\"\",Berekeningen!L4*1000)","v":""}]
[null,null,null,null,null,null,null,null,null,null,{"$f":"IF(lammering[[#This Row],[Speen-gewicht]]=\"\",\"\",Berekeningen!J5*1000)","v":""},null,null,{"$f":"IF(lammering[[#This Row],[Verkoop-gewicht]]=\"\",\"\",Berekeningen!L5*1000)","v":""}]
[null,null,null,null,null,null,null,null,null,null,{"$f":"IF(lammering[[#This Row],[Speen-gewicht]]=\"\",\"\",Berekeningen!J6*1000)","v":""},null,null,{"$f":"IF(lammering[[#This Row],[Verkoop-gewicht]]=\"\",\"\",Berekeningen!L6*1000)","v":""}]
[null,null,null,null,null,null,null,null,null,null,{"$f":"IF(lammering[[#This Row],[Speen-gewicht]]=\"\",\"\",Berekeningen!J7*1000)","v":""},null,null,{"$f":"IF(lammering[[#This Row],[Verkoop-gewicht]]=\"\",\"\",Berekeningen!L7*1000)","v":""}]
[null,null,null,null,null,null,null,null,null,null,{"$f":"IF(lammering[[#This Row],[Speen-gewicht]]=\"\",\"\",Berekeningen!J8*1000)","v":""},null,null,{"$f":"IF(lammering[[#This Row],[Verkoop-gewicht]]=\"\",\"\",Berekeningen!L8*1000)","v":""}]
[null,null,null,null,null,null,null,null,null,null,{"$f":"IF(lammering[[#This Row],[Speen-gewicht]]=\"\",\"\",Berekeningen!J9*1000)","v":""},null,null,{"$f":"IF(lammering[[#This Row],[Verkoop-gewicht]]=\"\",\"\",Berekeningen!L9*1000)","v":""}]
[null,null,null,null,null,null,null,null,null,null,{"$f":"IF(lammering[[#This Row],[Speen-gewicht]]=\"\",\"\",Berekeningen!J10*1000)","v":""},null,null,{"$f":"IF(lammering[[#This Row],[Verkoop-gewicht]]=\"\",\"\",Berekeningen!L10*1000)","v":""}]
[null,null,null,null,null,null,null,null,null,null,{"$f":"IF(lammering[[#This Row],[Speen-gewicht]]=\"\",\"\",Berekeningen!J11*1000)","v":""},null,null,{"$f":"IF(lammering[[#This Row],[Verkoop-gewicht]]=\"\",\"\",Berekeningen!L11*1000)","v":""}]
[null,null,null,null,null,null,null,null,null,null,{"$f":"IF(lammering[[#This Row],[Speen-gewicht]]=\"\",\"\",Berekeningen!J12*1000)","v":""},null,null,{"$f":"IF(lammering[[#This Row],[Verkoop-gewicht]]=\"\",\"\",Berekeningen!L12*1000)","v":""}]
[null,null,null,null,null,null,null,null,null,null,{"$f":"IF(lammering[[#This Row],[Speen-gewicht]]=\"\",\"\",Berekeningen!J13*1000)","v":""},null,null,{"$f":"IF(lammering[[#This Row],[Verkoop-gewicht]]=\"\",\"\",Berekeningen!L13*1000)","v":""}]
[null,null,null,null,null,null,null,null,null,null,{"$f":"IF(lammering[[#This Row],[Speen-gewicht]]=\"\",\"\",Berekeningen!J14*1000)","v":""},null,null,{"$f":"IF(lammering[[#This Row],[Verkoop-gewicht]]=\"\",\"\",Berekeningen!L14*1000)","v":""}]
[null,null,null,null,null,null,null,null,null,null,{"$f":"IF(lammering[[#This Row],[Speen-gewicht]]=\"\",\"\",Berekeningen!J15*1000)","v":""},null,null,{"$f":"IF(lammering[[#This Row],[Verkoop-gewicht]]=\"\",\"\",Berekeningen!L15*1000)","v":""}]
[null,null,null,null,null,null,null,null,null,null,{"$f":"IF(lammering[[#This Row],[Speen-gewicht]]=\"\",\"\",Berekeningen!J16*1000)","v":""},null,null,{"$f":"IF(lammering[[#This Row],[Verkoop-gewicht]]=\"\",\"\",Berekeningen!L16*1000)","v":""}]
[null,null,null,null,null,null,null,null,null,null,{"$f":"IF(lammering[[#This Row],[Speen-gewicht]]=\"\",\"\",Berekeningen!J17*1000)","v":""},null,null,{"$f":"IF(lammering[[#This Row],[Verkoop-gewicht]]=\"\",\"\",Berekeningen!L17*1000)","v":""}]
[null,null,null,null,null,null,null,null,null,null,{"$f":"IF(lammering[[#This Row],[Speen-gewicht]]=\"\",\"\",Berekeningen!J18*1000)","v":""},null,null,{"$f":"IF(lammering[[#This Row],[Verkoop-gewicht]]=\"\",\"\",Berekeningen!L18*1000)","v":""}]
[null,null,null,null,null,null,null,null,null,null,{"$f":"IF(lammering[[#This Row],[Speen-gewicht]]=\"\",\"\",Berekeningen!J19*1000)","v":""},null,null,{"$f":"IF(lammering[[#This Row],[Verkoop-gewicht]]=\"\",\"\",Berekeningen!L19*1000)","v":""}]
[null,null,null,null,null,null,null,null,null,null,{"$f":"IF(lammering[[#This Row],[Speen-gewicht]]=\"\",\"\",Berekeningen!J20*1000)","v":""},null,null,{"$f":"IF(lammering[[#This Row],[Verkoop-gewicht]]=\"\",\"\",Berekeningen!L20*1000)","v":""}]
[null,null,null,null,null,null,null,null,null,null,{"$f":"IF(lammering[[#This Row],[Speen-gewicht]]=\"\",\"\",Berekeningen!J21*1000)","v":""},null,null,{"$f":"IF(lammering[[#This Row],[Verkoop-gewicht]]=\"\",\"\",Berekeningen!L21*1000)","v":""}]
[null,null,null,null,null,null,null,null,null,null,{"$f":"IF(lammering[[#This Row],[Speen-gewicht]]=\"\",\"\",Berekeningen!J22*1000)","v":""},null,null,{"$f":"IF(lammering[[#This Row],[Verkoop-gewicht]]=\"\",\"\",Berekeningen!L22*1000)","v":""}]
[null,null,null,null,null,null,null,null,null,null,{"$f":"IF(lammering[[#This Row],[Speen-gewicht]]=\"\",\"\",Berekeningen!J23*1000)","v":""},null,null,{"$f":"IF(lammering[[#This Row],[Verkoop-gewicht]]=\"\",\"\",Berekeningen!L23*1000)","v":""}]
[null,null,null,null,null,null,null,null,null,null,{"$f":"IF(lammering[[#This Row],[Speen-gewicht]]=\"\",\"\",Berekeningen!J24*1000)","v":""},null,null,{"$f":"IF(lammering[[#This Row],[Verkoop-gewicht]]=\"\",\"\",Berekeningen!L24*1000)","v":""}]
[null,null,null,null,null,null,null,null,null,null,{"$f":"IF(lammering[[#This Row],[Speen-gewicht]]=\"\",\"\",Berekeningen!J25*1000)","v":""},null,null,{"$f":"IF(lammering[[#This Row],[Verkoop-gewicht]]=\"\",\"\",Berekeningen!L25*1000)","v":""}]
[null,null,null,null,null,null,null,null,null,null,{"$f":"IF(lammering[[#This Row],[Speen-gewicht]]=\"\",\"\",Berekeningen!J26*1000)","v":""},null,null,{"$f":"IF(lammering[[#This Row],[Verkoop-gewicht]]=\"\",\"\",Berekeningen!L26*1000)","v":""}]
[null,null,null,null,null,null,null,null,null,null,{"$f":"IF(lammering[[#This Row],[Speen-gewicht]]=\"\",\"\",Berekeningen!J27*1000)","v":""},null,null,{"$f":"IF(lammering[[#This Row],[Verkoop-gewicht]]=\"\",\"\",Berekeningen!L27*1000)","v":""}]
[null,null,null,null,null,null,null,null,null,null,{"$f":"IF(lammering[[#This Row],[Speen-gewicht]]=\"\",\"\",Berekeningen!J28*1000)","v":""},null,null,{"$f":"IF(lammering[[#This Row],[Verkoop-gewicht]]=\"\",\"\",Berekeningen!L28*1000)","v":""}]
[null,null,null,null,null,null,null,null,null,null,{"$f":"IF(lammering[[#This Row],[Speen-gewicht]]=\"\",\"\",Berekeningen!J29*1000)","v":""},null,null,{"$f":"IF(lammering[[#This Row],[Verkoop-gewicht]]=\"\",\"\",Berekeningen!L29*1000)","v":""}]
[null,null,null,null,null,null,null,null,null,null,{"$f":"IF(lammering[[#This Row],[Speen-gewicht]]=\"\",\"\",Berekeningen!J30*1000)","v":""},null,null,{"$f":"IF(lammering[[#This Row],[Verkoop-gewicht]]=\"\",\"\",Berekeningen!L30*1000)","v":""}]
[null,null,null,null,null,null,null,null,null,null,{"$f":"IF(lammering[[#This Row],[Speen-gewicht]]=\"\",\"\",Berekeningen!J31*1000)","v":""},null,null,{"$f":"IF(lammering[[#This Row],[Verkoop-gewicht]]=\"\",\"\",Berekeningen!L31*1000)","v":""}]
[null,null,null,null,null,null,null,null,null,null,{"$f":"IF(lammering[[#This Row],[Speen-gewicht]]=\"\",\"\",Berekeningen!J32*1000)","v":""},null,null,{"$f":"IF(lammering[[#This Row],[Verkoop-gewicht]]=\"\",\"\",Berekeningen!L32*1000)","v":""}]
[null,null,null,null,null,null,null,null,null,null,{"$f":"IF(lammering[[#This Row],[Speen-gewicht]]=\"\",\"\",Berekeningen!J33*1000)","v":""},null,null,{"$f":"IF(lammering[[#This Row],[Verkoop-gewicht]]=\"\",\"\",Berekeningen!L33*1000)","v":""}]
[null,null,null,null,null,null,null,null,null,null,{"$f":"IF(lammering[[#This Row],[Speen-gewicht]]=\"\",\"\",Berekeningen!J34*1000)","v":""},null,null,{"$f":"IF(lammering[[#This Row],[Verkoop-gewicht]]=\"\",\"\",Berekeningen!L34*1000)","v":""}]
[null,null,null,null,null,null,null,null,null,null,{"$f":"IF(lammering[[#This Row],[Speen-gewicht]]=\"\",\"\",Berekeningen!J35*1000)","v":""},null,null,{"$f":"IF(lammering[[#This Row],[Verkoop-gewicht]]=\"\",\"\",Berekeningen!L35*1000)","v":""}]
[null,null,null,null,null,null,null,null,null,null,{"$f":"IF(lammering[[#This Row],[Speen-gewicht]]=\"\",\"\",Berekeningen!J36*1000)","v":""},null,null,{"$f":"IF(lammering[[#This Row],[Verkoop-gewicht]]=\"\",\"\",Berekeningen!L36*1000)","v":""}]
[null,null,null,null,null,null,null,null,null,null,{"$f":"IF(lammering[[#This Row],[Speen-gewicht]]=\"\",\"\",Berekeningen!J37*1000)","v":""},null,null,{"$f":"IF(lammering[[#This Row],[Verkoop-gewicht]]=\"\",\"\",Berekeningen!L37*1000)","v":""}]
[null,null,null,null,null,null,null,null,null,null,{"$f":"IF(lammering[[#This Row],[Speen-gewicht]]=\"\",\"\",Berekeningen!J38*1000)","v":""},null,null,{"$f":"IF(lammering[[#This Row],[Verkoop-gewicht]]=\"\",\"\",Berekeningen!L38*1000)","v":""}]
[null,null,null,null,null,null,null,null,null,null,{"$f":"IF(lammering[[#This Row],[Speen-gewicht]]=\"\",\"\",Berekeningen!J39*1000)","v":""},null,null,{"$f":"IF(lammering[[#This Row],[Verkoop-gewicht]]=\"\",\"\",Berekeningen!L39*1000)","v":""}]
[null,null,null,null,null,null,null,null,null,null,{"$f":"IF(lammering[[#This Row],[Speen-gewicht]]=\"\",\"\",Berekeningen!J40*1000)","v":""},null,null,{"$f":"IF(lammering[[#This Row],[Verkoop-gewicht]]=\"\",\"\",Berekeningen!L40*1000)","v":""}]
[null,null,null,null,null,null,null,null,null,null,{"$f":"IF(lammering[[#This Row],[Speen-gewicht]]=\"\",\"\",Berekeningen!J41*1000)","v":""},null,null,{"$f":"IF(lammering[[#This Row],[Verkoop-gewicht]]=\"\",\"\",Berekeningen!L41*1000)","v":""}]
[null,null,null,null,null,null,null,null,null,null,{"$f":"IF(lammering[[#This Row],[Speen-gewicht]]=\"\",\"\",Berekeningen!J42*1000)","v":""},null,null,{"$f":"IF(lammering[[#This Row],[Verkoop-gewicht]]=\"\",\"\",Berekeningen!L42*1000)","v":""}]
[null,null,null,null,null,null,null,null,null,null,{"$f":"IF(lammering[[#This Row],[Speen-gewicht]]=\"\",\"\",Berekeningen!J43*1000)","v":""},null,null,{"$f":"IF(lammering[[#This Row],[Verkoop-gewicht]]=\"\",\"\",Berekeningen!L43*1000)","v":""}]
[null,null,null,null,null,null,null,null,null,null,{"$f":"IF(lammering[[#This Row],[Speen-gewicht]]=\"\",\"\",Berekeningen!J44*1000)","v":""},null,null,{"$f":"IF(lammering[[#This Row],[Verkoop-gewicht]]=\"\",\"\",Berekeningen!L44*1000)","v":""}]
[null,null,null,null,null,null,null,null,null,null,{"$f":"IF(lammering[[#This Row],[Speen-gewicht]]=\"\",\"\",Berekeningen!J45*1000)","v":""},null,null,{"$f":"IF(lammering[[#This Row],[Verkoop-gewicht]]=\"\",\"\",Berekeningen!L45*1000)","v":""}]
[null,null,null,null,null,null,null,null,null,null,{"$f":"IF(lammering[[#This Row],[Speen-gewicht]]=\"\",\"\",Berekeningen!J46*1000)","v":""},null,null,{"$f":"IF(lammering[[#This Row],[Verkoop-gewicht]]=\"\",\"\",Berekeningen!L46*1000)","v":""}]
[null,null,null,null,null,null,null,null,null,null,{"$f":"IF(lammering[[#This Row],[Speen-gewicht]]=\"\",\"\",Berekeningen!J47*1000)","v":""},null,null,{"$f":"IF(lammering[[#This Row],[Verkoop-gewicht]]=\"\",\"\",Berekeningen!L47*1000)","v":""}]
[null,null,null,null,null,null,null,null,null,null,{"$f":"IF(lammering[[#This Row],[Speen-gewicht]]=\"\",\"\",Berekeningen!J48*1000)","v":""},null,null,{"$f":"IF(lammering[[#This Row],[Verkoop-gewicht]]=\"\",\"\",Berekeningen!L48*1000)","v":""}]
[null,null,null,null,null,null,null,null,null,null,{"$f":"IF(lammering[[#This Row],[Speen-gewicht]]=\"\",\"\",Berekeningen!J49*1000)","v":""},null,null,{"$f":"IF(lammering[[#This Row],[Verkoop-gewicht]]=\"\",\"\",Berekeningen!L49*1000)","v":""}]
[null,null,null,null,null,null,null,null,null,null,{"$f":"IF(lammering[[#This Row],[Speen-gewicht]]=\"\",\"\",Berekeningen!J50*1000)","v":""},null,null,{"$f":"IF(lammering[[#This Row],[Verkoop-gewicht]]=\"\",\"\",Berekeningen!L50*1000)","v":""}]
[null,null,null,null,null,null,null,null,null,null,{"$f":"IF(lammering[[#This Row],[Speen-gewicht]]=\"\",\"\",Berekeningen!J51*1000)","v":""},null,null,{"$f":"IF(lammering[[#This Row],[Verkoop-gewicht]]=\"\",\"\",Berekeningen!L51*1000)","v":""}]
[null,null,null,null,null,null,null,null,null,null,{"$f":"IF(lammering[[#This Row],[Speen-gewicht]]=\"\",\"\",Berekeningen!J52*1000)","v":""},null,null,{"$f":"IF(lammering[[#This Row],[Verkoop-gewicht]]=\"\",\"\",Berekeningen!L52*1000)","v":""}]
[null,null,null,null,null,null,null,null,null,null,{"$f":"IF(lammering[[#This Row],[Speen-gewicht]]=\"\",\"\",Berekeningen!J53*1000)","v":""},null,null,{"$f":"IF(lammering[[#This Row],[Verkoop-gewicht]]=\"\",\"\",Berekeningen!L53*1000)","v":""}]
[null,null,null,null,null,null,null,null,null,null,{"$f":"IF(lammering[[#This Row],[Speen-gewicht]]=\"\",\"\",Berekeningen!J54*1000)","v":""},null,null,{"$f":"IF(lammering[[#This Row],[Verkoop-gewicht]]=\"\",\"\",Berekeningen!L54*1000)","v":""}]
[null,null,null,null,null,null,null,null,null,null,{"$f":"IF(lammering[[#This Row],[Speen-gewicht]]=\"\",\"\",Berekeningen!J55*1000)","v":""},null,null,{"$f":"IF(lammering[[#This Row],[Verkoop-gewicht]]=\"\",\"\",Berekeningen!L55*1000)","v":""}]
[null,null,null,null,null,null,null,null,null,null,{"$f":"IF(lammering[[#This Row],[Speen-gewicht]]=\"\",\"\",Berekeningen!J56*1000)","v":""},null,null,{"$f":"IF(lammering[[#This Row],[Verkoop-gewicht]]=\"\",\"\",Berekeningen!L56*1000)","v":""}]
[null,null,null,null,null,null,null,null,null,null,{"$f":"IF(lammering[[#This Row],[Speen-gewicht]]=\"\",\"\",Berekeningen!J57*1000)","v":""},null,null,{"$f":"IF(lammering[[#This Row],[Verkoop-gewicht]]=\"\",\"\",Berekeningen!L57*1000)","v":""}]
[null,null,null,null,null,null,null,null,null,null,{"$f":"IF(lammering[[#This Row],[Speen-gewicht]]=\"\",\"\",Berekeningen!J58*1000)","v":""},null,null,{"$f":"IF(lammering[[#This Row],[Verkoop-gewicht]]=\"\",\"\",Berekeningen!L58*1000)","v":""}]
[null,null,null,null,null,null,null,null,null,null,{"$f":"IF(lammering[[#This Row],[Speen-gewicht]]=\"\",\"\",Berekeningen!J59*1000)","v":""},null,null,{"$f":"IF(lammering[[#This Row],[Verkoop-gewicht]]=\"\",\"\",Berekeningen!L59*1000)","v":""}]
[null,null,null,null,null,null,null,null,null,null,{"$f":"IF(lammering[[#This Row],[Speen-gewicht]]=\"\",\"\",Berekeningen!J60*1000)","v":""},null,null,{"$f":"IF(lammering[[#This Row],[Verkoop-gewicht]]=\"\",\"\",Berekeningen!L60*1000)","v":""}]
[null,null,null,null,null,null,null,null,null,null,{"$f":"IF(lammering[[#This Row],[Speen-gewicht]]=\"\",\"\",Berekeningen!J61*1000)","v":""},null,null,{"$f":"IF(lammering[[#This Row],[Verkoop-gewicht]]=\"\",\"\",Berekeningen!L61*1000)","v":""}]
[null,null,null,null,null,null,null,null,null,null,{"$f":"IF(lammering[[#This Row],[Speen-gewicht]]=\"\",\"\",Berekeningen!J62*1000)","v":""},null,null,{"$f":"IF(lammering[[#This Row],[Verkoop-gewicht]]=\"\",\"\",Berekeningen!L62*1000)","v":""}]
[null,null,null,null,null,null,null,null,null,null,{"$f":"IF(lammering[[#This Row],[Speen-gewicht]]=\"\",\"\",Berekeningen!J63*1000)","v":""},null,null,{"$f":"IF(lammering[[#This Row],[Verkoop-gewicht]]=\"\",\"\",Berekeningen!L63*1000)","v":""}]
[null,null,null,null,null,null,null,null,null,null,{"$f":"IF(lammering[[#This Row],[Speen-gewicht]]=\"\",\"\",Berekeningen!J64*1000)","v":""},null,null,{"$f":"IF(lammering[[#This Row],[Verkoop-gewicht]]=\"\",\"\",Berekeningen!L64*1000)","v":""}]
[null,null,null,null,null,null,null,null,null,null,{"$f":"IF(lammering[[#This Row],[Speen-gewicht]]=\"\",\"\",Berekeningen!J65*1000)","v":""},null,null,{"$f":"IF(lammering[[#This Row],[Verkoop-gewicht]]=\"\",\"\",Berekeningen!L65*1000)","v":""}]
[null,null,null,null,null,null,null,null,null,null,{"$f":"IF(lammering[[#This Row],[Speen-gewicht]]=\"\",\"\",Berekeningen!J66*1000)","v":""},null,null,{"$f":"IF(lammering[[#This Row],[Verkoop-gewicht]]=\"\",\"\",Berekeningen!L66*1000)","v":""}]
[null,null,null,null,null,null,null,null,null,null,{"$f":"IF(lammering[[#This Row],[Speen-gewicht]]=\"\",\"\",Berekeningen!J67*1000)","v":""},null,null,{"$f":"IF(lammering[[#This Row],[Verkoop-gewicht]]=\"\",\"\",Berekeningen!L67*1000)","v":""}]
[null,null,null,null,null,null,null,null,null,null,{"$f":"IF(lammering[[#This Row],[Speen-gewicht]]=\"\",\"\",Berekeningen!J68*1000)","v":""},null,null,{"$f":"IF(lammering[[#This Row],[Verkoop-gewicht]]=\"\",\"\",Berekeningen!L68*1000)","v":""}]
[null,null,null,null,null,null,null,null,null,null,{"$f":"IF(lammering[[#This Row],[Speen-gewicht]]=\"\",\"\",Berekeningen!J69*1000)","v":""},null,null,{"$f":"IF(lammering[[#This Row],[Verkoop-gewicht]]=\"\",\"\",Berekeningen!L69*1000)","v":""}]
[null,null,null,null,null,null,null,null,null,null,{"$f":"IF(lammering[[#This Row],[Speen-gewicht]]=\"\",\"\",Berekeningen!J70*1000)","v":""},null,null,{"$f":"IF(lammering[[#This Row],[Verkoop-gewicht]]=\"\",\"\",Berekeningen!L70*1000)","v":""}]
[null,null,null,null,null,null,null,null,null,null,{"$f":"IF(lammering[[#This Row],[Speen-gewicht]]=\"\",\"\",Berekeningen!J71*1000)","v":""},null,null,{"$f":"IF(lammering[[#This Row],[Verkoop-gewicht]]=\"\",\"\",Berekeningen!L71*1000)","v":""}]
[null,null,null,null,null,null,null,null,null,null,{"$f":"IF(lammering[[#This Row],[Speen-gewicht]]=\"\",\"\",Berekeningen!J72*1000)","v":""},null,null,{"$f":"IF(lammering[[#This Row],[Verkoop-gewicht]]=\"\",\"\",Berekeningen!L72*1000)","v":""}]
[null,null,null,null,null,null,null,null,null,null,{"$f":"IF(lammering[[#This Row],[Speen-gewicht]]=\"\",\"\",Berekeningen!J73*1000)","v":""},null,null,{"$f":"IF(lammering[[#This Row],[Verkoop-gewicht]]=\"\",\"\",Berekeningen!L73*1000)","v":""}]
[null,null,null,null,null,null,null,null,null,null,{"$f":"IF(lammering[[#This Row],[Speen-gewicht]]=\"\",\"\",Berekeningen!J74*1000)","v":""},null,null,{"$f":"IF(lammering[[#This Row],[Verkoop-gewicht]]=\"\",\"\",Berekeningen!L74*1000)","v":""}]
[null,null,null,null,null,null,null,null,null,null,{"$f":"IF(lammering[[#This Row],[Speen-gewicht]]=\"\",\"\",Berekeningen!J75*1000)","v":""},null,null,{"$f":"IF(lammering[[#This Row],[Verkoop-gewicht]]=\"\",\"\",Berekeningen!L75*1000)","v":""}]
[null,null,null,null,null,null,null,null,null,null,{"$f":"IF(lammering[[#This Row],[Speen-gewicht]]=\"\",\"\",Berekeningen!J76*1000)","v":""},null,null,{"$f":"IF(lammering[[#This Row],[Verkoop-gewicht]]=\"\",\"\",Berekeningen!L76*1000)","v":""}]
[null,null,null,null,null,null,null,null,null,null,{"$f":"IF(lammering[[#This Row],[Speen-gewicht]]=\"\",\"\",Berekeningen!J77*1000)","v":""},null,null,{"$f":"IF(lammering[[#This Row],[Verkoop-gewicht]]=\"\",\"\",Berekeningen!L77*1000)","v":""}]
[null,null,null,null,null,null,null,null,null,null,{"$f":"IF(lammering[[#This Row],[Speen-gewicht]]=\"\",\"\",Berekeningen!J78*1000)","v":""},null,null,{"$f":"IF(lammering[[#This Row],[Verkoop-gewicht]]=\"\",\"\",Berekeningen!L78*1000)","v":""}]
[null,null,null,null,null,null,null,null,null,null,{"$f":"IF(lammering[[#This Row],[Speen-gewicht]]=\"\",\"\",Berekeningen!J79*1000)","v":""},null,null,{"$f":"IF(lammering[[#This Row],[Verkoop-gewicht]]=\"\",\"\",Berekeningen!L79*1000)","v":""}]
[null,null,null,null,null,null,null,null,null,null,{"$f":"IF(lammering[[#This Row],[Speen-gewicht]]=\"\",\"\",Berekeningen!J80*1000)","v":""},null,null,{"$f":"IF(lammering[[#This Row],[Verkoop-gewicht]]=\"\",\"\",Berekeningen!L80*1000)","v":""}]
[null,null,null,null,null,null,null,null,null,null,{"$f":"IF(lammering[[#This Row],[Speen-gewicht]]=\"\",\"\",Berekeningen!J81*1000)","v":""},null,null,{"$f":"IF(lammering[[#This Row],[Verkoop-gewicht]]=\"\",\"\",Berekeningen!L81*1000)","v":""}]
[null,null,null,null,null,null,null,null,null,null,{"$f":"IF(lammering[[#This Row],[Speen-gewicht]]=\"\",\"\",Berekeningen!J82*1000)","v":""},null,null,{"$f":"IF(lammering[[#This Row],[Verkoop-gewicht]]=\"\",\"\",Berekeningen!L82*1000)","v":""}]
[null,null,null,null,null,null,null,null,null,null,{"$f":"IF(lammering[[#This Row],[Speen-gewicht]]=\"\",\"\",Berekeningen!J83*1000)","v":""},null,null,{"$f":"IF(lammering[[#This Row],[Verkoop-gewicht]]=\"\",\"\",Berekeningen!L83*1000)","v":""}]
[null,null,null,null,null,null,null,null,null,null,{"$f":"IF(lammering[[#This Row],[Speen-gewicht]]=\"\",\"\",Berekeningen!J84*1000)","v":""},null,null,{"$f":"IF(lammering[[#This Row],[Verkoop-gewicht]]=\"\",\"\",Berekeningen!L84*1000)","v":""}]
[null,null,null,null,null,null,null,null,null,null,{"$f":"IF(lammering[[#This Row],[Speen-gewicht]]=\"\",\"\",Berekeningen!J85*1000)","v":""},null,null,{"$f":"IF(lammering[[#This Row],[Verkoop-gewicht]]=\"\",\"\",Berekeningen!L85*1000)","v":""}]
[null,null,null,null,null,null,null,null,null,null,{"$f":"IF(lammering[[#This Row],[Speen-gewicht]]=\"\",\"\",Berekeningen!J86*1000)","v":""},null,null,{"$f":"IF(lammering[[#This Row],[Verkoop-gewicht]]=\"\",\"\",Berekeningen!L86*1000)","v":""}]
[null,null,null,null,null,null,null,null,null,null,{"$f":"IF(lammering[[#This Row],[Speen-gewicht]]=\"\",\"\",Berekeningen!J87*1000)","v":""},null,null,{"$f":"IF(lammering[[#This Row],[Verkoop-gewicht]]=\"\",\"\",Berekeningen!L87*1000)","v":""}]
[null,null,null,null,null,null,null,null,null,null,{"$f":"IF(lammering[[#This Row],[Speen-gewicht]]=\"\",\"\",Berekeningen!J88*1000)","v":""},null,null,{"$f":"IF(lammering[[#This Row],[Verkoop-gewicht]]=\"\",\"\",Berekeningen!L88*1000)","v":""}]
[null,null,null,null,null,null,null,null,null,null,{"$f":"IF(lammering[[#This Row],[Speen-gewicht]]=\"\",\"\",Berekeningen!J89*1000)","v":""},null,null,{"$f":"IF(lammering[[#This Row],[Verkoop-gewicht]]=\"\",\"\",Berekeningen!L89*1000)","v":""}]
[null,null,null,null,null,null,null,null,null,null,{"$f":"IF(lammering[[#This Row],[Speen-gewicht]]=\"\",\"\",Berekeningen!J90*1000)","v":""},null,null,{"$f":"IF(lammering[[#This Row],[Verkoop-gewicht]]=\"\",\"\",Berekeningen!L90*1000)","v":""}]
[null,null,null,null,null,null,null,null,null,null,{"$f":"IF(lammering[[#This Row],[Speen-gewicht]]=\"\",\"\",Berekeningen!J91*1000)","v":""},null,null,{"$f":"IF(lammering[[#This Row],[Verkoop-gewicht]]=\"\",\"\",Berekeningen!L91*1000)","v":""}]
[null,null,null,null,null,null,null,null,null,null,{"$f":"IF(lammering[[#This Row],[Speen-gewicht]]=\"\",\"\",Berekeningen!J92*1000)","v":""},null,null,{"$f":"IF(lammering[[#This Row],[Verkoop-gewicht]]=\"\",\"\",Berekeningen!L92*1000)","v":""}]
[null,null,null,null,null,null,null,null,null,null,{"$f":"IF(lammering[[#This Row],[Speen-gewicht]]=\"\",\"\",Berekeningen!J93*1000)","v":""},null,null,{"$f":"IF(lammering[[#This Row],[Verkoop-gewicht]]=\"\",\"\",Berekeningen!L93*1000)","v":""}]
[null,null,null,null,null,null,null,null,null,null,{"$f":"IF(lammering[[#This Row],[Speen-gewicht]]=\"\",\"\",Berekeningen!J94*1000)","v":""},null,null,{"$f":"IF(lammering[[#This Row],[Verkoop-gewicht]]=\"\",\"\",Berekeningen!L94*1000)","v":""}]
[null,null,null,null,null,null,null,null,null,null,{"$f":"IF(lammering[[#This Row],[Speen-gewicht]]=\"\",\"\",Berekeningen!J95*1000)","v":""},null,null,{"$f":"IF(lammering[[#This Row],[Verkoop-gewicht]]=\"\",\"\",Berekeningen!L95*1000)","v":""}]
[null,null,null,null,null,null,null,null,null,null,{"$f":"IF(lammering[[#This Row],[Speen-gewicht]]=\"\",\"\",Berekeningen!J96*1000)","v":""},null,null,{"$f":"IF(lammering[[#This Row],[Verkoop-gewicht]]=\"\",\"\",Berekeningen!L96*1000)","v":""}]
[null,null,null,null,null,null,null,null,null,null,{"$f":"IF(lammering[[#This Row],[Speen-gewicht]]=\"\",\"\",Berekeningen!J97*1000)","v":""},null,null,{"$f":"IF(lammering[[#This Row],[Verkoop-gewicht]]=\"\",\"\",Berekeningen!L97*1000)","v":""}]
[null,null,null,null,null,null,null,null,null,null,{"$f":"IF(lammering[[#This Row],[Speen-gewicht]]=\"\",\"\",Berekeningen!J98*1000)","v":""},null,null,{"$f":"IF(lammering[[#This Row],[Verkoop-gewicht]]=\"\",\"\",Berekeningen!L98*1000)","v":""}]
[null,null,null,null,null,null,null,null,null,null,{"$f":"IF(lammering[[#This Row],[Speen-gewicht]]=\"\",\"\",Berekeningen!J99*1000)","v":""},null,null,{"$f":"IF(lammering[[#This Row],[Verkoop-gewicht]]=\"\",\"\",Berekeningen!L99*1000)","v":""}]
[null,null,null,null,null,null,null,null,null,null,{"$f":"IF(lammering[[#This Row],[Speen-gewicht]]=\"\",\"\",Berekeningen!J100*1000)","v":""},null,null,{"$f":"IF(lammering[[#This Row],[Verkoop-gewicht]]=\"\",\"\",Berekeningen!L100*1000)","v":""}]
[null,null,null,null,null,null,null,null,null,null,{"$f":"IF(lammering[[#This Row],[Speen-gewicht]]=\"\",\"\",Berekeningen!J101*1000)","v":""},null,null,{"$f":"IF(lammering[[#This Row],[Verkoop-gewicht]]=\"\",\"\",Berekeningen!L101*1000)","v":""}]
[null,null,null,null,null,null,null,null,null,null,{"$f":"IF(lammering[[#This Row],[Speen-gewicht]]=\"\",\"\",Berekeningen!J102*1000)","v":""},null,null,{"$f":"IF(lammering[[#This Row],[Verkoop-gewicht]]=\"\",\"\",Berekeningen!L102*1000)","v":""}]
[null,null,null,null,null,null,null,null,null,null,{"$f":"IF(lammering[[#This Row],[Speen-gewicht]]=\"\",\"\",Berekeningen!J103*1000)","v":""},null,null,{"$f":"IF(lammering[[#This Row],[Verkoop-gewicht]]=\"\",\"\",Berekeningen!L103*1000)","v":""}]
[null,null,null,null,null,null,null,null,null,null,{"$f":"IF(lammering[[#This Row],[Speen-gewicht]]=\"\",\"\",Berekeningen!J104*1000)","v":""},null,null,{"$f":"IF(lammering[[#This Row],[Verkoop-gewicht]]=\"\",\"\",Berekeningen!L104*1000)","v":""}]
[null,null,null,null,null,null,null,null,null,null,{"$f":"IF(lammering[[#This Row],[Speen-gewicht]]=\"\",\"\",Berekeningen!J105*1000)","v":""},null,null,{"$f":"IF(lammering[[#This Row],[Verkoop-gewicht]]=\"\",\"\",Berekeningen!L105*1000)","v":""}]
[null,null,null,null,null,null,null,null,null,null,{"$f":"IF(lammering[[#This Row],[Speen-gewicht]]=\"\",\"\",Berekeningen!J106*1000)","v":""},null,null,{"$f":"IF(lammering[[#This Row],[Verkoop-gewicht]]=\"\",\"\",Berekeningen!L106*1000)","v":""}]
[null,null,null,null,null,null,null,null,null,null,{"$f":"IF(lammering[[#This Row],[Speen-gewicht]]=\"\",\"\",Berekeningen!J107*1000)","v":""},null,null,{"$f":"IF(lammering[[#This Row],[Verkoop-gewicht]]=\"\",\"\",Berekeningen!L107*1000)","v":""}]
[null,null,null,null,null,null,null,null,null,null,{"$f":"IF(lammering[[#This Row],[Speen-gewicht]]=\"\",\"\",Berekeningen!J108*1000)","v":""},null,null,{"$f":"IF(lammering[[#This Row],[Verkoop-gewicht]]=\"\",\"\",Berekeningen!L108*1000)","v":""}]
[null,null,null,null,null,null,null,null,null,null,{"$f":"IF(lammering[[#This Row],[Speen-gewicht]]=\"\",\"\",Berekeningen!J109*1000)","v":""},null,null,{"$f":"IF(lammering[[#This Row],[Verkoop-gewicht]]=\"\",\"\",Berekeningen!L109*1000)","v":""}]
[null,null,null,null,null,null,null,null,null,null,{"$f":"IF(lammering[[#This Row],[Speen-gewicht]]=\"\",\"\",Berekeningen!J110*1000)","v":""},null,null,{"$f":"IF(lammering[[#This Row],[Verkoop-gewicht]]=\"\",\"\",Berekeningen!L110*1000)","v":""}]
[null,null,null,null,null,null,null,null,null,null,{"$f":"IF(lammering[[#This Row],[Speen-gewicht]]=\"\",\"\",Berekeningen!J111*1000)","v":""},null,null,{"$f":"IF(lammering[[#This Row],[Verkoop-gewicht]]=\"\",\"\",Berekeningen!L111*1000)","v":""}]
[null,null,null,null,null,null,null,null,null,null,{"$f":"IF(lammering[[#This Row],[Speen-gewicht]]=\"\",\"\",Berekeningen!J112*1000)","v":""},null,null,{"$f":"IF(lammering[[#This Row],[Verkoop-gewicht]]=\"\",\"\",Berekeningen!L112*1000)","v":""}]
[null,null,null,null,null,null,null,null,null,null,{"$f":"IF(lammering[[#This Row],[Speen-gewicht]]=\"\",\"\",Berekeningen!J113*1000)","v":""},null,null,{"$f":"IF(lammering[[#This Row],[Verkoop-gewicht]]=\"\",\"\",Berekeningen!L113*1000)","v":""}]
[null,null,null,null,null,null,null,null,null,null,{"$f":"IF(lammering[[#This Row],[Speen-gewicht]]=\"\",\"\",Berekeningen!J114*1000)","v":""},null,null,{"$f":"IF(lammering[[#This Row],[Verkoop-gewicht]]=\"\",\"\",Berekeningen!L114*1000)","v":""}]
[null,null,null,null,null,null,null,null,null,null,{"$f":"IF(lammering[[#This Row],[Speen-gewicht]]=\"\",\"\",Berekeningen!J115*1000)","v":""},null,null,{"$f":"IF(lammering[[#This Row],[Verkoop-gewicht]]=\"\",\"\",Berekeningen!L115*1000)","v":""}]
[null,null,null,null,null,null,null,null,null,null,{"$f":"IF(lammering[[#This Row],[Speen-gewicht]]=\"\",\"\",Berekeningen!J116*1000)","v":""},null,null,{"$f":"IF(lammering[[#This Row],[Verkoop-gewicht]]=\"\",\"\",Berekeningen!L116*1000)","v":""}]
[null,null,null,null,null,null,null,null,null,null,{"$f":"IF(lammering[[#This Row],[Speen-gewicht]]=\"\",\"\",Berekeningen!J117*1000)","v":""},null,null,{"$f":"IF(lammering[[#This Row],[Verkoop-gewicht]]=\"\",\"\",Berekeningen!L117*1000)","v":""}]
[null,null,null,null,null,null,null,null,null,null,{"$f":"IF(lammering[[#This Row],[Speen-gewicht]]=\"\",\"\",Berekeningen!J118*1000)","v":""},null,null,{"$f":"IF(lammering[[#This Row],[Verkoop-gewicht]]=\"\",\"\",Berekeningen!L118*1000)","v":""}]
[null,null,null,null,null,null,null,null,null,null,{"$f":"IF(lammering[[#This Row],[Speen-gewicht]]=\"\",\"\",Berekeningen!J119*1000)","v":""},null,null,{"$f":"IF(lammering[[#This Row],[Verkoop-gewicht]]=\"\",\"\",Berekeningen!L119*1000)","v":""}]
[null,null,null,null,null,null,null,null,null,null,{"$f":"IF(lammering[[#This Row],[Speen-gewicht]]=\"\",\"\",Berekeningen!J120*1000)","v":""},null,null,{"$f":"IF(lammering[[#This Row],[Verkoop-gewicht]]=\"\",\"\",Berekeningen!L120*1000)","v":""}]
[null,null,null,null,null,null,null,null,null,null,{"$f":"IF(lammering[[#This Row],[Speen-gewicht]]=\"\",\"\",Berekeningen!J121*1000)","v":""},null,null,{"$f":"IF(lammering[[#This Row],[Verkoop-gewicht]]=\"\",\"\",Berekeningen!L121*1000)","v":""}]
[null,null,null,null,null,null,null,null,null,null,{"$f":"IF(lammering[[#This Row],[Speen-gewicht]]=\"\",\"\",Berekeningen!J122*1000)","v":""},null,null,{"$f":"IF(lammering[[#This Row],[Verkoop-gewicht]]=\"\",\"\",Berekeningen!L122*1000)","v":""}]
[null,null,null,null,null,null,null,null,null,null,{"$f":"IF(lammering[[#This Row],[Speen-gewicht]]=\"\",\"\",Berekeningen!J123*1000)","v":""},null,null,{"$f":"IF(lammering[[#This Row],[Verkoop-gewicht]]=\"\",\"\",Berekeningen!L123*1000)","v":""}]
[null,null,null,null,null,null,null,null,null,null,{"$f":"IF(lammering[[#This Row],[Speen-gewicht]]=\"\",\"\",Berekeningen!J124*1000)","v":""},null,null,{"$f":"IF(lammering[[#This Row],[Verkoop-gewicht]]=\"\",\"\",Berekeningen!L124*1000)","v":""}]
[null,null,null,null,null,null,null,null,null,null,{"$f":"IF(lammering[[#This Row],[Speen-gewicht]]=\"\",\"\",Berekeningen!J125*1000)","v":""},null,null,{"$f":"IF(lammering[[#This Row],[Verkoop-gewicht]]=\"\",\"\",Berekeningen!L125*1000)","v":""}]
[null,null,null,null,null,null,null,null,null,null,{"$f":"IF(lammering[[#This Row],[Speen-gewicht]]=\"\",\"\",Berekeningen!J126*1000)","v":""},null,null,{"$f":"IF(lammering[[#This Row],[Verkoop-gewicht]]=\"\",\"\",Berekeningen!L126*1000)","v":""}]
[null,null,null,null,null,null,null,null,null,null,{"$f":"IF(lammering[[#This Row],[Speen-gewicht]]=\"\",\"\",Berekeningen!J127*1000)","v":""},null,null,{"$f":"IF(lammering[[#This Row],[Verkoop-gewicht]]=\"\",\"\",Berekeningen!L127*1000)","v":""}]
[null,null,null,null,null,null,null,null,null,null,{"$f":"IF(lammering[[#This Row],[Speen-gewicht]]=\"\",\"\",Berekeningen!J128*1000)","v":""},null,null,{"$f":"IF(lammering[[#This Row],[Verkoop-gewicht]]=\"\",\"\",Berekeningen!L128*1000)","v":""}]
[null,null,null,null,null,null,null,null,null,null,{"$f":"IF(lammering[[#This Row],[Speen-gewicht]]=\"\",\"\",Berekeningen!J129*1000)","v":""},null,null,{"$f":"IF(lammering[[#This Row],[Verkoop-gewicht]]=\"\",\"\",Berekeningen!L129*1000)","v":""}]
[null,null,null,null,null,null,null,null,null,null,{"$f":"IF(lammering[[#This Row],[Speen-gewicht]]=\"\",\"\",Berekeningen!J130*1000)","v":""},null,null,{"$f":"IF(lammering[[#This Row],[Verkoop-gewicht]]=\"\",\"\",Berekeningen!L130*1000)","v":""}]
[null,null,null,null,null,null,null,null,null,null,{"$f":"IF(lammering[[#This Row],[Speen-gewicht]]=\"\",\"\",Berekeningen!J131*1000)","v":""},null,null,{"$f":"IF(lammering[[#This Row],[Verkoop-gewicht]]=\"\",\"\",Berekeningen!L131*1000)","v":""}]
[null,null,null,null,null,null,null,null,null,null,{"$f":"IF(lammering[[#This Row],[Speen-gewicht]]=\"\",\"\",Berekeningen!J132*1000)","v":""},null,null,{"$f":"IF(lammering[[#This Row],[Verkoop-gewicht]]=\"\",\"\",Berekeningen!L132*1000)","v":""}]
[null,null,null,null,null,null,null,null,null,null,{"$f":"IF(lammering[[#This Row],[Speen-gewicht]]=\"\",\"\",Berekeningen!J133*1000)","v":""},null,null,{"$f":"IF(lammering[[#This Row],[Verkoop-gewicht]]=\"\",\"\",Berekeningen!L133*1000)","v":""}]
[null,null,null,null,null,null,null,null,null,null,{"$f":"IF(lammering[[#This Row],[Speen-gewicht]]=\"\",\"\",Berekeningen!J134*1000)","v":""},null,null,{"$f":"IF(lammering[[#This Row],[Verkoop-gewicht]]=\"\",\"\",Berekeningen!L134*1000)","v":""}]
[null,null,null,null,null,null,null,null,null,null,{"$f":"IF(lammering[[#This Row],[Speen-gewicht]]=\"\",\"\",Berekeningen!J135*1000)","v":""},null,null,{"$f":"IF(lammering[[#This Row],[Verkoop-gewicht]]=\"\",\"\",Berekeningen!L135*1000)","v":""}]
[null,null,null,null,null,null,null,null,null,null,{"$f":"IF(lammering[[#This Row],[Speen-gewicht]]=\"\",\"\",Berekeningen!J136*1000)","v":""},null,null,{"$f":"IF(lammering[[#This Row],[Verkoop-gewicht]]=\"\",\"\",Berekeningen!L136*1000)","v":""}]
[null,null,null,null,null,null,null,null,null,null,{"$f":"IF(lammering[[#This Row],[Speen-gewicht]]=\"\",\"\",Berekeningen!J137*1000)","v":""},null,null,{"$f":"IF(lammering[[#This Row],[Verkoop-gewicht]]=\"\",\"\",Berekeningen!L137*1000)","v":""}]
[null,null,null,null,null,null,null,null,null,null,{"$f":"IF(lammering[[#This Row],[Speen-gewicht]]=\"\",\"\",Berekeningen!J138*1000)","v":""},null,null,{"$f":"IF(lammering[[#This Row],[Verkoop-gewicht]]=\"\",\"\",Berekeningen!L138*1000)","v":""}]
[null,null,null,null,null,null,null,null,null,null,{"$f":"IF(lammering[[#This Row],[Speen-gewicht]]=\"\",\"\",Berekeningen!J139*1000)","v":""},null,null,{"$f":"IF(lammering[[#This Row],[Verkoop-gewicht]]=\"\",\"\",Berekeningen!L139*1000)","v":""}]
[null,null,null,null,null,null,null,null,null,null,{"$f":"IF(lammering[[#This Row],[Speen-gewicht]]=\"\",\"\",Berekeningen!J140*1000)","v":""},null,null,{"$f":"IF(lammering[[#This Row],[Verkoop-gewicht]]=\"\",\"\",Berekeningen!L140*1000)","v":""}]
[null,null,null,null,null,null,null,null,null,null,{"$f":"IF(lammering[[#This Row],[Speen-gewicht]]=\"\",\"\",Berekeningen!J141*1000)","v":""},null,null,{"$f":"IF(lammering[[#This Row],[Verkoop-gewicht]]=\"\",\"\",Berekeningen!L141*1000)","v":""}]
[null,null,null,null,null,null,null,null,null,null,{"$f":"IF(lammering[[#This Row],[Speen-gewicht]]=\"\",\"\",Berekeningen!J142*1000)","v":""},null,null,{"$f":"IF(lammering[[#This Row],[Verkoop-gewicht]]=\"\",\"\",Berekeningen!L142*1000)","v":""}]
[null,null,null,null,null,null,null,null,null,null,{"$f":"IF(lammering[[#This Row],[Speen-gewicht]]=\"\",\"\",Berekeningen!J143*1000)","v":""},null,null,{"$f":"IF(lammering[[#This Row],[Verkoop-gewicht]]=\"\",\"\",Berekeningen!L143*1000)","v":""}]
[null,null,null,null,null,null,null,null,null,null,{"$f":"IF(lammering[[#This Row],[Speen-gewicht]]=\"\",\"\",Berekeningen!J144*1000)","v":""},null,null,{"$f":"IF(lammering[[#This Row],[Verkoop-gewicht]]=\"\",\"\",Berekeningen!L144*1000)","v":""}]
[null,null,null,null,null,null,null,null,null,null,{"$f":"IF(lammering[[#This Row],[Speen-gewicht]]=\"\",\"\",Berekeningen!J145*1000)","v":""},null,null,{"$f":"IF(lammering[[#This Row],[Verkoop-gewicht]]=\"\",\"\",Berekeningen!L145*1000)","v":""}]
[null,null,null,null,null,null,null,null,null,null,{"$f":"IF(lammering[[#This Row],[Speen-gewicht]]=\"\",\"\",Berekeningen!J146*1000)","v":""},null,null,{"$f":"IF(lammering[[#This Row],[Verkoop-gewicht]]=\"\",\"\",Berekeningen!L146*1000)","v":""}]
[null,null,null,null,null,null,null,null,null,null,{"$f":"IF(lammering[[#This Row],[Speen-gewicht]]=\"\",\"\",Berekeningen!J147*1000)","v":""},null,null,{"$f":"IF(lammering[[#This Row],[Verkoop-gewicht]]=\"\",\"\",Berekeningen!L147*1000)","v":""}]
[null,null,null,null,null,null,null,null,null,null,{"$f":"IF(lammering[[#This Row],[Speen-gewicht]]=\"\",\"\",Berekeningen!J148*1000)","v":""},null,null,{"$f":"IF(lammering[[#This Row],[Verkoop-gewicht]]=\"\",\"\",Berekeningen!L148*1000)","v":""}]
[null,null,null,null,null,null,null,null,null,null,{"$f":"IF(lammering[[#This Row],[Speen-gewicht]]=\"\",\"\",Berekeningen!J149*1000)","v":""},null,null,{"$f":"IF(lammering[[#This Row],[Verkoop-gewicht]]=\"\",\"\",Berekeningen!L149*1000)","v":""}]
[null,null,null,null,null,null,null,null,null,null,{"$f":"IF(lammering[[#This Row],[Speen-gewicht]]=\"\",\"\",Berekeningen!J150*1000)","v":""},null,null,{"$f":"IF(lammering[[#This Row],[Verkoop-gewicht]]=\"\",\"\",Berekeningen!L150*1000)","v":""}]
[null,null,null,null,null,null,null,null,null,null,{"$f":"IF(lammering[[#This Row],[Speen-gewicht]]=\"\",\"\",Berekeningen!J151*1000)","v":""},null,null,{"$f":"IF(lammering[[#This Row],[Verkoop-gewicht]]=\"\",\"\",Berekeningen!L151*1000)","v":""}]
[null,null,null,null,null,null,null,null,null,null,{"$f":"IF(lammering[[#This Row],[Speen-gewicht]]=\"\",\"\",Berekeningen!J152*1000)","v":""},null,null,{"$f":"IF(lammering[[#This Row],[Verkoop-gewicht]]=\"\",\"\",Berekeningen!L152*1000)","v":""}]
[null,null,null,null,null,null,null,null,null,null,{"$f":"IF(lammering[[#This Row],[Speen-gewicht]]=\"\",\"\",Berekeningen!J153*1000)","v":""},null,null,{"$f":"IF(lammering[[#This Row],[Verkoop-gewicht]]=\"\",\"\",Berekeningen!L153*1000)","v":""}]
[null,null,null,null,null,null,null,null,null,null,{"$f":"IF(lammering[[#This Row],[Speen-gewicht]]=\"\",\"\",Berekeningen!J154*1000)","v":""},null,null,{"$f":"IF(lammering[[#This Row],[Verkoop-gewicht]]=\"\",\"\",Berekeningen!L154*1000)","v":""}]
[null,null,null,null,null,null,null,null,null,null,{"$f":"IF(lammering[[#This Row],[Speen-gewicht]]=\"\",\"\",Berekeningen!J155*1000)","v":""},null,null,{"$f":"IF(lammering[[#This Row],[Verkoop-gewicht]]=\"\",\"\",Berekeningen!L155*1000)","v":""}]
[null,null,null,null,null,null,null,null,null,null,{"$f":"IF(lammering[[#This Row],[Speen-gewicht]]=\"\",\"\",Berekeningen!J156*1000)","v":""},null,null,{"$f":"IF(lammering[[#This Row],[Verkoop-gewicht]]=\"\",\"\",Berekeningen!L156*1000)","v":""}]
[null,null,null,null,null,null,null,null,null,null,{"$f":"IF(lammering[[#This Row],[Speen-gewicht]]=\"\",\"\",Berekeningen!J157*1000)","v":""},null,null,{"$f":"IF(lammering[[#This Row],[Verkoop-gewicht]]=\"\",\"\",Berekeningen!L157*1000)","v":""}]
[null,null,null,null,null,null,null,null,null,null,{"$f":"IF(lammering[[#This Row],[Speen-gewicht]]=\"\",\"\",Berekeningen!J158*1000)","v":""},null,null,{"$f":"IF(lammering[[#This Row],[Verkoop-gewicht]]=\"\",\"\",Berekeningen!L158*1000)","v":""}]
[null,null,null,null,null,null,null,null,null,null,{"$f":"IF(lammering[[#This Row],[Speen-gewicht]]=\"\",\"\",Berekeningen!J159*1000)","v":""},null,null,{"$f":"IF(lammering[[#This Row],[Verkoop-gewicht]]=\"\",\"\",Berekeningen!L159*1000)","v":""}]
[null,null,null,null,null,null,null,null,null,null,{"$f":"IF(lammering[[#This Row],[Speen-gewicht]]=\"\",\"\",Berekeningen!J160*1000)","v":""},null,null,{"$f":"IF(lammering[[#This Row],[Verkoop-gewicht]]=\"\",\"\",Berekeningen!L160*1000)","v":""}]
[null,null,null,null,null,null,null,null,null,null,{"$f":"IF(lammering[[#This Row],[Speen-gewicht]]=\"\",\"\",Berekeningen!J161*1000)","v":""},null,null,{"$f":"IF(lammering[[#This Row],[Verkoop-gewicht]]=\"\",\"\",Berekeningen!L161*1000)","v":""}]
[null,null,null,null,null,null,null,null,null,null,{"$f":"IF(lammering[[#This Row],[Speen-gewicht]]=\"\",\"\",Berekeningen!J162*1000)","v":""},null,null,{"$f":"IF(lammering[[#This Row],[Verkoop-gewicht]]=\"\",\"\",Berekeningen!L162*1000)","v":""}]
[null,null,null,null,null,null,null,null,null,null,{"$f":"IF(lammering[[#This Row],[Speen-gewicht]]=\"\",\"\",Berekeningen!J163*1000)","v":""},null,null,{"$f":"IF(lammering[[#This Row],[Verkoop-gewicht]]=\"\",\"\",Berekeningen!L163*1000)","v":""}]
[null,null,null,null,null,null,null,null,null,null,{"$f":"IF(lammering[[#This Row],[Speen-gewicht]]=\"\",\"\",Berekeningen!J164*1000)","v":""},null,null,{"$f":"IF(lammering[[#This Row],[Verkoop-gewicht]]=\"\",\"\",Berekeningen!L164*1000)","v":""}]
[null,null,null,null,null,null,null,null,null,null,{"$f":"IF(lammering[[#This Row],[Speen-gewicht]]=\"\",\"\",Berekeningen!J165*1000)","v":""},null,null,{"$f":"IF(lammering[[#This Row],[Verkoop-gewicht]]=\"\",\"\",Berekeningen!L165*1000)","v":""}]
[null,null,null,null,null,null,null,null,null,null,{"$f":"IF(lammering[[#This Row],[Speen-gewicht]]=\"\",\"\",Berekeningen!J166*1000)","v":""},null,null,{"$f":"IF(lammering[[#This Row],[Verkoop-gewicht]]=\"\",\"\",Berekeningen!L166*1000)","v":""}]
[null,null,null,null,null,null,null,null,null,null,{"$f":"IF(lammering[[#This Row],[Speen-gewicht]]=\"\",\"\",Berekeningen!J167*1000)","v":""},null,null,{"$f":"IF(lammering[[#This Row],[Verkoop-gewicht]]=\"\",\"\",Berekeningen!L167*1000)","v":""}]
[null,null,null,null,null,null,null,null,null,null,{"$f":"IF(lammering[[#This Row],[Speen-gewicht]]=\"\",\"\",Berekeningen!J168*1000)","v":""},null,null,{"$f":"IF(lammering[[#This Row],[Verkoop-gewicht]]=\"\",\"\",Berekeningen!L168*1000)","v":""}]
[null,null,null,null,null,null,null,null,null,null,{"$f":"IF(lammering[[#This Row],[Speen-gewicht]]=\"\",\"\",Berekeningen!J169*1000)","v":""},null,null,{"$f":"IF(lammering[[#This Row],[Verkoop-gewicht]]=\"\",\"\",Berekeningen!L169*1000)","v":""}]
[null,null,null,null,null,null,null,null,null,null,{"$f":"IF(lammering[[#This Row],[Speen-gewicht]]=\"\",\"\",Berekeningen!J170*1000)","v":""},null,null,{"$f":"IF(lammering[[#This Row],[Verkoop-gewicht]]=\"\",\"\",Berekeningen!L170*1000)","v":""}]
[null,null,null,null,null,null,null,null,null,null,{"$f":"IF(lammering[[#This Row],[Speen-gewicht]]=\"\",\"\",Berekeningen!J171*1000)","v":""},null,null,{"$f":"IF(lammering[[#This Row],[Verkoop-gewicht]]=\"\",\"\",Berekeningen!L171*1000)","v":""}]
[null,null,null,null,null,null,null,null,null,null,{"$f":"IF(lammering[[#This Row],[Speen-gewicht]]=\"\",\"\",Berekeningen!J172*1000)","v":""},null,null,{"$f":"IF(lammering[[#This Row],[Verkoop-gewicht]]=\"\",\"\",Berekeningen!L172*1000)","v":""}]
[null,null,null,null,null,null,null,null,null,null,{"$f":"IF(lammering[[#This Row],[Speen-gewicht]]=\"\",\"\",Berekeningen!J173*1000)","v":""},null,null,{"$f":"IF(lammering[[#This Row],[Verkoop-gewicht]]=\"\",\"\",Berekeningen!L173*1000)","v":""}]
[null,null,null,null,null,null,null,null,null,null,{"$f":"IF(lammering[[#This Row],[Speen-gewicht]]=\"\",\"\",Berekeningen!J174*1000)","v":""},null,null,{"$f":"IF(lammering[[#This Row],[Verkoop-gewicht]]=\"\",\"\",Berekeningen!L174*1000)","v":""}]
[null,null,null,null,null,null,null,null,null,null,{"$f":"IF(lammering[[#This Row],[Speen-gewicht]]=\"\",\"\",Berekeningen!J175*1000)","v":""},null,null,{"$f":"IF(lammering[[#This Row],[Verkoop-gewicht]]=\"\",\"\",Berekeningen!L175*1000)","v":""}]
[null,null,null,null,null,null,null,null,null,null,{"$f":"IF(lammering[[#This Row],[Speen-gewicht]]=\"\",\"\",Berekeningen!J176*1000)","v":""},null,null,{"$f":"IF(lammering[[#This Row],[Verkoop-gewicht]]=\"\",\"\",Berekeningen!L176*1000)","v":""}]
[null,null,null,null,null,null,null,null,null,null,{"$f":"IF(lammering[[#This Row],[Speen-gewicht]]=\"\",\"\",Berekeningen!J177*1000)","v":""},null,null,{"$f":"IF(lammering[[#This Row],[Verkoop-gewicht]]=\"\",\"\",Berekeningen!L177*1000)","v":""}]
[null,null,null,null,null,null,null,null,null,null,{"$f":"IF(lammering[[#This Row],[Speen-gewicht]]=\"\",\"\",Berekeningen!J178*1000)","v":""},null,null,{"$f":"IF(lammering[[#This Row],[Verkoop-gewicht]]=\"\",\"\",Berekeningen!L178*1000)","v":""}]
[null,null,null,null,null,null,null,null,null,null,{"$f":"IF(lammering[[#This Row],[Speen-gewicht]]=\"\",\"\",Berekeningen!J179*1000)","v":""},null,null,{"$f":"IF(lammering[[#This Row],[Verkoop-gewicht]]=\"\",\"\",Berekeningen!L179*1000)","v":""}]
[null,null,null,null,null,null,null,null,null,null,{"$f":"IF(lammering[[#This Row],[Speen-gewicht]]=\"\",\"\",Berekeningen!J180*1000)","v":""},null,null,{"$f":"IF(lammering[[#This Row],[Verkoop-gewicht]]=\"\",\"\",Berekeningen!L180*1000)","v":""}]
[null,null,null,null,null,null,null,null,null,null,{"$f":"IF(lammering[[#This Row],[Speen-gewicht]]=\"\",\"\",Berekeningen!J181*1000)","v":""},null,null,{"$f":"IF(lammering[[#This Row],[Verkoop-gewicht]]=\"\",\"\",Berekeningen!L181*1000)","v":""}]
[null,null,null,null,null,null,null,null,null,null,{"$f":"IF(lammering[[#This Row],[Speen-gewicht]]=\"\",\"\",Berekeningen!J182*1000)","v":""},null,null,{"$f":"IF(lammering[[#This Row],[Verkoop-gewicht]]=\"\",\"\",Berekeningen!L182*1000)","v":""}]
[null,null,null,null,null,null,null,null,null,null,{"$f":"IF(lammering[[#This Row],[Speen-gewicht]]=\"\",\"\",Berekeningen!J183*1000)","v":""},null,null,{"$f":"IF(lammering[[#This Row],[Verkoop-gewicht]]=\"\",\"\",Berekeningen!L183*1000)","v":""}]
[null,null,null,null,null,null,null,null,null,null,{"$f":"IF(lammering[[#This Row],[Speen-gewicht]]=\"\",\"\",Berekeningen!J184*1000)","v":""},null,null,{"$f":"IF(lammering[[#This Row],[Verkoop-gewicht]]=\"\",\"\",Berekeningen!L184*1000)","v":""}]
[null,null,null,null,null,null,null,null,null,null,{"$f":"IF(lammering[[#This Row],[Speen-gewicht]]=\"\",\"\",Berekeningen!J185*1000)","v":""},null,null,{"$f":"IF(lammering[[#This Row],[Verkoop-gewicht]]=\"\",\"\",Berekeningen!L185*1000)","v":""}]
[null,null,null,null,null,null,null,null,null,null,{"$f":"IF(lammering[[#This Row],[Speen-gewicht]]=\"\",\"\",Berekeningen!J186*1000)","v":""},null,null,{"$f":"IF(lammering[[#This Row],[Verkoop-gewicht]]=\"\",\"\",Berekeningen!L186*1000)","v":""}]
[null,null,null,null,null,null,null,null,null,null,{"$f":"IF(lammering[[#This Row],[Speen-gewicht]]=\"\",\"\",Berekeningen!J187*1000)","v":""},null,null,{"$f":"IF(lammering[[#This Row],[Verkoop-gewicht]]=\"\",\"\",Berekeningen!L187*1000)","v":""}]
[null,null,null,null,null,null,null,null,null,null,{"$f":"IF(lammering[[#This Row],[Speen-gewicht]]=\"\",\"\",Berekeningen!J188*1000)","v":""},null,null,{"$f":"IF(lammering[[#This Row],[Verkoop-gewicht]]=\"\",\"\",Berekeningen!L188*1000)","v":""}]
[null,null,null,null,null,null,null,null,null,null,{"$f":"IF(lammering[[#This Row],[Speen-gewicht]]=\"\",\"\",Berekeningen!J189*1000)","v":""},null,null,{"$f":"IF(lammering[[#This Row],[Verkoop-gewicht]]=\"\",\"\",Berekeningen!L189*1000)","v":""}]
[null,null,null,null,null,null,null,null,null,null,{"$f":"IF(lammering[[#This Row],[Speen-gewicht]]=\"\",\"\",Berekeningen!J190*1000)","v":""},null,null,{"$f":"IF(lammering[[#This Row],[Verkoop-gewicht]]=\"\",\"\",Berekeningen!L190*1000)","v":""}]
[null,null,null,null,null,null,null,null,null,null,{"$f":"IF(lammering[[#This Row],[Speen-gewicht]]=\"\",\"\",Berekeningen!J191*1000)","v":""},null,null,{"$f":"IF(lammering[[#This Row],[Verkoop-gewicht]]=\"\",\"\",Berekeningen!L191*1000)","v":""}]
[null,null,null,null,null,null,null,null,null,null,{"$f":"IF(lammering[[#This Row],[Speen-gewicht]]=\"\",\"\",Berekeningen!J192*1000)","v":""},null,null,{"$f":"IF(lammering[[#This Row],[Verkoop-gewicht]]=\"\",\"\",Berekeningen!L192*1000)","v":""}]
[null,null,null,null,null,null,null,null,null,null,{"$f":"IF(lammering[[#This Row],[Speen-gewicht]]=\"\",\"\",Berekeningen!J193*1000)","v":""},null,null,{"$f":"IF(lammering[[#This Row],[Verkoop-gewicht]]=\"\",\"\",Berekeningen!L193*1000)","v":""}]
[null,null,null,null,null,null,null,null,null,null,{"$f":"IF(lammering[[#This Row],[Speen-gewicht]]=\"\",\"\",Berekeningen!J194*1000)","v":""},null,null,{"$f":"IF(lammering[[#This Row],[Verkoop-gewicht]]=\"\",\"\",Berekeningen!L194*1000)","v":""}]
[null,null,null,null,null,null,null,null,null,null,{"$f":"IF(lammering[[#This Row],[Speen-gewicht]]=\"\",\"\",Berekeningen!J195*1000)","v":""},null,null,{"$f":"IF(lammering[[#This Row],[Verkoop-gewicht]]=\"\",\"\",Berekeningen!L195*1000)","v":""}]
[null,null,null,null,null,null,null,null,null,null,{"$f":"IF(lammering[[#This Row],[Speen-gewicht]]=\"\",\"\",Berekeningen!J196*1000)","v":""},null,null,{"$f":"IF(lammering[[#This Row],[Verkoop-gewicht]]=\"\",\"\",Berekeningen!L196*1000)","v":""}]
[null,null,null,null,null,null,null,null,null,null,{"$f":"IF(lammering[[#This Row],[Speen-gewicht]]=\"\",\"\",Berekeningen!J197*1000)","v":""},null,null,{"$f":"IF(lammering[[#This Row],[Verkoop-gewicht]]=\"\",\"\",Berekeningen!L197*1000)","v":""}]
[null,null,null,null,null,null,null,null,null,null,{"$f":"IF(lammering[[#This Row],[Speen-gewicht]]=\"\",\"\",Berekeningen!J198*1000)","v":""},null,null,{"$f":"IF(lammering[[#This Row],[Verkoop-gewicht]]=\"\",\"\",Berekeningen!L198*1000)","v":""}]
[null,null,null,null,null,null,null,null,null,null,{"$f":"IF(lammering[[#This Row],[Speen-gewicht]]=\"\",\"\",Berekeningen!J199*1000)","v":""},null,null,{"$f":"IF(lammering[[#This Row],[Verkoop-gewicht]]=\"\",\"\",Berekeningen!L199*1000)","v":""}]
[null,null,null,null,null,null,null,null,null,null,{"$f":"IF(lammering[[#This Row],[Speen-gewicht]]=\"\",\"\",Berekeningen!J200*1000)","v":""},null,null,{"$f":"IF(lammering[[#This Row],[Verkoop-gewicht]]=\"\",\"\",Berekeningen!L200*1000)","v":""}]
[null,null,null,null,null,null,null,null,null,null,{"$f":"IF(lammering[[#This Row],[Speen-gewicht]]=\"\",\"\",Berekeningen!J201*1000)","v":""},null,null,{"$f":"IF(lammering[[#This Row],[Verkoop-gewicht]]=\"\",\"\",Berekeningen!L201*1000)","v":""}]
[null,null,null,null,null,null,null,null,null,null,{"$f":"IF(lammering[[#This Row],[Speen-gewicht]]=\"\",\"\",Berekeningen!J202*1000)","v":""},null,null,{"$f":"IF(lammering[[#This Row],[Verkoop-gewicht]]=\"\",\"\",Berekeningen!L202*1000)","v":""}]
[null,null,null,null,null,null,null,null,null,null,{"$f":"IF(lammering[[#This Row],[Speen-gewicht]]=\"\",\"\",Berekeningen!J203*1000)","v":""},null,null,{"$f":"IF(lammering[[#This Row],[Verkoop-gewicht]]=\"\",\"\",Berekeningen!L203*1000)","v":""}]
[null,null,null,null,null,null,null,null,null,null,{"$f":"IF(lammering[[#This Row],[Speen-gewicht]]=\"\",\"\",Berekeningen!J204*1000)","v":""},null,null,{"$f":"IF(lammering[[#This Row],[Verkoop-gewicht]]=\"\",\"\",Berekeningen!L204*1000)","v":""}]
[null,null,null,null,null,null,null,null,null,null,{"$f":"IF(lammering[[#This Row],[Speen-gewicht]]=\"\",\"\",Berekeningen!J205*1000)","v":""},null,null,{"$f":"IF(lammering[[#This Row],[Verkoop-gewicht]]=\"\",\"\",Berekeningen!L205*1000)","v":""}]
[null,null,null,null,null,null,null,null,null,null,{"$f":"IF(lammering[[#This Row],[Speen-gewicht]]=\"\",\"\",Berekeningen!J206*1000)","v":""},null,null,{"$f":"IF(lammering[[#This Row],[Verkoop-gewicht]]=\"\",\"\",Berekeningen!L206*1000)","v":""}]
[null,null,null,null,null,null,null,null,null,null,{"$f":"IF(lammering[[#This Row],[Speen-gewicht]]=\"\",\"\",Berekeningen!J207*1000)","v":""},null,null,{"$f":"IF(lammering[[#This Row],[Verkoop-gewicht]]=\"\",\"\",Berekeningen!L207*1000)","v":""}]
[null,null,null,null,null,null,null,null,null,null,{"$f":"IF(lammering[[#This Row],[Speen-gewicht]]=\"\",\"\",Berekeningen!J208*1000)","v":""},null,null,{"$f":"IF(lammering[[#This Row],[Verkoop-gewicht]]=\"\",\"\",Berekeningen!L208*1000)","v":""}]
[null,null,null,null,null,null,null,null,null,null,{"$f":"IF(lammering[[#This Row],[Speen-gewicht]]=\"\",\"\",Berekeningen!J209*1000)","v":""},null,null,{"$f":"IF(lammering[[#This Row],[Verkoop-gewicht]]=\"\",\"\",Berekeningen!L209*1000)","v":""}]
[null,null,null,null,null,null,null,null,null,null,{"$f":"IF(lammering[[#This Row],[Speen-gewicht]]=\"\",\"\",Berekeningen!J210*1000)","v":""},null,null,{"$f":"IF(lammering[[#This Row],[Verkoop-gewicht]]=\"\",\"\",Berekeningen!L210*1000)","v":""}]
[null,null,null,null,null,null,null,null,null,null,{"$f":"IF(lammering[[#This Row],[Speen-gewicht]]=\"\",\"\",Berekeningen!J211*1000)","v":""},null,null,{"$f":"IF(lammering[[#This Row],[Verkoop-gewicht]]=\"\",\"\",Berekeningen!L211*1000)","v":""}]
[null,null,null,null,null,null,null,null,null,null,{"$f":"IF(lammering[[#This Row],[Speen-gewicht]]=\"\",\"\",Berekeningen!J212*1000)","v":""},null,null,{"$f":"IF(lammering[[#This Row],[Verkoop-gewicht]]=\"\",\"\",Berekeningen!L212*1000)","v":""}]
[null,null,null,null,null,null,null,null,null,null,{"$f":"IF(lammering[[#This Row],[Speen-gewicht]]=\"\",\"\",Berekeningen!J213*1000)","v":""},null,null,{"$f":"IF(lammering[[#This Row],[Verkoop-gewicht]]=\"\",\"\",Berekeningen!L213*1000)","v":""}]
[null,null,null,null,null,null,null,null,null,null,{"$f":"IF(lammering[[#This Row],[Speen-gewicht]]=\"\",\"\",Berekeningen!J214*1000)","v":""},null,null,{"$f":"IF(lammering[[#This Row],[Verkoop-gewicht]]=\"\",\"\",Berekeningen!L214*1000)","v":""}]
[null,null,null,null,null,null,null,null,null,null,{"$f":"IF(lammering[[#This Row],[Speen-gewicht]]=\"\",\"\",Berekeningen!J215*1000)","v":""},null,null,{"$f":"IF(lammering[[#This Row],[Verkoop-gewicht]]=\"\",\"\",Berekeningen!L215*1000)","v":""}]
[null,null,null,null,null,null,null,null,null,null,{"$f":"IF(lammering[[#This Row],[Speen-gewicht]]=\"\",\"\",Berekeningen!J216*1000)","v":""},null,null,{"$f":"IF(lammering[[#This Row],[Verkoop-gewicht]]=\"\",\"\",Berekeningen!L216*1000)","v":""}]
[null,null,null,null,null,null,null,null,null,null,{"$f":"IF(lammering[[#This Row],[Speen-gewicht]]=\"\",\"\",Berekeningen!J217*1000)","v":""},null,null,{"$f":"IF(lammering[[#This Row],[Verkoop-gewicht]]=\"\",\"\",Berekeningen!L217*1000)","v":""}]
[null,null,null,null,null,null,null,null,null,null,{"$f":"IF(lammering[[#This Row],[Speen-gewicht]]=\"\",\"\",Berekeningen!J218*1000)","v":""},null,null,{"$f":"IF(lammering[[#This Row],[Verkoop-gewicht]]=\"\",\"\",Berekeningen!L218*1000)","v":""}]
[null,null,null,null,null,null,null,null,null,null,{"$f":"IF(lammering[[#This Row],[Speen-gewicht]]=\"\",\"\",Berekeningen!J219*1000)","v":""},null,null,{"$f":"IF(lammering[[#This Row],[Verkoop-gewicht]]=\"\",\"\",Berekeningen!L219*1000)","v":""}]
[null,null,null,null,null,null,null,null,null,null,{"$f":"IF(lammering[[#This Row],[Speen-gewicht]]=\"\",\"\",Berekeningen!J220*1000)","v":""},null,null,{"$f":"IF(lammering[[#This Row],[Verkoop-gewicht]]=\"\",\"\",Berekeningen!L220*1000)","v":""}]
[null,null,null,null,null,null,null,null,null,null,{"$f":"IF(lammering[[#This Row],[Speen-gewicht]]=\"\",\"\",Berekeningen!J221*1000)","v":""},null,null,{"$f":"IF(lammering[[#This Row],[Verkoop-gewicht]]=\"\",\"\",Berekeningen!L221*1000)","v":""}]
[null,null,null,null,null,null,null,null,null,null,{"$f":"IF(lammering[[#This Row],[Speen-gewicht]]=\"\",\"\",Berekeningen!J222*1000)","v":""},null,null,{"$f":"IF(lammering[[#This Row],[Verkoop-gewicht]]=\"\",\"\",Berekeningen!L222*1000)","v":""}]
[null,null,null,null,null,null,null,null,null,null,{"$f":"IF(lammering[[#This Row],[Speen-gewicht]]=\"\",\"\",Berekeningen!J223*1000)","v":""},null,null,{"$f":"IF(lammering[[#This Row],[Verkoop-gewicht]]=\"\",\"\",Berekeningen!L223*1000)","v":""}]
[null,null,null,null,null,null,null,null,null,null,{"$f":"IF(lammering[[#This Row],[Speen-gewicht]]=\"\",\"\",Berekeningen!J224*1000)","v":""},null,null,{"$f":"IF(lammering[[#This Row],[Verkoop-gewicht]]=\"\",\"\",Berekeningen!L224*1000)","v":""}]
[null,null,null,null,null,null,null,null,null,null,{"$f":"IF(lammering[[#This Row],[Speen-gewicht]]=\"\",\"\",Berekeningen!J225*1000)","v":""},null,null,{"$f":"IF(lammering[[#This Row],[Verkoop-gewicht]]=\"\",\"\",Berekeningen!L225*1000)","v":""}]
[null,null,null,null,null,null,null,null,null,null,{"$f":"IF(lammering[[#This Row],[Speen-gewicht]]=\"\",\"\",Berekeningen!J226*1000)","v":""},null,null,{"$f":"IF(lammering[[#This Row],[Verkoop-gewicht]]=\"\",\"\",Berekeningen!L226*1000)","v":""}]
[null,null,null,null,null,null,null,null,null,null,{"$f":"IF(lammering[[#This Row],[Speen-gewicht]]=\"\",\"\",Berekeningen!J227*1000)","v":""},null,null,{"$f":"IF(lammering[[#This Row],[Verkoop-gewicht]]=\"\",\"\",Berekeningen!L227*1000)","v":""}]
[null,null,null,null,null,null,null,null,null,null,{"$f":"IF(lammering[[#This Row],[Speen-gewicht]]=\"\",\"\",Berekeningen!J228*1000)","v":""},null,null,{"$f":"IF(lammering[[#This Row],[Verkoop-gewicht]]=\"\",\"\",Berekeningen!L228*1000)","v":""}]
[null,null,null,null,null,null,null,null,null,null,{"$f":"IF(lammering[[#This Row],[Speen-gewicht]]=\"\",\"\",Berekeningen!J229*1000)","v":""},null,null,{"$f":"IF(lammering[[#This Row],[Verkoop-gewicht]]=\"\",\"\",Berekeningen!L229*1000)","v":""}]
[null,null,null,null,null,null,null,null,null,null,{"$f":"IF(lammering[[#This Row],[Speen-gewicht]]=\"\",\"\",Berekeningen!J230*1000)","v":""},null,null,{"$f":"IF(lammering[[#This Row],[Verkoop-gewicht]]=\"\",\"\",Berekeningen!L230*1000)","v":""}]
[null,null,null,null,null,null,null,null,null,null,{"$f":"IF(lammering[[#This Row],[Speen-gewicht]]=\"\",\"\",Berekeningen!J231*1000)","v":""},null,null,{"$f":"IF(lammering[[#This Row],[Verkoop-gewicht]]=\"\",\"\",Berekeningen!L231*1000)","v":""}]
[null,null,null,null,null,null,null,null,null,null,{"$f":"IF(lammering[[#This Row],[Speen-gewicht]]=\"\",\"\",Berekeningen!J232*1000)","v":""},null,null,{"$f":"IF(lammering[[#This Row],[Verkoop-gewicht]]=\"\",\"\",Berekeningen!L232*1000)","v":""}]
[null,null,null,null,null,null,null,null,null,null,{"$f":"IF(lammering[[#This Row],[Speen-gewicht]]=\"\",\"\",Berekeningen!J233*1000)","v":""},null,null,{"$f":"IF(lammering[[#This Row],[Verkoop-gewicht]]=\"\",\"\",Berekeningen!L233*1000)","v":""}]
[null,null,null,null,null,null,null,null,null,null,{"$f":"IF(lammering[[#This Row],[Speen-gewicht]]=\"\",\"\",Berekeningen!J234*1000)","v":""},null,null,{"$f":"IF(lammering[[#This Row],[Verkoop-gewicht]]=\"\",\"\",Berekeningen!L234*1000)","v":""}]
[null,null,null,null,null,null,null,null,null,null,{"$f":"IF(lammering[[#This Row],[Speen-gewicht]]=\"\",\"\",Berekeningen!J235*1000)","v":""},null,null,{"$f":"IF(lammering[[#This Row],[Verkoop-gewicht]]=\"\",\"\",Berekeningen!L235*1000)","v":""}]
[null,null,null,null,null,null,null,null,null,null,{"$f":"IF(lammering[[#This Row],[Speen-gewicht]]=\"\",\"\",Berekeningen!J236*1000)","v":""},null,null,{"$f":"IF(lammering[[#This Row],[Verkoop-gewicht]]=\"\",\"\",Berekeningen!L236*1000)","v":""}]
[null,null,null,null,null,null,null,null,null,null,{"$f":"IF(lammering[[#This Row],[Speen-gewicht]]=\"\",\"\",Berekeningen!J237*1000)","v":""},null,null,{"$f":"IF(lammering[[#This Row],[Verkoop-gewicht]]=\"\",\"\",Berekeningen!L237*1000)","v":""}]
[null,null,null,null,null,null,null,null,null,null,{"$f":"IF(lammering[[#This Row],[Speen-gewicht]]=\"\",\"\",Berekeningen!J238*1000)","v":""},null,null,{"$f":"IF(lammering[[#This Row],[Verkoop-gewicht]]=\"\",\"\",Berekeningen!L238*1000)","v":""}]
[null,null,null,null,null,null,null,null,null,null,{"$f":"IF(lammering[[#This Row],[Speen-gewicht]]=\"\",\"\",Berekeningen!J239*1000)","v":""},null,null,{"$f":"IF(lammering[[#This Row],[Verkoop-gewicht]]=\"\",\"\",Berekeningen!L239*1000)","v":""}]
[null,null,null,null,null,null,null,null,null,null,{"$f":"IF(lammering[[#This Row],[Speen-gewicht]]=\"\",\"\",Berekeningen!J240*1000)","v":""},null,null,{"$f":"IF(lammering[[#This Row],[Verkoop-gewicht]]=\"\",\"\",Berekeningen!L240*1000)","v":""}]
[null,null,null,null,null,null,null,null,null,null,{"$f":"IF(lammering[[#This Row],[Speen-gewicht]]=\"\",\"\",Berekeningen!J241*1000)","v":""},null,null,{"$f":"IF(lammering[[#This Row],[Verkoop-gewicht]]=\"\",\"\",Berekeningen!L241*1000)","v":""}]
[null,null,null,null,null,null,null,null,null,null,{"$f":"IF(lammering[[#This Row],[Speen-gewicht]]=\"\",\"\",Berekeningen!J242*1000)","v":""},null,null,{"$f":"IF(lammering[[#This Row],[Verkoop-gewicht]]=\"\",\"\",Berekeningen!L242*1000)","v":""}]
[null,null,null,null,null,null,null,null,null,null,{"$f":"IF(lammering[[#This Row],[Speen-gewicht]]=\"\",\"\",Berekeningen!J243*1000)","v":""},null,null,{"$f":"IF(lammering[[#This Row],[Verkoop-gewicht]]=\"\",\"\",Berekeningen!L243*1000)","v":""}]
[null,null,null,null,null,null,null,null,null,null,{"$f":"IF(lammering[[#This Row],[Speen-gewicht]]=\"\",\"\",Berekeningen!J244*1000)","v":""},null,null,{"$f":"IF(lammering[[#This Row],[Verkoop-gewicht]]=\"\",\"\",Berekeningen!L244*1000)","v":""}]
[null,null,null,null,null,null,null,null,null,null,{"$f":"IF(lammering[[#This Row],[Speen-gewicht]]=\"\",\"\",Berekeningen!J245*1000)","v":""},null,null,{"$f":"IF(lammering[[#This Row],[Verkoop-gewicht]]=\"\",\"\",Berekeningen!L245*1000)","v":""}]
[null,null,null,null,null,null,null,null,null,null,{"$f":"IF(lammering[[#This Row],[Speen-gewicht]]=\"\",\"\",Berekeningen!J246*1000)","v":""},null,null,{"$f":"IF(lammering[[#This Row],[Verkoop-gewicht]]=\"\",\"\",Berekeningen!L246*1000)","v":""}]
[null,null,null,null,null,null,null,null,null,null,{"$f":"IF(lammering[[#This Row],[Speen-gewicht]]=\"\",\"\",Berekeningen!J247*1000)","v":""},null,null,{"$f":"IF(lammering[[#This Row],[Verkoop-gewicht]]=\"\",\"\",Berekeningen!L247*1000)","v":""}]
[null,null,null,null,null,null,null,null,null,null,{"$f":"IF(lammering[[#This Row],[Speen-gewicht]]=\"\",\"\",Berekeningen!J248*1000)","v":""},null,null,{"$f":"IF(lammering[[#This Row],[Verkoop-gewicht]]=\"\",\"\",Berekeningen!L248*1000)","v":""}]
[null,null,null,null,null,null,null,null,null,null,{"$f":"IF(lammering[[#This Row],[Speen-gewicht]]=\"\",\"\",Berekeningen!J249*1000)","v":""},null,null,{"$f":"IF(lammering[[#This Row],[Verkoop-gewicht]]=\"\",\"\",Berekeningen!L249*1000)","v":""}]
[null,null,null,null,null,null,null,null,null,null,{"$f":"IF(lammering[[#This Row],[Speen-gewicht]]=\"\",\"\",Berekeningen!J250*1000)","v":""},null,null,{"$f":"IF(lammering[[#This Row],[Verkoop-gewicht]]=\"\",\"\",Berekeningen!L250*1000)","v":""}]
[null,null,null,null,null,null,null,null,null,null,{"$f":"IF(lammering[[#This Row],[Speen-gewicht]]=\"\",\"\",Berekeningen!J251*1000)","v":""},null,null,{"$f":"IF(lammering[[#This Row],[Verkoop-gewicht]]=\"\",\"\",Berekeningen!L251*1000)","v":""}]
[null,null,null,null,null,null,null,null,null,null,{"$f":"IF(lammering[[#This Row],[Speen-gewicht]]=\"\",\"\",Berekeningen!J252*1000)","v":""},null,null,{"$f":"IF(lammering[[#This Row],[Verkoop-gewicht]]=\"\",\"\",Berekeningen!L252*1000)","v":""}]
[null,null,null,null,null,null,null,null,null,null,{"$f":"IF(lammering[[#This Row],[Speen-gewicht]]=\"\",\"\",Berekeningen!J253*1000)","v":""},null,null,{"$f":"IF(lammering[[#This Row],[Verkoop-gewicht]]=\"\",\"\",Berekeningen!L253*1000)","v":""}]
[null,null,null,null,null,null,null,null,null,null,{"$f":"IF(lammering[[#This Row],[Speen-gewicht]]=\"\",\"\",Berekeningen!J254*1000)","v":""},null,null,{"$f":"IF(lammering[[#This Row],[Verkoop-gewicht]]=\"\",\"\",Berekeningen!L254*1000)","v":""}]
[null,null,null,null,null,null,null,null,null,null,{"$f":"IF(lammering[[#This Row],[Speen-gewicht]]=\"\",\"\",Berekeningen!J255*1000)","v":""},null,null,{"$f":"IF(lammering[[#This Row],[Verkoop-gewicht]]=\"\",\"\",Berekeningen!L255*1000)","v":""}]
[null,null,null,null,null,null,null,null,null,null,{"$f":"IF(lammering[[#This Row],[Speen-gewicht]]=\"\",\"\",Berekeningen!J256*1000)","v":""},null,null,{"$f":"IF(lammering[[#This Row],[Verkoop-gewicht]]=\"\",\"\",Berekeningen!L256*1000)","v":""}]
[null,null,null,null,null,null,null,null,null,null,{"$f":"IF(lammering[[#This Row],[Speen-gewicht]]=\"\",\"\",Berekeningen!J257*1000)","v":""},null,null,{"$f":"IF(lammering[[#This Row],[Verkoop-gewicht]]=\"\",\"\",Berekeningen!L257*1000)","v":""}]
[null,null,null,null,null,null,null,null,null,null,{"$f":"IF(lammering[[#This Row],[Speen-gewicht]]=\"\",\"\",Berekeningen!J258*1000)","v":""},null,null,{"$f":"IF(lammering[[#This Row],[Verkoop-gewicht]]=\"\",\"\",Berekeningen!L258*1000)","v":""}]
[null,null,null,null,null,null,null,null,null,null,{"$f":"IF(lammering[[#This Row],[Speen-gewicht]]=\"\",\"\",Berekeningen!J259*1000)","v":""},null,null,{"$f":"IF(lammering[[#This Row],[Verkoop-gewicht]]=\"\",\"\",Berekeningen!L259*1000)","v":""}]
[null,null,null,null,null,null,null,null,null,null,{"$f":"IF(lammering[[#This Row],[Speen-gewicht]]=\"\",\"\",Berekeningen!J260*1000)","v":""},null,null,{"$f":"IF(lammering[[#This Row],[Verkoop-gewicht]]=\"\",\"\",Berekeningen!L260*1000)","v":""}]
[null,null,null,null,null,null,null,null,null,null,{"$f":"IF(lammering[[#This Row],[Speen-gewicht]]=\"\",\"\",Berekeningen!J261*1000)","v":""},null,null,{"$f":"IF(lammering[[#This Row],[Verkoop-gewicht]]=\"\",\"\",Berekeningen!L261*1000)","v":""}]
[null,null,null,null,null,null,null,null,null,null,{"$f":"IF(lammering[[#This Row],[Speen-gewicht]]=\"\",\"\",Berekeningen!J262*1000)","v":""},null,null,{"$f":"IF(lammering[[#This Row],[Verkoop-gewicht]]=\"\",\"\",Berekeningen!L262*1000)","v":""}]
[null,null,null,null,null,null,null,null,null,null,{"$f":"IF(lammering[[#This Row],[Speen-gewicht]]=\"\",\"\",Berekeningen!J263*1000)","v":""},null,null,{"$f":"IF(lammering[[#This Row],[Verkoop-gewicht]]=\"\",\"\",Berekeningen!L263*1000)","v":""}]
[null,null,null,null,null,null,null,null,null,null,{"$f":"IF(lammering[[#This Row],[Speen-gewicht]]=\"\",\"\",Berekeningen!J264*1000)","v":""},null,null,{"$f":"IF(lammering[[#This Row],[Verkoop-gewicht]]=\"\",\"\",Berekeningen!L264*1000)","v":""}]
[null,null,null,null,null,null,null,null,null,null,{"$f":"IF(lammering[[#This Row],[Speen-gewicht]]=\"\",\"\",Berekeningen!J265*1000)","v":""},null,null,{"$f":"IF(lammering[[#This Row],[Verkoop-gewicht]]=\"\",\"\",Berekeningen!L265*1000)","v":""}]
[null,null,null,null,null,null,null,null,null,null,{"$f":"IF(lammering[[#This Row],[Speen-gewicht]]=\"\",\"\",Berekeningen!J266*1000)","v":""},null,null,{"$f":"IF(lammering[[#This Row],[Verkoop-gewicht]]=\"\",\"\",Berekeningen!L266*1000)","v":""}]
[null,null,null,null,null,null,null,null,null,null,{"$f":"IF(lammering[[#This Row],[Speen-gewicht]]=\"\",\"\",Berekeningen!J267*1000)","v":""},null,null,{"$f":"IF(lammering[[#This Row],[Verkoop-gewicht]]=\"\",\"\",Berekeningen!L267*1000)","v":""}]
[null,null,null,null,null,null,null,null,null,null,{"$f":"IF(lammering[[#This Row],[Speen-gewicht]]=\"\",\"\",Berekeningen!J268*1000)","v":""},null,null,{"$f":"IF(lammering[[#This Row],[Verkoop-gewicht]]=\"\",\"\",Berekeningen!L268*1000)","v":""}]
[null,null,null,null,null,null,null,null,null,null,{"$f":"IF(lammering[[#This Row],[Speen-gewicht]]=\"\",\"\",Berekeningen!J269*1000)","v":""},null,null,{"$f":"IF(lammering[[#This Row],[Verkoop-gewicht]]=\"\",\"\",Berekeningen!L269*1000)","v":""}]
[null,null,null,null,null,null,null,null,null,null,{"$f":"IF(lammering[[#This Row],[Speen-gewicht]]=\"\",\"\",Berekeningen!J270*1000)","v":""},null,null,{"$f":"IF(lammering[[#This Row],[Verkoop-gewicht]]=\"\",\"\",Berekeningen!L270*1000)","v":""}]
[null,null,null,null,null,null,null,null,null,null,{"$f":"IF(lammering[[#This Row],[Speen-gewicht]]=\"\",\"\",Berekeningen!J271*1000)","v":""},null,null,{"$f":"IF(lammering[[#This Row],[Verkoop-gewicht]]=\"\",\"\",Berekeningen!L271*1000)","v":""}]
[null,null,null,null,null,null,null,null,null,null,{"$f":"IF(lammering[[#This Row],[Speen-gewicht]]=\"\",\"\",Berekeningen!J272*1000)","v":""},null,null,{"$f":"IF(lammering[[#This Row],[Verkoop-gewicht]]=\"\",\"\",Berekeningen!L272*1000)","v":""}]
[null,null,null,null,null,null,null,null,null,null,{"$f":"IF(lammering[[#This Row],[Speen-gewicht]]=\"\",\"\",Berekeningen!J273*1000)","v":""},null,null,{"$f":"IF(lammering[[#This Row],[Verkoop-gewicht]]=\"\",\"\",Berekeningen!L273*1000)","v":""}]
[null,null,null,null,null,null,null,null,null,null,{"$f":"IF(lammering[[#This Row],[Speen-gewicht]]=\"\",\"\",Berekeningen!J274*1000)","v":""},null,null,{"$f":"IF(lammering[[#This Row],[Verkoop-gewicht]]=\"\",\"\",Berekeningen!L274*1000)","v":""}]
[null,null,null,null,null,null,null,null,null,null,{"$f":"IF(lammering[[#This Row],[Speen-gewicht]]=\"\",\"\",Berekeningen!J275*1000)","v":""},null,null,{"$f":"IF(lammering[[#This Row],[Verkoop-gewicht]]=\"\",\"\",Berekeningen!L275*1000)","v":""}]
[null,null,null,null,null,null,null,null,null,null,{"$f":"IF(lammering[[#This Row],[Speen-gewicht]]=\"\",\"\",Berekeningen!J276*1000)","v":""},null,null,{"$f":"IF(lammering[[#This Row],[Verkoop-gewicht]]=\"\",\"\",Berekeningen!L276*1000)","v":""}]
[null,null,null,null,null,null,null,null,null,null,{"$f":"IF(lammering[[#This Row],[Speen-gewicht]]=\"\",\"\",Berekeningen!J277*1000)","v":""},null,null,{"$f":"IF(lammering[[#This Row],[Verkoop-gewicht]]=\"\",\"\",Berekeningen!L277*1000)","v":""}]
[null,null,null,null,null,null,null,null,null,null,{"$f":"IF(lammering[[#This Row],[Speen-gewicht]]=\"\",\"\",Berekeningen!J278*1000)","v":""},null,null,{"$f":"IF(lammering[[#This Row],[Verkoop-gewicht]]=\"\",\"\",Berekeningen!L278*1000)","v":""}]
[null,null,null,null,null,null,null,null,null,null,{"$f":"IF(lammering[[#This Row],[Speen-gewicht]]=\"\",\"\",Berekeningen!J279*1000)","v":""},null,null,{"$f":"IF(lammering[[#This Row],[Verkoop-gewicht]]=\"\",\"\",Berekeningen!L279*1000)","v":""}]
[null,null,null,null,null,null,null,null,null,null,{"$f":"IF(lammering[[#This Row],[Speen-gewicht]]=\"\",\"\",Berekeningen!J280*1000)","v":""},null,null,{"$f":"IF(lammering[[#This Row],[Verkoop-gewicht]]=\"\",\"\",Berekeningen!L280*1000)","v":""}]
[null,null,null,null,null,null,null,null,null,null,{"$f":"IF(lammering[[#This Row],[Speen-gewicht]]=\"\",\"\",Berekeningen!J281*1000)","v":""},null,null,{"$f":"IF(lammering[[#This Row],[Verkoop-gewicht]]=\"\",\"\",Berekeningen!L281*1000)","v":""}]
[null,null,null,null,null,null,null,null,null,null,{"$f":"IF(lammering[[#This Row],[Speen-gewicht]]=\"\",\"\",Berekeningen!J282*1000)","v":""},null,null,{"$f":"IF(lammering[[#This Row],[Verkoop-gewicht]]=\"\",\"\",Berekeningen!L282*1000)","v":""}]
[null,null,null,null,null,null,null,null,null,null,{"$f":"IF(lammering[[#This Row],[Speen-gewicht]]=\"\",\"\",Berekeningen!J283*1000)","v":""},null,null,{"$f":"IF(lammering[[#This Row],[Verkoop-gewicht]]=\"\",\"\",Berekeningen!L283*1000)","v":""}]
[null,null,null,null,null,null,null,null,null,null,{"$f":"IF(lammering[[#This Row],[Speen-gewicht]]=\"\",\"\",Berekeningen!J284*1000)","v":""},null,null,{"$f":"IF(lammering[[#This Row],[Verkoop-gewicht]]=\"\",\"\",Berekeningen!L284*1000)","v":""}]
[null,null,null,null,null,null,null,null,null,null,{"$f":"IF(lammering[[#This Row],[Speen-gewicht]]=\"\",\"\",Berekeningen!J285*1000)","v":""},null,null,{"$f":"IF(lammering[[#This Row],[Verkoop-gewicht]]=\"\",\"\",Berekeningen!L285*1000)","v":""}]
[null,null,null,null,null,null,null,null,null,null,{"$f":"IF(lammering[[#This Row],[Speen-gewicht]]=\"\",\"\",Berekeningen!J286*1000)","v":""},null,null,{"$f":"IF(lammering[[#This Row],[Verkoop-gewicht]]=\"\",\"\",Berekeningen!L286*1000)","v":""}]
[null,null,null,null,null,null,null,null,null,null,{"$f":"IF(lammering[[#This Row],[Speen-gewicht]]=\"\",\"\",Berekeningen!J287*1000)","v":""},null,null,{"$f":"IF(lammering[[#This Row],[Verkoop-gewicht]]=\"\",\"\",Berekeningen!L287*1000)","v":""}]
[null,null,null,null,null,null,null,null,null,null,{"$f":"IF(lammering[[#This Row],[Speen-gewicht]]=\"\",\"\",Berekeningen!J288*1000)","v":""},null,null,{"$f":"IF(lammering[[#This Row],[Verkoop-gewicht]]=\"\",\"\",Berekeningen!L288*1000)","v":""}]
[null,null,null,null,null,null,null,null,null,null,{"$f":"IF(lammering[[#This Row],[Speen-gewicht]]=\"\",\"\",Berekeningen!J289*1000)","v":""},null,null,{"$f":"IF(lammering[[#This Row],[Verkoop-gewicht]]=\"\",\"\",Berekeningen!L289*1000)","v":""}]
[null,null,null,null,null,null,null,null,null,null,{"$f":"IF(lammering[[#This Row],[Speen-gewicht]]=\"\",\"\",Berekeningen!J290*1000)","v":""},null,null,{"$f":"IF(lammering[[#This Row],[Verkoop-gewicht]]=\"\",\"\",Berekeningen!L290*1000)","v":""}]
[null,null,null,null,null,null,null,null,null,null,{"$f":"IF(lammering[[#This Row],[Speen-gewicht]]=\"\",\"\",Berekeningen!J291*1000)","v":""},null,null,{"$f":"IF(lammering[[#This Row],[Verkoop-gewicht]]=\"\",\"\",Berekeningen!L291*1000)","v":""}]
[null,null,null,null,null,null,null,null,null,null,{"$f":"IF(lammering[[#This Row],[Speen-gewicht]]=\"\",\"\",Berekeningen!J292*1000)","v":""},null,null,{"$f":"IF(lammering[[#This Row],[Verkoop-gewicht]]=\"\",\"\",Berekeningen!L292*1000)","v":""}]
[null,null,null,null,null,null,null,null,null,null,{"$f":"IF(lammering[[#This Row],[Speen-gewicht]]=\"\",\"\",Berekeningen!J293*1000)","v":""},null,null,{"$f":"IF(lammering[[#This Row],[Verkoop-gewicht]]=\"\",\"\",Berekeningen!L293*1000)","v":""}]
[null,null,null,null,null,null,null,null,null,null,{"$f":"IF(lammering[[#This Row],[Speen-gewicht]]=\"\",\"\",Berekeningen!J294*1000)","v":""},null,null,{"$f":"IF(lammering[[#This Row],[Verkoop-gewicht]]=\"\",\"\",Berekeningen!L294*1000)","v":""}]
[null,null,null,null,null,null,null,null,null,null,{"$f":"IF(lammering[[#This Row],[Speen-gewicht]]=\"\",\"\",Berekeningen!J295*1000)","v":""},null,null,{"$f":"IF(lammering[[#This Row],[Verkoop-gewicht]]=\"\",\"\",Berekeningen!L295*1000)","v":""}]
[null,null,null,null,null,null,null,null,null,null,{"$f":"IF(lammering[[#This Row],[Speen-gewicht]]=\"\",\"\",Berekeningen!J296*1000)","v":""},null,null,{"$f":"IF(lammering[[#This Row],[Verkoop-gewicht]]=\"\",\"\",Berekeningen!L296*1000)","v":""}]
[null,null,null,null,null,null,null,null,null,null,{"$f":"IF(lammering[[#This Row],[Speen-gewicht]]=\"\",\"\",Berekeningen!J297*1000)","v":""},null,null,{"$f":"IF(lammering[[#This Row],[Verkoop-gewicht]]=\"\",\"\",Berekeningen!L297*1000)","v":""}]
[null,null,null,null,null,null,null,null,null,null,{"$f":"IF(lammering[[#This Row],[Speen-gewicht]]=\"\",\"\",Berekeningen!J298*1000)","v":""},null,null,{"$f":"IF(lammering[[#This Row],[Verkoop-gewicht]]=\"\",\"\",Berekeningen!L298*1000)","v":""}]
[null,null,null,null,null,null,null,null,null,null,{"$f":"IF(lammering[[#This Row],[Speen-gewicht]]=\"\",\"\",Berekeningen!J299*1000)","v":""},null,null,{"$f":"IF(lammering[[#This Row],[Verkoop-gewicht]]=\"\",\"\",Berekeningen!L299*1000)","v":""}]
[null,null,null,null,null,null,null,null,null,null,{"$f":"IF(lammering[[#This Row],[Speen-gewicht]]=\"\",\"\",Berekeningen!J300*1000)","v":""},null,null,{"$f":"IF(lammering[[#This Row],[Verkoop-gewicht]]=\"\",\"\",Berekeningen!L300*1000)","v":""}]
[null,null,null,null,null,null,null,null,null,null,{"$f":"IF(lammering[[#This Row],[Speen-gewicht]]=\"\",\"\",Berekeningen!J301*1000)","v":""},null,null,{"$f":"IF(lammering[[#This Row],[Verkoop-gewicht]]=\"\",\"\",Berekeningen!L301*1000)","v":""}]
[null,null,null,null,null,null,null,null,null,null,{"$f":"IF(lammering[[#This Row],[Speen-gewicht]]=\"\",\"\",Berekeningen!J302*1000)","v":""},null,null,{"$f":"IF(lammering[[#This Row],[Verkoop-gewicht]]=\"\",\"\",Berekeningen!L302*1000)","v":""}]
[null,null,null,null,null,null,null,null,null,null,{"$f":"IF(lammering[[#This Row],[Speen-gewicht]]=\"\",\"\",Berekeningen!J303*1000)","v":""},null,null,{"$f":"IF(lammering[[#This Row],[Verkoop-gewicht]]=\"\",\"\",Berekeningen!L303*1000)","v":""}]
[null,null,null,null,null,null,null,null,null,null,{"$f":"IF(lammering[[#This Row],[Speen-gewicht]]=\"\",\"\",Berekeningen!J304*1000)","v":""},null,null,{"$f":"IF(lammering[[#This Row],[Verkoop-gewicht]]=\"\",\"\",Berekeningen!L304*1000)","v":""}]
[null,null,null,null,null,null,null,null,null,null,{"$f":"IF(lammering[[#This Row],[Speen-gewicht]]=\"\",\"\",Berekeningen!J305*1000)","v":""},null,null,{"$f":"IF(lammering[[#This Row],[Verkoop-gewicht]]=\"\",\"\",Berekeningen!L305*1000)","v":""}]
[null,null,null,null,null,null,null,null,null,null,{"$f":"IF(lammering[[#This Row],[Speen-gewicht]]=\"\",\"\",Berekeningen!J306*1000)","v":""},null,null,{"$f":"IF(lammering[[#This Row],[Verkoop-gewicht]]=\"\",\"\",Berekeningen!L306*1000)","v":""}]
[null,null,null,null,null,null,null,null,null,null,{"$f":"IF(lammering[[#This Row],[Speen-gewicht]]=\"\",\"\",Berekeningen!J307*1000)","v":""},null,null,{"$f":"IF(lammering[[#This Row],[Verkoop-gewicht]]=\"\",\"\",Berekeningen!L307*1000)","v":""}]
[null,null,null,null,null,null,null,null,null,null,{"$f":"IF(lammering[[#This Row],[Speen-gewicht]]=\"\",\"\",Berekeningen!J308*1000)","v":""},null,null,{"$f":"IF(lammering[[#This Row],[Verkoop-gewicht]]=\"\",\"\",Berekeningen!L308*1000)","v":""}]
[null,null,null,null,null,null,null,null,null,null,{"$f":"IF(lammering[[#This Row],[Speen-gewicht]]=\"\",\"\",Berekeningen!J309*1000)","v":""},null,null,{"$f":"IF(lammering[[#This Row],[Verkoop-gewicht]]=\"\",\"\",Berekeningen!L309*1000)","v":""}]
[null,null,null,null,null,null,null,null,null,null,{"$f":"IF(lammering[[#This Row],[Speen-gewicht]]=\"\",\"\",Berekeningen!J310*1000)","v":""},null,null,{"$f":"IF(lammering[[#This Row],[Verkoop-gewicht]]=\"\",\"\",Berekeningen!L310*1000)","v":""}]
[null,null,null,null,null,null,null,null,null,null,{"$f":"IF(lammering[[#This Row],[Speen-gewicht]]=\"\",\"\",Berekeningen!J311*1000)","v":""},null,null,{"$f":"IF(lammering[[#This Row],[Verkoop-gewicht]]=\"\",\"\",Berekeningen!L311*1000)","v":""}]
[null,null,null,null,null,null,null,null,null,null,{"$f":"IF(lammering[[#This Row],[Speen-gewicht]]=\"\",\"\",Berekeningen!J312*1000)","v":""},null,null,{"$f":"IF(lammering[[#This Row],[Verkoop-gewicht]]=\"\",\"\",Berekeningen!L312*1000)","v":""}]
[null,null,null,null,null,null,null,null,null,null,{"$f":"IF(lammering[[#This Row],[Speen-gewicht]]=\"\",\"\",Berekeningen!J313*1000)","v":""},null,null,{"$f":"IF(lammering[[#This Row],[Verkoop-gewicht]]=\"\",\"\",Berekeningen!L313*1000)","v":""}]
[null,null,null,null,null,null,null,null,null,null,{"$f":"IF(lammering[[#This Row],[Speen-gewicht]]=\"\",\"\",Berekeningen!J314*1000)","v":""},null,null,{"$f":"IF(lammering[[#This Row],[Verkoop-gewicht]]=\"\",\"\",Berekeningen!L314*1000)","v":""}]
[null,null,null,null,null,null,null,null,null,null,{"$f":"IF(lammering[[#This Row],[Speen-gewicht]]=\"\",\"\",Berekeningen!J315*1000)","v":""},null,null,{"$f":"IF(lammering[[#This Row],[Verkoop-gewicht]]=\"\",\"\",Berekeningen!L315*1000)","v":""}]
[null,null,null,null,null,null,null,null,null,null,{"$f":"IF(lammering[[#This Row],[Speen-gewicht]]=\"\",\"\",Berekeningen!J316*1000)","v":""},null,null,{"$f":"IF(lammering[[#This Row],[Verkoop-gewicht]]=\"\",\"\",Berekeningen!L316*1000)","v":""}]
[null,null,null,null,null,null,null,null,null,null,{"$f":"IF(lammering[[#This Row],[Speen-gewicht]]=\"\",\"\",Berekeningen!J317*1000)","v":""},null,null,{"$f":"IF(lammering[[#This Row],[Verkoop-gewicht]]=\"\",\"\",Berekeningen!L317*1000)","v":""}]
[null,null,null,null,null,null,null,null,null,null,{"$f":"IF(lammering[[#This Row],[Speen-gewicht]]=\"\",\"\",Berekeningen!J318*1000)","v":""},null,null,{"$f":"IF(lammering[[#This Row],[Verkoop-gewicht]]=\"\",\"\",Berekeningen!L318*1000)","v":""}]
[null,null,null,null,null,null,null,null,null,null,{"$f":"IF(lammering[[#This Row],[Speen-gewicht]]=\"\",\"\",Berekeningen!J319*1000)","v":""},null,null,{"$f":"IF(lammering[[#This Row],[Verkoop-gewicht]]=\"\",\"\",Berekeningen!L319*1000)","v":""}]
[null,null,null,null,null,null,null,null,null,null,{"$f":"IF(lammering[[#This Row],[Speen-gewicht]]=\"\",\"\",Berekeningen!J320*1000)","v":""},null,null,{"$f":"IF(lammering[[#This Row],[Verkoop-gewicht]]=\"\",\"\",Berekeningen!L320*1000)","v":""}]
[null,null,null,null,null,null,null,null,null,null,{"$f":"IF(lammering[[#This Row],[Speen-gewicht]]=\"\",\"\",Berekeningen!J321*1000)","v":""},null,null,{"$f":"IF(lammering[[#This Row],[Verkoop-gewicht]]=\"\",\"\",Berekeningen!L321*1000)","v":""}]
[null,null,null,null,null,null,null,null,null,null,{"$f":"IF(lammering[[#This Row],[Speen-gewicht]]=\"\",\"\",Berekeningen!J322*1000)","v":""},null,null,{"$f":"IF(lammering[[#This Row],[Verkoop-gewicht]]=\"\",\"\",Berekeningen!L322*1000)","v":""}]
[null,null,null,null,null,null,null,null,null,null,{"$f":"IF(lammering[[#This Row],[Speen-gewicht]]=\"\",\"\",Berekeningen!J323*1000)","v":""},null,null,{"$f":"IF(lammering[[#This Row],[Verkoop-gewicht]]=\"\",\"\",Berekeningen!L323*1000)","v":""}]
[null,null,null,null,null,null,null,null,null,null,{"$f":"IF(lammering[[#This Row],[Speen-gewicht]]=\"\",\"\",Berekeningen!J324*1000)","v":""},null,null,{"$f":"IF(lammering[[#This Row],[Verkoop-gewicht]]=\"\",\"\",Berekeningen!L324*1000)","v":""}]
[null,null,null,null,null,null,null,null,null,null,{"$f":"IF(lammering[[#This Row],[Speen-gewicht]]=\"\",\"\",Berekeningen!J325*1000)","v":""},null,null,{"$f":"IF(lammering[[#This Row],[Verkoop-gewicht]]=\"\",\"\",Berekeningen!L325*1000)","v":""}]
[null,null,null,null,null,null,null,null,null,null,{"$f":"IF(lammering[[#This Row],[Speen-gewicht]]=\"\",\"\",Berekeningen!J326*1000)","v":""},null,null,{"$f":"IF(lammering[[#This Row],[Verkoop-gewicht]]=\"\",\"\",Berekeningen!L326*1000)","v":""}]
[null,null,null,null,null,null,null,null,null,null,{"$f":"IF(lammering[[#This Row],[Speen-gewicht]]=\"\",\"\",Berekeningen!J327*1000)","v":""},null,null,{"$f":"IF(lammering[[#This Row],[Verkoop-gewicht]]=\"\",\"\",Berekeningen!L327*1000)","v":""}]
[null,null,null,null,null,null,null,null,null,null,{"$f":"IF(lammering[[#This Row],[Speen-gewicht]]=\"\",\"\",Berekeningen!J328*1000)","v":""},null,null,{"$f":"IF(lammering[[#This Row],[Verkoop-gewicht]]=\"\",\"\",Berekeningen!L328*1000)","v":""}]
[null,null,null,null,null,null,null,null,null,null,{"$f":"IF(lammering[[#This Row],[Speen-gewicht]]=\"\",\"\",Berekeningen!J329*1000)","v":""},null,null,{"$f":"IF(lammering[[#This Row],[Verkoop-gewicht]]=\"\",\"\",Berekeningen!L329*1000)","v":""}]
[null,null,null,null,null,null,null,null,null,null,{"$f":"IF(lammering[[#This Row],[Speen-gewicht]]=\"\",\"\",Berekeningen!J330*1000)","v":""},null,null,{"$f":"IF(lammering[[#This Row],[Verkoop-gewicht]]=\"\",\"\",Berekeningen!L330*1000)","v":""}]
[null,null,null,null,null,null,null,null,null,null,{"$f":"IF(lammering[[#This Row],[Speen-gewicht]]=\"\",\"\",Berekeningen!J331*1000)","v":""},null,null,{"$f":"IF(lammering[[#This Row],[Verkoop-gewicht]]=\"\",\"\",Berekeningen!L331*1000)","v":""}]
[null,null,null,null,null,null,null,null,null,null,{"$f":"IF(lammering[[#This Row],[Speen-gewicht]]=\"\",\"\",Berekeningen!J332*1000)","v":""},null,null,{"$f":"IF(lammering[[#This Row],[Verkoop-gewicht]]=\"\",\"\",Berekeningen!L332*1000)","v":""}]
[null,null,null,null,null,null,null,null,null,null,{"$f":"IF(lammering[[#This Row],[Speen-gewicht]]=\"\",\"\",Berekeningen!J333*1000)","v":""},null,null,{"$f":"IF(lammering[[#This Row],[Verkoop-gewicht]]=\"\",\"\",Berekeningen!L333*1000)","v":""}]
[null,null,null,null,null,null,null,null,null,null,{"$f":"IF(lammering[[#This Row],[Speen-gewicht]]=\"\",\"\",Berekeningen!J334*1000)","v":""},null,null,{"$f":"IF(lammering[[#This Row],[Verkoop-gewicht]]=\"\",\"\",Berekeningen!L334*1000)","v":""}]
[null,null,null,null,null,null,null,null,null,null,{"$f":"IF(lammering[[#This Row],[Speen-gewicht]]=\"\",\"\",Berekeningen!J335*1000)","v":""},null,null,{"$f":"IF(lammering[[#This Row],[Verkoop-gewicht]]=\"\",\"\",Berekeningen!L335*1000)","v":""}]
[null,null,null,null,null,null,null,null,null,null,{"$f":"IF(lammering[[#This Row],[Speen-gewicht]]=\"\",\"\",Berekeningen!J336*1000)","v":""},null,null,{"$f":"IF(lammering[[#This Row],[Verkoop-gewicht]]=\"\",\"\",Berekeningen!L336*1000)","v":""}]
[null,null,null,null,null,null,null,null,null,null,{"$f":"IF(lammering[[#This Row],[Speen-gewicht]]=\"\",\"\",Berekeningen!J337*1000)","v":""},null,null,{"$f":"IF(lammering[[#This Row],[Verkoop-gewicht]]=\"\",\"\",Berekeningen!L337*1000)","v":""}]
[null,null,null,null,null,null,null,null,null,null,{"$f":"IF(lammering[[#This Row],[Speen-gewicht]]=\"\",\"\",Berekeningen!J338*1000)","v":""},null,null,{"$f":"IF(lammering[[#This Row],[Verkoop-gewicht]]=\"\",\"\",Berekeningen!L338*1000)","v":""}]
[null,null,null,null,null,null,null,null,null,null,{"$f":"IF(lammering[[#This Row],[Speen-gewicht]]=\"\",\"\",Berekeningen!J339*1000)","v":""},null,null,{"$f":"IF(lammering[[#This Row],[Verkoop-gewicht]]=\"\",\"\",Berekeningen!L339*1000)","v":""}]
[null,null,null,null,null,null,null,null,null,null,{"$f":"IF(lammering[[#This Row],[Speen-gewicht]]=\"\",\"\",Berekeningen!J340*1000)","v":""},null,null,{"$f":"IF(lammering[[#This Row],[Verkoop-gewicht]]=\"\",\"\",Berekeningen!L340*1000)","v":""}]
[null,null,null,null,null,null,null,null,null,null,{"$f":"IF(lammering[[#This Row],[Speen-gewicht]]=\"\",\"\",Berekeningen!J341*1000)","v":""},null,null,{"$f":"IF(lammering[[#This Row],[Verkoop-gewicht]]=\"\",\"\",Berekeningen!L341*1000)","v":""}]
[null,null,null,null,null,null,null,null,null,null,{"$f":"IF(lammering[[#This Row],[Speen-gewicht]]=\"\",\"\",Berekeningen!J342*1000)","v":""},null,null,{"$f":"IF(lammering[[#This Row],[Verkoop-gewicht]]=\"\",\"\",Berekeningen!L342*1000)","v":""}]
[null,null,null,null,null,null,null,null,null,null,{"$f":"IF(lammering[[#This Row],[Speen-gewicht]]=\"\",\"\",Berekeningen!J343*1000)","v":""},null,null,{"$f":"IF(lammering[[#This Row],[Verkoop-gewicht]]=\"\",\"\",Berekeningen!L343*1000)","v":""}]
[null,null,null,null,null,null,null,null,null,null,{"$f":"IF(lammering[[#This Row],[Speen-gewicht]]=\"\",\"\",Berekeningen!J344*1000)","v":""},null,null,{"$f":"IF(lammering[[#This Row],[Verkoop-gewicht]]=\"\",\"\",Berekeningen!L344*1000)","v":""}]
[null,null,null,null,null,null,null,null,null,null,{"$f":"IF(lammering[[#This Row],[Speen-gewicht]]=\"\",\"\",Berekeningen!J345*1000)","v":""},null,null,{"$f":"IF(lammering[[#This Row],[Verkoop-gewicht]]=\"\",\"\",Berekeningen!L345*1000)","v":""}]
[null,null,null,null,null,null,null,null,null,null,{"$f":"IF(lammering[[#This Row],[Speen-gewicht]]=\"\",\"\",Berekeningen!J346*1000)","v":""},null,null,{"$f":"IF(lammering[[#This Row],[Verkoop-gewicht]]=\"\",\"\",Berekeningen!L346*1000)","v":""}]
[null,null,null,null,null,null,null,null,null,null,{"$f":"IF(lammering[[#This Row],[Speen-gewicht]]=\"\",\"\",Berekeningen!J347*1000)","v":""},null,null,{"$f":"IF(lammering[[#This Row],[Verkoop-gewicht]]=\"\",\"\",Berekeningen!L347*1000)","v":""}]
[null,null,null,null,null,null,null,null,null,null,{"$f":"IF(lammering[[#This Row],[Speen-gewicht]]=\"\",\"\",Berekeningen!J348*1000)","v":""},null,null,{"$f":"IF(lammering[[#This Row],[Verkoop-gewicht]]=\"\",\"\",Berekeningen!L348*1000)","v":""}]
[null,null,null,null,null,null,null,null,null,null,{"$f":"IF(lammering[[#This Row],[Speen-gewicht]]=\"\",\"\",Berekeningen!J349*1000)","v":""},null,null,{"$f":"IF(lammering[[#This Row],[Verkoop-gewicht]]=\"\",\"\",Berekeningen!L349*1000)","v":""}]
[null,null,null,null,null,null,null,null,null,null,{"$f":"IF(lammering[[#This Row],[Speen-gewicht]]=\"\",\"\",Berekeningen!J350*1000)","v":""},null,null,{"$f":"IF(lammering[[#This Row],[Verkoop-gewicht]]=\"\",\"\",Berekeningen!L350*1000)","v":""}]
[null,null,null,null,null,null,null,null,null,null,{"$f":"IF(lammering[[#This Row],[Speen-gewicht]]=\"\",\"\",Berekeningen!J351*1000)","v":""},null,null,{"$f":"IF(lammering[[#This Row],[Verkoop-gewicht]]=\"\",\"\",Berekeningen!L351*1000)","v":""}]
[null,null,null,null,null,null,null,null,null,null,{"$f":"IF(lammering[[#This Row],[Speen-gewicht]]=\"\",\"\",Berekeningen!J352*1000)","v":""},null,null,{"$f":"IF(lammering[[#This Row],[Verkoop-gewicht]]=\"\",\"\",Berekeningen!L352*1000)","v":""}]
[null,null,null,null,null,null,null,null,null,null,{"$f":"IF(lammering[[#This Row],[Speen-gewicht]]=\"\",\"\",Berekeningen!J353*1000)","v":""},null,null,{"$f":"IF(lammering[[#This Row],[Verkoop-gewicht]]=\"\",\"\",Berekeningen!L353*1000)","v":""}]
[null,null,null,null,null,null,null,null,null,null,{"$f":"IF(lammering[[#This Row],[Speen-gewicht]]=\"\",\"\",Berekeningen!J354*1000)","v":""},null,null,{"$f":"IF(lammering[[#This Row],[Verkoop-gewicht]]=\"\",\"\",Berekeningen!L354*1000)","v":""}]
[null,null,null,null,null,null,null,null,null,null,{"$f":"IF(lammering[[#This Row],[Speen-gewicht]]=\"\",\"\",Berekeningen!J355*1000)","v":""},null,null,{"$f":"IF(lammering[[#This Row],[Verkoop-gewicht]]=\"\",\"\",Berekeningen!L355*1000)","v":""}]
[null,null,null,null,null,null,null,null,null,null,{"$f":"IF(lammering[[#This Row],[Speen-gewicht]]=\"\",\"\",Berekeningen!J356*1000)","v":""},null,null,{"$f":"IF(lammering[[#This Row],[Verkoop-gewicht]]=\"\",\"\",Berekeningen!L356*1000)","v":""}]
[null,null,null,null,null,null,null,null,null,null,{"$f":"IF(lammering[[#This Row],[Speen-gewicht]]=\"\",\"\",Berekeningen!J357*1000)","v":""},null,null,{"$f":"IF(lammering[[#This Row],[Verkoop-gewicht]]=\"\",\"\",Berekeningen!L357*1000)","v":""}]
[null,null,null,null,null,null,null,null,null,null,{"$f":"IF(lammering[[#This Row],[Speen-gewicht]]=\"\",\"\",Berekeningen!J358*1000)","v":""},null,null,{"$f":"IF(lammering[[#This Row],[Verkoop-gewicht]]=\"\",\"\",Berekeningen!L358*1000)","v":""}]
[null,null,null,null,null,null,null,null,null,null,{"$f":"IF(lammering[[#This Row],[Speen-gewicht]]=\"\",\"\",Berekeningen!J359*1000)","v":""},null,null,{"$f":"IF(lammering[[#This Row],[Verkoop-gewicht]]=\"\",\"\",Berekeningen!L359*1000)","v":""}]
[null,null,null,null,null,null,null,null,null,null,{"$f":"IF(lammering[[#This Row],[Speen-gewicht]]=\"\",\"\",Berekeningen!J360*1000)","v":""},null,null,{"$f":"IF(lammering[[#This Row],[Verkoop-gewicht]]=\"\",\"\",Berekeningen!L360*1000)","v":""}]
[null,null,null,null,null,null,null,null,null,null,{"$f":"IF(lammering[[#This Row],[Speen-gewicht]]=\"\",\"\",Berekeningen!J361*1000)","v":""},null,null,{"$f":"IF(lammering[[#This Row],[Verkoop-gewicht]]=\"\",\"\",Berekeningen!L361*1000)","v":""}]
[null,null,null,null,null,null,null,null,null,null,{"$f":"IF(lammering[[#This Row],[Speen-gewicht]]=\"\",\"\",Berekeningen!J362*1000)","v":""},null,null,{"$f":"IF(lammering[[#This Row],[Verkoop-gewicht]]=\"\",\"\",Berekeningen!L362*1000)","v":""}]
[null,null,null,null,null,null,null,null,null,null,{"$f":"IF(lammering[[#This Row],[Speen-gewicht]]=\"\",\"\",Berekeningen!J363*1000)","v":""},null,null,{"$f":"IF(lammering[[#This Row],[Verkoop-gewicht]]=\"\",\"\",Berekeningen!L363*1000)","v":""}]
[null,null,null,null,null,null,null,null,null,null,{"$f":"IF(lammering[[#This Row],[Speen-gewicht]]=\"\",\"\",Berekeningen!J364*1000)","v":""},null,null,{"$f":"IF(lammering[[#This Row],[Verkoop-gewicht]]=\"\",\"\",Berekeningen!L364*1000)","v":""}]
[null,null,null,null,null,null,null,null,null,null,{"$f":"IF(lammering[[#This Row],[Speen-gewicht]]=\"\",\"\",Berekeningen!J365*1000)","v":""},null,null,{"$f":"IF(lammering[[#This Row],[Verkoop-gewicht]]=\"\",\"\",Berekeningen!L365*1000)","v":""}]
[null,null,null,null,null,null,null,null,null,null,{"$f":"IF(lammering[[#This Row],[Speen-gewicht]]=\"\",\"\",Berekeningen!J366*1000)","v":""},null,null,{"$f":"IF(lammering[[#This Row],[Verkoop-gewicht]]=\"\",\"\",Berekeningen!L366*1000)","v":""}]
[null,null,null,null,null,null,null,null,null,null,{"$f":"IF(lammering[[#This Row],[Speen-gewicht]]=\"\",\"\",Berekeningen!J367*1000)","v":""},null,null,{"$f":"IF(lammering[[#This Row],[Verkoop-gewicht]]=\"\",\"\",Berekeningen!L367*1000)","v":""}]
[null,null,null,null,null,null,null,null,null,null,{"$f":"IF(lammering[[#This Row],[Speen-gewicht]]=\"\",\"\",Berekeningen!J368*1000)","v":""},null,null,{"$f":"IF(lammering[[#This Row],[Verkoop-gewicht]]=\"\",\"\",Berekeningen!L368*1000)","v":""}]
[null,null,null,null,null,null,null,null,null,null,{"$f":"IF(lammering[[#This Row],[Speen-gewicht]]=\"\",\"\",Berekeningen!J369*1000)","v":""},null,null,{"$f":"IF(lammering[[#This Row],[Verkoop-gewicht]]=\"\",\"\",Berekeningen!L369*1000)","v":""}]
[null,null,null,null,null,null,null,null,null,null,{"$f":"IF(lammering[[#This Row],[Speen-gewicht]]=\"\",\"\",Berekeningen!J370*1000)","v":""},null,null,{"$f":"IF(lammering[[#This Row],[Verkoop-gewicht]]=\"\",\"\",Berekeningen!L370*1000)","v":""}]
[null,null,null,null,null,null,null,null,null,null,{"$f":"IF(lammering[[#This Row],[Speen-gewicht]]=\"\",\"\",Berekeningen!J371*1000)","v":""},null,null,{"$f":"IF(lammering[[#This Row],[Verkoop-gewicht]]=\"\",\"\",Berekeningen!L371*1000)","v":""}]
[null,null,null,null,null,null,null,null,null,null,{"$f":"IF(lammering[[#This Row],[Speen-gewicht]]=\"\",\"\",Berekeningen!J372*1000)","v":""},null,null,{"$f":"IF(lammering[[#This Row],[Verkoop-gewicht]]=\"\",\"\",Berekeningen!L372*1000)","v":""}]
[null,null,null,null,null,null,null,null,null,null,{"$f":"IF(lammering[[#This Row],[Speen-gewicht]]=\"\",\"\",Berekeningen!J373*1000)","v":""},null,null,{"$f":"IF(lammering[[#This Row],[Verkoop-gewicht]]=\"\",\"\",Berekeningen!L373*1000)","v":""}]
[null,null,null,null,null,null,null,null,null,null,{"$f":"IF(lammering[[#This Row],[Speen-gewicht]]=\"\",\"\",Berekeningen!J374*1000)","v":""},null,null,{"$f":"IF(lammering[[#This Row],[Verkoop-gewicht]]=\"\",\"\",Berekeningen!L374*1000)","v":""}]
[null,null,null,null,null,null,null,null,null,null,{"$f":"IF(lammering[[#This Row],[Speen-gewicht]]=\"\",\"\",Berekeningen!J375*1000)","v":""},null,null,{"$f":"IF(lammering[[#This Row],[Verkoop-gewicht]]=\"\",\"\",Berekeningen!L375*1000)","v":""}]
[null,null,null,null,null,null,null,null,null,null,{"$f":"IF(lammering[[#This Row],[Speen-gewicht]]=\"\",\"\",Berekeningen!J376*1000)","v":""},null,null,{"$f":"IF(lammering[[#This Row],[Verkoop-gewicht]]=\"\",\"\",Berekeningen!L376*1000)","v":""}]
[null,null,null,null,null,null,null,null,null,null,{"$f":"IF(lammering[[#This Row],[Speen-gewicht]]=\"\",\"\",Berekeningen!J377*1000)","v":""},null,null,{"$f":"IF(lammering[[#This Row],[Verkoop-gewicht]]=\"\",\"\",Berekeningen!L377*1000)","v":""}]
[null,null,null,null,null,null,null,null,null,null,{"$f":"IF(lammering[[#This Row],[Speen-gewicht]]=\"\",\"\",Berekeningen!J378*1000)","v":""},null,null,{"$f":"IF(lammering[[#This Row],[Verkoop-gewicht]]=\"\",\"\",Berekeningen!L378*1000)","v":""}]
[null,null,null,null,null,null,null,null,null,null,{"$f":"IF(lammering[[#This Row],[Speen-gewicht]]=\"\",\"\",Berekeningen!J379*1000)","v":""},null,null,{"$f":"IF(lammering[[#This Row],[Verkoop-gewicht]]=\"\",\"\",Berekeningen!L379*1000)","v":""}]
[null,null,null,null,null,null,null,null,null,null,{"$f":"IF(lammering[[#This Row],[Speen-gewicht]]=\"\",\"\",Berekeningen!J380*1000)","v":""},null,null,{"$f":"IF(lammering[[#This Row],[Verkoop-gewicht]]=\"\",\"\",Berekeningen!L380*1000)","v":""}]
[null,null,null,null,null,null,null,null,null,null,{"$f":"IF(lammering[[#This Row],[Speen-gewicht]]=\"\",\"\",Berekeningen!J381*1000)","v":""},null,null,{"$f":"IF(lammering[[#This Row],[Verkoop-gewicht]]=\"\",\"\",Berekeningen!L381*1000)","v":""}]
[null,null,null,null,null,null,null,null,null,null,{"$f":"IF(lammering[[#This Row],[Speen-gewicht]]=\"\",\"\",Berekeningen!J382*1000)","v":""},null,null,{"$f":"IF(lammering[[#This Row],[Verkoop-gewicht]]=\"\",\"\",Berekeningen!L382*1000)","v":""}]
[null,null,null,null,null,null,null,null,null,null,{"$f":"IF(lammering[[#This Row],[Speen-gewicht]]=\"\",\"\",Berekeningen!J383*1000)","v":""},null,null,{"$f":"IF(lammering[[#This Row],[Verkoop-gewicht]]=\"\",\"\",Berekeningen!L383*1000)","v":""}]
[null,null,null,null,null,null,null,null,null,null,{"$f":"IF(lammering[[#This Row],[Speen-gewicht]]=\"\",\"\",Berekeningen!J384*1000)","v":""},null,null,{"$f":"IF(lammering[[#This Row],[Verkoop-gewicht]]=\"\",\"\",Berekeningen!L384*1000)","v":""}]
[null,null,null,null,null,null,null,null,null,null,{"$f":"IF(lammering[[#This Row],[Speen-gewicht]]=\"\",\"\",Berekeningen!J385*1000)","v":""},null,null,{"$f":"IF(lammering[[#This Row],[Verkoop-gewicht]]=\"\",\"\",Berekeningen!L385*1000)","v":""}]
[null,null,null,null,null,null,null,null,null,null,{"$f":"IF(lammering[[#This Row],[Speen-gewicht]]=\"\",\"\",Berekeningen!J386*1000)","v":""},null,null,{"$f":"IF(lammering[[#This Row],[Verkoop-gewicht]]=\"\",\"\",Berekeningen!L386*1000)","v":""}]
[null,null,null,null,null,null,null,null,null,null,{"$f":"IF(lammering[[#This Row],[Speen-gewicht]]=\"\",\"\",Berekeningen!J387*1000)","v":""},null,null,{"$f":"IF(lammering[[#This Row],[Verkoop-gewicht]]=\"\",\"\",Berekeningen!L387*1000)","v":""}]
[null,null,null,null,null,null,null,null,null,null,{"$f":"IF(lammering[[#This Row],[Speen-gewicht]]=\"\",\"\",Berekeningen!J388*1000)","v":""},null,null,{"$f":"IF(lammering[[#This Row],[Verkoop-gewicht]]=\"\",\"\",Berekeningen!L388*1000)","v":""}]
[null,null,null,null,null,null,null,null,null,null,{"$f":"IF(lammering[[#This Row],[Speen-gewicht]]=\"\",\"\",Berekeningen!J389*1000)","v":""},null,null,{"$f":"IF(lammering[[#This Row],[Verkoop-gewicht]]=\"\",\"\",Berekeningen!L389*1000)","v":""}]
[null,null,null,null,null,null,null,null,null,null,{"$f":"IF(lammering[[#This Row],[Speen-gewicht]]=\"\",\"\",Berekeningen!J390*1000)","v":""},null,null,{"$f":"IF(lammering[[#This Row],[Verkoop-gewicht]]=\"\",\"\",Berekeningen!L390*1000)","v":""}]
[null,null,null,null,null,null,null,null,null,null,{"$f":"IF(lammering[[#This Row],[Speen-gewicht]]=\"\",\"\",Berekeningen!J391*1000)","v":""},null,null,{"$f":"IF(lammering[[#This Row],[Verkoop-gewicht]]=\"\",\"\",Berekeningen!L391*1000)","v":""}]
[null,null,null,null,null,null,null,null,null,null,{"$f":"IF(lammering[[#This Row],[Speen-gewicht]]=\"\",\"\",Berekeningen!J392*1000)","v":""},null,null,{"$f":"IF(lammering[[#This Row],[Verkoop-gewicht]]=\"\",\"\",Berekeningen!L392*1000)","v":""}]
[null,null,null,null,null,null,null,null,null,null,{"$f":"IF(lammering[[#This Row],[Speen-gewicht]]=\"\",\"\",Berekeningen!J393*1000)","v":""},null,null,{"$f":"IF(lammering[[#This Row],[Verkoop-gewicht]]=\"\",\"\",Berekeningen!L393*1000)","v":""}]
[null,null,null,null,null,null,null,null,null,null,{"$f":"IF(lammering[[#This Row],[Speen-gewicht]]=\"\",\"\",Berekeningen!J394*1000)","v":""},null,null,{"$f":"IF(lammering[[#This Row],[Verkoop-gewicht]]=\"\",\"\",Berekeningen!L394*1000)","v":""}]
[null,null,null,null,null,null,null,null,null,null,{"$f":"IF(lammering[[#This Row],[Speen-gewicht]]=\"\",\"\",Berekeningen!J395*1000)","v":""},null,null,{"$f":"IF(lammering[[#This Row],[Verkoop-gewicht]]=\"\",\"\",Berekeningen!L395*1000)","v":""}]
[null,null,null,null,null,null,null,null,null,null,{"$f":"IF(lammering[[#This Row],[Speen-gewicht]]=\"\",\"\",Berekeningen!J396*1000)","v":""},null,null,{"$f":"IF(lammering[[#This Row],[Verkoop-gewicht]]=\"\",\"\",Berekeningen!L396*1000)","v":""}]
[null,null,null,null,null,null,null,null,null,null,{"$f":"IF(lammering[[#This Row],[Speen-gewicht]]=\"\",\"\",Berekeningen!J397*1000)","v":""},null,null,{"$f":"IF(lammering[[#This Row],[Verkoop-gewicht]]=\"\",\"\",Berekeningen!L397*1000)","v":""}]
[null,null,null,null,null,null,null,null,null,null,{"$f":"IF(lammering[[#This Row],[Speen-gewicht]]=\"\",\"\",Berekeningen!J398*1000)","v":""},null,null,{"$f":"IF(lammering[[#This Row],[Verkoop-gewicht]]=\"\",\"\",Berekeningen!L398*1000)","v":""}]
[null,null,null,null,null,null,null,null,null,null,{"$f":"IF(lammering[[#This Row],[Speen-gewicht]]=\"\",\"\",Berekeningen!J399*1000)","v":""},null,null,{"$f":"IF(lammering[[#This Row],[Verkoop-gewicht]]=\"\",\"\",Berekeningen!L399*1000)","v":""}]
[null,null,null,null,null,null,null,null,null,null,{"$f":"IF(lammering[[#This Row],[Speen-gewicht]]=\"\",\"\",Berekeningen!J400*1000)","v":""},null,null,{"$f":"IF(lammering[[#This Row],[Verkoop-gewicht]]=\"\",\"\",Berekeningen!L400*1000)","v":""}]
[null,null,null,null,null,null,null,null,null,null,{"$f":"IF(lammering[[#This Row],[Speen-gewicht]]=\"\",\"\",Berekeningen!J401*1000)","v":""},null,null,{"$f":"IF(lammering[[#This Row],[Verkoop-gewicht]]=\"\",\"\",Berekeningen!L401*1000)","v":""}]
[null,null,null,null,null,null,null,null,null,null,{"$f":"IF(lammering[[#This Row],[Speen-gewicht]]=\"\",\"\",Berekeningen!J402*1000)","v":""},null,null,{"$f":"IF(lammering[[#This Row],[Verkoop-gewicht]]=\"\",\"\",Berekeningen!L402*1000)","v":""}]
[null,null,null,null,null,null,null,null,null,null,{"$f":"IF(lammering[[#This Row],[Speen-gewicht]]=\"\",\"\",Berekeningen!J403*1000)","v":""},null,null,{"$f":"IF(lammering[[#This Row],[Verkoop-gewicht]]=\"\",\"\",Berekeningen!L403*1000)","v":""}]
[null,null,null,null,null,null,null,null,null,null,{"$f":"IF(lammering[[#This Row],[Speen-gewicht]]=\"\",\"\",Berekeningen!J404*1000)","v":""},null,null,{"$f":"IF(lammering[[#This Row],[Verkoop-gewicht]]=\"\",\"\",Berekeningen!L404*1000)","v":""}]
[null,null,null,null,null,null,null,null,null,null,{"$f":"IF(lammering[[#This Row],[Speen-gewicht]]=\"\",\"\",Berekeningen!J405*1000)","v":""},null,null,{"$f":"IF(lammering[[#This Row],[Verkoop-gewicht]]=\"\",\"\",Berekeningen!L405*1000)","v":""}]
[null,null,null,null,null,null,null,null,null,null,{"$f":"IF(lammering[[#This Row],[Speen-gewicht]]=\"\",\"\",Berekeningen!J406*1000)","v":""},null,null,{"$f":"IF(lammering[[#This Row],[Verkoop-gewicht]]=\"\",\"\",Berekeningen!L406*1000)","v":""}]
[null,null,null,null,null,null,null,null,null,null,{"$f":"IF(lammering[[#This Row],[Speen-gewicht]]=\"\",\"\",Berekeningen!J407*1000)","v":""},null,null,{"$f":"IF(lammering[[#This Row],[Verkoop-gewicht]]=\"\",\"\",Berekeningen!L407*1000)","v":""}]
[null,null,null,null,null,null,null,null,null,null,{"$f":"IF(lammering[[#This Row],[Speen-gewicht]]=\"\",\"\",Berekeningen!J408*1000)","v":""},null,null,{"$f":"IF(lammering[[#This Row],[Verkoop-gewicht]]=\"\",\"\",Berekeningen!L408*1000)","v":""}]
[null,null,null,null,null,null,null,null,null,null,{"$f":"IF(lammering[[#This Row],[Speen-gewicht]]=\"\",\"\",Berekeningen!J409*1000)","v":""},null,null,{"$f":"IF(lammering[[#This Row],[Verkoop-gewicht]]=\"\",\"\",Berekeningen!L409*1000)","v":""}]
[null,null,null,null,null,null,null,null,null,null,{"$f":"IF(lammering[[#This Row],[Speen-gewicht]]=\"\",\"\",Berekeningen!J410*1000)","v":""},null,null,{"$f":"IF(lammering[[#This Row],[Verkoop-gewicht]]=\"\",\"\",Berekeningen!L410*1000)","v":""}]
[null,null,null,null,null,null,null,null,null,null,{"$f":"IF(lammering[[#This Row],[Speen-gewicht]]=\"\",\"\",Berekeningen!J411*1000)","v":""},null,null,{"$f":"IF(lammering[[#This Row],[Verkoop-gewicht]]=\"\",\"\",Berekeningen!L411*1000)","v":""}]
[null,null,null,null,null,null,null,null,null,null,{"$f":"IF(lammering[[#This Row],[Speen-gewicht]]=\"\",\"\",Berekeningen!J412*1000)","v":""},null,null,{"$f":"IF(lammering[[#This Row],[Verkoop-gewicht]]=\"\",\"\",Berekeningen!L412*1000)","v":""}]
[null,null,null,null,null,null,null,null,null,null,{"$f":"IF(lammering[[#This Row],[Speen-gewicht]]=\"\",\"\",Berekeningen!J413*1000)","v":""},null,null,{"$f":"IF(lammering[[#This Row],[Verkoop-gewicht]]=\"\",\"\",Berekeningen!L413*1000)","v":""}]
[null,null,null,null,null,null,null,null,null,null,{"$f":"IF(lammering[[#This Row],[Speen-gewicht]]=\"\",\"\",Berekeningen!J414*1000)","v":""},null,null,{"$f":"IF(lammering[[#This Row],[Verkoop-gewicht]]=\"\",\"\",Berekeningen!L414*1000)","v":""}]
[null,null,null,null,null,null,null,null,null,null,{"$f":"IF(lammering[[#This Row],[Speen-gewicht]]=\"\",\"\",Berekeningen!J415*1000)","v":""},null,null,{"$f":"IF(lammering[[#This Row],[Verkoop-gewicht]]=\"\",\"\",Berekeningen!L415*1000)","v":""}]
[null,null,null,null,null,null,null,null,null,null,{"$f":"IF(lammering[[#This Row],[Speen-gewicht]]=\"\",\"\",Berekeningen!J416*1000)","v":""},null,null,{"$f":"IF(lammering[[#This Row],[Verkoop-gewicht]]=\"\",\"\",Berekeningen!L416*1000)","v":""}]
[null,null,null,null,null,null,null,null,null,null,{"$f":"IF(lammering[[#This Row],[Speen-gewicht]]=\"\",\"\",Berekeningen!J417*1000)","v":""},null,null,{"$f":"IF(lammering[[#This Row],[Verkoop-gewicht]]=\"\",\"\",Berekeningen!L417*1000)","v":""}]
[null,null,null,null,null,null,null,null,null,null,{"$f":"IF(lammering[[#This Row],[Speen-gewicht]]=\"\",\"\",Berekeningen!J418*1000)","v":""},null,null,{"$f":"IF(lammering[[#This Row],[Verkoop-gewicht]]=\"\",\"\",Berekeningen!L418*1000)","v":""}]
[null,null,null,null,null,null,null,null,null,null,{"$f":"IF(lammering[[#This Row],[Speen-gewicht]]=\"\",\"\",Berekeningen!J419*1000)","v":""},null,null,{"$f":"IF(lammering[[#This Row],[Verkoop-gewicht]]=\"\",\"\",Berekeningen!L419*1000)","v":""}]
[null,null,null,null,null,null,null,null,null,null,{"$f":"IF(lammering[[#This Row],[Speen-gewicht]]=\"\",\"\",Berekeningen!J420*1000)","v":""},null,null,{"$f":"IF(lammering[[#This Row],[Verkoop-gewicht]]=\"\",\"\",Berekeningen!L420*1000)","v":""}]
[null,null,null,null,null,null,null,null,null,null,{"$f":"IF(lammering[[#This Row],[Speen-gewicht]]=\"\",\"\",Berekeningen!J421*1000)","v":""},null,null,{"$f":"IF(lammering[[#This Row],[Verkoop-gewicht]]=\"\",\"\",Berekeningen!L421*1000)","v":""}]
[null,null,null,null,null,null,null,null,null,null,{"$f":"IF(lammering[[#This Row],[Speen-gewicht]]=\"\",\"\",Berekeningen!J422*1000)","v":""},null,null,{"$f":"IF(lammering[[#This Row],[Verkoop-gewicht]]=\"\",\"\",Berekeningen!L422*1000)","v":""}]
[null,null,null,null,null,null,null,null,null,null,{"$f":"IF(lammering[[#This Row],[Speen-gewicht]]=\"\",\"\",Berekeningen!J423*1000)","v":""},null,null,{"$f":"IF(lammering[[#This Row],[Verkoop-gewicht]]=\"\",\"\",Berekeningen!L423*1000)","v":""}]
[null,null,null,null,null,null,null,null,null,null,{"$f":"IF(lammering[[#This Row],[Speen-gewicht]]=\"\",\"\",Berekeningen!J424*1000)","v":""},null,null,{"$f":"IF(lammering[[#This Row],[Verkoop-gewicht]]=\"\",\"\",Berekeningen!L424*1000)","v":""}]
[null,null,null,null,null,null,null,null,null,null,{"$f":"IF(lammering[[#This Row],[Speen-gewicht]]=\"\",\"\",Berekeningen!J425*1000)","v":""},null,null,{"$f":"IF(lammering[[#This Row],[Verkoop-gewicht]]=\"\",\"\",Berekeningen!L425*1000)","v":""}]
[null,null,null,null,null,null,null,null,null,null,{"$f":"IF(lammering[[#This Row],[Speen-gewicht]]=\"\",\"\",Berekeningen!J426*1000)","v":""},null,null,{"$f":"IF(lammering[[#This Row],[Verkoop-gewicht]]=\"\",\"\",Berekeningen!L426*1000)","v":""}]
[null,null,null,null,null,null,null,null,null,null,{"$f":"IF(lammering[[#This Row],[Speen-gewicht]]=\"\",\"\",Berekeningen!J427*1000)","v":""},null,null,{"$f":"IF(lammering[[#This Row],[Verkoop-gewicht]]=\"\",\"\",Berekeningen!L427*1000)","v":""}]
[null,null,null,null,null,null,null,null,null,null,{"$f":"IF(lammering[[#This Row],[Speen-gewicht]]=\"\",\"\",Berekeningen!J428*1000)","v":""},null,null,{"$f":"IF(lammering[[#This Row],[Verkoop-gewicht]]=\"\",\"\",Berekeningen!L428*1000)","v":""}]
[null,null,null,null,null,null,null,null,null,null,{"$f":"IF(lammering[[#This Row],[Speen-gewicht]]=\"\",\"\",Berekeningen!J429*1000)","v":""},null,null,{"$f":"IF(lammering[[#This Row],[Verkoop-gewicht]]=\"\",\"\",Berekeningen!L429*1000)","v":""}]
[null,null,null,null,null,null,null,null,null,null,{"$f":"IF(lammering[[#This Row],[Speen-gewicht]]=\"\",\"\",Berekeningen!J430*1000)","v":""},null,null,{"$f":"IF(lammering[[#This Row],[Verkoop-gewicht]]=\"\",\"\",Berekeningen!L430*1000)","v":""}]
[null,null,null,null,null,null,null,null,null,null,{"$f":"IF(lammering[[#This Row],[Speen-gewicht]]=\"\",\"\",Berekeningen!J431*1000)","v":""},null,null,{"$f":"IF(lammering[[#This Row],[Verkoop-gewicht]]=\"\",\"\",Berekeningen!L431*1000)","v":""}]
[null,null,null,null,null,null,null,null,null,null,{"$f":"IF(lammering[[#This Row],[Speen-gewicht]]=\"\",\"\",Berekeningen!J432*1000)","v":""},null,null,{"$f":"IF(lammering[[#This Row],[Verkoop-gewicht]]=\"\",\"\",Berekeningen!L432*1000)","v":""}]
[null,null,null,null,null,null,null,null,null,null,{"$f":"IF(lammering[[#This Row],[Speen-gewicht]]=\"\",\"\",Berekeningen!J433*1000)","v":""},null,null,{"$f":"IF(lammering[[#This Row],[Verkoop-gewicht]]=\"\",\"\",Berekeningen!L433*1000)","v":""}]
[null,null,null,null,null,null,null,null,null,null,{"$f":"IF(lammering[[#This Row],[Speen-gewicht]]=\"\",\"\",Berekeningen!J434*1000)","v":""},null,null,{"$f":"IF(lammering[[#This Row],[Verkoop-gewicht]]=\"\",\"\",Berekeningen!L434*1000)","v":""}]
[null,null,null,null,null,null,null,null,null,null,{"$f":"IF(lammering[[#This Row],[Speen-gewicht]]=\"\",\"\",Berekeningen!J435*1000)","v":""},null,null,{"$f":"IF(lammering[[#This Row],[Verkoop-gewicht]]=\"\",\"\",Berekeningen!L435*1000)","v":""}]
[null,null,null,null,null,null,null,null,null,null,{"$f":"IF(lammering[[#This Row],[Speen-gewicht]]=\"\",\"\",Berekeningen!J436*1000)","v":""},null,null,{"$f":"IF(lammering[[#This Row],[Verkoop-gewicht]]=\"\",\"\",Berekeningen!L436*1000)","v":""}]
[null,null,null,null,null,null,null,null,null,null,{"$f":"IF(lammering[[#This Row],[Speen-gewicht]]=\"\",\"\",Berekeningen!J437*1000)","v":""},null,null,{"$f":"IF(lammering[[#This Row],[Verkoop-gewicht]]=\"\",\"\",Berekeningen!L437*1000)","v":""}]
[null,null,null,null,null,null,null,null,null,null,{"$f":"IF(lammering[[#This Row],[Speen-gewicht]]=\"\",\"\",Berekeningen!J438*1000)","v":""},null,null,{"$f":"IF(lammering[[#This Row],[Verkoop-gewicht]]=\"\",\"\",Berekeningen!L438*1000)","v":""}]
[null,null,null,null,null,null,null,null,null,null,{"$f":"IF(lammering[[#This Row],[Speen-gewicht]]=\"\",\"\",Berekeningen!J439*1000)","v":""},null,null,{"$f":"IF(lammering[[#This Row],[Verkoop-gewicht]]=\"\",\"\",Berekeningen!L439*1000)","v":""}]
[null,null,null,null,null,null,null,null,null,null,{"$f":"IF(lammering[[#This Row],[Speen-gewicht]]=\"\",\"\",Berekeningen!J440*1000)","v":""},null,null,{"$f":"IF(lammering[[#This Row],[Verkoop-gewicht]]=\"\",\"\",Berekeningen!L440*1000)","v":""}]
[null,null,null,null,null,null,null,null,null,null,{"$f":"IF(lammering[[#This Row],[Speen-gewicht]]=\"\",\"\",Berekeningen!J441*1000)","v":""},null,null,{"$f":"IF(lammering[[#This Row],[Verkoop-gewicht]]=\"\",\"\",Berekeningen!L441*1000)","v":""}]
[null,null,null,null,null,null,null,null,null,null,{"$f":"IF(lammering[[#This Row],[Speen-gewicht]]=\"\",\"\",Berekeningen!J442*1000)","v":""},null,null,{"$f":"IF(lammering[[#This Row],[Verkoop-gewicht]]=\"\",\"\",Berekeningen!L442*1000)","v":""}]
[null,null,null,null,null,null,null,null,null,null,{"$f":"IF(lammering[[#This Row],[Speen-gewicht]]=\"\",\"\",Berekeningen!J443*1000)","v":""},null,null,{"$f":"IF(lammering[[#This Row],[Verkoop-gewicht]]=\"\",\"\",Berekeningen!L443*1000)","v":""}]
[null,null,null,null,null,null,null,null,null,null,{"$f":"IF(lammering[[#This Row],[Speen-gewicht]]=\"\",\"\",Berekeningen!J444*1000)","v":""},null,null,{"$f":"IF(lammering[[#This Row],[Verkoop-gewicht]]=\"\",\"\",Berekeningen!L444*1000)","v":""}]
[null,null,null,null,null,null,null,null,null,null,{"$f":"IF(lammering[[#This Row],[Speen-gewicht]]=\"\",\"\",Berekeningen!J445*1000)","v":""},null,null,{"$f":"IF(lammering[[#This Row],[Verkoop-gewicht]]=\"\",\"\",Berekeningen!L445*1000)","v":""}]
[null,null,null,null,null,null,null,null,null,null,{"$f":"IF(lammering[[#This Row],[Speen-gewicht]]=\"\",\"\",Berekeningen!J446*1000)","v":""},null,null,{"$f":"IF(lammering[[#This Row],[Verkoop-gewicht]]=\"\",\"\",Berekeningen!L446*1000)","v":""}]
[null,null,null,null,null,null,null,null,null,null,{"$f":"IF(lammering[[#This Row],[Speen-gewicht]]=\"\",\"\",Berekeningen!J447*1000)","v":""},null,null,{"$f":"IF(lammering[[#This Row],[Verkoop-gewicht]]=\"\",\"\",Berekeningen!L447*1000)","v":""}]
[null,null,null,null,null,null,null,null,null,null,{"$f":"IF(lammering[[#This Row],[Speen-gewicht]]=\"\",\"\",Berekeningen!J448*1000)","v":""},null,null,{"$f":"IF(lammering[[#This Row],[Verkoop-gewicht]]=\"\",\"\",Berekeningen!L448*1000)","v":""}]
[null,null,null,null,null,null,null,null,null,null,{"$f":"IF(lammering[[#This Row],[Speen-gewicht]]=\"\",\"\",Berekeningen!J449*1000)","v":""},null,null,{"$f":"IF(lammering[[#This Row],[Verkoop-gewicht]]=\"\",\"\",Berekeningen!L449*1000)","v":""}]
[null,null,null,null,null,null,null,null,null,null,{"$f":"IF(lammering[[#This Row],[Speen-gewicht]]=\"\",\"\",Berekeningen!J450*1000)","v":""},null,null,{"$f":"IF(lammering[[#This Row],[Verkoop-gewicht]]=\"\",\"\",Berekeningen!L450*1000)","v":""}]
[null,null,null,null,null,null,null,null,null,null,{"$f":"IF(lammering[[#This Row],[Speen-gewicht]]=\"\",\"\",Berekeningen!J451*1000)","v":""},null,null,{"$f":"IF(lammering[[#This Row],[Verkoop-gewicht]]=\"\",\"\",Berekeningen!L451*1000)","v":""}]
[null,null,null,null,null,null,null,null,null,null,{"$f":"IF(lammering[[#This Row],[Speen-gewicht]]=\"\",\"\",Berekeningen!J452*1000)","v":""},null,null,{"$f":"IF(lammering[[#This Row],[Verkoop-gewicht]]=\"\",\"\",Berekeningen!L452*1000)","v":""}]
[null,null,null,null,null,null,null,null,null,null,{"$f":"IF(lammering[[#This Row],[Speen-gewicht]]=\"\",\"\",Berekeningen!J453*1000)","v":""},null,null,{"$f":"IF(lammering[[#This Row],[Verkoop-gewicht]]=\"\",\"\",Berekeningen!L453*1000)","v":""}]
[null,null,null,null,null,null,null,null,null,null,{"$f":"IF(lammering[[#This Row],[Speen-gewicht]]=\"\",\"\",Berekeningen!J454*1000)","v":""},null,null,{"$f":"IF(lammering[[#This Row],[Verkoop-gewicht]]=\"\",\"\",Berekeningen!L454*1000)","v":""}]
[null,null,null,null,null,null,null,null,null,null,{"$f":"IF(lammering[[#This Row],[Speen-gewicht]]=\"\",\"\",Berekeningen!J455*1000)","v":""},null,null,{"$f":"IF(lammering[[#This Row],[Verkoop-gewicht]]=\"\",\"\",Berekeningen!L455*1000)","v":""}]
[null,null,null,null,null,null,null,null,null,null,{"$f":"IF(lammering[[#This Row],[Speen-gewicht]]=\"\",\"\",Berekeningen!J456*1000)","v":""},null,null,{"$f":"IF(lammering[[#This Row],[Verkoop-gewicht]]=\"\",\"\",Berekeningen!L456*1000)","v":""}]
[null,null,null,null,null,null,null,null,null,null,{"$f":"IF(lammering[[#This Row],[Speen-gewicht]]=\"\",\"\",Berekeningen!J457*1000)","v":""},null,null,{"$f":"IF(lammering[[#This Row],[Verkoop-gewicht]]=\"\",\"\",Berekeningen!L457*1000)","v":""}]
[null,null,null,null,null,null,null,null,null,null,{"$f":"IF(lammering[[#This Row],[Speen-gewicht]]=\"\",\"\",Berekeningen!J458*1000)","v":""},null,null,{"$f":"IF(lammering[[#This Row],[Verkoop-gewicht]]=\"\",\"\",Berekeningen!L458*1000)","v":""}]
[null,null,null,null,null,null,null,null,null,null,{"$f":"IF(lammering[[#This Row],[Speen-gewicht]]=\"\",\"\",Berekeningen!J459*1000)","v":""},null,null,{"$f":"IF(lammering[[#This Row],[Verkoop-gewicht]]=\"\",\"\",Berekeningen!L459*1000)","v":""}]
[null,null,null,null,null,null,null,null,null,null,{"$f":"IF(lammering[[#This Row],[Speen-gewicht]]=\"\",\"\",Berekeningen!J460*1000)","v":""},null,null,{"$f":"IF(lammering[[#This Row],[Verkoop-gewicht]]=\"\",\"\",Berekeningen!L460*1000)","v":""}]
[null,null,null,null,null,null,null,null,null,null,{"$f":"IF(lammering[[#This Row],[Speen-gewicht]]=\"\",\"\",Berekeningen!J461*1000)","v":""},null,null,{"$f":"IF(lammering[[#This Row],[Verkoop-gewicht]]=\"\",\"\",Berekeningen!L461*1000)","v":""}]
[null,null,null,null,null,null,null,null,null,null,{"$f":"IF(lammering[[#This Row],[Speen-gewicht]]=\"\",\"\",Berekeningen!J462*1000)","v":""},null,null,{"$f":"IF(lammering[[#This Row],[Verkoop-gewicht]]=\"\",\"\",Berekeningen!L462*1000)","v":""}]
[null,null,null,null,null,null,null,null,null,null,{"$f":"IF(lammering[[#This Row],[Speen-gewicht]]=\"\",\"\",Berekeningen!J463*1000)","v":""},null,null,{"$f":"IF(lammering[[#This Row],[Verkoop-gewicht]]=\"\",\"\",Berekeningen!L463*1000)","v":""}]
[null,null,null,null,null,null,null,null,null,null,{"$f":"IF(lammering[[#This Row],[Speen-gewicht]]=\"\",\"\",Berekeningen!J464*1000)","v":""},null,null,{"$f":"IF(lammering[[#This Row],[Verkoop-gewicht]]=\"\",\"\",Berekeningen!L464*1000)","v":""}]
[null,null,null,null,null,null,null,null,null,null,{"$f":"IF(lammering[[#This Row],[Speen-gewicht]]=\"\",\"\",Berekeningen!J465*1000)","v":""},null,null,{"$f":"IF(lammering[[#This Row],[Verkoop-gewicht]]=\"\",\"\",Berekeningen!L465*1000)","v":""}]
[null,null,null,null,null,null,null,null,null,null,{"$f":"IF(lammering[[#This Row],[Speen-gewicht]]=\"\",\"\",Berekeningen!J466*1000)","v":""},null,null,{"$f":"IF(lammering[[#This Row],[Verkoop-gewicht]]=\"\",\"\",Berekeningen!L466*1000)","v":""}]
[null,null,null,null,null,null,null,null,null,null,{"$f":"IF(lammering[[#This Row],[Speen-gewicht]]=\"\",\"\",Berekeningen!J467*1000)","v":""},null,null,{"$f":"IF(lammering[[#This Row],[Verkoop-gewicht]]=\"\",\"\",Berekeningen!L467*1000)","v":""}]
[null,null,null,null,null,null,null,null,null,null,{"$f":"IF(lammering[[#This Row],[Speen-gewicht]]=\"\",\"\",Berekeningen!J468*1000)","v":""},null,null,{"$f":"IF(lammering[[#This Row],[Verkoop-gewicht]]=\"\",\"\",Berekeningen!L468*1000)","v":""}]
[null,null,null,null,null,null,null,null,null,null,{"$f":"IF(lammering[[#This Row],[Speen-gewicht]]=\"\",\"\",Berekeningen!J469*1000)","v":""},null,null,{"$f":"IF(lammering[[#This Row],[Verkoop-gewicht]]=\"\",\"\",Berekeningen!L469*1000)","v":""}]
[null,null,null,null,null,null,null,null,null,null,{"$f":"IF(lammering[[#This Row],[Speen-gewicht]]=\"\",\"\",Berekeningen!J470*1000)","v":""},null,null,{"$f":"IF(lammering[[#This Row],[Verkoop-gewicht]]=\"\",\"\",Berekeningen!L470*1000)","v":""}]
[null,null,null,null,null,null,null,null,null,null,{"$f":"IF(lammering[[#This Row],[Speen-gewicht]]=\"\",\"\",Berekeningen!J471*1000)","v":""},null,null,{"$f":"IF(lammering[[#This Row],[Verkoop-gewicht]]=\"\",\"\",Berekeningen!L471*1000)","v":""}]
[null,null,null,null,null,null,null,null,null,null,{"$f":"IF(lammering[[#This Row],[Speen-gewicht]]=\"\",\"\",Berekeningen!J472*1000)","v":""},null,null,{"$f":"IF(lammering[[#This Row],[Verkoop-gewicht]]=\"\",\"\",Berekeningen!L472*1000)","v":""}]
[null,null,null,null,null,null,null,null,null,null,{"$f":"IF(lammering[[#This Row],[Speen-gewicht]]=\"\",\"\",Berekeningen!J473*1000)","v":""},null,null,{"$f":"IF(lammering[[#This Row],[Verkoop-gewicht]]=\"\",\"\",Berekeningen!L473*1000)","v":""}]
[null,null,null,null,null,null,null,null,null,null,{"$f":"IF(lammering[[#This Row],[Speen-gewicht]]=\"\",\"\",Berekeningen!J474*1000)","v":""},null,null,{"$f":"IF(lammering[[#This Row],[Verkoop-gewicht]]=\"\",\"\",Berekeningen!L474*1000)","v":""}]
[null,null,null,null,null,null,null,null,null,null,{"$f":"IF(lammering[[#This Row],[Speen-gewicht]]=\"\",\"\",Berekeningen!J475*1000)","v":""},null,null,{"$f":"IF(lammering[[#This Row],[Verkoop-gewicht]]=\"\",\"\",Berekeningen!L475*1000)","v":""}]
[null,null,null,null,null,null,null,null,null,null,{"$f":"IF(lammering[[#This Row],[Speen-gewicht]]=\"\",\"\",Berekeningen!J476*1000)","v":""},null,null,{"$f":"IF(lammering[[#This Row],[Verkoop-gewicht]]=\"\",\"\",Berekeningen!L476*1000)","v":""}]
[null,null,null,null,null,null,null,null,null,null,{"$f":"IF(lammering[[#This Row],[Speen-gewicht]]=\"\",\"\",Berekeningen!J477*1000)","v":""},null,null,{"$f":"IF(lammering[[#This Row],[Verkoop-gewicht]]=\"\",\"\",Berekeningen!L477*1000)","v":""}]
[null,null,null,null,null,null,null,null,null,null,{"$f":"IF(lammering[[#This Row],[Speen-gewicht]]=\"\",\"\",Berekeningen!J478*1000)","v":""},null,null,{"$f":"IF(lammering[[#This Row],[Verkoop-gewicht]]=\"\",\"\",Berekeningen!L478*1000)","v":""}]
[null,null,null,null,null,null,null,null,null,null,{"$f":"IF(lammering[[#This Row],[Speen-gewicht]]=\"\",\"\",Berekeningen!J479*1000)","v":""},null,null,{"$f":"IF(lammering[[#This Row],[Verkoop-gewicht]]=\"\",\"\",Berekeningen!L479*1000)","v":""}]
[null,null,null,null,null,null,null,null,null,null,{"$f":"IF(lammering[[#This Row],[Speen-gewicht]]=\"\",\"\",Berekeningen!J480*1000)","v":""},null,null,{"$f":"IF(lammering[[#This Row],[Verkoop-gewicht]]=\"\",\"\",Berekeningen!L480*1000)","v":""}]
[null,null,null,null,null,null,null,null,null,null,{"$f":"IF(lammering[[#This Row],[Speen-gewicht]]=\"\",\"\",Berekeningen!J481*1000)","v":""},null,null,{"$f":"IF(lammering[[#This Row],[Verkoop-gewicht]]=\"\",\"\",Berekeningen!L481*1000)","v":""}]
[null,null,null,null,null,null,null,null,null,null,{"$f":"IF(lammering[[#This Row],[Speen-gewicht]]=\"\",\"\",Berekeningen!J482*1000)","v":""},null,null,{"$f":"IF(lammering[[#This Row],[Verkoop-gewicht]]=\"\",\"\",Berekeningen!L482*1000)","v":""}]
[null,null,null,null,null,null,null,null,null,null,{"$f":"IF(lammering[[#This Row],[Speen-gewicht]]=\"\",\"\",Berekeningen!J483*1000)","v":""},null,null,{"$f":"IF(lammering[[#This Row],[Verkoop-gewicht]]=\"\",\"\",Berekeningen!L483*1000)","v":""}]
[null,null,null,null,null,null,null,null,null,null,{"$f":"IF(lammering[[#This Row],[Speen-gewicht]]=\"\",\"\",Berekeningen!J484*1000)","v":""},null,null,{"$f":"IF(lammering[[#This Row],[Verkoop-gewicht]]=\"\",\"\",Berekeningen!L484*1000)","v":""}]
[null,null,null,null,null,null,null,null,null,null,{"$f":"IF(lammering[[#This Row],[Speen-gewicht]]=\"\",\"\",Berekeningen!J485*1000)","v":""},null,null,{"$f":"IF(lammering[[#This Row],[Verkoop-gewicht]]=\"\",\"\",Berekeningen!L485*1000)","v":""}]
[null,null,null,null,null,null,null,null,null,null,{"$f":"IF(lammering[[#This Row],[Speen-gewicht]]=\"\",\"\",Berekeningen!J486*1000)","v":""},null,null,{"$f":"IF(lammering[[#This Row],[Verkoop-gewicht]]=\"\",\"\",Berekeningen!L486*1000)","v":""}]
[null,null,null,null,null,null,null,null,null,null,{"$f":"IF(lammering[[#This Row],[Speen-gewicht]]=\"\",\"\",Berekeningen!J487*1000)","v":""},null,null,{"$f":"IF(lammering[[#This Row],[Verkoop-gewicht]]=\"\",\"\",Berekeningen!L487*1000)","v":""}]
[null,null,null,null,null,null,null,null,null,null,{"$f":"IF(lammering[[#This Row],[Speen-gewicht]]=\"\",\"\",Berekeningen!J488*1000)","v":""},null,null,{"$f":"IF(lammering[[#This Row],[Verkoop-gewicht]]=\"\",\"\",Berekeningen!L488*1000)","v":""}]
[null,null,null,null,null,null,null,null,null,null,{"$f":"IF(lammering[[#This Row],[Speen-gewicht]]=\"\",\"\",Berekeningen!J489*1000)","v":""},null,null,{"$f":"IF(lammering[[#This Row],[Verkoop-gewicht]]=\"\",\"\",Berekeningen!L489*1000)","v":""}]
[null,null,null,null,null,null,null,null,null,null,{"$f":"IF(lammering[[#This Row],[Speen-gewicht]]=\"\",\"\",Berekeningen!J490*1000)","v":""},null,null,{"$f":"IF(lammering[[#This Row],[Verkoop-gewicht]]=\"\",\"\",Berekeningen!L490*1000)","v":""}]
[null,null,null,null,null,null,null,null,null,null,{"$f":"IF(lammering[[#This Row],[Speen-gewicht]]=\"\",\"\",Berekeningen!J491*1000)","v":""},null,null,{"$f":"IF(lammering[[#This Row],[Verkoop-gewicht]]=\"\",\"\",Berekeningen!L491*1000)","v":""}]
[null,null,null,null,null,null,null,null,null,null,{"$f":"IF(lammering[[#This Row],[Speen-gewicht]]=\"\",\"\",Berekeningen!J492*1000)","v":""},null,null,{"$f":"IF(lammering[[#This Row],[Verkoop-gewicht]]=\"\",\"\",Berekeningen!L492*1000)","v":""}]
[null,null,null,null,null,null,null,null,null,null,{"$f":"IF(lammering[[#This Row],[Speen-gewicht]]=\"\",\"\",Berekeningen!J493*1000)","v":""},null,null,{"$f":"IF(lammering[[#This Row],[Verkoop-gewicht]]=\"\",\"\",Berekeningen!L493*1000)","v":""}]
[null,null,null,null,null,null,null,null,null,null,{"$f":"IF(lammering[[#This Row],[Speen-gewicht]]=\"\",\"\",Berekeningen!J494*1000)","v":""},null,null,{"$f":"IF(lammering[[#This Row],[Verkoop-gewicht]]=\"\",\"\",Berekeningen!L494*1000)","v":""}]
[null,null,null,null,null,null,null,null,null,null,{"$f":"IF(lammering[[#This Row],[Speen-gewicht]]=\"\",\"\",Berekeningen!J495*1000)","v":""},null,null,{"$f":"IF(lammering[[#This Row],[Verkoop-gewicht]]=\"\",\"\",Berekeningen!L495*1000)","v":""}]
[null,null,null,null,null,null,null,null,null,null,{"$f":"IF(lammering[[#This Row],[Speen-gewicht]]=\"\",\"\",Berekeningen!J496*1000)","v":""},null,null,{"$f":"IF(lammering[[#This Row],[Verkoop-gewicht]]=\"\",\"\",Berekeningen!L496*1000)","v":""}]
[null,null,null,null,null,null,null,null,null,null,{"$f":"IF(lammering[[#This Row],[Speen-gewicht]]=\"\",\"\",Berekeningen!J497*1000)","v":""},null,null,{"$f":"IF(lammering[[#This Row],[Verkoop-gewicht]]=\"\",\"\",Berekeningen!L497*1000)","v":""}]
[null,null,null,null,null,null,null,null,null,null,{"$f":"IF(lammering[[#This Row],[Speen-gewicht]]=\"\",\"\",Berekeningen!J498*1000)","v":""},null,null,{"$f":"IF(lammering[[#This Row],[Verkoop-gewicht]]=\"\",\"\",Berekeningen!L498*1000)","v":""}]
[null,null,null,null,null,null,null,null,null,null,{"$f":"IF(lammering[[#This Row],[Speen-gewicht]]=\"\",\"\",Berekeningen!J499*1000)","v":""},null,null,{"$f":"IF(lammering[[#This Row],[Verkoop-gewicht]]=\"\",\"\",Berekeningen!L499*1000)","v":""}]
[null,null,null,null,null,null,null,null,null,null,{"$f":"IF(lammering[[#This Row],[Speen-gewicht]]=\"\",\"\",Berekeningen!J500*1000)","v":""},null,null,{"$f":"IF(lammering[[#This Row],[Verkoop-gewicht]]=\"\",\"\",Berekeningen!L500*1000)","v":""}]
[null,null,null,null,null,null,null,null,null,null,{"$f":"IF(lammering[[#This Row],[Speen-gewicht]]=\"\",\"\",Berekeningen!J501*1000)","v":""},null,null,{"$f":"IF(lammering[[#This Row],[Verkoop-gewicht]]=\"\",\"\",Berekeningen!L501*1000)","v":""}]

{"sheet":"Berekeningen","index":5,"n_rows":500,"n_cols":24,"rows_kept":500,"cut":false,"hidden":true,"merged":[]}
["Ooien - nr","aantal lammeringen","nummer ooi per lammering","aantal lammeren","aantal dode lammeren bij geboorte","aantal levende lammeren bij geboorte","aantal levende lammeren bij verkoop","kunstmelk","vrouwelijke lammeren","groei per dag geboorte tot spenen","groei per dag spenen tot verkoop","groei per dag geboorte tot verkoop","groei ooien per dag geboorte tot spenen","groei ooien per dag spenen tot verkoop","groei ooien per dag geboorte tot verkoop","groei rammen per dag geboorte tot spenen","groei rammen per dag spenen tot verkoop","groei rammen per dag geboorte tot verkoop","groei","groei ooien","groei rammen","ooien","lammering per ooi","lammeringen per ooi als gelammerd"]
[{"$f":"lammering[[#This Row],[Ooi]]","v":0},{"$f":"IF(A2=0,0,IF(A2=A1,0,1))","v":0},{"$f":"IF(B2=1,A2,0)","v":0},{"$f":"IF(lammering[[#This Row],[Lam-nummer]]=\"\",0,1)","v":0},{"$f":"IF(lammering[[#This Row],[Dood in geboorte]]=\"ja\",1,0)","v":0},{"$f":"IF(lammering[[#This Row],[Ooi]]=\"\",0,IF(Berekeningen!E2=0,1,0))","v":0},{"$f":"IF(lammering[[#This Row],[Dood in geboorte]]=\"Ja\",0,IF(lammering[[#This Row],[Dood na geboorte]]=\"ja\",0,1))","v":1},{"$f":"IF(lammering[[#This Row],[Opfok met kunstmelk]]=\"Ja\",1,0)","v":0},{"$f":"IF(lammering[[#This Row],[geslacht]]=\"O\",1,0)","v":0},{"$f":"IF(lammering[[#This Row],[Speen-datum]]=\"\",\"\",(lammering[[#This Row],[Speen-gewicht]]-lammering[[#This Row],[geboorte-gewicht]])/(lammering[[#This Row],[Speen-datum]]-lammering[[#This Row],[Werp-datum]]))","v":""},{"$f":"IF(lammering[[#This Row],[Verkoop-datum]]=\"\",\"\",(lammering[[#This Row],[Verkoop-gewicht]]-lammering[[#This Row],[Speen-gewicht]])/(lammering[[#This Row],[Verkoop-datum]]-lammering[[#This Row],[Speen-datum]]))","v":""},{"$f":"IF(lammering[[#This Row],[Verkoop-datum]]=\"\",\"\",(lammering[[#This Row],[Verkoop-gewicht]]-lammering[[#This Row],[geboorte-gewicht]])/(lammering[[#This Row],[Verkoop-datum]]-lammering[[#This Row],[Werp-datum]]))","v":""},{"$f":"IF($I2=1,J2,\"\")","v":""},{"$f":"IF($I2=1,K2,\"\")","v":""},"",{"$f":"IF($I2=0,J2,\"\")","v":""},{"$f":"IF($I2=0,K2,\"\")","v":""},"",{"$f":"IF(lammering[[#This Row],[Verkoop-gewicht]]=\"\",\"\",lammering[[#This Row],[Verkoop-gewicht]]-lammering[[#This Row],[geboorte-gewicht]])","v":""},{"$f":"IF(I2=1,S2,\"\")","v":""},{"$f":"IF(I2=0,S2,\"\")","v":""},{"$f":"Opzoek_ooi[[#This Row],[Ooinummer]]","v":0},{"$f":"IF(V2=0,\"\",COUNTIF(C$2:C$500,V2))","v":""},{"$f":"IF(W2>0,W2,\"\")","v":""}]
[{"$f":"lammering[[#This Row],[Ooi]]","v":0},{"$f":"IF(A3=0,0,IF(A3=A2,0,1))","v":0},{"$f":"IF(B3=1,A3,0)","v":0},{"$f":"IF(lammering[[#This Row],[Lam-nummer]]=\"\",0,1)","v":0},{"$f":"IF(lammering[[#This Row],[Dood in geboorte]]=\"ja\",1,0)","v":0},{"$f":"IF(lammering[[#This Row],[Ooi]]=\"\",0,IF(Berekeningen!E3=0,1,0))","v":0},{"$f":"IF(lammering[[#This Row],[Dood in geboorte]]=\"Ja\",0,IF(lammering[[#This Row],[Dood na geboorte]]=\"ja\",0,1))","v":1},{"$f":"IF(lammering[[#This Row],[Opfok met kunstmelk]]=\"Ja\",1,0)","v":0},{"$f":"IF(lammering[[#This Row],[geslacht]]=\"O\",1,0)","v":0},{"$f":"IF(lammering[[#This Row],[Speen-datum]]=\"\",\"\",(lammering[[#This Row],[Speen-gewicht]]-lammering[[#This Row],[geboorte-gewicht]])/(lammering[[#This Row],[Speen-datum]]-lammering[[#This Row],[Werp-datum]]))","v":""},{"$f":"IF(lammering[[#This Row],[Verkoop-datum]]=\"\",\"\",(lammering[[#This Row],[Verkoop-gewicht]]-lammering[[#This Row],[Speen-gewicht]])/(lammering[[#This Row],[Verkoop-datum]]-lammering[[#This Row],[Speen-datum]]))","v":""},{"$f":"IF(lammering[[#This Row],[Verkoop-datum]]=\"\",\"\",(lammering[[#This Row],[Verkoop-gewicht]]-lammering[[#This Row],[geboorte-gewicht]])/(lammering[[#This Row],[Verkoop-datum]]-lammering[[#This Row],[Werp-datum]]))","v":""},{"$f":"IF($I3=1,J3,\"\")","v":""},{"$f":"IF($I3=1,K3,\"\")","v":""},{"$f":"IF($I3=1,L3,\"\")","v":""},{"$f":"IF($I3=0,J3,\"\")","v":""},{"$f":"IF($I3=0,K3,\"\")","v":""},{"$f":"IF($I3=0,L3,\"\")","v":""},{"$f":"IF(lammering[[#This Row],[Verkoop-gewicht]]=\"\",\"\",lammering[[#This Row],[Verkoop-gewicht]]-lammering[[#This Row],[geboorte-gewicht]])","v":""},{"$f":"IF(I3=1,S3,\"\")","v":""},{"$f":"IF(I3=0,S3,\"\")","v":""},{"$f":"Opzoek_ooi[[#This Row],[Ooinummer]]","v":0},"",{"$f":"IF(W3>0,W3,\"\")","v":""}]
[{"$f":"lammering[[#This Row],[Ooi]]","v":0},0,0,{"$f":"IF(lammering[[#This Row],[Lam-nummer]]=\"\",0,1)","v":0},{"$f":"IF(lammering[[#This Row],[Dood in geboorte]]=\"ja\",1,0)","v":0},{"$f":"IF(lammering[[#This Row],[Ooi]]=\"\",0,IF(Berekeningen!E4=0,1,0))","v":0},{"$f":"IF(lammering[[#This Row],[Dood in geboorte]]=\"Ja\",0,IF(lammering[[#This Row],[Dood na geboorte]]=\"ja\",0,1))","v":1},{"$f":"IF(lammering[[#This Row],[Opfok met kunstmelk]]=\"Ja\",1,0)","v":0},{"$f":"IF(lammering[[#This Row],[geslacht]]=\"O\",1,0)","v":0},{"$f":"IF(lammering[[#This Row],[Speen-datum]]=\"\",\"\",(lammering[[#This Row],[Speen-gewicht]]-lammering[[#This Row],[geboorte-gewicht]])/(lammering[[#This Row],[Speen-datum]]-lammering[[#This Row],[Werp-datum]]))","v":""},{"$f":"IF(lammering[[#This Row],[Verkoop-datum]]=\"\",\"\",(lammering[[#This Row],[Verkoop-gewicht]]-lammering[[#This Row],[Speen-gewicht]])/(lammering[[#This Row],[Verkoop-datum]]-lammering[[#This Row],[Speen-datum]]))","v":""},{"$f":"IF(lammering[[#This Row],[Verkoop-datum]]=\"\",\"\",(lammering[[#This Row],[Verkoop-gewicht]]-lammering[[#This Row],[geboorte-gewicht]])/(lammering[[#This Row],[Verkoop-datum]]-lammering[[#This Row],[Werp-datum]]))","v":""},"","","","","","",{"$f":"IF(lammering[[#This Row],[Verkoop-gewicht]]=\"\",\"\",lammering[[#This Row],[Verkoop-gewicht]]-lammering[[#This Row],[geboorte-gewicht]])","v":""},"","",{"$f":"Opzoek_ooi[[#This Row],[Ooinummer]]","v":0},"",""]
[{"$f":"lammering[[#This Row],[Ooi]]","v":0},0,0,{"$f":"IF(lammering[[#This Row],[Lam-nummer]]=\"\",0,1)","v":0},{"$f":"IF(lammering[[#This Row],[Dood in geboorte]]=\"ja\",1,0)","v":0},{"$f":"IF(lammering[[#This Row],[Ooi]]=\"\",0,IF(Berekeningen!E5=0,1,0))","v":0},{"$f":"IF(lammering[[#This Row],[Dood in geboorte]]=\"Ja\",0,IF(lammering[[#This Row],[Dood na geboorte]]=\"ja\",0,1))","v":1},{"$f":"IF(lammering[[#This Row],[Opfok met kunstmelk]]=\"Ja\",1,0)","v":0},{"$f":"IF(lammering[[#This Row],[geslacht]]=\"O\",1,0)","v":0},{"$f":"IF(lammering[[#This Row],[Speen-datum]]=\"\",\"\",(lammering[[#This Row],[Speen-gewicht]]-lammering[[#This Row],[geboorte-gewicht]])/(lammering[[#This Row],[Speen-datum]]-lammering[[#This Row],[Werp-datum]]))","v":""},{"$f":"IF(lammering[[#This Row],[Verkoop-datum]]=\"\",\"\",(lammering[[#This Row],[Verkoop-gewicht]]-lammering[[#This Row],[Speen-gewicht]])/(lammering[[#This Row],[Verkoop-datum]]-lammering[[#This Row],[Speen-datum]]))","v":""},{"$f":"IF(lammering[[#This Row],[Verkoop-datum]]=\"\",\"\",(lammering[[#This Row],[Verkoop-gewicht]]-lammering[[#This Row],[geboorte-gewicht]])/(lammering[[#This Row],[Verkoop-datum]]-lammering[[#This Row],[Werp-datum]]))","v":""},"","","","","","",{"$f":"IF(lammering[[#This Row],[Verkoop-gewicht]]=\"\",\"\",lammering[[#This Row],[Verkoop-gewicht]]-lammering[[#This Row],[geboorte-gewicht]])","v":""},"","",{"$f":"Opzoek_ooi[[#This Row],[Ooinummer]]","v":0},"",""]
[{"$f":"lammering[[#This Row],[Ooi]]","v":0},0,0,{"$f":"IF(lammering[[#This Row],[Lam-nummer]]=\"\",0,1)","v":0},{"$f":"IF(lammering[[#This Row],[Dood in geboorte]]=\"ja\",1,0)","v":0},{"$f":"IF(lammering[[#This Row],[Ooi]]=\"\",0,IF(Berekeningen!E6=0,1,0))","v":0},{"$f":"IF(lammering[[#This Row],[Dood in geboorte]]=\"Ja\",0,IF(lammering[[#This Row],[Dood na geboorte]]=\"ja\",0,1))","v":1},{"$f":"IF(lammering[[#This Row],[Opfok met kunstmelk]]=\"Ja\",1,0)","v":0},{"$f":"IF(lammering[[#This Row],[geslacht]]=\"O\",1,0)","v":0},{"$f":"IF(lammering[[#This Row],[Speen-datum]]=\"\",\"\",(lammering[[#This Row],[Speen-gewicht]]-lammering[[#This Row],[geboorte-gewicht]])/(lammering[[#This Row],[Speen-datum]]-lammering[[#This Row],[Werp-datum]]))","v":""},{"$f":"IF(lammering[[#This Row],[Verkoop-datum]]=\"\",\"\",(lammering[[#This Row],[Verkoop-gewicht]]-lammering[[#This Row],[Speen-gewicht]])/(lammering[[#This Row],[Verkoop-datum]]-lammering[[#This Row],[Speen-datum]]))","v":""},{"$f":"IF(lammering[[#This Row],[Verkoop-datum]]=\"\",\"\",(lammering[[#This Row],[Verkoop-gewicht]]-lammering[[#This Row],[geboorte-gewicht]])/(lammering[[#This Row],[Verkoop-datum]]-lammering[[#This Row],[Werp-datum]]))","v":""},"","","","","","",{"$f":"IF(lammering[[#This Row],[Verkoop-gewicht]]=\"\",\"\",lammering[[#This Row],[Verkoop-gewicht]]-lammering[[#This Row],[geboorte-gewicht]])","v":""},"","",{"$f":"Opzoek_ooi[[#This Row],[Ooinummer]]","v":0},"",""]
[{"$f":"lammering[[#This Row],[Ooi]]","v":0},0,0,{"$f":"IF(lammering[[#This Row],[Lam-nummer]]=\"\",0,1)","v":0},{"$f":"IF(lammering[[#This Row],[Dood in geboorte]]=\"ja\",1,0)","v":0},{"$f":"IF(lammering[[#This Row],[Ooi]]=\"\",0,IF(Berekeningen!E7=0,1,0))","v":0},{"$f":"IF(lammering[[#This Row],[Dood in geboorte]]=\"Ja\",0,IF(lammering[[#This Row],[Dood na geboorte]]=\"ja\",0,1))","v":1},{"$f":"IF(lammering[[#This Row],[Opfok met kunstmelk]]=\"Ja\",1,0)","v":0},{"$f":"IF(lammering[[#This Row],[geslacht]]=\"O\",1,0)","v":0},{"$f":"IF(lammering[[#This Row],[Speen-datum]]=\"\",\"\",(lammering[[#This Row],[Speen-gewicht]]-lammering[[#This Row],[geboorte-gewicht]])/(lammering[[#This Row],[Speen-datum]]-lammering[[#This Row],[Werp-datum]]))","v":""},{"$f":"IF(lammering[[#This Row],[Verkoop-datum]]=\"\",\"\",(lammering[[#This Row],[Verkoop-gewicht]]-lammering[[#This Row],[Speen-gewicht]])/(lammering[[#This Row],[Verkoop-datum]]-lammering[[#This Row],[Speen-datum]]))","v":""},{"$f":"IF(lammering[[#This Row],[Verkoop-datum]]=\"\",\"\",(lammering[[#This Row],[Verkoop-gewicht]]-lammering[[#This Row],[geboorte-gewicht]])/(lammering[[#This Row],[Verkoop-datum]]-lammering[[#This Row],[Werp-datum]]))","v":""},"","","","","","",{"$f":"IF(lammering[[#This Row],[Verkoop-gewicht]]=\"\",\"\",lammering[[#This Row],[Verkoop-gewicht]]-lammering[[#This Row],[geboorte-gewicht]])","v":""},"","",{"$f":"Opzoek_ooi[[#This Row],[Ooinummer]]","v":0},"",""]
[{"$f":"lammering[[#This Row],[Ooi]]","v":0},0,0,{"$f":"IF(lammering[[#This Row],[Lam-nummer]]=\"\",0,1)","v":0},{"$f":"IF(lammering[[#This Row],[Dood in geboorte]]=\"ja\",1,0)","v":0},{"$f":"IF(lammering[[#This Row],[Ooi]]=\"\",0,IF(Berekeningen!E8=0,1,0))","v":0},{"$f":"IF(lammering[[#This Row],[Dood in geboorte]]=\"Ja\",0,IF(lammering[[#This Row],[Dood na geboorte]]=\"ja\",0,1))","v":1},{"$f":"IF(lammering[[#This Row],[Opfok met kunstmelk]]=\"Ja\",1,0)","v":0},{"$f":"IF(lammering[[#This Row],[geslacht]]=\"O\",1,0)","v":0},{"$f":"IF(lammering[[#This Row],[Speen-datum]]=\"\",\"\",(lammering[[#This Row],[Speen-gewicht]]-lammering[[#This Row],[geboorte-gewicht]])/(lammering[[#This Row],[Speen-datum]]-lammering[[#This Row],[Werp-datum]]))","v":""},{"$f":"IF(lammering[[#This Row],[Verkoop-datum]]=\"\",\"\",(lammering[[#This Row],[Verkoop-gewicht]]-lammering[[#This Row],[Speen-gewicht]])/(lammering[[#This Row],[Verkoop-datum]]-lammering[[#This Row],[Speen-datum]]))","v":""},{"$f":"IF(lammering[[#This Row],[Verkoop-datum]]=\"\",\"\",(lammering[[#This Row],[Verkoop-gewicht]]-lammering[[#This Row],[geboorte-gewicht]])/(lammering[[#This Row],[Verkoop-datum]]-lammering[[#This Row],[Werp-datum]]))","v":""},"","","","","","",{"$f":"IF(lammering[[#This Row],[Verkoop-gewicht]]=\"\",\"\",lammering[[#This Row],[Verkoop-gewicht]]-lammering[[#This Row],[geboorte-gewicht]])","v":""},"","",{"$f":"Opzoek_ooi[[#This Row],[Ooinummer]]","v":0},"",""]
[{"$f":"lammering[[#This Row],[Ooi]]","v":0},0,0,{"$f":"IF(lammering[[#This Row],[Lam-nummer]]=\"\",0,1)","v":0},{"$f":"IF(lammering[[#This Row],[Dood in geboorte]]=\"ja\",1,0)","v":0},{"$f":"IF(lammering[[#This Row],[Ooi]]=\"\",0,IF(Berekeningen!E9=0,1,0))","v":0},{"$f":"IF(lammering[[#This Row],[Dood in geboorte]]=\"Ja\",0,IF(lammering[[#This Row],[Dood na geboorte]]=\"ja\",0,1))","v":1},{"$f":"IF(lammering[[#This Row],[Opfok met kunstmelk]]=\"Ja\",1,0)","v":0},{"$f":"IF(lammering[[#This Row],[geslacht]]=\"O\",1,0)","v":0},{"$f":"IF(lammering[[#This Row],[Speen-datum]]=\"\",\"\",(lammering[[#This Row],[Speen-gewicht]]-lammering[[#This Row],[geboorte-gewicht]])/(lammering[[#This Row],[Speen-datum]]-lammering[[#This Row],[Werp-datum]]))","v":""},{"$f":"IF(lammering[[#This Row],[Verkoop-datum]]=\"\",\"\",(lammering[[#This Row],[Verkoop-gewicht]]-lammering[[#This Row],[Speen-gewicht]])/(lammering[[#This Row],[Verkoop-datum]]-lammering[[#This Row],[Speen-datum]]))","v":""},{"$f":"IF(lammering[[#This Row],[Verkoop-datum]]=\"\",\"\",(lammering[[#This Row],[Verkoop-gewicht]]-lammering[[#This Row],[geboorte-gewicht]])/(lammering[[#This Row],[Verkoop-datum]]-lammering[[#This Row],[Werp-datum]]))","v":""},"","","","","","",{"$f":"IF(lammering[[#This Row],[Verkoop-gewicht]]=\"\",\"\",lammering[[#This Row],[Verkoop-gewicht]]-lammering[[#This Row],[geboorte-gewicht]])","v":""},"","",{"$f":"Opzoek_ooi[[#This Row],[Ooinummer]]","v":0},"",""]
[{"$f":"lammering[[#This Row],[Ooi]]","v":0},0,0,{"$f":"IF(lammering[[#This Row],[Lam-nummer]]=\"\",0,1)","v":0},{"$f":"IF(lammering[[#This Row],[Dood in geboorte]]=\"ja\",1,0)","v":0},{"$f":"IF(lammering[[#This Row],[Ooi]]=\"\",0,IF(Berekeningen!E10=0,1,0))","v":0},{"$f":"IF(lammering[[#This Row],[Dood in geboorte]]=\"Ja\",0,IF(lammering[[#This Row],[Dood na geboorte]]=\"ja\",0,1))","v":1},{"$f":"IF(lammering[[#This Row],[Opfok met kunstmelk]]=\"Ja\",1,0)","v":0},{"$f":"IF(lammering[[#This Row],[geslacht]]=\"O\",1,0)","v":0},{"$f":"IF(lammering[[#This Row],[Speen-datum]]=\"\",\"\",(lammering[[#This Row],[Speen-gewicht]]-lammering[[#This Row],[geboorte-gewicht]])/(lammering[[#This Row],[Speen-datum]]-lammering[[#This Row],[Werp-datum]]))","v":""},{"$f":"IF(lammering[[#This Row],[Verkoop-datum]]=\"\",\"\",(lammering[[#This Row],[Verkoop-gewicht]]-lammering[[#This Row],[Speen-gewicht]])/(lammering[[#This Row],[Verkoop-datum]]-lammering[[#This Row],[Speen-datum]]))","v":""},{"$f":"IF(lammering[[#This Row],[Verkoop-datum]]=\"\",\"\",(lammering[[#This Row],[Verkoop-gewicht]]-lammering[[#This Row],[geboorte-gewicht]])/(lammering[[#This Row],[Verkoop-datum]]-lammering[[#This Row],[Werp-datum]]))","v":""},"","","","","","",{"$f":"IF(lammering[[#This Row],[Verkoop-gewicht]]=\"\",\"\",lammering[[#This Row],[Verkoop-gewicht]]-lammering[[#This Row],[geboorte-gewicht]])","v":""},"","",{"$f":"Opzoek_ooi[[#This Row],[Ooinummer]]","v":0},"",""]
[{"$f":"lammering[[#This Row],[Ooi]]","v":0},0,0,{"$f":"IF(lammering[[#This Row],[Lam-nummer]]=\"\",0,1)","v":0},{"$f":"IF(lammering[[#This Row],[Dood in geboorte]]=\"ja\",1,0)","v":0},{"$f":"IF(lammering[[#This Row],[Ooi]]=\"\",0,IF(Berekeningen!E11=0,1,0))","v":0},{"$f":"IF(D11=0,0,IF(lammering[[#This Row],[Dood in geboorte]]=\"Ja\",0,IF(lammering[[#This Row],[Dood na geboorte]]=\"ja\",0,1)))","v":0},{"$f":"IF(lammering[[#This Row],[Opfok met kunstmelk]]=\"Ja\",1,0)","v":0},{"$f":"IF(lammering[[#This Row],[geslacht]]=\"O\",1,0)","v":0},{"$f":"IF(lammering[[#This Row],[Speen-datum]]=\"\",\"\",(lammering[[#This Row],[Speen-gewicht]]-lammering[[#This Row],[geboorte-gewicht]])/(lammering[[#This Row],[Speen-datum]]-lammering[[#This Row],[Werp-datum]]))","v":""},{"$f":"IF(lammering[[#This Row],[Verkoop-datum]]=\"\",\"\",(lammering[[#This Row],[Verkoop-gewicht]]-lammering[[#This Row],[Speen-gewicht]])/(lammering[[#This Row],[Verkoop-datum]]-lammering[[#This Row],[Speen-datum]]))","v":""},{"$f":"IF(lammering[[#This Row],[Verkoop-datum]]=\"\",\"\",(lammering[[#This Row],[Verkoop-gewicht]]-lammering[[#This Row],[geboorte-gewicht]])/(lammering[[#This Row],[Verkoop-datum]]-lammering[[#This Row],[Werp-datum]]))","v":""},"","","","","","",{"$f":"IF(lammering[[#This Row],[Verkoop-gewicht]]=\"\",\"\",lammering[[#This Row],[Verkoop-gewicht]]-lammering[[#This Row],[geboorte-gewicht]])","v":""},"","",{"$f":"Opzoek_ooi[[#This Row],[Ooinummer]]","v":0},"",""]
[{"$f":"lammering[[#This Row],[Ooi]]","v":0},0,0,{"$f":"IF(lammering[[#This Row],[Lam-nummer]]=\"\",0,1)","v":0},{"$f":"IF(lammering[[#This Row],[Dood in geboorte]]=\"ja\",1,0)","v":0},{"$f":"IF(lammering[[#This Row],[Ooi]]=\"\",0,IF(Berekeningen!E12=0,1,0))","v":0},{"$f":"IF(D12=0,0,IF(lammering[[#This Row],[Dood in geboorte]]=\"Ja\",0,IF(lammering[[#This Row],[Dood na geboorte]]=\"ja\",0,1)))","v":0},{"$f":"IF(lammering[[#This Row],[Opfok met kunstmelk]]=\"Ja\",1,0)","v":0},{"$f":"IF(lammering[[#This Row],[geslacht]]=\"O\",1,0)","v":0},{"$f":"IF(lammering[[#This Row],[Speen-datum]]=\"\",\"\",(lammering[[#This Row],[Speen-gewicht]]-lammering[[#This Row],[geboorte-gewicht]])/(lammering[[#This Row],[Speen-datum]]-lammering[[#This Row],[Werp-datum]]))","v":""},{"$f":"IF(lammering[[#This Row],[Verkoop-datum]]=\"\",\"\",(lammering[[#This Row],[Verkoop-gewicht]]-lammering[[#This Row],[Speen-gewicht]])/(lammering[[#This Row],[Verkoop-datum]]-lammering[[#This Row],[Speen-datum]]))","v":""},{"$f":"IF(lammering[[#This Row],[Verkoop-datum]]=\"\",\"\",(lammering[[#This Row],[Verkoop-gewicht]]-lammering[[#This Row],[geboorte-gewicht]])/(lammering[[#This Row],[Verkoop-datum]]-lammering[[#This Row],[Werp-datum]]))","v":""},"","","","","","",{"$f":"IF(lammering[[#This Row],[Verkoop-gewicht]]=\"\",\"\",lammering[[#This Row],[Verkoop-gewicht]]-lammering[[#This Row],[geboorte-gewicht]])","v":""},"","",{"$f":"Opzoek_ooi[[#This Row],[Ooinummer]]","v":0},"",""]
[{"$f":"lammering[[#This Row],[Ooi]]","v":0},0,0,{"$f":"IF(lammering[[#This Row],[Lam-nummer]]=\"\",0,1)","v":0},{"$f":"IF(lammering[[#This Row],[Dood in geboorte]]=\"ja\",1,0)","v":0},{"$f":"IF(lammering[[#This Row],[Ooi]]=\"\",0,IF(Berekeningen!E13=0,1,0))","v":0},{"$f":"IF(D13=0,0,IF(lammering[[#This Row],[Dood in geboorte]]=\"Ja\",0,IF(lammering[[#This Row],[Dood na geboorte]]=\"ja\",0,1)))","v":0},{"$f":"IF(lammering[[#This Row],[Opfok met kunstmelk]]=\"Ja\",1,0)","v":0},{"$f":"IF(lammering[[#This Row],[geslacht]]=\"O\",1,0)","v":0},{"$f":"IF(lammering[[#This Row],[Speen-datum]]=\"\",\"\",(lammering[[#This Row],[Speen-gewicht]]-lammering[[#This Row],[geboorte-gewicht]])/(lammering[[#This Row],[Speen-datum]]-lammering[[#This Row],[Werp-datum]]))","v":""},{"$f":"IF(lammering[[#This Row],[Verkoop-datum]]=\"\",\"\",(lammering[[#This Row],[Verkoop-gewicht]]-lammering[[#This Row],[Speen-gewicht]])/(lammering[[#This Row],[Verkoop-datum]]-lammering[[#This Row],[Speen-datum]]))","v":""},{"$f":"IF(lammering[[#This Row],[Verkoop-datum]]=\"\",\"\",(lammering[[#This Row],[Verkoop-gewicht]]-lammering[[#This Row],[geboorte-gewicht]])/(lammering[[#This Row],[Verkoop-datum]]-lammering[[#This Row],[Werp-datum]]))","v":""},"","","","","","",{"$f":"IF(lammering[[#This Row],[Verkoop-gewicht]]=\"\",\"\",lammering[[#This Row],[Verkoop-gewicht]]-lammering[[#This Row],[geboorte-gewicht]])","v":""},"","",{"$f":"Opzoek_ooi[[#This Row],[Ooinummer]]","v":0},"",""]
[{"$f":"lammering[[#This Row],[Ooi]]","v":0},0,0,{"$f":"IF(lammering[[#This Row],[Lam-nummer]]=\"\",0,1)","v":0},{"$f":"IF(lammering[[#This Row],[Dood in geboorte]]=\"ja\",1,0)","v":0},{"$f":"IF(lammering[[#This Row],[Ooi]]=\"\",0,IF(Berekeningen!E14=0,1,0))","v":0},{"$f":"IF(D14=0,0,IF(lammering[[#This Row],[Dood in geboorte]]=\"Ja\",0,IF(lammering[[#This Row],[Dood na geboorte]]=\"ja\",0,1)))","v":0},{"$f":"IF(lammering[[#This Row],[Opfok met kunstmelk]]=\"Ja\",1,0)","v":0},{"$f":"IF(lammering[[#This Row],[geslacht]]=\"O\",1,0)","v":0},{"$f":"IF(lammering[[#This Row],[Speen-datum]]=\"\",\"\",(lammering[[#This Row],[Speen-gewicht]]-lammering[[#This Row],[geboorte-gewicht]])/(lammering[[#This Row],[Speen-datum]]-lammering[[#This Row],[Werp-datum]]))","v":""},{"$f":"IF(lammering[[#This Row],[Verkoop-datum]]=\"\",\"\",(lammering[[#This Row],[Verkoop-gewicht]]-lammering[[#This Row],[Speen-gewicht]])/(lammering[[#This Row],[Verkoop-datum]]-lammering[[#This Row],[Speen-datum]]))","v":""},{"$f":"IF(lammering[[#This Row],[Verkoop-datum]]=\"\",\"\",(lammering[[#This Row],[Verkoop-gewicht]]-lammering[[#This Row],[geboorte-gewicht]])/(lammering[[#This Row],[Verkoop-datum]]-lammering[[#This Row],[Werp-datum]]))","v":""},"","","","","","",{"$f":"IF(lammering[[#This Row],[Verkoop-gewicht]]=\"\",\"\",lammering[[#This Row],[Verkoop-gewicht]]-lammering[[#This Row],[geboorte-gewicht]])","v":""},"","",{"$f":"Opzoek_ooi[[#This Row],[Ooinummer]]","v":0},"",""]
[{"$f":"lammering[[#This Row],[Ooi]]","v":0},{"$f":"IF(A15=0,0,IF(A15=A14,0,1))","v":0},0,{"$f":"IF(lammering[[#This Row],[Lam-nummer]]=\"\",0,1)","v":0},{"$f":"IF(lammering[[#This Row],[Dood in geboorte]]=\"ja\",1,0)","v":0},{"$f":"IF(lammering[[#This Row],[Ooi]]=\"\",0,IF(Berekeningen!E15=0,1,0))","v":0},{"$f":"IF(D15=0,0,IF(lammering[[#This Row],[Dood in geboorte]]=\"Ja\",0,IF(lammering[[#This Row],[Dood na geboorte]]=\"ja\",0,1)))","v":0},{"$f":"IF(lammering[[#This Row],[Opfok met kunstmelk]]=\"Ja\",1,0)","v":0},{"$f":"IF(lammering[[#This Row],[geslacht]]=\"O\",1,0)","v":0},{"$f":"IF(lammering[[#This Row],[Speen-datum]]=\"\",\"\",(lammering[[#This Row],[Speen-gewicht]]-lammering[[#This Row],[geboorte-gewicht]])/(lammering[[#This Row],[Speen-datum]]-lammering[[#This Row],[Werp-datum]]))","v":""},{"$f":"IF(lammering[[#This Row],[Verkoop-datum]]=\"\",\"\",(lammering[[#This Row],[Verkoop-gewicht]]-lammering[[#This Row],[Speen-gewicht]])/(lammering[[#This Row],[Verkoop-datum]]-lammering[[#This Row],[Speen-datum]]))","v":""},{"$f":"IF(lammering[[#This Row],[Verkoop-datum]]=\"\",\"\",(lammering[[#This Row],[Verkoop-gewicht]]-lammering[[#This Row],[geboorte-gewicht]])/(lammering[[#This Row],[Verkoop-datum]]-lammering[[#This Row],[Werp-datum]]))","v":""},{"$f":"IF($I15=1,J15,\"\")","v":""},{"$f":"IF($I15=1,K15,\"\")","v":""},{"$f":"IF($I15=1,L15,\"\")","v":""},{"$f":"IF($I15=0,J15,\"\")","v":""},{"$f":"IF($I15=0,K15,\"\")","v":""},{"$f":"IF($I15=0,L15,\"\")","v":""},{"$f":"IF(lammering[[#This Row],[Verkoop-gewicht]]=\"\",\"\",lammering[[#This Row],[Verkoop-gewicht]]-lammering[[#This Row],[geboorte-gewicht]])","v":""},{"$f":"IF(I15=1,S15,\"\")","v":""},{"$f":"IF(I15=0,S15,\"\")","v":""},{"$f":"Opzoek_ooi[[#This Row],[Ooinummer]]","v":0},"",""]
[{"$f":"lammering[[#This Row],[Ooi]]","v":0},0,0,{"$f":"IF(lammering[[#This Row],[Lam-nummer]]=\"\",0,1)","v":0},{"$f":"IF(lammering[[#This Row],[Dood in geboorte]]=\"ja\",1,0)","v":0},{"$f":"IF(lammering[[#This Row],[Ooi]]=\"\",0,IF(Berekeningen!E16=0,1,0))","v":0},{"$f":"IF(D16=0,0,IF(lammering[[#This Row],[Dood in geboorte]]=\"Ja\",0,IF(lammering[[#This Row],[Dood na geboorte]]=\"ja\",0,1)))","v":0},{"$f":"IF(lammering[[#This Row],[Opfok met kunstmelk]]=\"Ja\",1,0)","v":0},{"$f":"IF(lammering[[#This Row],[geslacht]]=\"O\",1,0)","v":0},{"$f":"IF(lammering[[#This Row],[Speen-datum]]=\"\",\"\",(lammering[[#This Row],[Speen-gewicht]]-lammering[[#This Row],[geboorte-gewicht]])/(lammering[[#This Row],[Speen-datum]]-lammering[[#This Row],[Werp-datum]]))","v":""},{"$f":"IF(lammering[[#This Row],[Verkoop-datum]]=\"\",\"\",(lammering[[#This Row],[Verkoop-gewicht]]-lammering[[#This Row],[Speen-gewicht]])/(lammering[[#This Row],[Verkoop-datum]]-lammering[[#This Row],[Speen-datum]]))","v":""},{"$f":"IF(lammering[[#This Row],[Verkoop-datum]]=\"\",\"\",(lammering[[#This Row],[Verkoop-gewicht]]-lammering[[#This Row],[geboorte-gewicht]])/(lammering[[#This Row],[Verkoop-datum]]-lammering[[#This Row],[Werp-datum]]))","v":""},"","","","","","",{"$f":"IF(lammering[[#This Row],[Verkoop-gewicht]]=\"\",\"\",lammering[[#This Row],[Verkoop-gewicht]]-lammering[[#This Row],[geboorte-gewicht]])","v":""},"","",{"$f":"Opzoek_ooi[[#This Row],[Ooinummer]]","v":0},{"$f":"IF(V16=0,\"\",COUNTIF(C$2:C$500,V16))","v":""},""]
[{"$f":"lammering[[#This Row],[Ooi]]","v":0},0,0,{"$f":"IF(lammering[[#This Row],[Lam-nummer]]=\"\",0,1)","v":0},{"$f":"IF(lammering[[#This Row],[Dood in geboorte]]=\"ja\",1,0)","v":0},{"$f":"IF(lammering[[#This Row],[Ooi]]=\"\",0,IF(Berekeningen!E17=0,1,0))","v":0},{"$f":"IF(D17=0,0,IF(lammering[[#This Row],[Dood in geboorte]]=\"Ja\",0,IF(lammering[[#This Row],[Dood na geboorte]]=\"ja\",0,1)))","v":0},{"$f":"IF(lammering[[#This Row],[Opfok met kunstmelk]]=\"Ja\",1,0)","v":0},{"$f":"IF(lammering[[#This Row],[geslacht]]=\"O\",1,0)","v":0},{"$f":"IF(lammering[[#This Row],[Speen-datum]]=\"\",\"\",(lammering[[#This Row],[Speen-gewicht]]-lammering[[#This Row],[geboorte-gewicht]])/(lammering[[#This Row],[Speen-datum]]-lammering[[#This Row],[Werp-datum]]))","v":""},{"$f":"IF(lammering[[#This Row],[Verkoop-datum]]=\"\",\"\",(lammering[[#This Row],[Verkoop-gewicht]]-lammering[[#This Row],[Speen-gewicht]])/(lammering[[#This Row],[Verkoop-datum]]-lammering[[#This Row],[Speen-datum]]))","v":""},{"$f":"IF(lammering[[#This Row],[Verkoop-datum]]=\"\",\"\",(lammering[[#This Row],[Verkoop-gewicht]]-lammering[[#This Row],[geboorte-gewicht]])/(lammering[[#This Row],[Verkoop-datum]]-lammering[[#This Row],[Werp-datum]]))","v":""},"","","","","","",{"$f":"IF(lammering[[#This Row],[Verkoop-gewicht]]=\"\",\"\",lammering[[#This Row],[Verkoop-gewicht]]-lammering[[#This Row],[geboorte-gewicht]])","v":""},"","",{"$f":"Opzoek_ooi[[#This Row],[Ooinummer]]","v":0},"",""]
[{"$f":"lammering[[#This Row],[Ooi]]","v":0},0,0,{"$f":"IF(lammering[[#This Row],[Lam-nummer]]=\"\",0,1)","v":0},{"$f":"IF(lammering[[#This Row],[Dood in geboorte]]=\"ja\",1,0)","v":0},{"$f":"IF(lammering[[#This Row],[Ooi]]=\"\",0,IF(Berekeningen!E18=0,1,0))","v":0},{"$f":"IF(D18=0,0,IF(lammering[[#This Row],[Dood in geboorte]]=\"Ja\",0,IF(lammering[[#This Row],[Dood na geboorte]]=\"ja\",0,1)))","v":0},{"$f":"IF(lammering[[#This Row],[Opfok met kunstmelk]]=\"Ja\",1,0)","v":0},{"$f":"IF(lammering[[#This Row],[geslacht]]=\"O\",1,0)","v":0},{"$f":"IF(lammering[[#This Row],[Speen-datum]]=\"\",\"\",(lammering[[#This Row],[Speen-gewicht]]-lammering[[#This Row],[geboorte-gewicht]])/(lammering[[#This Row],[Speen-datum]]-lammering[[#This Row],[Werp-datum]]))","v":""},{"$f":"IF(lammering[[#This Row],[Verkoop-datum]]=\"\",\"\",(lammering[[#This Row],[Verkoop-gewicht]]-lammering[[#This Row],[Speen-gewicht]])/(lammering[[#This Row],[Verkoop-datum]]-lammering[[#This Row],[Speen-datum]]))","v":""},{"$f":"IF(lammering[[#This Row],[Verkoop-datum]]=\"\",\"\",(lammering[[#This Row],[Verkoop-gewicht]]-lammering[[#This Row],[geboorte-gewicht]])/(lammering[[#This Row],[Verkoop-datum]]-lammering[[#This Row],[Werp-datum]]))","v":""},"","","","","","",{"$f":"IF(lammering[[#This Row],[Verkoop-gewicht]]=\"\",\"\",lammering[[#This Row],[Verkoop-gewicht]]-lammering[[#This Row],[geboorte-gewicht]])","v":""},"","",{"$f":"Opzoek_ooi[[#This Row],[Ooinummer]]","v":0},"",""]
[{"$f":"lammering[[#This Row],[Ooi]]","v":0},0,0,{"$f":"IF(lammering[[#This Row],[Lam-nummer]]=\"\",0,1)","v":0},{"$f":"IF(lammering[[#This Row],[Dood in geboorte]]=\"ja\",1,0)","v":0},{"$f":"IF(lammering[[#This Row],[Ooi]]=\"\",0,IF(Berekeningen!E19=0,1,0))","v":0},{"$f":"IF(D19=0,0,IF(lammering[[#This Row],[Dood in geboorte]]=\"Ja\",0,IF(lammering[[#This Row],[Dood na geboorte]]=\"ja\",0,1)))","v":0},{"$f":"IF(lammering[[#This Row],[Opfok met kunstmelk]]=\"Ja\",1,0)","v":0},{"$f":"IF(lammering[[#This Row],[geslacht]]=\"O\",1,0)","v":0},{"$f":"IF(lammering[[#This Row],[Speen-datum]]=\"\",\"\",(lammering[[#This Row],[Speen-gewicht]]-lammering[[#This Row],[geboorte-gewicht]])/(lammering[[#This Row],[Speen-datum]]-lammering[[#This Row],[Werp-datum]]))","v":""},{"$f":"IF(lammering[[#This Row],[Verkoop-datum]]=\"\",\"\",(lammering[[#This Row],[Verkoop-gewicht]]-lammering[[#This Row],[Speen-gewicht]])/(lammering[[#This Row],[Verkoop-datum]]-lammering[[#This Row],[Speen-datum]]))","v":""},{"$f":"IF(lammering[[#This Row],[Verkoop-datum]]=\"\",\"\",(lammering[[#This Row],[Verkoop-gewicht]]-lammering[[#This Row],[geboorte-gewicht]])/(lammering[[#This Row],[Verkoop-datum]]-lammering[[#This Row],[Werp-datum]]))","v":""},"","","","","","",{"$f":"IF(lammering[[#This Row],[Verkoop-gewicht]]=\"\",\"\",lammering[[#This Row],[Verkoop-gewicht]]-lammering[[#This Row],[geboorte-gewicht]])","v":""},"","",{"$f":"Opzoek_ooi[[#This Row],[Ooinummer]]","v":0},"",""]
[{"$f":"lammering[[#This Row],[Ooi]]","v":0},0,0,{"$f":"IF(lammering[[#This Row],[Lam-nummer]]=\"\",0,1)","v":0},{"$f":"IF(lammering[[#This Row],[Dood in geboorte]]=\"ja\",1,0)","v":0},{"$f":"IF(lammering[[#This Row],[Ooi]]=\"\",0,IF(Berekeningen!E20=0,1,0))","v":0},{"$f":"IF(D20=0,0,IF(lammering[[#This Row],[Dood in geboorte]]=\"Ja\",0,IF(lammering[[#This Row],[Dood na geboorte]]=\"ja\",0,1)))","v":0},{"$f":"IF(lammering[[#This Row],[Opfok met kunstmelk]]=\"Ja\",1,0)","v":0},{"$f":"IF(lammering[[#This Row],[geslacht]]=\"O\",1,0)","v":0},{"$f":"IF(lammering[[#This Row],[Speen-datum]]=\"\",\"\",(lammering[[#This Row],[Speen-gewicht]]-lammering[[#This Row],[geboorte-gewicht]])/(lammering[[#This Row],[Speen-datum]]-lammering[[#This Row],[Werp-datum]]))","v":""},{"$f":"IF(lammering[[#This Row],[Verkoop-datum]]=\"\",\"\",(lammering[[#This Row],[Verkoop-gewicht]]-lammering[[#This Row],[Speen-gewicht]])/(lammering[[#This Row],[Verkoop-datum]]-lammering[[#This Row],[Speen-datum]]))","v":""},{"$f":"IF(lammering[[#This Row],[Verkoop-datum]]=\"\",\"\",(lammering[[#This Row],[Verkoop-gewicht]]-lammering[[#This Row],[geboorte-gewicht]])/(lammering[[#This Row],[Verkoop-datum]]-lammering[[#This Row],[Werp-datum]]))","v":""},"","","","","","",{"$f":"IF(lammering[[#This Row],[Verkoop-gewicht]]=\"\",\"\",lammering[[#This Row],[Verkoop-gewicht]]-lammering[[#This Row],[geboorte-gewicht]])","v":""},"","",{"$f":"Opzoek_ooi[[#This Row],[Ooinummer]]","v":0},"",""]
[{"$f":"lammering[[#This Row],[Ooi]]","v":0},0,0,{"$f":"IF(lammering[[#This Row],[Lam-nummer]]=\"\",0,1)","v":0},{"$f":"IF(lammering[[#This Row],[Dood in geboorte]]=\"ja\",1,0)","v":0},{"$f":"IF(lammering[[#This Row],[Ooi]]=\"\",0,IF(Berekeningen!E21=0,1,0))","v":0},{"$f":"IF(D21=0,0,IF(lammering[[#This Row],[Dood in geboorte]]=\"Ja\",0,IF(lammering[[#This Row],[Dood na geboorte]]=\"ja\",0,1)))","v":0},{"$f":"IF(lammering[[#This Row],[Opfok met kunstmelk]]=\"Ja\",1,0)","v":0},{"$f":"IF(lammering[[#This Row],[geslacht]]=\"O\",1,0)","v":0},{"$f":"IF(lammering[[#This Row],[Speen-datum]]=\"\",\"\",(lammering[[#This Row],[Speen-gewicht]]-lammering[[#This Row],[geboorte-gewicht]])/(lammering[[#This Row],[Speen-datum]]-lammering[[#This Row],[Werp-datum]]))","v":""},{"$f":"IF(lammering[[#This Row],[Verkoop-datum]]=\"\",\"\",(lammering[[#This Row],[Verkoop-gewicht]]-lammering[[#This Row],[Speen-gewicht]])/(lammering[[#This Row],[Verkoop-datum]]-lammering[[#This Row],[Speen-datum]]))","v":""},{"$f":"IF(lammering[[#This Row],[Verkoop-datum]]=\"\",\"\",(lammering[[#This Row],[Verkoop-gewicht]]-lammering[[#This Row],[geboorte-gewicht]])/(lammering[[#This Row],[Verkoop-datum]]-lammering[[#This Row],[Werp-datum]]))","v":""},"","","","","","",{"$f":"IF(lammering[[#This Row],[Verkoop-gewicht]]=\"\",\"\",lammering[[#This Row],[Verkoop-gewicht]]-lammering[[#This Row],[geboorte-gewicht]])","v":""},"","",{"$f":"Opzoek_ooi[[#This Row],[Ooinummer]]","v":0},"",""]
[{"$f":"lammering[[#This Row],[Ooi]]","v":0},0,0,{"$f":"IF(lammering[[#This Row],[Lam-nummer]]=\"\",0,1)","v":0},{"$f":"IF(lammering[[#This Row],[Dood in geboorte]]=\"ja\",1,0)","v":0},{"$f":"IF(lammering[[#This Row],[Ooi]]=\"\",0,IF(Berekeningen!E22=0,1,0))","v":0},{"$f":"IF(D22=0,0,IF(lammering[[#This Row],[Dood in geboorte]]=\"Ja\",0,IF(lammering[[#This Row],[Dood na geboorte]]=\"ja\",0,1)))","v":0},{"$f":"IF(lammering[[#This Row],[Opfok met kunstmelk]]=\"Ja\",1,0)","v":0},{"$f":"IF(lammering[[#This Row],[geslacht]]=\"O\",1,0)","v":0},{"$f":"IF(lammering[[#This Row],[Speen-datum]]=\"\",\"\",(lammering[[#This Row],[Speen-gewicht]]-lammering[[#This Row],[geboorte-gewicht]])/(lammering[[#This Row],[Speen-datum]]-lammering[[#This Row],[Werp-datum]]))","v":""},{"$f":"IF(lammering[[#This Row],[Verkoop-datum]]=\"\",\"\",(lammering[[#This Row],[Verkoop-gewicht]]-lammering[[#This Row],[Speen-gewicht]])/(lammering[[#This Row],[Verkoop-datum]]-lammering[[#This Row],[Speen-datum]]))","v":""},{"$f":"IF(lammering[[#This Row],[Verkoop-datum]]=\"\",\"\",(lammering[[#This Row],[Verkoop-gewicht]]-lammering[[#This Row],[geboorte-gewicht]])/(lammering[[#This Row],[Verkoop-datum]]-lammering[[#This Row],[Werp-datum]]))","v":""},"","","","","","",{"$f":"IF(lammering[[#This Row],[Verkoop-gewicht]]=\"\",\"\",lammering[[#This Row],[Verkoop-gewicht]]-lammering[[#This Row],[geboorte-gewicht]])","v":""},"","",{"$f":"Opzoek_ooi[[#This Row],[Ooinummer]]","v":0},"",""]
[{"$f":"lammering[[#This Row],[Ooi]]","v":0},0,0,{"$f":"IF(lammering[[#This Row],[Lam-nummer]]=\"\",0,1)","v":0},{"$f":"IF(lammering[[#This Row],[Dood in geboorte]]=\"ja\",1,0)","v":0},{"$f":"IF(lammering[[#This Row],[Ooi]]=\"\",0,IF(Berekeningen!E23=0,1,0))","v":0},{"$f":"IF(D23=0,0,IF(lammering[[#This Row],[Dood in geboorte]]=\"Ja\",0,IF(lammering[[#This Row],[Dood na geboorte]]=\"ja\",0,1)))","v":0},{"$f":"IF(lammering[[#This Row],[Opfok met kunstmelk]]=\"Ja\",1,0)","v":0},{"$f":"IF(lammering[[#This Row],[geslacht]]=\"O\",1,0)","v":0},{"$f":"IF(lammering[[#This Row],[Speen-datum]]=\"\",\"\",(lammering[[#This Row],[Speen-gewicht]]-lammering[[#This Row],[geboorte-gewicht]])/(lammering[[#This Row],[Speen-datum]]-lammering[[#This Row],[Werp-datum]]))","v":""},{"$f":"IF(lammering[[#This Row],[Verkoop-datum]]=\"\",\"\",(lammering[[#This Row],[Verkoop-gewicht]]-lammering[[#This Row],[Speen-gewicht]])/(lammering[[#This Row],[Verkoop-datum]]-lammering[[#This Row],[Speen-datum]]))","v":""},{"$f":"IF(lammering[[#This Row],[Verkoop-datum]]=\"\",\"\",(lammering[[#This Row],[Verkoop-gewicht]]-lammering[[#This Row],[geboorte-gewicht]])/(lammering[[#This Row],[Verkoop-datum]]-lammering[[#This Row],[Werp-datum]]))","v":""},"","","","","","",{"$f":"IF(lammering[[#This Row],[Verkoop-gewicht]]=\"\",\"\",lammering[[#This Row],[Verkoop-gewicht]]-lammering[[#This Row],[geboorte-gewicht]])","v":""},"","",{"$f":"Opzoek_ooi[[#This Row],[Ooinummer]]","v":0},"",""]
[{"$f":"lammering[[#This Row],[Ooi]]","v":0},0,0,{"$f":"IF(lammering[[#This Row],[Lam-nummer]]=\"\",0,1)","v":0},{"$f":"IF(lammering[[#This Row],[Dood in geboorte]]=\"ja\",1,0)","v":0},{"$f":"IF(lammering[[#This Row],[Ooi]]=\"\",0,IF(Berekeningen!E24=0,1,0))","v":0},{"$f":"IF(D24=0,0,IF(lammering[[#This Row],[Dood in geboorte]]=\"Ja\",0,IF(lammering[[#This Row],[Dood na geboorte]]=\"ja\",0,1)))","v":0},{"$f":"IF(lammering[[#This Row],[Opfok met kunstmelk]]=\"Ja\",1,0)","v":0},{"$f":"IF(lammering[[#This Row],[geslacht]]=\"O\",1,0)","v":0},{"$f":"IF(lammering[[#This Row],[Speen-datum]]=\"\",\"\",(lammering[[#This Row],[Speen-gewicht]]-lammering[[#This Row],[geboorte-gewicht]])/(lammering[[#This Row],[Speen-datum]]-lammering[[#This Row],[Werp-datum]]))","v":""},{"$f":"IF(lammering[[#This Row],[Verkoop-datum]]=\"\",\"\",(lammering[[#This Row],[Verkoop-gewicht]]-lammering[[#This Row],[Speen-gewicht]])/(lammering[[#This Row],[Verkoop-datum]]-lammering[[#This Row],[Speen-datum]]))","v":""},{"$f":"IF(lammering[[#This Row],[Verkoop-datum]]=\"\",\"\",(lammering[[#This Row],[Verkoop-gewicht]]-lammering[[#This Row],[geboorte-gewicht]])/(lammering[[#This Row],[Verkoop-datum]]-lammering[[#This Row],[Werp-datum]]))","v":""},"","","","","","",{"$f":"IF(lammering[[#This Row],[Verkoop-gewicht]]=\"\",\"\",lammering[[#This Row],[Verkoop-gewicht]]-lammering[[#This Row],[geboorte-gewicht]])","v":""},"","",{"$f":"Opzoek_ooi[[#This Row],[Ooinummer]]","v":0},"",""]
[{"$f":"lammering[[#This Row],[Ooi]]","v":0},0,0,{"$f":"IF(lammering[[#This Row],[Lam-nummer]]=\"\",0,1)","v":0},{"$f":"IF(lammering[[#This Row],[Dood in geboorte]]=\"ja\",1,0)","v":0},{"$f":"IF(lammering[[#This Row],[Ooi]]=\"\",0,IF(Berekeningen!E25=0,1,0))","v":0},{"$f":"IF(D25=0,0,IF(lammering[[#This Row],[Dood in geboorte]]=\"Ja\",0,IF(lammering[[#This Row],[Dood na geboorte]]=\"ja\",0,1)))","v":0},{"$f":"IF(lammering[[#This Row],[Opfok met kunstmelk]]=\"Ja\",1,0)","v":0},{"$f":"IF(lammering[[#This Row],[geslacht]]=\"O\",1,0)","v":0},{"$f":"IF(lammering[[#This Row],[Speen-datum]]=\"\",\"\",(lammering[[#This Row],[Speen-gewicht]]-lammering[[#This Row],[geboorte-gewicht]])/(lammering[[#This Row],[Speen-datum]]-lammering[[#This Row],[Werp-datum]]))","v":""},{"$f":"IF(lammering[[#This Row],[Verkoop-datum]]=\"\",\"\",(lammering[[#This Row],[Verkoop-gewicht]]-lammering[[#This Row],[Speen-gewicht]])/(lammering[[#This Row],[Verkoop-datum]]-lammering[[#This Row],[Speen-datum]]))","v":""},{"$f":"IF(lammering[[#This Row],[Verkoop-datum]]=\"\",\"\",(lammering[[#This Row],[Verkoop-gewicht]]-lammering[[#This Row],[geboorte-gewicht]])/(lammering[[#This Row],[Verkoop-datum]]-lammering[[#This Row],[Werp-datum]]))","v":""},"","","","","","",{"$f":"IF(lammering[[#This Row],[Verkoop-gewicht]]=\"\",\"\",lammering[[#This Row],[Verkoop-gewicht]]-lammering[[#This Row],[geboorte-gewicht]])","v":""},"","",{"$f":"Opzoek_ooi[[#This Row],[Ooinummer]]","v":0},"",""]
[{"$f":"lammering[[#This Row],[Ooi]]","v":0},0,0,{"$f":"IF(lammering[[#This Row],[Lam-nummer]]=\"\",0,1)","v":0},{"$f":"IF(lammering[[#This Row],[Dood in geboorte]]=\"ja\",1,0)","v":0},{"$f":"IF(lammering[[#This Row],[Ooi]]=\"\",0,IF(Berekeningen!E26=0,1,0))","v":0},{"$f":"IF(D26=0,0,IF(lammering[[#This Row],[Dood in geboorte]]=\"Ja\",0,IF(lammering[[#This Row],[Dood na geboorte]]=\"ja\",0,1)))","v":0},{"$f":"IF(lammering[[#This Row],[Opfok met kunstmelk]]=\"Ja\",1,0)","v":0},{"$f":"IF(lammering[[#This Row],[geslacht]]=\"O\",1,0)","v":0},{"$f":"IF(lammering[[#This Row],[Speen-datum]]=\"\",\"\",(lammering[[#This Row],[Speen-gewicht]]-lammering[[#This Row],[geboorte-gewicht]])/(lammering[[#This Row],[Speen-datum]]-lammering[[#This Row],[Werp-datum]]))","v":""},{"$f":"IF(lammering[[#This Row],[Verkoop-datum]]=\"\",\"\",(lammering[[#This Row],[Verkoop-gewicht]]-lammering[[#This Row],[Speen-gewicht]])/(lammering[[#This Row],[Verkoop-datum]]-lammering[[#This Row],[Speen-datum]]))","v":""},{"$f":"IF(lammering[[#This Row],[Verkoop-datum]]=\"\",\"\",(lammering[[#This Row],[Verkoop-gewicht]]-lammering[[#This Row],[geboorte-gewicht]])/(lammering[[#This Row],[Verkoop-datum]]-lammering[[#This Row],[Werp-datum]]))","v":""},"","","","","","",{"$f":"IF(lammering[[#This Row],[Verkoop-gewicht]]=\"\",\"\",lammering[[#This Row],[Verkoop-gewicht]]-lammering[[#This Row],[geboorte-gewicht]])","v":""},"","",{"$f":"Opzoek_ooi[[#This Row],[Ooinummer]]","v":0},"",""]
[{"$f":"lammering[[#This Row],[Ooi]]","v":0},0,0,{"$f":"IF(lammering[[#This Row],[Lam-nummer]]=\"\",0,1)","v":0},{"$f":"IF(lammering[[#This Row],[Dood in geboorte]]=\"ja\",1,0)","v":0},{"$f":"IF(lammering[[#This Row],[Ooi]]=\"\",0,IF(Berekeningen!E27=0,1,0))","v":0},{"$f":"IF(D27=0,0,IF(lammering[[#This Row],[Dood in geboorte]]=\"Ja\",0,IF(lammering[[#This Row],[Dood na geboorte]]=\"ja\",0,1)))","v":0},{"$f":"IF(lammering[[#This Row],[Opfok met kunstmelk]]=\"Ja\",1,0)","v":0},{"$f":"IF(lammering[[#This Row],[geslacht]]=\"O\",1,0)","v":0},{"$f":"IF(lammering[[#This Row],[Speen-datum]]=\"\",\"\",(lammering[[#This Row],[Speen-gewicht]]-lammering[[#This Row],[geboorte-gewicht]])/(lammering[[#This Row],[Speen-datum]]-lammering[[#This Row],[Werp-datum]]))","v":""},{"$f":"IF(lammering[[#This Row],[Verkoop-datum]]=\"\",\"\",(lammering[[#This Row],[Verkoop-gewicht]]-lammering[[#This Row],[Speen-gewicht]])/(lammering[[#This Row],[Verkoop-datum]]-lammering[[#This Row],[Speen-datum]]))","v":""},{"$f":"IF(lammering[[#This Row],[Verkoop-datum]]=\"\",\"\",(lammering[[#This Row],[Verkoop-gewicht]]-lammering[[#This Row],[geboorte-gewicht]])/(lammering[[#This Row],[Verkoop-datum]]-lammering[[#This Row],[Werp-datum]]))","v":""},"","","","","","",{"$f":"IF(lammering[[#This Row],[Verkoop-gewicht]]=\"\",\"\",lammering[[#This Row],[Verkoop-gewicht]]-lammering[[#This Row],[geboorte-gewicht]])","v":""},"","",{"$f":"Opzoek_ooi[[#This Row],[Ooinummer]]","v":0},"",""]
[{"$f":"lammering[[#This Row],[Ooi]]","v":0},0,0,{"$f":"IF(lammering[[#This Row],[Lam-nummer]]=\"\",0,1)","v":0},{"$f":"IF(lammering[[#This Row],[Dood in geboorte]]=\"ja\",1,0)","v":0},{"$f":"IF(lammering[[#This Row],[Ooi]]=\"\",0,IF(Berekeningen!E28=0,1,0))","v":0},{"$f":"IF(D28=0,0,IF(lammering[[#This Row],[Dood in geboorte]]=\"Ja\",0,IF(lammering[[#This Row],[Dood na geboorte]]=\"ja\",0,1)))","v":0},{"$f":"IF(lammering[[#This Row],[Opfok met kunstmelk]]=\"Ja\",1,0)","v":0},{"$f":"IF(lammering[[#This Row],[geslacht]]=\"O\",1,0)","v":0},{"$f":"IF(lammering[[#This Row],[Speen-datum]]=\"\",\"\",(lammering[[#This Row],[Speen-gewicht]]-lammering[[#This Row],[geboorte-gewicht]])/(lammering[[#This Row],[Speen-datum]]-lammering[[#This Row],[Werp-datum]]))","v":""},{"$f":"IF(lammering[[#This Row],[Verkoop-datum]]=\"\",\"\",(lammering[[#This Row],[Verkoop-gewicht]]-lammering[[#This Row],[Speen-gewicht]])/(lammering[[#This Row],[Verkoop-datum]]-lammering[[#This Row],[Speen-datum]]))","v":""},{"$f":"IF(lammering[[#This Row],[Verkoop-datum]]=\"\",\"\",(lammering[[#This Row],[Verkoop-gewicht]]-lammering[[#This Row],[geboorte-gewicht]])/(lammering[[#This Row],[Verkoop-datum]]-lammering[[#This Row],[Werp-datum]]))","v":""},"","","","","","",{"$f":"IF(lammering[[#This Row],[Verkoop-gewicht]]=\"\",\"\",lammering[[#This Row],[Verkoop-gewicht]]-lammering[[#This Row],[geboorte-gewicht]])","v":""},"","",{"$f":"Opzoek_ooi[[#This Row],[Ooinummer]]","v":0},"",""]
[{"$f":"lammering[[#This Row],[Ooi]]","v":0},0,0,{"$f":"IF(lammering[[#This Row],[Lam-nummer]]=\"\",0,1)","v":0},{"$f":"IF(lammering[[#This Row],[Dood in geboorte]]=\"ja\",1,0)","v":0},{"$f":"IF(lammering[[#This Row],[Ooi]]=\"\",0,IF(Berekeningen!E29=0,1,0))","v":0},{"$f":"IF(D29=0,0,IF(lammering[[#This Row],[Dood in geboorte]]=\"Ja\",0,IF(lammering[[#This Row],[Dood na geboorte]]=\"ja\",0,1)))","v":0},{"$f":"IF(lammering[[#This Row],[Opfok met kunstmelk]]=\"Ja\",1,0)","v":0},{"$f":"IF(lammering[[#This Row],[geslacht]]=\"O\",1,0)","v":0},{"$f":"IF(lammering[[#This Row],[Speen-datum]]=\"\",\"\",(lammering[[#This Row],[Speen-gewicht]]-lammering[[#This Row],[geboorte-gewicht]])/(lammering[[#This Row],[Speen-datum]]-lammering[[#This Row],[Werp-datum]]))","v":""},{"$f":"IF(lammering[[#This Row],[Verkoop-datum]]=\"\",\"\",(lammering[[#This Row],[Verkoop-gewicht]]-lammering[[#This Row],[Speen-gewicht]])/(lammering[[#This Row],[Verkoop-datum]]-lammering[[#This Row],[Speen-datum]]))","v":""},{"$f":"IF(lammering[[#This Row],[Verkoop-datum]]=\"\",\"\",(lammering[[#This Row],[Verkoop-gewicht]]-lammering[[#This Row],[geboorte-gewicht]])/(lammering[[#This Row],[Verkoop-datum]]-lammering[[#This Row],[Werp-datum]]))","v":""},"","","","","","",{"$f":"IF(lammering[[#This Row],[Verkoop-gewicht]]=\"\",\"\",lammering[[#This Row],[Verkoop-gewicht]]-lammering[[#This Row],[geboorte-gewicht]])","v":""},"","",{"$f":"Opzoek_ooi[[#This Row],[Ooinummer]]","v":0},"",""]
[{"$f":"lammering[[#This Row],[Ooi]]","v":0},0,0,{"$f":"IF(lammering[[#This Row],[Lam-nummer]]=\"\",0,1)","v":0},{"$f":"IF(lammering[[#This Row],[Dood in geboorte]]=\"ja\",1,0)","v":0},{"$f":"IF(lammering[[#This Row],[Ooi]]=\"\",0,IF(Berekeningen!E30=0,1,0))","v":0},{"$f":"IF(D30=0,0,IF(lammering[[#This Row],[Dood in geboorte]]=\"Ja\",0,IF(lammering[[#This Row],[Dood na geboorte]]=\"ja\",0,1)))","v":0},{"$f":"IF(lammering[[#This Row],[Opfok met kunstmelk]]=\"Ja\",1,0)","v":0},{"$f":"IF(lammering[[#This Row],[geslacht]]=\"O\",1,0)","v":0},{"$f":"IF(lammering[[#This Row],[Speen-datum]]=\"\",\"\",(lammering[[#This Row],[Speen-gewicht]]-lammering[[#This Row],[geboorte-gewicht]])/(lammering[[#This Row],[Speen-datum]]-lammering[[#This Row],[Werp-datum]]))","v":""},{"$f":"IF(lammering[[#This Row],[Verkoop-datum]]=\"\",\"\",(lammering[[#This Row],[Verkoop-gewicht]]-lammering[[#This Row],[Speen-gewicht]])/(lammering[[#This Row],[Verkoop-datum]]-lammering[[#This Row],[Speen-datum]]))","v":""},{"$f":"IF(lammering[[#This Row],[Verkoop-datum]]=\"\",\"\",(lammering[[#This Row],[Verkoop-gewicht]]-lammering[[#This Row],[geboorte-gewicht]])/(lammering[[#This Row],[Verkoop-datum]]-lammering[[#This Row],[Werp-datum]]))","v":""},"","","","","","",{"$f":"IF(lammering[[#This Row],[Verkoop-gewicht]]=\"\",\"\",lammering[[#This Row],[Verkoop-gewicht]]-lammering[[#This Row],[geboorte-gewicht]])","v":""},"","",{"$f":"Opzoek_ooi[[#This Row],[Ooinummer]]","v":0},"",""]
[{"$f":"lammering[[#This Row],[Ooi]]","v":0},0,0,{"$f":"IF(lammering[[#This Row],[Lam-nummer]]=\"\",0,1)","v":0},{"$f":"IF(lammering[[#This Row],[Dood in geboorte]]=\"ja\",1,0)","v":0},{"$f":"IF(lammering[[#This Row],[Ooi]]=\"\",0,IF(Berekeningen!E31=0,1,0))","v":0},{"$f":"IF(D31=0,0,IF(lammering[[#This Row],[Dood in geboorte]]=\"Ja\",0,IF(lammering[[#This Row],[Dood na geboorte]]=\"ja\",0,1)))","v":0},{"$f":"IF(lammering[[#This Row],[Opfok met kunstmelk]]=\"Ja\",1,0)","v":0},{"$f":"IF(lammering[[#This Row],[geslacht]]=\"O\",1,0)","v":0},{"$f":"IF(lammering[[#This Row],[Speen-datum]]=\"\",\"\",(lammering[[#This Row],[Speen-gewicht]]-lammering[[#This Row],[geboorte-gewicht]])/(lammering[[#This Row],[Speen-datum]]-lammering[[#This Row],[Werp-datum]]))","v":""},{"$f":"IF(lammering[[#This Row],[Verkoop-datum]]=\"\",\"\",(lammering[[#This Row],[Verkoop-gewicht]]-lammering[[#This Row],[Speen-gewicht]])/(lammering[[#This Row],[Verkoop-datum]]-lammering[[#This Row],[Speen-datum]]))","v":""},{"$f":"IF(lammering[[#This Row],[Verkoop-datum]]=\"\",\"\",(lammering[[#This Row],[Verkoop-gewicht]]-lammering[[#This Row],[geboorte-gewicht]])/(lammering[[#This Row],[Verkoop-datum]]-lammering[[#This Row],[Werp-datum]]))","v":""},"","","","","","",{"$f":"IF(lammering[[#This Row],[Verkoop-gewicht]]=\"\",\"\",lammering[[#This Row],[Verkoop-gewicht]]-lammering[[#This Row],[geboorte-gewicht]])","v":""},"","",{"$f":"Opzoek_ooi[[#This Row],[Ooinummer]]","v":0},"",""]
[{"$f":"lammering[[#This Row],[Ooi]]","v":0},0,0,{"$f":"IF(lammering[[#This Row],[Lam-nummer]]=\"\",0,1)","v":0},{"$f":"IF(lammering[[#This Row],[Dood in geboorte]]=\"ja\",1,0)","v":0},{"$f":"IF(lammering[[#This Row],[Ooi]]=\"\",0,IF(Berekeningen!E32=0,1,0))","v":0},{"$f":"IF(D32=0,0,IF(lammering[[#This Row],[Dood in geboorte]]=\"Ja\",0,IF(lammering[[#This Row],[Dood na geboorte]]=\"ja\",0,1)))","v":0},{"$f":"IF(lammering[[#This Row],[Opfok met kunstmelk]]=\"Ja\",1,0)","v":0},{"$f":"IF(lammering[[#This Row],[geslacht]]=\"O\",1,0)","v":0},{"$f":"IF(lammering[[#This Row],[Speen-datum]]=\"\",\"\",(lammering[[#This Row],[Speen-gewicht]]-lammering[[#This Row],[geboorte-gewicht]])/(lammering[[#This Row],[Speen-datum]]-lammering[[#This Row],[Werp-datum]]))","v":""},{"$f":"IF(lammering[[#This Row],[Verkoop-datum]]=\"\",\"\",(lammering[[#This Row],[Verkoop-gewicht]]-lammering[[#This Row],[Speen-gewicht]])/(lammering[[#This Row],[Verkoop-datum]]-lammering[[#This Row],[Speen-datum]]))","v":""},{"$f":"IF(lammering[[#This Row],[Verkoop-datum]]=\"\",\"\",(lammering[[#This Row],[Verkoop-gewicht]]-lammering[[#This Row],[geboorte-gewicht]])/(lammering[[#This Row],[Verkoop-datum]]-lammering[[#This Row],[Werp-datum]]))","v":""},"","","","","","",{"$f":"IF(lammering[[#This Row],[Verkoop-gewicht]]=\"\",\"\",lammering[[#This Row],[Verkoop-gewicht]]-lammering[[#This Row],[geboorte-gewicht]])","v":""},"","",{"$f":"Opzoek_ooi[[#This Row],[Ooinummer]]","v":0},"",""]
[{"$f":"lammering[[#This Row],[Ooi]]","v":0},0,0,{"$f":"IF(lammering[[#This Row],[Lam-nummer]]=\"\",0,1)","v":0},{"$f":"IF(lammering[[#This Row],[Dood in geboorte]]=\"ja\",1,0)","v":0},{"$f":"IF(lammering[[#This Row],[Ooi]]=\"\",0,IF(Berekeningen!E33=0,1,0))","v":0},{"$f":"IF(D33=0,0,IF(lammering[[#This Row],[Dood in geboorte]]=\"Ja\",0,IF(lammering[[#This Row],[Dood na geboorte]]=\"ja\",0,1)))","v":0},{"$f":"IF(lammering[[#This Row],[Opfok met kunstmelk]]=\"Ja\",1,0)","v":0},{"$f":"IF(lammering[[#This Row],[geslacht]]=\"O\",1,0)","v":0},{"$f":"IF(lammering[[#This Row],[Speen-datum]]=\"\",\"\",(lammering[[#This Row],[Speen-gewicht]]-lammering[[#This Row],[geboorte-gewicht]])/(lammering[[#This Row],[Speen-datum]]-lammering[[#This Row],[Werp-datum]]))","v":""},{"$f":"IF(lammering[[#This Row],[Verkoop-datum]]=\"\",\"\",(lammering[[#This Row],[Verkoop-gewicht]]-lammering[[#This Row],[Speen-gewicht]])/(lammering[[#This Row],[Verkoop-datum]]-lammering[[#This Row],[Speen-datum]]))","v":""},{"$f":"IF(lammering[[#This Row],[Verkoop-datum]]=\"\",\"\",(lammering[[#This Row],[Verkoop-gewicht]]-lammering[[#This Row],[geboorte-gewicht]])/(lammering[[#This Row],[Verkoop-datum]]-lammering[[#This Row],[Werp-datum]]))","v":""},"","","","","","",{"$f":"IF(lammering[[#This Row],[Verkoop-gewicht]]=\"\",\"\",lammering[[#This Row],[Verkoop-gewicht]]-lammering[[#This Row],[geboorte-gewicht]])","v":""},"","",{"$f":"Opzoek_ooi[[#This Row],[Ooinummer]]","v":0},"",""]
[{"$f":"lammering[[#This Row],[Ooi]]","v":0},0,0,{"$f":"IF(lammering[[#This Row],[Lam-nummer]]=\"\",0,1)","v":0},{"$f":"IF(lammering[[#This Row],[Dood in geboorte]]=\"ja\",1,0)","v":0},{"$f":"IF(lammering[[#This Row],[Ooi]]=\"\",0,IF(Berekeningen!E34=0,1,0))","v":0},{"$f":"IF(D34=0,0,IF(lammering[[#This Row],[Dood in geboorte]]=\"Ja\",0,IF(lammering[[#This Row],[Dood na geboorte]]=\"ja\",0,1)))","v":0},{"$f":"IF(lammering[[#This Row],[Opfok met kunstmelk]]=\"Ja\",1,0)","v":0},{"$f":"IF(lammering[[#This Row],[geslacht]]=\"O\",1,0)","v":0},{"$f":"IF(lammering[[#This Row],[Speen-datum]]=\"\",\"\",(lammering[[#This Row],[Speen-gewicht]]-lammering[[#This Row],[geboorte-gewicht]])/(lammering[[#This Row],[Speen-datum]]-lammering[[#This Row],[Werp-datum]]))","v":""},{"$f":"IF(lammering[[#This Row],[Verkoop-datum]]=\"\",\"\",(lammering[[#This Row],[Verkoop-gewicht]]-lammering[[#This Row],[Speen-gewicht]])/(lammering[[#This Row],[Verkoop-datum]]-lammering[[#This Row],[Speen-datum]]))","v":""},{"$f":"IF(lammering[[#This Row],[Verkoop-datum]]=\"\",\"\",(lammering[[#This Row],[Verkoop-gewicht]]-lammering[[#This Row],[geboorte-gewicht]])/(lammering[[#This Row],[Verkoop-datum]]-lammering[[#This Row],[Werp-datum]]))","v":""},"","","","","","",{"$f":"IF(lammering[[#This Row],[Verkoop-gewicht]]=\"\",\"\",lammering[[#This Row],[Verkoop-gewicht]]-lammering[[#This Row],[geboorte-gewicht]])","v":""},"","",{"$f":"Opzoek_ooi[[#This Row],[Ooinummer]]","v":0},"",""]
[{"$f":"lammering[[#This Row],[Ooi]]","v":0},0,0,{"$f":"IF(lammering[[#This Row],[Lam-nummer]]=\"\",0,1)","v":0},{"$f":"IF(lammering[[#This Row],[Dood in geboorte]]=\"ja\",1,0)","v":0},{"$f":"IF(lammering[[#This Row],[Ooi]]=\"\",0,IF(Berekeningen!E35=0,1,0))","v":0},{"$f":"IF(D35=0,0,IF(lammering[[#This Row],[Dood in geboorte]]=\"Ja\",0,IF(lammering[[#This Row],[Dood na geboorte]]=\"ja\",0,1)))","v":0},{"$f":"IF(lammering[[#This Row],[Opfok met kunstmelk]]=\"Ja\",1,0)","v":0},{"$f":"IF(lammering[[#This Row],[geslacht]]=\"O\",1,0)","v":0},{"$f":"IF(lammering[[#This Row],[Speen-datum]]=\"\",\"\",(lammering[[#This Row],[Speen-gewicht]]-lammering[[#This Row],[geboorte-gewicht]])/(lammering[[#This Row],[Speen-datum]]-lammering[[#This Row],[Werp-datum]]))","v":""},{"$f":"IF(lammering[[#This Row],[Verkoop-datum]]=\"\",\"\",(lammering[[#This Row],[Verkoop-gewicht]]-lammering[[#This Row],[Speen-gewicht]])/(lammering[[#This Row],[Verkoop-datum]]-lammering[[#This Row],[Speen-datum]]))","v":""},{"$f":"IF(lammering[[#This Row],[Verkoop-datum]]=\"\",\"\",(lammering[[#This Row],[Verkoop-gewicht]]-lammering[[#This Row],[geboorte-gewicht]])/(lammering[[#This Row],[Verkoop-datum]]-lammering[[#This Row],[Werp-datum]]))","v":""},"","","","","","",{"$f":"IF(lammering[[#This Row],[Verkoop-gewicht]]=\"\",\"\",lammering[[#This Row],[Verkoop-gewicht]]-lammering[[#This Row],[geboorte-gewicht]])","v":""},"","",{"$f":"Opzoek_ooi[[#This Row],[Ooinummer]]","v":0},"",""]
[{"$f":"lammering[[#This Row],[Ooi]]","v":0},0,0,{"$f":"IF(lammering[[#This Row],[Lam-nummer]]=\"\",0,1)","v":0},{"$f":"IF(lammering[[#This Row],[Dood in geboorte]]=\"ja\",1,0)","v":0},{"$f":"IF(lammering[[#This Row],[Ooi]]=\"\",0,IF(Berekeningen!E36=0,1,0))","v":0},{"$f":"IF(D36=0,0,IF(lammering[[#This Row],[Dood in geboorte]]=\"Ja\",0,IF(lammering[[#This Row],[Dood na geboorte]]=\"ja\",0,1)))","v":0},{"$f":"IF(lammering[[#This Row],[Opfok met kunstmelk]]=\"Ja\",1,0)","v":0},{"$f":"IF(lammering[[#This Row],[geslacht]]=\"O\",1,0)","v":0},{"$f":"IF(lammering[[#This Row],[Speen-datum]]=\"\",\"\",(lammering[[#This Row],[Speen-gewicht]]-lammering[[#This Row],[geboorte-gewicht]])/(lammering[[#This Row],[Speen-datum]]-lammering[[#This Row],[Werp-datum]]))","v":""},{"$f":"IF(lammering[[#This Row],[Verkoop-datum]]=\"\",\"\",(lammering[[#This Row],[Verkoop-gewicht]]-lammering[[#This Row],[Speen-gewicht]])/(lammering[[#This Row],[Verkoop-datum]]-lammering[[#This Row],[Speen-datum]]))","v":""},{"$f":"IF(lammering[[#This Row],[Verkoop-datum]]=\"\",\"\",(lammering[[#This Row],[Verkoop-gewicht]]-lammering[[#This Row],[geboorte-gewicht]])/(lammering[[#This Row],[Verkoop-datum]]-lammering[[#This Row],[Werp-datum]]))","v":""},"","","","","","",{"$f":"IF(lammering[[#This Row],[Verkoop-gewicht]]=\"\",\"\",lammering[[#This Row],[Verkoop-gewicht]]-lammering[[#This Row],[geboorte-gewicht]])","v":""},"","",{"$f":"Opzoek_ooi[[#This Row],[Ooinummer]]","v":0},"",""]
[{"$f":"lammering[[#This Row],[Ooi]]","v":0},0,0,{"$f":"IF(lammering[[#This Row],[Lam-nummer]]=\"\",0,1)","v":0},{"$f":"IF(lammering[[#This Row],[Dood in geboorte]]=\"ja\",1,0)","v":0},{"$f":"IF(lammering[[#This Row],[Ooi]]=\"\",0,IF(Berekeningen!E37=0,1,0))","v":0},{"$f":"IF(D37=0,0,IF(lammering[[#This Row],[Dood in geboorte]]=\"Ja\",0,IF(lammering[[#This Row],[Dood na geboorte]]=\"ja\",0,1)))","v":0},{"$f":"IF(lammering[[#This Row],[Opfok met kunstmelk]]=\"Ja\",1,0)","v":0},{"$f":"IF(lammering[[#This Row],[geslacht]]=\"O\",1,0)","v":0},{"$f":"IF(lammering[[#This Row],[Speen-datum]]=\"\",\"\",(lammering[[#This Row],[Speen-gewicht]]-lammering[[#This Row],[geboorte-gewicht]])/(lammering[[#This Row],[Speen-datum]]-lammering[[#This Row],[Werp-datum]]))","v":""},{"$f":"IF(lammering[[#This Row],[Verkoop-datum]]=\"\",\"\",(lammering[[#This Row],[Verkoop-gewicht]]-lammering[[#This Row],[Speen-gewicht]])/(lammering[[#This Row],[Verkoop-datum]]-lammering[[#This Row],[Speen-datum]]))","v":""},{"$f":"IF(lammering[[#This Row],[Verkoop-datum]]=\"\",\"\",(lammering[[#This Row],[Verkoop-gewicht]]-lammering[[#This Row],[geboorte-gewicht]])/(lammering[[#This Row],[Verkoop-datum]]-lammering[[#This Row],[Werp-datum]]))","v":""},"","","","","","",{"$f":"IF(lammering[[#This Row],[Verkoop-gewicht]]=\"\",\"\",lammering[[#This Row],[Verkoop-gewicht]]-lammering[[#This Row],[geboorte-gewicht]])","v":""},"","",{"$f":"Opzoek_ooi[[#This Row],[Ooinummer]]","v":0},"",""]
[{"$f":"lammering[[#This Row],[Ooi]]","v":0},0,0,{"$f":"IF(lammering[[#This Row],[Lam-nummer]]=\"\",0,1)","v":0},{"$f":"IF(lammering[[#This Row],[Dood in geboorte]]=\"ja\",1,0)","v":0},{"$f":"IF(lammering[[#This Row],[Ooi]]=\"\",0,IF(Berekeningen!E38=0,1,0))","v":0},{"$f":"IF(D38=0,0,IF(lammering[[#This Row],[Dood in geboorte]]=\"Ja\",0,IF(lammering[[#This Row],[Dood na geboorte]]=\"ja\",0,1)))","v":0},{"$f":"IF(lammering[[#This Row],[Opfok met kunstmelk]]=\"Ja\",1,0)","v":0},{"$f":"IF(lammering[[#This Row],[geslacht]]=\"O\",1,0)","v":0},{"$f":"IF(lammering[[#This Row],[Speen-datum]]=\"\",\"\",(lammering[[#This Row],[Speen-gewicht]]-lammering[[#This Row],[geboorte-gewicht]])/(lammering[[#This Row],[Speen-datum]]-lammering[[#This Row],[Werp-datum]]))","v":""},{"$f":"IF(lammering[[#This Row],[Verkoop-datum]]=\"\",\"\",(lammering[[#This Row],[Verkoop-gewicht]]-lammering[[#This Row],[Speen-gewicht]])/(lammering[[#This Row],[Verkoop-datum]]-lammering[[#This Row],[Speen-datum]]))","v":""},{"$f":"IF(lammering[[#This Row],[Verkoop-datum]]=\"\",\"\",(lammering[[#This Row],[Verkoop-gewicht]]-lammering[[#This Row],[geboorte-gewicht]])/(lammering[[#This Row],[Verkoop-datum]]-lammering[[#This Row],[Werp-datum]]))","v":""},"","","","","","",{"$f":"IF(lammering[[#This Row],[Verkoop-gewicht]]=\"\",\"\",lammering[[#This Row],[Verkoop-gewicht]]-lammering[[#This Row],[geboorte-gewicht]])","v":""},"","",{"$f":"Opzoek_ooi[[#This Row],[Ooinummer]]","v":0},"",""]
[{"$f":"lammering[[#This Row],[Ooi]]","v":0},0,0,{"$f":"IF(lammering[[#This Row],[Lam-nummer]]=\"\",0,1)","v":0},{"$f":"IF(lammering[[#This Row],[Dood in geboorte]]=\"ja\",1,0)","v":0},{"$f":"IF(lammering[[#This Row],[Ooi]]=\"\",0,IF(Berekeningen!E39=0,1,0))","v":0},{"$f":"IF(D39=0,0,IF(lammering[[#This Row],[Dood in geboorte]]=\"Ja\",0,IF(lammering[[#This Row],[Dood na geboorte]]=\"ja\",0,1)))","v":0},{"$f":"IF(lammering[[#This Row],[Opfok met kunstmelk]]=\"Ja\",1,0)","v":0},{"$f":"IF(lammering[[#This Row],[geslacht]]=\"O\",1,0)","v":0},{"$f":"IF(lammering[[#This Row],[Speen-datum]]=\"\",\"\",(lammering[[#This Row],[Speen-gewicht]]-lammering[[#This Row],[geboorte-gewicht]])/(lammering[[#This Row],[Speen-datum]]-lammering[[#This Row],[Werp-datum]]))","v":""},{"$f":"IF(lammering[[#This Row],[Verkoop-datum]]=\"\",\"\",(lammering[[#This Row],[Verkoop-gewicht]]-lammering[[#This Row],[Speen-gewicht]])/(lammering[[#This Row],[Verkoop-datum]]-lammering[[#This Row],[Speen-datum]]))","v":""},{"$f":"IF(lammering[[#This Row],[Verkoop-datum]]=\"\",\"\",(lammering[[#This Row],[Verkoop-gewicht]]-lammering[[#This Row],[geboorte-gewicht]])/(lammering[[#This Row],[Verkoop-datum]]-lammering[[#This Row],[Werp-datum]]))","v":""},"","","","","","",{"$f":"IF(lammering[[#This Row],[Verkoop-gewicht]]=\"\",\"\",lammering[[#This Row],[Verkoop-gewicht]]-lammering[[#This Row],[geboorte-gewicht]])","v":""},"","",{"$f":"Opzoek_ooi[[#This Row],[Ooinummer]]","v":0},"",""]
[{"$f":"lammering[[#This Row],[Ooi]]","v":0},0,0,{"$f":"IF(lammering[[#This Row],[Lam-nummer]]=\"\",0,1)","v":0},{"$f":"IF(lammering[[#This Row],[Dood in geboorte]]=\"ja\",1,0)","v":0},{"$f":"IF(lammering[[#This Row],[Ooi]]=\"\",0,IF(Berekeningen!E40=0,1,0))","v":0},{"$f":"IF(D40=0,0,IF(lammering[[#This Row],[Dood in geboorte]]=\"Ja\",0,IF(lammering[[#This Row],[Dood na geboorte]]=\"ja\",0,1)))","v":0},{"$f":"IF(lammering[[#This Row],[Opfok met kunstmelk]]=\"Ja\",1,0)","v":0},{"$f":"IF(lammering[[#This Row],[geslacht]]=\"O\",1,0)","v":0},{"$f":"IF(lammering[[#This Row],[Speen-datum]]=\"\",\"\",(lammering[[#This Row],[Speen-gewicht]]-lammering[[#This Row],[geboorte-gewicht]])/(lammering[[#This Row],[Speen-datum]]-lammering[[#This Row],[Werp-datum]]))","v":""},{"$f":"IF(lammering[[#This Row],[Verkoop-datum]]=\"\",\"\",(lammering[[#This Row],[Verkoop-gewicht]]-lammering[[#This Row],[Speen-gewicht]])/(lammering[[#This Row],[Verkoop-datum]]-lammering[[#This Row],[Speen-datum]]))","v":""},{"$f":"IF(lammering[[#This Row],[Verkoop-datum]]=\"\",\"\",(lammering[[#This Row],[Verkoop-gewicht]]-lammering[[#This Row],[geboorte-gewicht]])/(lammering[[#This Row],[Verkoop-datum]]-lammering[[#This Row],[Werp-datum]]))","v":""},"","","","","","",{"$f":"IF(lammering[[#This Row],[Verkoop-gewicht]]=\"\",\"\",lammering[[#This Row],[Verkoop-gewicht]]-lammering[[#This Row],[geboorte-gewicht]])","v":""},"","",{"$f":"Opzoek_ooi[[#This Row],[Ooinummer]]","v":0},"",""]
[{"$f":"lammering[[#This Row],[Ooi]]","v":0},0,0,{"$f":"IF(lammering[[#This Row],[Lam-nummer]]=\"\",0,1)","v":0},{"$f":"IF(lammering[[#This Row],[Dood in geboorte]]=\"ja\",1,0)","v":0},{"$f":"IF(lammering[[#This Row],[Ooi]]=\"\",0,IF(Berekeningen!E41=0,1,0))","v":0},{"$f":"IF(D41=0,0,IF(lammering[[#This Row],[Dood in geboorte]]=\"Ja\",0,IF(lammering[[#This Row],[Dood na geboorte]]=\"ja\",0,1)))","v":0},{"$f":"IF(lammering[[#This Row],[Opfok met kunstmelk]]=\"Ja\",1,0)","v":0},{"$f":"IF(lammering[[#This Row],[geslacht]]=\"O\",1,0)","v":0},{"$f":"IF(lammering[[#This Row],[Speen-datum]]=\"\",\"\",(lammering[[#This Row],[Speen-gewicht]]-lammering[[#This Row],[geboorte-gewicht]])/(lammering[[#This Row],[Speen-datum]]-lammering[[#This Row],[Werp-datum]]))","v":""},{"$f":"IF(lammering[[#This Row],[Verkoop-datum]]=\"\",\"\",(lammering[[#This Row],[Verkoop-gewicht]]-lammering[[#This Row],[Speen-gewicht]])/(lammering[[#This Row],[Verkoop-datum]]-lammering[[#This Row],[Speen-datum]]))","v":""},{"$f":"IF(lammering[[#This Row],[Verkoop-datum]]=\"\",\"\",(lammering[[#This Row],[Verkoop-gewicht]]-lammering[[#This Row],[geboorte-gewicht]])/(lammering[[#This Row],[Verkoop-datum]]-lammering[[#This Row],[Werp-datum]]))","v":""},"","","","","","",{"$f":"IF(lammering[[#This Row],[Verkoop-gewicht]]=\"\",\"\",lammering[[#This Row],[Verkoop-gewicht]]-lammering[[#This Row],[geboorte-gewicht]])","v":""},"","",{"$f":"Opzoek_ooi[[#This Row],[Ooinummer]]","v":0},"",""]
[{"$f":"lammering[[#This Row],[Ooi]]","v":0},0,0,{"$f":"IF(lammering[[#This Row],[Lam-nummer]]=\"\",0,1)","v":0},{"$f":"IF(lammering[[#This Row],[Dood in geboorte]]=\"ja\",1,0)","v":0},{"$f":"IF(lammering[[#This Row],[Ooi]]=\"\",0,IF(Berekeningen!E42=0,1,0))","v":0},{"$f":"IF(D42=0,0,IF(lammering[[#This Row],[Dood in geboorte]]=\"Ja\",0,IF(lammering[[#This Row],[Dood na geboorte]]=\"ja\",0,1)))","v":0},{"$f":"IF(lammering[[#This Row],[Opfok met kunstmelk]]=\"Ja\",1,0)","v":0},{"$f":"IF(lammering[[#This Row],[geslacht]]=\"O\",1,0)","v":0},{"$f":"IF(lammering[[#This Row],[Speen-datum]]=\"\",\"\",(lammering[[#This Row],[Speen-gewicht]]-lammering[[#This Row],[geboorte-gewicht]])/(lammering[[#This Row],[Speen-datum]]-lammering[[#This Row],[Werp-datum]]))","v":""},{"$f":"IF(lammering[[#This Row],[Verkoop-datum]]=\"\",\"\",(lammering[[#This Row],[Verkoop-gewicht]]-lammering[[#This Row],[Speen-gewicht]])/(lammering[[#This Row],[Verkoop-datum]]-lammering[[#This Row],[Speen-datum]]))","v":""},{"$f":"IF(lammering[[#This Row],[Verkoop-datum]]=\"\",\"\",(lammering[[#This Row],[Verkoop-gewicht]]-lammering[[#This Row],[geboorte-gewicht]])/(lammering[[#This Row],[Verkoop-datum]]-lammering[[#This Row],[Werp-datum]]))","v":""},"","","","","","",{"$f":"IF(lammering[[#This Row],[Verkoop-gewicht]]=\"\",\"\",lammering[[#This Row],[Verkoop-gewicht]]-lammering[[#This Row],[geboorte-gewicht]])","v":""},"","",{"$f":"Opzoek_ooi[[#This Row],[Ooinummer]]","v":0},"",""]
[{"$f":"lammering[[#This Row],[Ooi]]","v":0},0,0,{"$f":"IF(lammering[[#This Row],[Lam-nummer]]=\"\",0,1)","v":0},{"$f":"IF(lammering[[#This Row],[Dood in geboorte]]=\"ja\",1,0)","v":0},{"$f":"IF(lammering[[#This Row],[Ooi]]=\"\",0,IF(Berekeningen!E43=0,1,0))","v":0},{"$f":"IF(D43=0,0,IF(lammering[[#This Row],[Dood in geboorte]]=\"Ja\",0,IF(lammering[[#This Row],[Dood na geboorte]]=\"ja\",0,1)))","v":0},{"$f":"IF(lammering[[#This Row],[Opfok met kunstmelk]]=\"Ja\",1,0)","v":0},{"$f":"IF(lammering[[#This Row],[geslacht]]=\"O\",1,0)","v":0},{"$f":"IF(lammering[[#This Row],[Speen-datum]]=\"\",\"\",(lammering[[#This Row],[Speen-gewicht]]-lammering[[#This Row],[geboorte-gewicht]])/(lammering[[#This Row],[Speen-datum]]-lammering[[#This Row],[Werp-datum]]))","v":""},{"$f":"IF(lammering[[#This Row],[Verkoop-datum]]=\"\",\"\",(lammering[[#This Row],[Verkoop-gewicht]]-lammering[[#This Row],[Speen-gewicht]])/(lammering[[#This Row],[Verkoop-datum]]-lammering[[#This Row],[Speen-datum]]))","v":""},{"$f":"IF(lammering[[#This Row],[Verkoop-datum]]=\"\",\"\",(lammering[[#This Row],[Verkoop-gewicht]]-lammering[[#This Row],[geboorte-gewicht]])/(lammering[[#This Row],[Verkoop-datum]]-lammering[[#This Row],[Werp-datum]]))","v":""},"","","","","","",{"$f":"IF(lammering[[#This Row],[Verkoop-gewicht]]=\"\",\"\",lammering[[#This Row],[Verkoop-gewicht]]-lammering[[#This Row],[geboorte-gewicht]])","v":""},"","",{"$f":"Opzoek_ooi[[#This Row],[Ooinummer]]","v":0},"",""]
[{"$f":"lammering[[#This Row],[Ooi]]","v":0},0,0,{"$f":"IF(lammering[[#This Row],[Lam-nummer]]=\"\",0,1)","v":0},{"$f":"IF(lammering[[#This Row],[Dood in geboorte]]=\"ja\",1,0)","v":0},{"$f":"IF(lammering[[#This Row],[Ooi]]=\"\",0,IF(Berekeningen!E44=0,1,0))","v":0},{"$f":"IF(D44=0,0,IF(lammering[[#This Row],[Dood in geboorte]]=\"Ja\",0,IF(lammering[[#This Row],[Dood na geboorte]]=\"ja\",0,1)))","v":0},{"$f":"IF(lammering[[#This Row],[Opfok met kunstmelk]]=\"Ja\",1,0)","v":0},{"$f":"IF(lammering[[#This Row],[geslacht]]=\"O\",1,0)","v":0},{"$f":"IF(lammering[[#This Row],[Speen-datum]]=\"\",\"\",(lammering[[#This Row],[Speen-gewicht]]-lammering[[#This Row],[geboorte-gewicht]])/(lammering[[#This Row],[Speen-datum]]-lammering[[#This Row],[Werp-datum]]))","v":""},{"$f":"IF(lammering[[#This Row],[Verkoop-datum]]=\"\",\"\",(lammering[[#This Row],[Verkoop-gewicht]]-lammering[[#This Row],[Speen-gewicht]])/(lammering[[#This Row],[Verkoop-datum]]-lammering[[#This Row],[Speen-datum]]))","v":""},{"$f":"IF(lammering[[#This Row],[Verkoop-datum]]=\"\",\"\",(lammering[[#This Row],[Verkoop-gewicht]]-lammering[[#This Row],[geboorte-gewicht]])/(lammering[[#This Row],[Verkoop-datum]]-lammering[[#This Row],[Werp-datum]]))","v":""},"","","","","","",{"$f":"IF(lammering[[#This Row],[Verkoop-gewicht]]=\"\",\"\",lammering[[#This Row],[Verkoop-gewicht]]-lammering[[#This Row],[geboorte-gewicht]])","v":""},"","",{"$f":"Opzoek_ooi[[#This Row],[Ooinummer]]","v":0},"",""]
[{"$f":"lammering[[#This Row],[Ooi]]","v":0},0,0,{"$f":"IF(lammering[[#This Row],[Lam-nummer]]=\"\",0,1)","v":0},{"$f":"IF(lammering[[#This Row],[Dood in geboorte]]=\"ja\",1,0)","v":0},{"$f":"IF(lammering[[#This Row],[Ooi]]=\"\",0,IF(Berekeningen!E45=0,1,0))","v":0},{"$f":"IF(D45=0,0,IF(lammering[[#This Row],[Dood in geboorte]]=\"Ja\",0,IF(lammering[[#This Row],[Dood na geboorte]]=\"ja\",0,1)))","v":0},{"$f":"IF(lammering[[#This Row],[Opfok met kunstmelk]]=\"Ja\",1,0)","v":0},{"$f":"IF(lammering[[#This Row],[geslacht]]=\"O\",1,0)","v":0},{"$f":"IF(lammering[[#This Row],[Speen-datum]]=\"\",\"\",(lammering[[#This Row],[Speen-gewicht]]-lammering[[#This Row],[geboorte-gewicht]])/(lammering[[#This Row],[Speen-datum]]-lammering[[#This Row],[Werp-datum]]))","v":""},{"$f":"IF(lammering[[#This Row],[Verkoop-datum]]=\"\",\"\",(lammering[[#This Row],[Verkoop-gewicht]]-lammering[[#This Row],[Speen-gewicht]])/(lammering[[#This Row],[Verkoop-datum]]-lammering[[#This Row],[Speen-datum]]))","v":""},{"$f":"IF(lammering[[#This Row],[Verkoop-datum]]=\"\",\"\",(lammering[[#This Row],[Verkoop-gewicht]]-lammering[[#This Row],[geboorte-gewicht]])/(lammering[[#This Row],[Verkoop-datum]]-lammering[[#This Row],[Werp-datum]]))","v":""},"","","","","","",{"$f":"IF(lammering[[#This Row],[Verkoop-gewicht]]=\"\",\"\",lammering[[#This Row],[Verkoop-gewicht]]-lammering[[#This Row],[geboorte-gewicht]])","v":""},"","",{"$f":"Opzoek_ooi[[#This Row],[Ooinummer]]","v":0},"",""]
[{"$f":"lammering[[#This Row],[Ooi]]","v":0},0,0,{"$f":"IF(lammering[[#This Row],[Lam-nummer]]=\"\",0,1)","v":0},{"$f":"IF(lammering[[#This Row],[Dood in geboorte]]=\"ja\",1,0)","v":0},{"$f":"IF(lammering[[#This Row],[Ooi]]=\"\",0,IF(Berekeningen!E46=0,1,0))","v":0},{"$f":"IF(D46=0,0,IF(lammering[[#This Row],[Dood in geboorte]]=\"Ja\",0,IF(lammering[[#This Row],[Dood na geboorte]]=\"ja\",0,1)))","v":0},{"$f":"IF(lammering[[#This Row],[Opfok met kunstmelk]]=\"Ja\",1,0)","v":0},{"$f":"IF(lammering[[#This Row],[geslacht]]=\"O\",1,0)","v":0},{"$f":"IF(lammering[[#This Row],[Speen-datum]]=\"\",\"\",(lammering[[#This Row],[Speen-gewicht]]-lammering[[#This Row],[geboorte-gewicht]])/(lammering[[#This Row],[Speen-datum]]-lammering[[#This Row],[Werp-datum]]))","v":""},{"$f":"IF(lammering[[#This Row],[Verkoop-datum]]=\"\",\"\",(lammering[[#This Row],[Verkoop-gewicht]]-lammering[[#This Row],[Speen-gewicht]])/(lammering[[#This Row],[Verkoop-datum]]-lammering[[#This Row],[Speen-datum]]))","v":""},{"$f":"IF(lammering[[#This Row],[Verkoop-datum]]=\"\",\"\",(lammering[[#This Row],[Verkoop-gewicht]]-lammering[[#This Row],[geboorte-gewicht]])/(lammering[[#This Row],[Verkoop-datum]]-lammering[[#This Row],[Werp-datum]]))","v":""},"","","","","","",{"$f":"IF(lammering[[#This Row],[Verkoop-gewicht]]=\"\",\"\",lammering[[#This Row],[Verkoop-gewicht]]-lammering[[#This Row],[geboorte-gewicht]])","v":""},"","",{"$f":"Opzoek_ooi[[#This Row],[Ooinummer]]","v":0},"",""]
[{"$f":"lammering[[#This Row],[Ooi]]","v":0},0,0,{"$f":"IF(lammering[[#This Row],[Lam-nummer]]=\"\",0,1)","v":0},{"$f":"IF(lammering[[#This Row],[Dood in geboorte]]=\"ja\",1,0)","v":0},{"$f":"IF(lammering[[#This Row],[Ooi]]=\"\",0,IF(Berekeningen!E47=0,1,0))","v":0},{"$f":"IF(D47=0,0,IF(lammering[[#This Row],[Dood in geboorte]]=\"Ja\",0,IF(lammering[[#This Row],[Dood na geboorte]]=\"ja\",0,1)))","v":0},{"$f":"IF(lammering[[#This Row],[Opfok met kunstmelk]]=\"Ja\",1,0)","v":0},{"$f":"IF(lammering[[#This Row],[geslacht]]=\"O\",1,0)","v":0},{"$f":"IF(lammering[[#This Row],[Speen-datum]]=\"\",\"\",(lammering[[#This Row],[Speen-gewicht]]-lammering[[#This Row],[geboorte-gewicht]])/(lammering[[#This Row],[Speen-datum]]-lammering[[#This Row],[Werp-datum]]))","v":""},{"$f":"IF(lammering[[#This Row],[Verkoop-datum]]=\"\",\"\",(lammering[[#This Row],[Verkoop-gewicht]]-lammering[[#This Row],[Speen-gewicht]])/(lammering[[#This Row],[Verkoop-datum]]-lammering[[#This Row],[Speen-datum]]))","v":""},{"$f":"IF(lammering[[#This Row],[Verkoop-datum]]=\"\",\"\",(lammering[[#This Row],[Verkoop-gewicht]]-lammering[[#This Row],[geboorte-gewicht]])/(lammering[[#This Row],[Verkoop-datum]]-lammering[[#This Row],[Werp-datum]]))","v":""},"","","","","","",{"$f":"IF(lammering[[#This Row],[Verkoop-gewicht]]=\"\",\"\",lammering[[#This Row],[Verkoop-gewicht]]-lammering[[#This Row],[geboorte-gewicht]])","v":""},"","",{"$f":"Opzoek_ooi[[#This Row],[Ooinummer]]","v":0},"",""]
[{"$f":"lammering[[#This Row],[Ooi]]","v":0},0,0,{"$f":"IF(lammering[[#This Row],[Lam-nummer]]=\"\",0,1)","v":0},{"$f":"IF(lammering[[#This Row],[Dood in geboorte]]=\"ja\",1,0)","v":0},{"$f":"IF(lammering[[#This Row],[Ooi]]=\"\",0,IF(Berekeningen!E48=0,1,0))","v":0},{"$f":"IF(D48=0,0,IF(lammering[[#This Row],[Dood in geboorte]]=\"Ja\",0,IF(lammering[[#This Row],[Dood na geboorte]]=\"ja\",0,1)))","v":0},{"$f":"IF(lammering[[#This Row],[Opfok met kunstmelk]]=\"Ja\",1,0)","v":0},{"$f":"IF(lammering[[#This Row],[geslacht]]=\"O\",1,0)","v":0},{"$f":"IF(lammering[[#This Row],[Speen-datum]]=\"\",\"\",(lammering[[#This Row],[Speen-gewicht]]-lammering[[#This Row],[geboorte-gewicht]])/(lammering[[#This Row],[Speen-datum]]-lammering[[#This Row],[Werp-datum]]))","v":""},{"$f":"IF(lammering[[#This Row],[Verkoop-datum]]=\"\",\"\",(lammering[[#This Row],[Verkoop-gewicht]]-lammering[[#This Row],[Speen-gewicht]])/(lammering[[#This Row],[Verkoop-datum]]-lammering[[#This Row],[Speen-datum]]))","v":""},{"$f":"IF(lammering[[#This Row],[Verkoop-datum]]=\"\",\"\",(lammering[[#This Row],[Verkoop-gewicht]]-lammering[[#This Row],[geboorte-gewicht]])/(lammering[[#This Row],[Verkoop-datum]]-lammering[[#This Row],[Werp-datum]]))","v":""},"","","","","","",{"$f":"IF(lammering[[#This Row],[Verkoop-gewicht]]=\"\",\"\",lammering[[#This Row],[Verkoop-gewicht]]-lammering[[#This Row],[geboorte-gewicht]])","v":""},"","",{"$f":"Opzoek_ooi[[#This Row],[Ooinummer]]","v":0},"",""]
[{"$f":"lammering[[#This Row],[Ooi]]","v":0},0,0,{"$f":"IF(lammering[[#This Row],[Lam-nummer]]=\"\",0,1)","v":0},{"$f":"IF(lammering[[#This Row],[Dood in geboorte]]=\"ja\",1,0)","v":0},{"$f":"IF(lammering[[#This Row],[Ooi]]=\"\",0,IF(Berekeningen!E49=0,1,0))","v":0},{"$f":"IF(D49=0,0,IF(lammering[[#This Row],[Dood in geboorte]]=\"Ja\",0,IF(lammering[[#This Row],[Dood na geboorte]]=\"ja\",0,1)))","v":0},{"$f":"IF(lammering[[#This Row],[Opfok met kunstmelk]]=\"Ja\",1,0)","v":0},{"$f":"IF(lammering[[#This Row],[geslacht]]=\"O\",1,0)","v":0},{"$f":"IF(lammering[[#This Row],[Speen-datum]]=\"\",\"\",(lammering[[#This Row],[Speen-gewicht]]-lammering[[#This Row],[geboorte-gewicht]])/(lammering[[#This Row],[Speen-datum]]-lammering[[#This Row],[Werp-datum]]))","v":""},{"$f":"IF(lammering[[#This Row],[Verkoop-datum]]=\"\",\"\",(lammering[[#This Row],[Verkoop-gewicht]]-lammering[[#This Row],[Speen-gewicht]])/(lammering[[#This Row],[Verkoop-datum]]-lammering[[#This Row],[Speen-datum]]))","v":""},{"$f":"IF(lammering[[#This Row],[Verkoop-datum]]=\"\",\"\",(lammering[[#This Row],[Verkoop-gewicht]]-lammering[[#This Row],[geboorte-gewicht]])/(lammering[[#This Row],[Verkoop-datum]]-lammering[[#This Row],[Werp-datum]]))","v":""},"","","","","","",{"$f":"IF(lammering[[#This Row],[Verkoop-gewicht]]=\"\",\"\",lammering[[#This Row],[Verkoop-gewicht]]-lammering[[#This Row],[geboorte-gewicht]])","v":""},"","",{"$f":"Opzoek_ooi[[#This Row],[Ooinummer]]","v":0},"",""]
[{"$f":"lammering[[#This Row],[Ooi]]","v":0},0,0,{"$f":"IF(lammering[[#This Row],[Lam-nummer]]=\"\",0,1)","v":0},{"$f":"IF(lammering[[#This Row],[Dood in geboorte]]=\"ja\",1,0)","v":0},{"$f":"IF(lammering[[#This Row],[Ooi]]=\"\",0,IF(Berekeningen!E50=0,1,0))","v":0},{"$f":"IF(D50=0,0,IF(lammering[[#This Row],[Dood in geboorte]]=\"Ja\",0,IF(lammering[[#This Row],[Dood na geboorte]]=\"ja\",0,1)))","v":0},{"$f":"IF(lammering[[#This Row],[Opfok met kunstmelk]]=\"Ja\",1,0)","v":0},{"$f":"IF(lammering[[#This Row],[geslacht]]=\"O\",1,0)","v":0},{"$f":"IF(lammering[[#This Row],[Speen-datum]]=\"\",\"\",(lammering[[#This Row],[Speen-gewicht]]-lammering[[#This Row],[geboorte-gewicht]])/(lammering[[#This Row],[Speen-datum]]-lammering[[#This Row],[Werp-datum]]))","v":""},{"$f":"IF(lammering[[#This Row],[Verkoop-datum]]=\"\",\"\",(lammering[[#This Row],[Verkoop-gewicht]]-lammering[[#This Row],[Speen-gewicht]])/(lammering[[#This Row],[Verkoop-datum]]-lammering[[#This Row],[Speen-datum]]))","v":""},{"$f":"IF(lammering[[#This Row],[Verkoop-datum]]=\"\",\"\",(lammering[[#This Row],[Verkoop-gewicht]]-lammering[[#This Row],[geboorte-gewicht]])/(lammering[[#This Row],[Verkoop-datum]]-lammering[[#This Row],[Werp-datum]]))","v":""},"","","","","","",{"$f":"IF(lammering[[#This Row],[Verkoop-gewicht]]=\"\",\"\",lammering[[#This Row],[Verkoop-gewicht]]-lammering[[#This Row],[geboorte-gewicht]])","v":""},"","",{"$f":"Opzoek_ooi[[#This Row],[Ooinummer]]","v":0},"",""]
[{"$f":"lammering[[#This Row],[Ooi]]","v":0},0,0,{"$f":"IF(lammering[[#This Row],[Lam-nummer]]=\"\",0,1)","v":0},{"$f":"IF(lammering[[#This Row],[Dood in geboorte]]=\"ja\",1,0)","v":0},{"$f":"IF(lammering[[#This Row],[Ooi]]=\"\",0,IF(Berekeningen!E51=0,1,0))","v":0},{"$f":"IF(D51=0,0,IF(lammering[[#This Row],[Dood in geboorte]]=\"Ja\",0,IF(lammering[[#This Row],[Dood na geboorte]]=\"ja\",0,1)))","v":0},{"$f":"IF(lammering[[#This Row],[Opfok met kunstmelk]]=\"Ja\",1,0)","v":0},{"$f":"IF(lammering[[#This Row],[geslacht]]=\"O\",1,0)","v":0},{"$f":"IF(lammering[[#This Row],[Speen-datum]]=\"\",\"\",(lammering[[#This Row],[Speen-gewicht]]-lammering[[#This Row],[geboorte-gewicht]])/(lammering[[#This Row],[Speen-datum]]-lammering[[#This Row],[Werp-datum]]))","v":""},{"$f":"IF(lammering[[#This Row],[Verkoop-datum]]=\"\",\"\",(lammering[[#This Row],[Verkoop-gewicht]]-lammering[[#This Row],[Speen-gewicht]])/(lammering[[#This Row],[Verkoop-datum]]-lammering[[#This Row],[Speen-datum]]))","v":""},{"$f":"IF(lammering[[#This Row],[Verkoop-datum]]=\"\",\"\",(lammering[[#This Row],[Verkoop-gewicht]]-lammering[[#This Row],[geboorte-gewicht]])/(lammering[[#This Row],[Verkoop-datum]]-lammering[[#This Row],[Werp-datum]]))","v":""},"","","","","","",{"$f":"IF(lammering[[#This Row],[Verkoop-gewicht]]=\"\",\"\",lammering[[#This Row],[Verkoop-gewicht]]-lammering[[#This Row],[geboorte-gewicht]])","v":""},"","",{"$f":"Opzoek_ooi[[#This Row],[Ooinummer]]","v":0},"",""]
[{"$f":"lammering[[#This Row],[Ooi]]","v":0},0,0,{"$f":"IF(lammering[[#This Row],[Lam-nummer]]=\"\",0,1)","v":0},{"$f":"IF(lammering[[#This Row],[Dood in geboorte]]=\"ja\",1,0)","v":0},{"$f":"IF(lammering[[#This Row],[Ooi]]=\"\",0,IF(Berekeningen!E52=0,1,0))","v":0},{"$f":"IF(D52=0,0,IF(lammering[[#This Row],[Dood in geboorte]]=\"Ja\",0,IF(lammering[[#This Row],[Dood na geboorte]]=\"ja\",0,1)))","v":0},{"$f":"IF(lammering[[#This Row],[Opfok met kunstmelk]]=\"Ja\",1,0)","v":0},{"$f":"IF(lammering[[#This Row],[geslacht]]=\"O\",1,0)","v":0},{"$f":"IF(lammering[[#This Row],[Speen-datum]]=\"\",\"\",(lammering[[#This Row],[Speen-gewicht]]-lammering[[#This Row],[geboorte-gewicht]])/(lammering[[#This Row],[Speen-datum]]-lammering[[#This Row],[Werp-datum]]))","v":""},{"$f":"IF(lammering[[#This Row],[Verkoop-datum]]=\"\",\"\",(lammering[[#This Row],[Verkoop-gewicht]]-lammering[[#This Row],[Speen-gewicht]])/(lammering[[#This Row],[Verkoop-datum]]-lammering[[#This Row],[Speen-datum]]))","v":""},{"$f":"IF(lammering[[#This Row],[Verkoop-datum]]=\"\",\"\",(lammering[[#This Row],[Verkoop-gewicht]]-lammering[[#This Row],[geboorte-gewicht]])/(lammering[[#This Row],[Verkoop-datum]]-lammering[[#This Row],[Werp-datum]]))","v":""},"","","","","","",{"$f":"IF(lammering[[#This Row],[Verkoop-gewicht]]=\"\",\"\",lammering[[#This Row],[Verkoop-gewicht]]-lammering[[#This Row],[geboorte-gewicht]])","v":""},"","",{"$f":"Opzoek_ooi[[#This Row],[Ooinummer]]","v":0},"",""]
[{"$f":"lammering[[#This Row],[Ooi]]","v":0},0,0,{"$f":"IF(lammering[[#This Row],[Lam-nummer]]=\"\",0,1)","v":0},{"$f":"IF(lammering[[#This Row],[Dood in geboorte]]=\"ja\",1,0)","v":0},{"$f":"IF(lammering[[#This Row],[Ooi]]=\"\",0,IF(Berekeningen!E53=0,1,0))","v":0},{"$f":"IF(D53=0,0,IF(lammering[[#This Row],[Dood in geboorte]]=\"Ja\",0,IF(lammering[[#This Row],[Dood na geboorte]]=\"ja\",0,1)))","v":0},{"$f":"IF(lammering[[#This Row],[Opfok met kunstmelk]]=\"Ja\",1,0)","v":0},{"$f":"IF(lammering[[#This Row],[geslacht]]=\"O\",1,0)","v":0},{"$f":"IF(lammering[[#This Row],[Speen-datum]]=\"\",\"\",(lammering[[#This Row],[Speen-gewicht]]-lammering[[#This Row],[geboorte-gewicht]])/(lammering[[#This Row],[Speen-datum]]-lammering[[#This Row],[Werp-datum]]))","v":""},{"$f":"IF(lammering[[#This Row],[Verkoop-datum]]=\"\",\"\",(lammering[[#This Row],[Verkoop-gewicht]]-lammering[[#This Row],[Speen-gewicht]])/(lammering[[#This Row],[Verkoop-datum]]-lammering[[#This Row],[Speen-datum]]))","v":""},{"$f":"IF(lammering[[#This Row],[Verkoop-datum]]=\"\",\"\",(lammering[[#This Row],[Verkoop-gewicht]]-lammering[[#This Row],[geboorte-gewicht]])/(lammering[[#This Row],[Verkoop-datum]]-lammering[[#This Row],[Werp-datum]]))","v":""},"","","","","","",{"$f":"IF(lammering[[#This Row],[Verkoop-gewicht]]=\"\",\"\",lammering[[#This Row],[Verkoop-gewicht]]-lammering[[#This Row],[geboorte-gewicht]])","v":""},"","",{"$f":"Opzoek_ooi[[#This Row],[Ooinummer]]","v":0},"",""]
[{"$f":"lammering[[#This Row],[Ooi]]","v":0},0,0,{"$f":"IF(lammering[[#This Row],[Lam-nummer]]=\"\",0,1)","v":0},{"$f":"IF(lammering[[#This Row],[Dood in geboorte]]=\"ja\",1,0)","v":0},{"$f":"IF(lammering[[#This Row],[Ooi]]=\"\",0,IF(Berekeningen!E54=0,1,0))","v":0},{"$f":"IF(D54=0,0,IF(lammering[[#This Row],[Dood in geboorte]]=\"Ja\",0,IF(lammering[[#This Row],[Dood na geboorte]]=\"ja\",0,1)))","v":0},{"$f":"IF(lammering[[#This Row],[Opfok met kunstmelk]]=\"Ja\",1,0)","v":0},{"$f":"IF(lammering[[#This Row],[geslacht]]=\"O\",1,0)","v":0},{"$f":"IF(lammering[[#This Row],[Speen-datum]]=\"\",\"\",(lammering[[#This Row],[Speen-gewicht]]-lammering[[#This Row],[geboorte-gewicht]])/(lammering[[#This Row],[Speen-datum]]-lammering[[#This Row],[Werp-datum]]))","v":""},{"$f":"IF(lammering[[#This Row],[Verkoop-datum]]=\"\",\"\",(lammering[[#This Row],[Verkoop-gewicht]]-lammering[[#This Row],[Speen-gewicht]])/(lammering[[#This Row],[Verkoop-datum]]-lammering[[#This Row],[Speen-datum]]))","v":""},{"$f":"IF(lammering[[#This Row],[Verkoop-datum]]=\"\",\"\",(lammering[[#This Row],[Verkoop-gewicht]]-lammering[[#This Row],[geboorte-gewicht]])/(lammering[[#This Row],[Verkoop-datum]]-lammering[[#This Row],[Werp-datum]]))","v":""},"","","","","","",{"$f":"IF(lammering[[#This Row],[Verkoop-gewicht]]=\"\",\"\",lammering[[#This Row],[Verkoop-gewicht]]-lammering[[#This Row],[geboorte-gewicht]])","v":""},"","",{"$f":"Opzoek_ooi[[#This Row],[Ooinummer]]","v":0},"",""]
[{"$f":"lammering[[#This Row],[Ooi]]","v":0},0,0,{"$f":"IF(lammering[[#This Row],[Lam-nummer]]=\"\",0,1)","v":0},{"$f":"IF(lammering[[#This Row],[Dood in geboorte]]=\"ja\",1,0)","v":0},{"$f":"IF(lammering[[#This Row],[Ooi]]=\"\",0,IF(Berekeningen!E55=0,1,0))","v":0},{"$f":"IF(D55=0,0,IF(lammering[[#This Row],[Dood in geboorte]]=\"Ja\",0,IF(lammering[[#This Row],[Dood na geboorte]]=\"ja\",0,1)))","v":0},{"$f":"IF(lammering[[#This Row],[Opfok met kunstmelk]]=\"Ja\",1,0)","v":0},{"$f":"IF(lammering[[#This Row],[geslacht]]=\"O\",1,0)","v":0},{"$f":"IF(lammering[[#This Row],[Speen-datum]]=\"\",\"\",(lammering[[#This Row],[Speen-gewicht]]-lammering[[#This Row],[geboorte-gewicht]])/(lammering[[#This Row],[Speen-datum]]-lammering[[#This Row],[Werp-datum]]))","v":""},{"$f":"IF(lammering[[#This Row],[Verkoop-datum]]=\"\",\"\",(lammering[[#This Row],[Verkoop-gewicht]]-lammering[[#This Row],[Speen-gewicht]])/(lammering[[#This Row],[Verkoop-datum]]-lammering[[#This Row],[Speen-datum]]))","v":""},{"$f":"IF(lammering[[#This Row],[Verkoop-datum]]=\"\",\"\",(lammering[[#This Row],[Verkoop-gewicht]]-lammering[[#This Row],[geboorte-gewicht]])/(lammering[[#This Row],[Verkoop-datum]]-lammering[[#This Row],[Werp-datum]]))","v":""},"","","","","","",{"$f":"IF(lammering[[#This Row],[Verkoop-gewicht]]=\"\",\"\",lammering[[#This Row],[Verkoop-gewicht]]-lammering[[#This Row],[geboorte-gewicht]])","v":""},"","",{"$f":"Opzoek_ooi[[#This Row],[Ooinummer]]","v":0},"",""]
[{"$f":"lammering[[#This Row],[Ooi]]","v":0},0,0,{"$f":"IF(lammering[[#This Row],[Lam-nummer]]=\"\",0,1)","v":0},{"$f":"IF(lammering[[#This Row],[Dood in geboorte]]=\"ja\",1,0)","v":0},{"$f":"IF(lammering[[#This Row],[Ooi]]=\"\",0,IF(Berekeningen!E56=0,1,0))","v":0},{"$f":"IF(D56=0,0,IF(lammering[[#This Row],[Dood in geboorte]]=\"Ja\",0,IF(lammering[[#This Row],[Dood na geboorte]]=\"ja\",0,1)))","v":0},{"$f":"IF(lammering[[#This Row],[Opfok met kunstmelk]]=\"Ja\",1,0)","v":0},{"$f":"IF(lammering[[#This Row],[geslacht]]=\"O\",1,0)","v":0},{"$f":"IF(lammering[[#This Row],[Speen-datum]]=\"\",\"\",(lammering[[#This Row],[Speen-gewicht]]-lammering[[#This Row],[geboorte-gewicht]])/(lammering[[#This Row],[Speen-datum]]-lammering[[#This Row],[Werp-datum]]))","v":""},{"$f":"IF(lammering[[#This Row],[Verkoop-datum]]=\"\",\"\",(lammering[[#This Row],[Verkoop-gewicht]]-lammering[[#This Row],[Speen-gewicht]])/(lammering[[#This Row],[Verkoop-datum]]-lammering[[#This Row],[Speen-datum]]))","v":""},{"$f":"IF(lammering[[#This Row],[Verkoop-datum]]=\"\",\"\",(lammering[[#This Row],[Verkoop-gewicht]]-lammering[[#This Row],[geboorte-gewicht]])/(lammering[[#This Row],[Verkoop-datum]]-lammering[[#This Row],[Werp-datum]]))","v":""},"","","","","","",{"$f":"IF(lammering[[#This Row],[Verkoop-gewicht]]=\"\",\"\",lammering[[#This Row],[Verkoop-gewicht]]-lammering[[#This Row],[geboorte-gewicht]])","v":""},"","",{"$f":"Opzoek_ooi[[#This Row],[Ooinummer]]","v":0},"",""]
[{"$f":"lammering[[#This Row],[Ooi]]","v":0},0,0,{"$f":"IF(lammering[[#This Row],[Lam-nummer]]=\"\",0,1)","v":0},{"$f":"IF(lammering[[#This Row],[Dood in geboorte]]=\"ja\",1,0)","v":0},{"$f":"IF(lammering[[#This Row],[Ooi]]=\"\",0,IF(Berekeningen!E57=0,1,0))","v":0},{"$f":"IF(D57=0,0,IF(lammering[[#This Row],[Dood in geboorte]]=\"Ja\",0,IF(lammering[[#This Row],[Dood na geboorte]]=\"ja\",0,1)))","v":0},{"$f":"IF(lammering[[#This Row],[Opfok met kunstmelk]]=\"Ja\",1,0)","v":0},{"$f":"IF(lammering[[#This Row],[geslacht]]=\"O\",1,0)","v":0},{"$f":"IF(lammering[[#This Row],[Speen-datum]]=\"\",\"\",(lammering[[#This Row],[Speen-gewicht]]-lammering[[#This Row],[geboorte-gewicht]])/(lammering[[#This Row],[Speen-datum]]-lammering[[#This Row],[Werp-datum]]))","v":""},{"$f":"IF(lammering[[#This Row],[Verkoop-datum]]=\"\",\"\",(lammering[[#This Row],[Verkoop-gewicht]]-lammering[[#This Row],[Speen-gewicht]])/(lammering[[#This Row],[Verkoop-datum]]-lammering[[#This Row],[Speen-datum]]))","v":""},{"$f":"IF(lammering[[#This Row],[Verkoop-datum]]=\"\",\"\",(lammering[[#This Row],[Verkoop-gewicht]]-lammering[[#This Row],[geboorte-gewicht]])/(lammering[[#This Row],[Verkoop-datum]]-lammering[[#This Row],[Werp-datum]]))","v":""},"","","","","","",{"$f":"IF(lammering[[#This Row],[Verkoop-gewicht]]=\"\",\"\",lammering[[#This Row],[Verkoop-gewicht]]-lammering[[#This Row],[geboorte-gewicht]])","v":""},"","",{"$f":"Opzoek_ooi[[#This Row],[Ooinummer]]","v":0},"",""]
[{"$f":"lammering[[#This Row],[Ooi]]","v":0},0,0,{"$f":"IF(lammering[[#This Row],[Lam-nummer]]=\"\",0,1)","v":0},{"$f":"IF(lammering[[#This Row],[Dood in geboorte]]=\"ja\",1,0)","v":0},{"$f":"IF(lammering[[#This Row],[Ooi]]=\"\",0,IF(Berekeningen!E58=0,1,0))","v":0},{"$f":"IF(D58=0,0,IF(lammering[[#This Row],[Dood in geboorte]]=\"Ja\",0,IF(lammering[[#This Row],[Dood na geboorte]]=\"ja\",0,1)))","v":0},{"$f":"IF(lammering[[#This Row],[Opfok met kunstmelk]]=\"Ja\",1,0)","v":0},{"$f":"IF(lammering[[#This Row],[geslacht]]=\"O\",1,0)","v":0},{"$f":"IF(lammering[[#This Row],[Speen-datum]]=\"\",\"\",(lammering[[#This Row],[Speen-gewicht]]-lammering[[#This Row],[geboorte-gewicht]])/(lammering[[#This Row],[Speen-datum]]-lammering[[#This Row],[Werp-datum]]))","v":""},{"$f":"IF(lammering[[#This Row],[Verkoop-datum]]=\"\",\"\",(lammering[[#This Row],[Verkoop-gewicht]]-lammering[[#This Row],[Speen-gewicht]])/(lammering[[#This Row],[Verkoop-datum]]-lammering[[#This Row],[Speen-datum]]))","v":""},{"$f":"IF(lammering[[#This Row],[Verkoop-datum]]=\"\",\"\",(lammering[[#This Row],[Verkoop-gewicht]]-lammering[[#This Row],[geboorte-gewicht]])/(lammering[[#This Row],[Verkoop-datum]]-lammering[[#This Row],[Werp-datum]]))","v":""},"","","","","","",{"$f":"IF(lammering[[#This Row],[Verkoop-gewicht]]=\"\",\"\",lammering[[#This Row],[Verkoop-gewicht]]-lammering[[#This Row],[geboorte-gewicht]])","v":""},"","",{"$f":"Opzoek_ooi[[#This Row],[Ooinummer]]","v":0},"",""]
[{"$f":"lammering[[#This Row],[Ooi]]","v":0},0,0,{"$f":"IF(lammering[[#This Row],[Lam-nummer]]=\"\",0,1)","v":0},{"$f":"IF(lammering[[#This Row],[Dood in geboorte]]=\"ja\",1,0)","v":0},{"$f":"IF(lammering[[#This Row],[Ooi]]=\"\",0,IF(Berekeningen!E59=0,1,0))","v":0},{"$f":"IF(D59=0,0,IF(lammering[[#This Row],[Dood in geboorte]]=\"Ja\",0,IF(lammering[[#This Row],[Dood na geboorte]]=\"ja\",0,1)))","v":0},{"$f":"IF(lammering[[#This Row],[Opfok met kunstmelk]]=\"Ja\",1,0)","v":0},{"$f":"IF(lammering[[#This Row],[geslacht]]=\"O\",1,0)","v":0},{"$f":"IF(lammering[[#This Row],[Speen-datum]]=\"\",\"\",(lammering[[#This Row],[Speen-gewicht]]-lammering[[#This Row],[geboorte-gewicht]])/(lammering[[#This Row],[Speen-datum]]-lammering[[#This Row],[Werp-datum]]))","v":""},{"$f":"IF(lammering[[#This Row],[Verkoop-datum]]=\"\",\"\",(lammering[[#This Row],[Verkoop-gewicht]]-lammering[[#This Row],[Speen-gewicht]])/(lammering[[#This Row],[Verkoop-datum]]-lammering[[#This Row],[Speen-datum]]))","v":""},{"$f":"IF(lammering[[#This Row],[Verkoop-datum]]=\"\",\"\",(lammering[[#This Row],[Verkoop-gewicht]]-lammering[[#This Row],[geboorte-gewicht]])/(lammering[[#This Row],[Verkoop-datum]]-lammering[[#This Row],[Werp-datum]]))","v":""},"","","","","","",{"$f":"IF(lammering[[#This Row],[Verkoop-gewicht]]=\"\",\"\",lammering[[#This Row],[Verkoop-gewicht]]-lammering[[#This Row],[geboorte-gewicht]])","v":""},"","",{"$f":"Opzoek_ooi[[#This Row],[Ooinummer]]","v":0},"",""]
[{"$f":"lammering[[#This Row],[Ooi]]","v":0},0,0,{"$f":"IF(lammering[[#This Row],[Lam-nummer]]=\"\",0,1)","v":0},{"$f":"IF(lammering[[#This Row],[Dood in geboorte]]=\"ja\",1,0)","v":0},{"$f":"IF(lammering[[#This Row],[Ooi]]=\"\",0,IF(Berekeningen!E60=0,1,0))","v":0},{"$f":"IF(D60=0,0,IF(lammering[[#This Row],[Dood in geboorte]]=\"Ja\",0,IF(lammering[[#This Row],[Dood na geboorte]]=\"ja\",0,1)))","v":0},{"$f":"IF(lammering[[#This Row],[Opfok met kunstmelk]]=\"Ja\",1,0)","v":0},{"$f":"IF(lammering[[#This Row],[geslacht]]=\"O\",1,0)","v":0},{"$f":"IF(lammering[[#This Row],[Speen-datum]]=\"\",\"\",(lammering[[#This Row],[Speen-gewicht]]-lammering[[#This Row],[geboorte-gewicht]])/(lammering[[#This Row],[Speen-datum]]-lammering[[#This Row],[Werp-datum]]))","v":""},{"$f":"IF(lammering[[#This Row],[Verkoop-datum]]=\"\",\"\",(lammering[[#This Row],[Verkoop-gewicht]]-lammering[[#This Row],[Speen-gewicht]])/(lammering[[#This Row],[Verkoop-datum]]-lammering[[#This Row],[Speen-datum]]))","v":""},{"$f":"IF(lammering[[#This Row],[Verkoop-datum]]=\"\",\"\",(lammering[[#This Row],[Verkoop-gewicht]]-lammering[[#This Row],[geboorte-gewicht]])/(lammering[[#This Row],[Verkoop-datum]]-lammering[[#This Row],[Werp-datum]]))","v":""},"","","","","","",{"$f":"IF(lammering[[#This Row],[Verkoop-gewicht]]=\"\",\"\",lammering[[#This Row],[Verkoop-gewicht]]-lammering[[#This Row],[geboorte-gewicht]])","v":""},"","",{"$f":"Opzoek_ooi[[#This Row],[Ooinummer]]","v":0},"",""]
[{"$f":"lammering[[#This Row],[Ooi]]","v":0},0,0,{"$f":"IF(lammering[[#This Row],[Lam-nummer]]=\"\",0,1)","v":0},{"$f":"IF(lammering[[#This Row],[Dood in geboorte]]=\"ja\",1,0)","v":0},{"$f":"IF(lammering[[#This Row],[Ooi]]=\"\",0,IF(Berekeningen!E61=0,1,0))","v":0},{"$f":"IF(D61=0,0,IF(lammering[[#This Row],[Dood in geboorte]]=\"Ja\",0,IF(lammering[[#This Row],[Dood na geboorte]]=\"ja\",0,1)))","v":0},{"$f":"IF(lammering[[#This Row],[Opfok met kunstmelk]]=\"Ja\",1,0)","v":0},{"$f":"IF(lammering[[#This Row],[geslacht]]=\"O\",1,0)","v":0},{"$f":"IF(lammering[[#This Row],[Speen-datum]]=\"\",\"\",(lammering[[#This Row],[Speen-gewicht]]-lammering[[#This Row],[geboorte-gewicht]])/(lammering[[#This Row],[Speen-datum]]-lammering[[#This Row],[Werp-datum]]))","v":""},{"$f":"IF(lammering[[#This Row],[Verkoop-datum]]=\"\",\"\",(lammering[[#This Row],[Verkoop-gewicht]]-lammering[[#This Row],[Speen-gewicht]])/(lammering[[#This Row],[Verkoop-datum]]-lammering[[#This Row],[Speen-datum]]))","v":""},{"$f":"IF(lammering[[#This Row],[Verkoop-datum]]=\"\",\"\",(lammering[[#This Row],[Verkoop-gewicht]]-lammering[[#This Row],[geboorte-gewicht]])/(lammering[[#This Row],[Verkoop-datum]]-lammering[[#This Row],[Werp-datum]]))","v":""},"","","","","","",{"$f":"IF(lammering[[#This Row],[Verkoop-gewicht]]=\"\",\"\",lammering[[#This Row],[Verkoop-gewicht]]-lammering[[#This Row],[geboorte-gewicht]])","v":""},"","",{"$f":"Opzoek_ooi[[#This Row],[Ooinummer]]","v":0},"",""]
[{"$f":"lammering[[#This Row],[Ooi]]","v":0},0,0,{"$f":"IF(lammering[[#This Row],[Lam-nummer]]=\"\",0,1)","v":0},{"$f":"IF(lammering[[#This Row],[Dood in geboorte]]=\"ja\",1,0)","v":0},{"$f":"IF(lammering[[#This Row],[Ooi]]=\"\",0,IF(Berekeningen!E62=0,1,0))","v":0},{"$f":"IF(D62=0,0,IF(lammering[[#This Row],[Dood in geboorte]]=\"Ja\",0,IF(lammering[[#This Row],[Dood na geboorte]]=\"ja\",0,1)))","v":0},{"$f":"IF(lammering[[#This Row],[Opfok met kunstmelk]]=\"Ja\",1,0)","v":0},{"$f":"IF(lammering[[#This Row],[geslacht]]=\"O\",1,0)","v":0},{"$f":"IF(lammering[[#This Row],[Speen-datum]]=\"\",\"\",(lammering[[#This Row],[Speen-gewicht]]-lammering[[#This Row],[geboorte-gewicht]])/(lammering[[#This Row],[Speen-datum]]-lammering[[#This Row],[Werp-datum]]))","v":""},{"$f":"IF(lammering[[#This Row],[Verkoop-datum]]=\"\",\"\",(lammering[[#This Row],[Verkoop-gewicht]]-lammering[[#This Row],[Speen-gewicht]])/(lammering[[#This Row],[Verkoop-datum]]-lammering[[#This Row],[Speen-datum]]))","v":""},{"$f":"IF(lammering[[#This Row],[Verkoop-datum]]=\"\",\"\",(lammering[[#This Row],[Verkoop-gewicht]]-lammering[[#This Row],[geboorte-gewicht]])/(lammering[[#This Row],[Verkoop-datum]]-lammering[[#This Row],[Werp-datum]]))","v":""},"","","","","","",{"$f":"IF(lammering[[#This Row],[Verkoop-gewicht]]=\"\",\"\",lammering[[#This Row],[Verkoop-gewicht]]-lammering[[#This Row],[geboorte-gewicht]])","v":""},"","",{"$f":"Opzoek_ooi[[#This Row],[Ooinummer]]","v":0},"",""]
[{"$f":"lammering[[#This Row],[Ooi]]","v":0},0,0,{"$f":"IF(lammering[[#This Row],[Lam-nummer]]=\"\",0,1)","v":0},{"$f":"IF(lammering[[#This Row],[Dood in geboorte]]=\"ja\",1,0)","v":0},{"$f":"IF(lammering[[#This Row],[Ooi]]=\"\",0,IF(Berekeningen!E63=0,1,0))","v":0},{"$f":"IF(D63=0,0,IF(lammering[[#This Row],[Dood in geboorte]]=\"Ja\",0,IF(lammering[[#This Row],[Dood na geboorte]]=\"ja\",0,1)))","v":0},{"$f":"IF(lammering[[#This Row],[Opfok met kunstmelk]]=\"Ja\",1,0)","v":0},{"$f":"IF(lammering[[#This Row],[geslacht]]=\"O\",1,0)","v":0},{"$f":"IF(lammering[[#This Row],[Speen-datum]]=\"\",\"\",(lammering[[#This Row],[Speen-gewicht]]-lammering[[#This Row],[geboorte-gewicht]])/(lammering[[#This Row],[Speen-datum]]-lammering[[#This Row],[Werp-datum]]))","v":""},{"$f":"IF(lammering[[#This Row],[Verkoop-datum]]=\"\",\"\",(lammering[[#This Row],[Verkoop-gewicht]]-lammering[[#This Row],[Speen-gewicht]])/(lammering[[#This Row],[Verkoop-datum]]-lammering[[#This Row],[Speen-datum]]))","v":""},{"$f":"IF(lammering[[#This Row],[Verkoop-datum]]=\"\",\"\",(lammering[[#This Row],[Verkoop-gewicht]]-lammering[[#This Row],[geboorte-gewicht]])/(lammering[[#This Row],[Verkoop-datum]]-lammering[[#This Row],[Werp-datum]]))","v":""},"","","","","","",{"$f":"IF(lammering[[#This Row],[Verkoop-gewicht]]=\"\",\"\",lammering[[#This Row],[Verkoop-gewicht]]-lammering[[#This Row],[geboorte-gewicht]])","v":""},"","",{"$f":"Opzoek_ooi[[#This Row],[Ooinummer]]","v":0},"",""]
[{"$f":"lammering[[#This Row],[Ooi]]","v":0},0,0,{"$f":"IF(lammering[[#This Row],[Lam-nummer]]=\"\",0,1)","v":0},{"$f":"IF(lammering[[#This Row],[Dood in geboorte]]=\"ja\",1,0)","v":0},{"$f":"IF(lammering[[#This Row],[Ooi]]=\"\",0,IF(Berekeningen!E64=0,1,0))","v":0},{"$f":"IF(D64=0,0,IF(lammering[[#This Row],[Dood in geboorte]]=\"Ja\",0,IF(lammering[[#This Row],[Dood na geboorte]]=\"ja\",0,1)))","v":0},{"$f":"IF(lammering[[#This Row],[Opfok met kunstmelk]]=\"Ja\",1,0)","v":0},{"$f":"IF(lammering[[#This Row],[geslacht]]=\"O\",1,0)","v":0},{"$f":"IF(lammering[[#This Row],[Speen-datum]]=\"\",\"\",(lammering[[#This Row],[Speen-gewicht]]-lammering[[#This Row],[geboorte-gewicht]])/(lammering[[#This Row],[Speen-datum]]-lammering[[#This Row],[Werp-datum]]))","v":""},{"$f":"IF(lammering[[#This Row],[Verkoop-datum]]=\"\",\"\",(lammering[[#This Row],[Verkoop-gewicht]]-lammering[[#This Row],[Speen-gewicht]])/(lammering[[#This Row],[Verkoop-datum]]-lammering[[#This Row],[Speen-datum]]))","v":""},{"$f":"IF(lammering[[#This Row],[Verkoop-datum]]=\"\",\"\",(lammering[[#This Row],[Verkoop-gewicht]]-lammering[[#This Row],[geboorte-gewicht]])/(lammering[[#This Row],[Verkoop-datum]]-lammering[[#This Row],[Werp-datum]]))","v":""},"","","","","","",{"$f":"IF(lammering[[#This Row],[Verkoop-gewicht]]=\"\",\"\",lammering[[#This Row],[Verkoop-gewicht]]-lammering[[#This Row],[geboorte-gewicht]])","v":""},"","",{"$f":"Opzoek_ooi[[#This Row],[Ooinummer]]","v":0},"",""]
[{"$f":"lammering[[#This Row],[Ooi]]","v":0},0,0,{"$f":"IF(lammering[[#This Row],[Lam-nummer]]=\"\",0,1)","v":0},{"$f":"IF(lammering[[#This Row],[Dood in geboorte]]=\"ja\",1,0)","v":0},{"$f":"IF(lammering[[#This Row],[Ooi]]=\"\",0,IF(Berekeningen!E65=0,1,0))","v":0},{"$f":"IF(D65=0,0,IF(lammering[[#This Row],[Dood in geboorte]]=\"Ja\",0,IF(lammering[[#This Row],[Dood na geboorte]]=\"ja\",0,1)))","v":0},{"$f":"IF(lammering[[#This Row],[Opfok met kunstmelk]]=\"Ja\",1,0)","v":0},{"$f":"IF(lammering[[#This Row],[geslacht]]=\"O\",1,0)","v":0},{"$f":"IF(lammering[[#This Row],[Speen-datum]]=\"\",\"\",(lammering[[#This Row],[Speen-gewicht]]-lammering[[#This Row],[geboorte-gewicht]])/(lammering[[#This Row],[Speen-datum]]-lammering[[#This Row],[Werp-datum]]))","v":""},{"$f":"IF(lammering[[#This Row],[Verkoop-datum]]=\"\",\"\",(lammering[[#This Row],[Verkoop-gewicht]]-lammering[[#This Row],[Speen-gewicht]])/(lammering[[#This Row],[Verkoop-datum]]-lammering[[#This Row],[Speen-datum]]))","v":""},{"$f":"IF(lammering[[#This Row],[Verkoop-datum]]=\"\",\"\",(lammering[[#This Row],[Verkoop-gewicht]]-lammering[[#This Row],[geboorte-gewicht]])/(lammering[[#This Row],[Verkoop-datum]]-lammering[[#This Row],[Werp-datum]]))","v":""},"","","","","","",{"$f":"IF(lammering[[#This Row],[Verkoop-gewicht]]=\"\",\"\",lammering[[#This Row],[Verkoop-gewicht]]-lammering[[#This Row],[geboorte-gewicht]])","v":""},"","",{"$f":"Opzoek_ooi[[#This Row],[Ooinummer]]","v":0},"",""]
[{"$f":"lammering[[#This Row],[Ooi]]","v":0},0,0,{"$f":"IF(lammering[[#This Row],[Lam-nummer]]=\"\",0,1)","v":0},{"$f":"IF(lammering[[#This Row],[Dood in geboorte]]=\"ja\",1,0)","v":0},{"$f":"IF(lammering[[#This Row],[Ooi]]=\"\",0,IF(Berekeningen!E66=0,1,0))","v":0},{"$f":"IF(D66=0,0,IF(lammering[[#This Row],[Dood in geboorte]]=\"Ja\",0,IF(lammering[[#This Row],[Dood na geboorte]]=\"ja\",0,1)))","v":0},{"$f":"IF(lammering[[#This Row],[Opfok met kunstmelk]]=\"Ja\",1,0)","v":0},{"$f":"IF(lammering[[#This Row],[geslacht]]=\"O\",1,0)","v":0},{"$f":"IF(lammering[[#This Row],[Speen-datum]]=\"\",\"\",(lammering[[#This Row],[Speen-gewicht]]-lammering[[#This Row],[geboorte-gewicht]])/(lammering[[#This Row],[Speen-datum]]-lammering[[#This Row],[Werp-datum]]))","v":""},{"$f":"IF(lammering[[#This Row],[Verkoop-datum]]=\"\",\"\",(lammering[[#This Row],[Verkoop-gewicht]]-lammering[[#This Row],[Speen-gewicht]])/(lammering[[#This Row],[Verkoop-datum]]-lammering[[#This Row],[Speen-datum]]))","v":""},{"$f":"IF(lammering[[#This Row],[Verkoop-datum]]=\"\",\"\",(lammering[[#This Row],[Verkoop-gewicht]]-lammering[[#This Row],[geboorte-gewicht]])/(lammering[[#This Row],[Verkoop-datum]]-lammering[[#This Row],[Werp-datum]]))","v":""},"","","","","","",{"$f":"IF(lammering[[#This Row],[Verkoop-gewicht]]=\"\",\"\",lammering[[#This Row],[Verkoop-gewicht]]-lammering[[#This Row],[geboorte-gewicht]])","v":""},"","",{"$f":"Opzoek_ooi[[#This Row],[Ooinummer]]","v":0},"",""]
[{"$f":"lammering[[#This Row],[Ooi]]","v":0},{"$f":"IF(A67=0,0,IF(A67=A66,0,1))","v":0},{"$f":"IF(B67=1,A67,0)","v":0},{"$f":"IF(lammering[[#This Row],[Lam-nummer]]=\"\",0,1)","v":0},{"$f":"IF(lammering[[#This Row],[Dood in geboorte]]=\"ja\",1,0)","v":0},{"$f":"IF(lammering[[#This Row],[Ooi]]=\"\",0,IF(Berekeningen!E67=0,1,0))","v":0},{"$f":"IF(D67=0,0,IF(lammering[[#This Row],[Dood in geboorte]]=\"Ja\",0,IF(lammering[[#This Row],[Dood na geboorte]]=\"ja\",0,1)))","v":0},{"$f":"IF(lammering[[#This Row],[Opfok met kunstmelk]]=\"Ja\",1,0)","v":0},{"$f":"IF(lammering[[#This Row],[geslacht]]=\"O\",1,0)","v":0},{"$f":"IF(lammering[[#This Row],[Speen-datum]]=\"\",\"\",(lammering[[#This Row],[Speen-gewicht]]-lammering[[#This Row],[geboorte-gewicht]])/(lammering[[#This Row],[Speen-datum]]-lammering[[#This Row],[Werp-datum]]))","v":""},{"$f":"IF(lammering[[#This Row],[Verkoop-datum]]=\"\",\"\",(lammering[[#This Row],[Verkoop-gewicht]]-lammering[[#This Row],[Speen-gewicht]])/(lammering[[#This Row],[Verkoop-datum]]-lammering[[#This Row],[Speen-datum]]))","v":""},{"$f":"IF(lammering[[#This Row],[Verkoop-datum]]=\"\",\"\",(lammering[[#This Row],[Verkoop-gewicht]]-lammering[[#This Row],[geboorte-gewicht]])/(lammering[[#This Row],[Verkoop-datum]]-lammering[[#This Row],[Werp-datum]]))","v":""},"","","","","","",{"$f":"IF(lammering[[#This Row],[Verkoop-gewicht]]=\"\",\"\",lammering[[#This Row],[Verkoop-gewicht]]-lammering[[#This Row],[geboorte-gewicht]])","v":""},"","",{"$f":"Opzoek_ooi[[#This Row],[Ooinummer]]","v":0},"",{"$f":"IF(W67>0,W67,\"\")","v":""}]
[{"$f":"lammering[[#This Row],[Ooi]]","v":0},0,0,{"$f":"IF(lammering[[#This Row],[Lam-nummer]]=\"\",0,1)","v":0},{"$f":"IF(lammering[[#This Row],[Dood in geboorte]]=\"ja\",1,0)","v":0},{"$f":"IF(lammering[[#This Row],[Ooi]]=\"\",0,IF(Berekeningen!E68=0,1,0))","v":0},{"$f":"IF(D68=0,0,IF(lammering[[#This Row],[Dood in geboorte]]=\"Ja\",0,IF(lammering[[#This Row],[Dood na geboorte]]=\"ja\",0,1)))","v":0},{"$f":"IF(lammering[[#This Row],[Opfok met kunstmelk]]=\"Ja\",1,0)","v":0},{"$f":"IF(lammering[[#This Row],[geslacht]]=\"O\",1,0)","v":0},{"$f":"IF(lammering[[#This Row],[Speen-datum]]=\"\",\"\",(lammering[[#This Row],[Speen-gewicht]]-lammering[[#This Row],[geboorte-gewicht]])/(lammering[[#This Row],[Speen-datum]]-lammering[[#This Row],[Werp-datum]]))","v":""},{"$f":"IF(lammering[[#This Row],[Verkoop-datum]]=\"\",\"\",(lammering[[#This Row],[Verkoop-gewicht]]-lammering[[#This Row],[Speen-gewicht]])/(lammering[[#This Row],[Verkoop-datum]]-lammering[[#This Row],[Speen-datum]]))","v":""},{"$f":"IF(lammering[[#This Row],[Verkoop-datum]]=\"\",\"\",(lammering[[#This Row],[Verkoop-gewicht]]-lammering[[#This Row],[geboorte-gewicht]])/(lammering[[#This Row],[Verkoop-datum]]-lammering[[#This Row],[Werp-datum]]))","v":""},"","","","","","",{"$f":"IF(lammering[[#This Row],[Verkoop-gewicht]]=\"\",\"\",lammering[[#This Row],[Verkoop-gewicht]]-lammering[[#This Row],[geboorte-gewicht]])","v":""},"","",{"$f":"Opzoek_ooi[[#This Row],[Ooinummer]]","v":0},"",""]
[{"$f":"lammering[[#This Row],[Ooi]]","v":0},0,0,{"$f":"IF(lammering[[#This Row],[Lam-nummer]]=\"\",0,1)","v":0},{"$f":"IF(lammering[[#This Row],[Dood in geboorte]]=\"ja\",1,0)","v":0},{"$f":"IF(lammering[[#This Row],[Ooi]]=\"\",0,IF(Berekeningen!E69=0,1,0))","v":0},{"$f":"IF(D69=0,0,IF(lammering[[#This Row],[Dood in geboorte]]=\"Ja\",0,IF(lammering[[#This Row],[Dood na geboorte]]=\"ja\",0,1)))","v":0},{"$f":"IF(lammering[[#This Row],[Opfok met kunstmelk]]=\"Ja\",1,0)","v":0},{"$f":"IF(lammering[[#This Row],[geslacht]]=\"O\",1,0)","v":0},{"$f":"IF(lammering[[#This Row],[Speen-datum]]=\"\",\"\",(lammering[[#This Row],[Speen-gewicht]]-lammering[[#This Row],[geboorte-gewicht]])/(lammering[[#This Row],[Speen-datum]]-lammering[[#This Row],[Werp-datum]]))","v":""},{"$f":"IF(lammering[[#This Row],[Verkoop-datum]]=\"\",\"\",(lammering[[#This Row],[Verkoop-gewicht]]-lammering[[#This Row],[Speen-gewicht]])/(lammering[[#This Row],[Verkoop-datum]]-lammering[[#This Row],[Speen-datum]]))","v":""},{"$f":"IF(lammering[[#This Row],[Verkoop-datum]]=\"\",\"\",(lammering[[#This Row],[Verkoop-gewicht]]-lammering[[#This Row],[geboorte-gewicht]])/(lammering[[#This Row],[Verkoop-datum]]-lammering[[#This Row],[Werp-datum]]))","v":""},"","","","","","",{"$f":"IF(lammering[[#This Row],[Verkoop-gewicht]]=\"\",\"\",lammering[[#This Row],[Verkoop-gewicht]]-lammering[[#This Row],[geboorte-gewicht]])","v":""},"","",{"$f":"Opzoek_ooi[[#This Row],[Ooinummer]]","v":0},"",""]
[{"$f":"lammering[[#This Row],[Ooi]]","v":0},0,0,{"$f":"IF(lammering[[#This Row],[Lam-nummer]]=\"\",0,1)","v":0},{"$f":"IF(lammering[[#This Row],[Dood in geboorte]]=\"ja\",1,0)","v":0},{"$f":"IF(lammering[[#This Row],[Ooi]]=\"\",0,IF(Berekeningen!E70=0,1,0))","v":0},{"$f":"IF(D70=0,0,IF(lammering[[#This Row],[Dood in geboorte]]=\"Ja\",0,IF(lammering[[#This Row],[Dood na geboorte]]=\"ja\",0,1)))","v":0},{"$f":"IF(lammering[[#This Row],[Opfok met kunstmelk]]=\"Ja\",1,0)","v":0},{"$f":"IF(lammering[[#This Row],[geslacht]]=\"O\",1,0)","v":0},{"$f":"IF(lammering[[#This Row],[Speen-datum]]=\"\",\"\",(lammering[[#This Row],[Speen-gewicht]]-lammering[[#This Row],[geboorte-gewicht]])/(lammering[[#This Row],[Speen-datum]]-lammering[[#This Row],[Werp-datum]]))","v":""},{"$f":"IF(lammering[[#This Row],[Verkoop-datum]]=\"\",\"\",(lammering[[#This Row],[Verkoop-gewicht]]-lammering[[#This Row],[Speen-gewicht]])/(lammering[[#This Row],[Verkoop-datum]]-lammering[[#This Row],[Speen-datum]]))","v":""},{"$f":"IF(lammering[[#This Row],[Verkoop-datum]]=\"\",\"\",(lammering[[#This Row],[Verkoop-gewicht]]-lammering[[#This Row],[geboorte-gewicht]])/(lammering[[#This Row],[Verkoop-datum]]-lammering[[#This Row],[Werp-datum]]))","v":""},"","","","","","",{"$f":"IF(lammering[[#This Row],[Verkoop-gewicht]]=\"\",\"\",lammering[[#This Row],[Verkoop-gewicht]]-lammering[[#This Row],[geboorte-gewicht]])","v":""},"","",{"$f":"Opzoek_ooi[[#This Row],[Ooinummer]]","v":0},"",""]
[{"$f":"lammering[[#This Row],[Ooi]]","v":0},0,0,{"$f":"IF(lammering[[#This Row],[Lam-nummer]]=\"\",0,1)","v":0},{"$f":"IF(lammering[[#This Row],[Dood in geboorte]]=\"ja\",1,0)","v":0},{"$f":"IF(lammering[[#This Row],[Ooi]]=\"\",0,IF(Berekeningen!E71=0,1,0))","v":0},{"$f":"IF(D71=0,0,IF(lammering[[#This Row],[Dood in geboorte]]=\"Ja\",0,IF(lammering[[#This Row],[Dood na geboorte]]=\"ja\",0,1)))","v":0},{"$f":"IF(lammering[[#This Row],[Opfok met kunstmelk]]=\"Ja\",1,0)","v":0},{"$f":"IF(lammering[[#This Row],[geslacht]]=\"O\",1,0)","v":0},{"$f":"IF(lammering[[#This Row],[Speen-datum]]=\"\",\"\",(lammering[[#This Row],[Speen-gewicht]]-lammering[[#This Row],[geboorte-gewicht]])/(lammering[[#This Row],[Speen-datum]]-lammering[[#This Row],[Werp-datum]]))","v":""},{"$f":"IF(lammering[[#This Row],[Verkoop-datum]]=\"\",\"\",(lammering[[#This Row],[Verkoop-gewicht]]-lammering[[#This Row],[Speen-gewicht]])/(lammering[[#This Row],[Verkoop-datum]]-lammering[[#This Row],[Speen-datum]]))","v":""},{"$f":"IF(lammering[[#This Row],[Verkoop-datum]]=\"\",\"\",(lammering[[#This Row],[Verkoop-gewicht]]-lammering[[#This Row],[geboorte-gewicht]])/(lammering[[#This Row],[Verkoop-datum]]-lammering[[#This Row],[Werp-datum]]))","v":""},"","","","","","",{"$f":"IF(lammering[[#This Row],[Verkoop-gewicht]]=\"\",\"\",lammering[[#This Row],[Verkoop-gewicht]]-lammering[[#This Row],[geboorte-gewicht]])","v":""},"","",{"$f":"Opzoek_ooi[[#This Row],[Ooinummer]]","v":0},"",""]
[{"$f":"lammering[[#This Row],[Ooi]]","v":0},0,0,{"$f":"IF(lammering[[#This Row],[Lam-nummer]]=\"\",0,1)","v":0},{"$f":"IF(lammering[[#This Row],[Dood in geboorte]]=\"ja\",1,0)","v":0},{"$f":"IF(lammering[[#This Row],[Ooi]]=\"\",0,IF(Berekeningen!E72=0,1,0))","v":0},{"$f":"IF(D72=0,0,IF(lammering[[#This Row],[Dood in geboorte]]=\"Ja\",0,IF(lammering[[#This Row],[Dood na geboorte]]=\"ja\",0,1)))","v":0},{"$f":"IF(lammering[[#This Row],[Opfok met kunstmelk]]=\"Ja\",1,0)","v":0},{"$f":"IF(lammering[[#This Row],[geslacht]]=\"O\",1,0)","v":0},{"$f":"IF(lammering[[#This Row],[Speen-datum]]=\"\",\"\",(lammering[[#This Row],[Speen-gewicht]]-lammering[[#This Row],[geboorte-gewicht]])/(lammering[[#This Row],[Speen-datum]]-lammering[[#This Row],[Werp-datum]]))","v":""},{"$f":"IF(lammering[[#This Row],[Verkoop-datum]]=\"\",\"\",(lammering[[#This Row],[Verkoop-gewicht]]-lammering[[#This Row],[Speen-gewicht]])/(lammering[[#This Row],[Verkoop-datum]]-lammering[[#This Row],[Speen-datum]]))","v":""},{"$f":"IF(lammering[[#This Row],[Verkoop-datum]]=\"\",\"\",(lammering[[#This Row],[Verkoop-gewicht]]-lammering[[#This Row],[geboorte-gewicht]])/(lammering[[#This Row],[Verkoop-datum]]-lammering[[#This Row],[Werp-datum]]))","v":""},"","","","","","",{"$f":"IF(lammering[[#This Row],[Verkoop-gewicht]]=\"\",\"\",lammering[[#This Row],[Verkoop-gewicht]]-lammering[[#This Row],[geboorte-gewicht]])","v":""},"","",{"$f":"Opzoek_ooi[[#This Row],[Ooinummer]]","v":0},"",""]
[{"$f":"lammering[[#This Row],[Ooi]]","v":0},0,0,{"$f":"IF(lammering[[#This Row],[Lam-nummer]]=\"\",0,1)","v":0},{"$f":"IF(lammering[[#This Row],[Dood in geboorte]]=\"ja\",1,0)","v":0},{"$f":"IF(lammering[[#This Row],[Ooi]]=\"\",0,IF(Berekeningen!E73=0,1,0))","v":0},{"$f":"IF(D73=0,0,IF(lammering[[#This Row],[Dood in geboorte]]=\"Ja\",0,IF(lammering[[#This Row],[Dood na geboorte]]=\"ja\",0,1)))","v":0},{"$f":"IF(lammering[[#This Row],[Opfok met kunstmelk]]=\"Ja\",1,0)","v":0},{"$f":"IF(lammering[[#This Row],[geslacht]]=\"O\",1,0)","v":0},{"$f":"IF(lammering[[#This Row],[Speen-datum]]=\"\",\"\",(lammering[[#This Row],[Speen-gewicht]]-lammering[[#This Row],[geboorte-gewicht]])/(lammering[[#This Row],[Speen-datum]]-lammering[[#This Row],[Werp-datum]]))","v":""},{"$f":"IF(lammering[[#This Row],[Verkoop-datum]]=\"\",\"\",(lammering[[#This Row],[Verkoop-gewicht]]-lammering[[#This Row],[Speen-gewicht]])/(lammering[[#This Row],[Verkoop-datum]]-lammering[[#This Row],[Speen-datum]]))","v":""},{"$f":"IF(lammering[[#This Row],[Verkoop-datum]]=\"\",\"\",(lammering[[#This Row],[Verkoop-gewicht]]-lammering[[#This Row],[geboorte-gewicht]])/(lammering[[#This Row],[Verkoop-datum]]-lammering[[#This Row],[Werp-datum]]))","v":""},"","","","","","",{"$f":"IF(lammering[[#This Row],[Verkoop-gewicht]]=\"\",\"\",lammering[[#This Row],[Verkoop-gewicht]]-lammering[[#This Row],[geboorte-gewicht]])","v":""},"","",{"$f":"Opzoek_ooi[[#This Row],[Ooinummer]]","v":0},"",""]
[{"$f":"lammering[[#This Row],[Ooi]]","v":0},0,0,{"$f":"IF(lammering[[#This Row],[Lam-nummer]]=\"\",0,1)","v":0},{"$f":"IF(lammering[[#This Row],[Dood in geboorte]]=\"ja\",1,0)","v":0},{"$f":"IF(lammering[[#This Row],[Ooi]]=\"\",0,IF(Berekeningen!E74=0,1,0))","v":0},{"$f":"IF(D74=0,0,IF(lammering[[#This Row],[Dood in geboorte]]=\"Ja\",0,IF(lammering[[#This Row],[Dood na geboorte]]=\"ja\",0,1)))","v":0},{"$f":"IF(lammering[[#This Row],[Opfok met kunstmelk]]=\"Ja\",1,0)","v":0},{"$f":"IF(lammering[[#This Row],[geslacht]]=\"O\",1,0)","v":0},{"$f":"IF(lammering[[#This Row],[Speen-datum]]=\"\",\"\",(lammering[[#This Row],[Speen-gewicht]]-lammering[[#This Row],[geboorte-gewicht]])/(lammering[[#This Row],[Speen-datum]]-lammering[[#This Row],[Werp-datum]]))","v":""},{"$f":"IF(lammering[[#This Row],[Verkoop-datum]]=\"\",\"\",(lammering[[#This Row],[Verkoop-gewicht]]-lammering[[#This Row],[Speen-gewicht]])/(lammering[[#This Row],[Verkoop-datum]]-lammering[[#This Row],[Speen-datum]]))","v":""},{"$f":"IF(lammering[[#This Row],[Verkoop-datum]]=\"\",\"\",(lammering[[#This Row],[Verkoop-gewicht]]-lammering[[#This Row],[geboorte-gewicht]])/(lammering[[#This Row],[Verkoop-datum]]-lammering[[#This Row],[Werp-datum]]))","v":""},"","","","","","",{"$f":"IF(lammering[[#This Row],[Verkoop-gewicht]]=\"\",\"\",lammering[[#This Row],[Verkoop-gewicht]]-lammering[[#This Row],[geboorte-gewicht]])","v":""},"","",{"$f":"Opzoek_ooi[[#This Row],[Ooinummer]]","v":0},"",""]
[{"$f":"lammering[[#This Row],[Ooi]]","v":0},0,0,{"$f":"IF(lammering[[#This Row],[Lam-nummer]]=\"\",0,1)","v":0},{"$f":"IF(lammering[[#This Row],[Dood in geboorte]]=\"ja\",1,0)","v":0},{"$f":"IF(lammering[[#This Row],[Ooi]]=\"\",0,IF(Berekeningen!E75=0,1,0))","v":0},{"$f":"IF(D75=0,0,IF(lammering[[#This Row],[Dood in geboorte]]=\"Ja\",0,IF(lammering[[#This Row],[Dood na geboorte]]=\"ja\",0,1)))","v":0},{"$f":"IF(lammering[[#This Row],[Opfok met kunstmelk]]=\"Ja\",1,0)","v":0},{"$f":"IF(lammering[[#This Row],[geslacht]]=\"O\",1,0)","v":0},{"$f":"IF(lammering[[#This Row],[Speen-datum]]=\"\",\"\",(lammering[[#This Row],[Speen-gewicht]]-lammering[[#This Row],[geboorte-gewicht]])/(lammering[[#This Row],[Speen-datum]]-lammering[[#This Row],[Werp-datum]]))","v":""},{"$f":"IF(lammering[[#This Row],[Verkoop-datum]]=\"\",\"\",(lammering[[#This Row],[Verkoop-gewicht]]-lammering[[#This Row],[Speen-gewicht]])/(lammering[[#This Row],[Verkoop-datum]]-lammering[[#This Row],[Speen-datum]]))","v":""},{"$f":"IF(lammering[[#This Row],[Verkoop-datum]]=\"\",\"\",(lammering[[#This Row],[Verkoop-gewicht]]-lammering[[#This Row],[geboorte-gewicht]])/(lammering[[#This Row],[Verkoop-datum]]-lammering[[#This Row],[Werp-datum]]))","v":""},"","","","","","",{"$f":"IF(lammering[[#This Row],[Verkoop-gewicht]]=\"\",\"\",lammering[[#This Row],[Verkoop-gewicht]]-lammering[[#This Row],[geboorte-gewicht]])","v":""},"","",{"$f":"Opzoek_ooi[[#This Row],[Ooinummer]]","v":0},"",""]
[{"$f":"lammering[[#This Row],[Ooi]]","v":0},0,0,{"$f":"IF(lammering[[#This Row],[Lam-nummer]]=\"\",0,1)","v":0},{"$f":"IF(lammering[[#This Row],[Dood in geboorte]]=\"ja\",1,0)","v":0},{"$f":"IF(lammering[[#This Row],[Ooi]]=\"\",0,IF(Berekeningen!E76=0,1,0))","v":0},{"$f":"IF(D76=0,0,IF(lammering[[#This Row],[Dood in geboorte]]=\"Ja\",0,IF(lammering[[#This Row],[Dood na geboorte]]=\"ja\",0,1)))","v":0},{"$f":"IF(lammering[[#This Row],[Opfok met kunstmelk]]=\"Ja\",1,0)","v":0},{"$f":"IF(lammering[[#This Row],[geslacht]]=\"O\",1,0)","v":0},{"$f":"IF(lammering[[#This Row],[Speen-datum]]=\"\",\"\",(lammering[[#This Row],[Speen-gewicht]]-lammering[[#This Row],[geboorte-gewicht]])/(lammering[[#This Row],[Speen-datum]]-lammering[[#This Row],[Werp-datum]]))","v":""},{"$f":"IF(lammering[[#This Row],[Verkoop-datum]]=\"\",\"\",(lammering[[#This Row],[Verkoop-gewicht]]-lammering[[#This Row],[Speen-gewicht]])/(lammering[[#This Row],[Verkoop-datum]]-lammering[[#This Row],[Speen-datum]]))","v":""},{"$f":"IF(lammering[[#This Row],[Verkoop-datum]]=\"\",\"\",(lammering[[#This Row],[Verkoop-gewicht]]-lammering[[#This Row],[geboorte-gewicht]])/(lammering[[#This Row],[Verkoop-datum]]-lammering[[#This Row],[Werp-datum]]))","v":""},"","","","","","",{"$f":"IF(lammering[[#This Row],[Verkoop-gewicht]]=\"\",\"\",lammering[[#This Row],[Verkoop-gewicht]]-lammering[[#This Row],[geboorte-gewicht]])","v":""},"","",{"$f":"Opzoek_ooi[[#This Row],[Ooinummer]]","v":0},"",""]
[{"$f":"lammering[[#This Row],[Ooi]]","v":0},0,0,{"$f":"IF(lammering[[#This Row],[Lam-nummer]]=\"\",0,1)","v":0},{"$f":"IF(lammering[[#This Row],[Dood in geboorte]]=\"ja\",1,0)","v":0},{"$f":"IF(lammering[[#This Row],[Ooi]]=\"\",0,IF(Berekeningen!E77=0,1,0))","v":0},{"$f":"IF(D77=0,0,IF(lammering[[#This Row],[Dood in geboorte]]=\"Ja\",0,IF(lammering[[#This Row],[Dood na geboorte]]=\"ja\",0,1)))","v":0},{"$f":"IF(lammering[[#This Row],[Opfok met kunstmelk]]=\"Ja\",1,0)","v":0},{"$f":"IF(lammering[[#This Row],[geslacht]]=\"O\",1,0)","v":0},{"$f":"IF(lammering[[#This Row],[Speen-datum]]=\"\",\"\",(lammering[[#This Row],[Speen-gewicht]]-lammering[[#This Row],[geboorte-gewicht]])/(lammering[[#This Row],[Speen-datum]]-lammering[[#This Row],[Werp-datum]]))","v":""},{"$f":"IF(lammering[[#This Row],[Verkoop-datum]]=\"\",\"\",(lammering[[#This Row],[Verkoop-gewicht]]-lammering[[#This Row],[Speen-gewicht]])/(lammering[[#This Row],[Verkoop-datum]]-lammering[[#This Row],[Speen-datum]]))","v":""},{"$f":"IF(lammering[[#This Row],[Verkoop-datum]]=\"\",\"\",(lammering[[#This Row],[Verkoop-gewicht]]-lammering[[#This Row],[geboorte-gewicht]])/(lammering[[#This Row],[Verkoop-datum]]-lammering[[#This Row],[Werp-datum]]))","v":""},"","","","","","",{"$f":"IF(lammering[[#This Row],[Verkoop-gewicht]]=\"\",\"\",lammering[[#This Row],[Verkoop-gewicht]]-lammering[[#This Row],[geboorte-gewicht]])","v":""},"","",{"$f":"Opzoek_ooi[[#This Row],[Ooinummer]]","v":0},"",""]
[{"$f":"lammering[[#This Row],[Ooi]]","v":0},0,0,{"$f":"IF(lammering[[#This Row],[Lam-nummer]]=\"\",0,1)","v":0},{"$f":"IF(lammering[[#This Row],[Dood in geboorte]]=\"ja\",1,0)","v":0},{"$f":"IF(lammering[[#This Row],[Ooi]]=\"\",0,IF(Berekeningen!E78=0,1,0))","v":0},{"$f":"IF(D78=0,0,IF(lammering[[#This Row],[Dood in geboorte]]=\"Ja\",0,IF(lammering[[#This Row],[Dood na geboorte]]=\"ja\",0,1)))","v":0},{"$f":"IF(lammering[[#This Row],[Opfok met kunstmelk]]=\"Ja\",1,0)","v":0},{"$f":"IF(lammering[[#This Row],[geslacht]]=\"O\",1,0)","v":0},{"$f":"IF(lammering[[#This Row],[Speen-datum]]=\"\",\"\",(lammering[[#This Row],[Speen-gewicht]]-lammering[[#This Row],[geboorte-gewicht]])/(lammering[[#This Row],[Speen-datum]]-lammering[[#This Row],[Werp-datum]]))","v":""},{"$f":"IF(lammering[[#This Row],[Verkoop-datum]]=\"\",\"\",(lammering[[#This Row],[Verkoop-gewicht]]-lammering[[#This Row],[Speen-gewicht]])/(lammering[[#This Row],[Verkoop-datum]]-lammering[[#This Row],[Speen-datum]]))","v":""},{"$f":"IF(lammering[[#This Row],[Verkoop-datum]]=\"\",\"\",(lammering[[#This Row],[Verkoop-gewicht]]-lammering[[#This Row],[geboorte-gewicht]])/(lammering[[#This Row],[Verkoop-datum]]-lammering[[#This Row],[Werp-datum]]))","v":""},"","","","","","",{"$f":"IF(lammering[[#This Row],[Verkoop-gewicht]]=\"\",\"\",lammering[[#This Row],[Verkoop-gewicht]]-lammering[[#This Row],[geboorte-gewicht]])","v":""},"","",{"$f":"Opzoek_ooi[[#This Row],[Ooinummer]]","v":0},"",""]
[{"$f":"lammering[[#This Row],[Ooi]]","v":0},0,0,{"$f":"IF(lammering[[#This Row],[Lam-nummer]]=\"\",0,1)","v":0},{"$f":"IF(lammering[[#This Row],[Dood in geboorte]]=\"ja\",1,0)","v":0},{"$f":"IF(lammering[[#This Row],[Ooi]]=\"\",0,IF(Berekeningen!E79=0,1,0))","v":0},{"$f":"IF(D79=0,0,IF(lammering[[#This Row],[Dood in geboorte]]=\"Ja\",0,IF(lammering[[#This Row],[Dood na geboorte]]=\"ja\",0,1)))","v":0},{"$f":"IF(lammering[[#This Row],[Opfok met kunstmelk]]=\"Ja\",1,0)","v":0},{"$f":"IF(lammering[[#This Row],[geslacht]]=\"O\",1,0)","v":0},{"$f":"IF(lammering[[#This Row],[Speen-datum]]=\"\",\"\",(lammering[[#This Row],[Speen-gewicht]]-lammering[[#This Row],[geboorte-gewicht]])/(lammering[[#This Row],[Speen-datum]]-lammering[[#This Row],[Werp-datum]]))","v":""},{"$f":"IF(lammering[[#This Row],[Verkoop-datum]]=\"\",\"\",(lammering[[#This Row],[Verkoop-gewicht]]-lammering[[#This Row],[Speen-gewicht]])/(lammering[[#This Row],[Verkoop-datum]]-lammering[[#This Row],[Speen-datum]]))","v":""},{"$f":"IF(lammering[[#This Row],[Verkoop-datum]]=\"\",\"\",(lammering[[#This Row],[Verkoop-gewicht]]-lammering[[#This Row],[geboorte-gewicht]])/(lammering[[#This Row],[Verkoop-datum]]-lammering[[#This Row],[Werp-datum]]))","v":""},{"$f":"IF($I79=1,J79,\"\")","v":""},{"$f":"IF($I79=1,K79,\"\")","v":""},{"$f":"IF($I79=1,L79,\"\")","v":""},{"$f":"IF($I79=0,J79,\"\")","v":""},{"$f":"IF($I79=0,K79,\"\")","v":""},{"$f":"IF($I79=0,L79,\"\")","v":""},{"$f":"IF(lammering[[#This Row],[Verkoop-gewicht]]=\"\",\"\",lammering[[#This Row],[Verkoop-gewicht]]-lammering[[#This Row],[geboorte-gewicht]])","v":""},{"$f":"IF(I79=1,S79,\"\")","v":""},{"$f":"IF(I79=0,S79,\"\")","v":""},{"$f":"Opzoek_ooi[[#This Row],[Ooinummer]]","v":0},"",""]
[{"$f":"lammering[[#This Row],[Ooi]]","v":0},0,0,{"$f":"IF(lammering[[#This Row],[Lam-nummer]]=\"\",0,1)","v":0},{"$f":"IF(lammering[[#This Row],[Dood in geboorte]]=\"ja\",1,0)","v":0},{"$f":"IF(lammering[[#This Row],[Ooi]]=\"\",0,IF(Berekeningen!E80=0,1,0))","v":0},{"$f":"IF(D80=0,0,IF(lammering[[#This Row],[Dood in geboorte]]=\"Ja\",0,IF(lammering[[#This Row],[Dood na geboorte]]=\"ja\",0,1)))","v":0},{"$f":"IF(lammering[[#This Row],[Opfok met kunstmelk]]=\"Ja\",1,0)","v":0},{"$f":"IF(lammering[[#This Row],[geslacht]]=\"O\",1,0)","v":0},{"$f":"IF(lammering[[#This Row],[Speen-datum]]=\"\",\"\",(lammering[[#This Row],[Speen-gewicht]]-lammering[[#This Row],[geboorte-gewicht]])/(lammering[[#This Row],[Speen-datum]]-lammering[[#This Row],[Werp-datum]]))","v":""},{"$f":"IF(lammering[[#This Row],[Verkoop-datum]]=\"\",\"\",(lammering[[#This Row],[Verkoop-gewicht]]-lammering[[#This Row],[Speen-gewicht]])/(lammering[[#This Row],[Verkoop-datum]]-lammering[[#This Row],[Speen-datum]]))","v":""},{"$f":"IF(lammering[[#This Row],[Verkoop-datum]]=\"\",\"\",(lammering[[#This Row],[Verkoop-gewicht]]-lammering[[#This Row],[geboorte-gewicht]])/(lammering[[#This Row],[Verkoop-datum]]-lammering[[#This Row],[Werp-datum]]))","v":""},"","","","","","",{"$f":"IF(lammering[[#This Row],[Verkoop-gewicht]]=\"\",\"\",lammering[[#This Row],[Verkoop-gewicht]]-lammering[[#This Row],[geboorte-gewicht]])","v":""},"","",{"$f":"Opzoek_ooi[[#This Row],[Ooinummer]]","v":0},{"$f":"IF(V80=0,\"\",COUNTIF(C$2:C$500,V80))","v":""},""]
[{"$f":"lammering[[#This Row],[Ooi]]","v":0},0,0,{"$f":"IF(lammering[[#This Row],[Lam-nummer]]=\"\",0,1)","v":0},{"$f":"IF(lammering[[#This Row],[Dood in geboorte]]=\"ja\",1,0)","v":0},{"$f":"IF(lammering[[#This Row],[Ooi]]=\"\",0,IF(Berekeningen!E81=0,1,0))","v":0},{"$f":"IF(D81=0,0,IF(lammering[[#This Row],[Dood in geboorte]]=\"Ja\",0,IF(lammering[[#This Row],[Dood na geboorte]]=\"ja\",0,1)))","v":0},{"$f":"IF(lammering[[#This Row],[Opfok met kunstmelk]]=\"Ja\",1,0)","v":0},{"$f":"IF(lammering[[#This Row],[geslacht]]=\"O\",1,0)","v":0},{"$f":"IF(lammering[[#This Row],[Speen-datum]]=\"\",\"\",(lammering[[#This Row],[Speen-gewicht]]-lammering[[#This Row],[geboorte-gewicht]])/(lammering[[#This Row],[Speen-datum]]-lammering[[#This Row],[Werp-datum]]))","v":""},{"$f":"IF(lammering[[#This Row],[Verkoop-datum]]=\"\",\"\",(lammering[[#This Row],[Verkoop-gewicht]]-lammering[[#This Row],[Speen-gewicht]])/(lammering[[#This Row],[Verkoop-datum]]-lammering[[#This Row],[Speen-datum]]))","v":""},{"$f":"IF(lammering[[#This Row],[Verkoop-datum]]=\"\",\"\",(lammering[[#This Row],[Verkoop-gewicht]]-lammering[[#This Row],[geboorte-gewicht]])/(lammering[[#This Row],[Verkoop-datum]]-lammering[[#This Row],[Werp-datum]]))","v":""},"","","","","","",{"$f":"IF(lammering[[#This Row],[Verkoop-gewicht]]=\"\",\"\",lammering[[#This Row],[Verkoop-gewicht]]-lammering[[#This Row],[geboorte-gewicht]])","v":""},"","",{"$f":"Opzoek_ooi[[#This Row],[Ooinummer]]","v":0},"",""]
[{"$f":"lammering[[#This Row],[Ooi]]","v":0},0,0,{"$f":"IF(lammering[[#This Row],[Lam-nummer]]=\"\",0,1)","v":0},{"$f":"IF(lammering[[#This Row],[Dood in geboorte]]=\"ja\",1,0)","v":0},{"$f":"IF(lammering[[#This Row],[Ooi]]=\"\",0,IF(Berekeningen!E82=0,1,0))","v":0},{"$f":"IF(D82=0,0,IF(lammering[[#This Row],[Dood in geboorte]]=\"Ja\",0,IF(lammering[[#This Row],[Dood na geboorte]]=\"ja\",0,1)))","v":0},{"$f":"IF(lammering[[#This Row],[Opfok met kunstmelk]]=\"Ja\",1,0)","v":0},{"$f":"IF(lammering[[#This Row],[geslacht]]=\"O\",1,0)","v":0},{"$f":"IF(lammering[[#This Row],[Speen-datum]]=\"\",\"\",(lammering[[#This Row],[Speen-gewicht]]-lammering[[#This Row],[geboorte-gewicht]])/(lammering[[#This Row],[Speen-datum]]-lammering[[#This Row],[Werp-datum]]))","v":""},{"$f":"IF(lammering[[#This Row],[Verkoop-datum]]=\"\",\"\",(lammering[[#This Row],[Verkoop-gewicht]]-lammering[[#This Row],[Speen-gewicht]])/(lammering[[#This Row],[Verkoop-datum]]-lammering[[#This Row],[Speen-datum]]))","v":""},{"$f":"IF(lammering[[#This Row],[Verkoop-datum]]=\"\",\"\",(lammering[[#This Row],[Verkoop-gewicht]]-lammering[[#This Row],[geboorte-gewicht]])/(lammering[[#This Row],[Verkoop-datum]]-lammering[[#This Row],[Werp-datum]]))","v":""},"","","","","","",{"$f":"IF(lammering[[#This Row],[Verkoop-gewicht]]=\"\",\"\",lammering[[#This Row],[Verkoop-gewicht]]-lammering[[#This Row],[geboorte-gewicht]])","v":""},"","",{"$f":"Opzoek_ooi[[#This Row],[Ooinummer]]","v":0},"",""]
[{"$f":"lammering[[#This Row],[Ooi]]","v":0},0,0,{"$f":"IF(lammering[[#This Row],[Lam-nummer]]=\"\",0,1)","v":0},{"$f":"IF(lammering[[#This Row],[Dood in geboorte]]=\"ja\",1,0)","v":0},{"$f":"IF(lammering[[#This Row],[Ooi]]=\"\",0,IF(Berekeningen!E83=0,1,0))","v":0},{"$f":"IF(D83=0,0,IF(lammering[[#This Row],[Dood in geboorte]]=\"Ja\",0,IF(lammering[[#This Row],[Dood na geboorte]]=\"ja\",0,1)))","v":0},{"$f":"IF(lammering[[#This Row],[Opfok met kunstmelk]]=\"Ja\",1,0)","v":0},{"$f":"IF(lammering[[#This Row],[geslacht]]=\"O\",1,0)","v":0},{"$f":"IF(lammering[[#This Row],[Speen-datum]]=\"\",\"\",(lammering[[#This Row],[Speen-gewicht]]-lammering[[#This Row],[geboorte-gewicht]])/(lammering[[#This Row],[Speen-datum]]-lammering[[#This Row],[Werp-datum]]))","v":""},{"$f":"IF(lammering[[#This Row],[Verkoop-datum]]=\"\",\"\",(lammering[[#This Row],[Verkoop-gewicht]]-lammering[[#This Row],[Speen-gewicht]])/(lammering[[#This Row],[Verkoop-datum]]-lammering[[#This Row],[Speen-datum]]))","v":""},{"$f":"IF(lammering[[#This Row],[Verkoop-datum]]=\"\",\"\",(lammering[[#This Row],[Verkoop-gewicht]]-lammering[[#This Row],[geboorte-gewicht]])/(lammering[[#This Row],[Verkoop-datum]]-lammering[[#This Row],[Werp-datum]]))","v":""},"","","","","","",{"$f":"IF(lammering[[#This Row],[Verkoop-gewicht]]=\"\",\"\",lammering[[#This Row],[Verkoop-gewicht]]-lammering[[#This Row],[geboorte-gewicht]])","v":""},"","",{"$f":"Opzoek_ooi[[#This Row],[Ooinummer]]","v":0},"",""]
[{"$f":"lammering[[#This Row],[Ooi]]","v":0},0,0,{"$f":"IF(lammering[[#This Row],[Lam-nummer]]=\"\",0,1)","v":0},{"$f":"IF(lammering[[#This Row],[Dood in geboorte]]=\"ja\",1,0)","v":0},{"$f":"IF(lammering[[#This Row],[Ooi]]=\"\",0,IF(Berekeningen!E84=0,1,0))","v":0},{"$f":"IF(D84=0,0,IF(lammering[[#This Row],[Dood in geboorte]]=\"Ja\",0,IF(lammering[[#This Row],[Dood na geboorte]]=\"ja\",0,1)))","v":0},{"$f":"IF(lammering[[#This Row],[Opfok met kunstmelk]]=\"Ja\",1,0)","v":0},{"$f":"IF(lammering[[#This Row],[geslacht]]=\"O\",1,0)","v":0},{"$f":"IF(lammering[[#This Row],[Speen-datum]]=\"\",\"\",(lammering[[#This Row],[Speen-gewicht]]-lammering[[#This Row],[geboorte-gewicht]])/(lammering[[#This Row],[Speen-datum]]-lammering[[#This Row],[Werp-datum]]))","v":""},{"$f":"IF(lammering[[#This Row],[Verkoop-datum]]=\"\",\"\",(lammering[[#This Row],[Verkoop-gewicht]]-lammering[[#This Row],[Speen-gewicht]])/(lammering[[#This Row],[Verkoop-datum]]-lammering[[#This Row],[Speen-datum]]))","v":""},{"$f":"IF(lammering[[#This Row],[Verkoop-datum]]=\"\",\"\",(lammering[[#This Row],[Verkoop-gewicht]]-lammering[[#This Row],[geboorte-gewicht]])/(lammering[[#This Row],[Verkoop-datum]]-lammering[[#This Row],[Werp-datum]]))","v":""},"","","","","","",{"$f":"IF(lammering[[#This Row],[Verkoop-gewicht]]=\"\",\"\",lammering[[#This Row],[Verkoop-gewicht]]-lammering[[#This Row],[geboorte-gewicht]])","v":""},"","",{"$f":"Opzoek_ooi[[#This Row],[Ooinummer]]","v":0},"",""]
[{"$f":"lammering[[#This Row],[Ooi]]","v":0},0,0,{"$f":"IF(lammering[[#This Row],[Lam-nummer]]=\"\",0,1)","v":0},{"$f":"IF(lammering[[#This Row],[Dood in geboorte]]=\"ja\",1,0)","v":0},{"$f":"IF(lammering[[#This Row],[Ooi]]=\"\",0,IF(Berekeningen!E85=0,1,0))","v":0},{"$f":"IF(D85=0,0,IF(lammering[[#This Row],[Dood in geboorte]]=\"Ja\",0,IF(lammering[[#This Row],[Dood na geboorte]]=\"ja\",0,1)))","v":0},{"$f":"IF(lammering[[#This Row],[Opfok met kunstmelk]]=\"Ja\",1,0)","v":0},{"$f":"IF(lammering[[#This Row],[geslacht]]=\"O\",1,0)","v":0},{"$f":"IF(lammering[[#This Row],[Speen-datum]]=\"\",\"\",(lammering[[#This Row],[Speen-gewicht]]-lammering[[#This Row],[geboorte-gewicht]])/(lammering[[#This Row],[Speen-datum]]-lammering[[#This Row],[Werp-datum]]))","v":""},{"$f":"IF(lammering[[#This Row],[Verkoop-datum]]=\"\",\"\",(lammering[[#This Row],[Verkoop-gewicht]]-lammering[[#This Row],[Speen-gewicht]])/(lammering[[#This Row],[Verkoop-datum]]-lammering[[#This Row],[Speen-datum]]))","v":""},{"$f":"IF(lammering[[#This Row],[Verkoop-datum]]=\"\",\"\",(lammering[[#This Row],[Verkoop-gewicht]]-lammering[[#This Row],[geboorte-gewicht]])/(lammering[[#This Row],[Verkoop-datum]]-lammering[[#This Row],[Werp-datum]]))","v":""},"","","","","","",{"$f":"IF(lammering[[#This Row],[Verkoop-gewicht]]=\"\",\"\",lammering[[#This Row],[Verkoop-gewicht]]-lammering[[#This Row],[geboorte-gewicht]])","v":""},"","",{"$f":"Opzoek_ooi[[#This Row],[Ooinummer]]","v":0},"",""]
[{"$f":"lammering[[#This Row],[Ooi]]","v":0},0,0,{"$f":"IF(lammering[[#This Row],[Lam-nummer]]=\"\",0,1)","v":0},{"$f":"IF(lammering[[#This Row],[Dood in geboorte]]=\"ja\",1,0)","v":0},{"$f":"IF(lammering[[#This Row],[Ooi]]=\"\",0,IF(Berekeningen!E86=0,1,0))","v":0},{"$f":"IF(D86=0,0,IF(lammering[[#This Row],[Dood in geboorte]]=\"Ja\",0,IF(lammering[[#This Row],[Dood na geboorte]]=\"ja\",0,1)))","v":0},{"$f":"IF(lammering[[#This Row],[Opfok met kunstmelk]]=\"Ja\",1,0)","v":0},{"$f":"IF(lammering[[#This Row],[geslacht]]=\"O\",1,0)","v":0},{"$f":"IF(lammering[[#This Row],[Speen-datum]]=\"\",\"\",(lammering[[#This Row],[Speen-gewicht]]-lammering[[#This Row],[geboorte-gewicht]])/(lammering[[#This Row],[Speen-datum]]-lammering[[#This Row],[Werp-datum]]))","v":""},{"$f":"IF(lammering[[#This Row],[Verkoop-datum]]=\"\",\"\",(lammering[[#This Row],[Verkoop-gewicht]]-lammering[[#This Row],[Speen-gewicht]])/(lammering[[#This Row],[Verkoop-datum]]-lammering[[#This Row],[Speen-datum]]))","v":""},{"$f":"IF(lammering[[#This Row],[Verkoop-datum]]=\"\",\"\",(lammering[[#This Row],[Verkoop-gewicht]]-lammering[[#This Row],[geboorte-gewicht]])/(lammering[[#This Row],[Verkoop-datum]]-lammering[[#This Row],[Werp-datum]]))","v":""},"","","","","","",{"$f":"IF(lammering[[#This Row],[Verkoop-gewicht]]=\"\",\"\",lammering[[#This Row],[Verkoop-gewicht]]-lammering[[#This Row],[geboorte-gewicht]])","v":""},"","",{"$f":"Opzoek_ooi[[#This Row],[Ooinummer]]","v":0},"",""]
[{"$f":"lammering[[#This Row],[Ooi]]","v":0},0,0,{"$f":"IF(lammering[[#This Row],[Lam-nummer]]=\"\",0,1)","v":0},{"$f":"IF(lammering[[#This Row],[Dood in geboorte]]=\"ja\",1,0)","v":0},{"$f":"IF(lammering[[#This Row],[Ooi]]=\"\",0,IF(Berekeningen!E87=0,1,0))","v":0},{"$f":"IF(D87=0,0,IF(lammering[[#This Row],[Dood in geboorte]]=\"Ja\",0,IF(lammering[[#This Row],[Dood na geboorte]]=\"ja\",0,1)))","v":0},{"$f":"IF(lammering[[#This Row],[Opfok met kunstmelk]]=\"Ja\",1,0)","v":0},{"$f":"IF(lammering[[#This Row],[geslacht]]=\"O\",1,0)","v":0},{"$f":"IF(lammering[[#This Row],[Speen-datum]]=\"\",\"\",(lammering[[#This Row],[Speen-gewicht]]-lammering[[#This Row],[geboorte-gewicht]])/(lammering[[#This Row],[Speen-datum]]-lammering[[#This Row],[Werp-datum]]))","v":""},{"$f":"IF(lammering[[#This Row],[Verkoop-datum]]=\"\",\"\",(lammering[[#This Row],[Verkoop-gewicht]]-lammering[[#This Row],[Speen-gewicht]])/(lammering[[#This Row],[Verkoop-datum]]-lammering[[#This Row],[Speen-datum]]))","v":""},{"$f":"IF(lammering[[#This Row],[Verkoop-datum]]=\"\",\"\",(lammering[[#This Row],[Verkoop-gewicht]]-lammering[[#This Row],[geboorte-gewicht]])/(lammering[[#This Row],[Verkoop-datum]]-lammering[[#This Row],[Werp-datum]]))","v":""},"","","","","","",{"$f":"IF(lammering[[#This Row],[Verkoop-gewicht]]=\"\",\"\",lammering[[#This Row],[Verkoop-gewicht]]-lammering[[#This Row],[geboorte-gewicht]])","v":""},"","",{"$f":"Opzoek_ooi[[#This Row],[Ooinummer]]","v":0},"",""]
[{"$f":"lammering[[#This Row],[Ooi]]","v":0},0,0,{"$f":"IF(lammering[[#This Row],[Lam-nummer]]=\"\",0,1)","v":0},{"$f":"IF(lammering[[#This Row],[Dood in geboorte]]=\"ja\",1,0)","v":0},{"$f":"IF(lammering[[#This Row],[Ooi]]=\"\",0,IF(Berekeningen!E88=0,1,0))","v":0},{"$f":"IF(D88=0,0,IF(lammering[[#This Row],[Dood in geboorte]]=\"Ja\",0,IF(lammering[[#This Row],[Dood na geboorte]]=\"ja\",0,1)))","v":0},{"$f":"IF(lammering[[#This Row],[Opfok met kunstmelk]]=\"Ja\",1,0)","v":0},{"$f":"IF(lammering[[#This Row],[geslacht]]=\"O\",1,0)","v":0},{"$f":"IF(lammering[[#This Row],[Speen-datum]]=\"\",\"\",(lammering[[#This Row],[Speen-gewicht]]-lammering[[#This Row],[geboorte-gewicht]])/(lammering[[#This Row],[Speen-datum]]-lammering[[#This Row],[Werp-datum]]))","v":""},{"$f":"IF(lammering[[#This Row],[Verkoop-datum]]=\"\",\"\",(lammering[[#This Row],[Verkoop-gewicht]]-lammering[[#This Row],[Speen-gewicht]])/(lammering[[#This Row],[Verkoop-datum]]-lammering[[#This Row],[Speen-datum]]))","v":""},{"$f":"IF(lammering[[#This Row],[Verkoop-datum]]=\"\",\"\",(lammering[[#This Row],[Verkoop-gewicht]]-lammering[[#This Row],[geboorte-gewicht]])/(lammering[[#This Row],[Verkoop-datum]]-lammering[[#This Row],[Werp-datum]]))","v":""},"","","","","","",{"$f":"IF(lammering[[#This Row],[Verkoop-gewicht]]=\"\",\"\",lammering[[#This Row],[Verkoop-gewicht]]-lammering[[#This Row],[geboorte-gewicht]])","v":""},"","",{"$f":"Opzoek_ooi[[#This Row],[Ooinummer]]","v":0},"",""]
[{"$f":"lammering[[#This Row],[Ooi]]","v":0},0,0,{"$f":"IF(lammering[[#This Row],[Lam-nummer]]=\"\",0,1)","v":0},{"$f":"IF(lammering[[#This Row],[Dood in geboorte]]=\"ja\",1,0)","v":0},{"$f":"IF(lammering[[#This Row],[Ooi]]=\"\",0,IF(Berekeningen!E89=0,1,0))","v":0},{"$f":"IF(D89=0,0,IF(lammering[[#This Row],[Dood in geboorte]]=\"Ja\",0,IF(lammering[[#This Row],[Dood na geboorte]]=\"ja\",0,1)))","v":0},{"$f":"IF(lammering[[#This Row],[Opfok met kunstmelk]]=\"Ja\",1,0)","v":0},{"$f":"IF(lammering[[#This Row],[geslacht]]=\"O\",1,0)","v":0},{"$f":"IF(lammering[[#This Row],[Speen-datum]]=\"\",\"\",(lammering[[#This Row],[Speen-gewicht]]-lammering[[#This Row],[geboorte-gewicht]])/(lammering[[#This Row],[Speen-datum]]-lammering[[#This Row],[Werp-datum]]))","v":""},{"$f":"IF(lammering[[#This Row],[Verkoop-datum]]=\"\",\"\",(lammering[[#This Row],[Verkoop-gewicht]]-lammering[[#This Row],[Speen-gewicht]])/(lammering[[#This Row],[Verkoop-datum]]-lammering[[#This Row],[Speen-datum]]))","v":""},{"$f":"IF(lammering[[#This Row],[Verkoop-datum]]=\"\",\"\",(lammering[[#This Row],[Verkoop-gewicht]]-lammering[[#This Row],[geboorte-gewicht]])/(lammering[[#This Row],[Verkoop-datum]]-lammering[[#This Row],[Werp-datum]]))","v":""},"","","","","","",{"$f":"IF(lammering[[#This Row],[Verkoop-gewicht]]=\"\",\"\",lammering[[#This Row],[Verkoop-gewicht]]-lammering[[#This Row],[geboorte-gewicht]])","v":""},"","",{"$f":"Opzoek_ooi[[#This Row],[Ooinummer]]","v":0},"",""]
[{"$f":"lammering[[#This Row],[Ooi]]","v":0},0,0,{"$f":"IF(lammering[[#This Row],[Lam-nummer]]=\"\",0,1)","v":0},{"$f":"IF(lammering[[#This Row],[Dood in geboorte]]=\"ja\",1,0)","v":0},{"$f":"IF(lammering[[#This Row],[Ooi]]=\"\",0,IF(Berekeningen!E90=0,1,0))","v":0},{"$f":"IF(D90=0,0,IF(lammering[[#This Row],[Dood in geboorte]]=\"Ja\",0,IF(lammering[[#This Row],[Dood na geboorte]]=\"ja\",0,1)))","v":0},{"$f":"IF(lammering[[#This Row],[Opfok met kunstmelk]]=\"Ja\",1,0)","v":0},{"$f":"IF(lammering[[#This Row],[geslacht]]=\"O\",1,0)","v":0},{"$f":"IF(lammering[[#This Row],[Speen-datum]]=\"\",\"\",(lammering[[#This Row],[Speen-gewicht]]-lammering[[#This Row],[geboorte-gewicht]])/(lammering[[#This Row],[Speen-datum]]-lammering[[#This Row],[Werp-datum]]))","v":""},{"$f":"IF(lammering[[#This Row],[Verkoop-datum]]=\"\",\"\",(lammering[[#This Row],[Verkoop-gewicht]]-lammering[[#This Row],[Speen-gewicht]])/(lammering[[#This Row],[Verkoop-datum]]-lammering[[#This Row],[Speen-datum]]))","v":""},{"$f":"IF(lammering[[#This Row],[Verkoop-datum]]=\"\",\"\",(lammering[[#This Row],[Verkoop-gewicht]]-lammering[[#This Row],[geboorte-gewicht]])/(lammering[[#This Row],[Verkoop-datum]]-lammering[[#This Row],[Werp-datum]]))","v":""},"","","","","","",{"$f":"IF(lammering[[#This Row],[Verkoop-gewicht]]=\"\",\"\",lammering[[#This Row],[Verkoop-gewicht]]-lammering[[#This Row],[geboorte-gewicht]])","v":""},"","",{"$f":"Opzoek_ooi[[#This Row],[Ooinummer]]","v":0},"",""]
[{"$f":"lammering[[#This Row],[Ooi]]","v":0},0,0,{"$f":"IF(lammering[[#This Row],[Lam-nummer]]=\"\",0,1)","v":0},{"$f":"IF(lammering[[#This Row],[Dood in geboorte]]=\"ja\",1,0)","v":0},{"$f":"IF(lammering[[#This Row],[Ooi]]=\"\",0,IF(Berekeningen!E91=0,1,0))","v":0},{"$f":"IF(D91=0,0,IF(lammering[[#This Row],[Dood in geboorte]]=\"Ja\",0,IF(lammering[[#This Row],[Dood na geboorte]]=\"ja\",0,1)))","v":0},{"$f":"IF(lammering[[#This Row],[Opfok met kunstmelk]]=\"Ja\",1,0)","v":0},{"$f":"IF(lammering[[#This Row],[geslacht]]=\"O\",1,0)","v":0},{"$f":"IF(lammering[[#This Row],[Speen-datum]]=\"\",\"\",(lammering[[#This Row],[Speen-gewicht]]-lammering[[#This Row],[geboorte-gewicht]])/(lammering[[#This Row],[Speen-datum]]-lammering[[#This Row],[Werp-datum]]))","v":""},{"$f":"IF(lammering[[#This Row],[Verkoop-datum]]=\"\",\"\",(lammering[[#This Row],[Verkoop-gewicht]]-lammering[[#This Row],[Speen-gewicht]])/(lammering[[#This Row],[Verkoop-datum]]-lammering[[#This Row],[Speen-datum]]))","v":""},{"$f":"IF(lammering[[#This Row],[Verkoop-datum]]=\"\",\"\",(lammering[[#This Row],[Verkoop-gewicht]]-lammering[[#This Row],[geboorte-gewicht]])/(lammering[[#This Row],[Verkoop-datum]]-lammering[[#This Row],[Werp-datum]]))","v":""},"","","","","","",{"$f":"IF(lammering[[#This Row],[Verkoop-gewicht]]=\"\",\"\",lammering[[#This Row],[Verkoop-gewicht]]-lammering[[#This Row],[geboorte-gewicht]])","v":""},"","",{"$f":"Opzoek_ooi[[#This Row],[Ooinummer]]","v":0},"",""]
[{"$f":"lammering[[#This Row],[Ooi]]","v":0},0,0,{"$f":"IF(lammering[[#This Row],[Lam-nummer]]=\"\",0,1)","v":0},{"$f":"IF(lammering[[#This Row],[Dood in geboorte]]=\"ja\",1,0)","v":0},{"$f":"IF(lammering[[#This Row],[Ooi]]=\"\",0,IF(Berekeningen!E92=0,1,0))","v":0},{"$f":"IF(D92=0,0,IF(lammering[[#This Row],[Dood in geboorte]]=\"Ja\",0,IF(lammering[[#This Row],[Dood na geboorte]]=\"ja\",0,1)))","v":0},{"$f":"IF(lammering[[#This Row],[Opfok met kunstmelk]]=\"Ja\",1,0)","v":0},{"$f":"IF(lammering[[#This Row],[geslacht]]=\"O\",1,0)","v":0},{"$f":"IF(lammering[[#This Row],[Speen-datum]]=\"\",\"\",(lammering[[#This Row],[Speen-gewicht]]-lammering[[#This Row],[geboorte-gewicht]])/(lammering[[#This Row],[Speen-datum]]-lammering[[#This Row],[Werp-datum]]))","v":""},{"$f":"IF(lammering[[#This Row],[Verkoop-datum]]=\"\",\"\",(lammering[[#This Row],[Verkoop-gewicht]]-lammering[[#This Row],[Speen-gewicht]])/(lammering[[#This Row],[Verkoop-datum]]-lammering[[#This Row],[Speen-datum]]))","v":""},{"$f":"IF(lammering[[#This Row],[Verkoop-datum]]=\"\",\"\",(lammering[[#This Row],[Verkoop-gewicht]]-lammering[[#This Row],[geboorte-gewicht]])/(lammering[[#This Row],[Verkoop-datum]]-lammering[[#This Row],[Werp-datum]]))","v":""},"","","","","","",{"$f":"IF(lammering[[#This Row],[Verkoop-gewicht]]=\"\",\"\",lammering[[#This Row],[Verkoop-gewicht]]-lammering[[#This Row],[geboorte-gewicht]])","v":""},"","",{"$f":"Opzoek_ooi[[#This Row],[Ooinummer]]","v":0},"",""]
[{"$f":"lammering[[#This Row],[Ooi]]","v":0},0,0,{"$f":"IF(lammering[[#This Row],[Lam-nummer]]=\"\",0,1)","v":0},{"$f":"IF(lammering[[#This Row],[Dood in geboorte]]=\"ja\",1,0)","v":0},{"$f":"IF(lammering[[#This Row],[Ooi]]=\"\",0,IF(Berekeningen!E93=0,1,0))","v":0},{"$f":"IF(D93=0,0,IF(lammering[[#This Row],[Dood in geboorte]]=\"Ja\",0,IF(lammering[[#This Row],[Dood na geboorte]]=\"ja\",0,1)))","v":0},{"$f":"IF(lammering[[#This Row],[Opfok met kunstmelk]]=\"Ja\",1,0)","v":0},{"$f":"IF(lammering[[#This Row],[geslacht]]=\"O\",1,0)","v":0},{"$f":"IF(lammering[[#This Row],[Speen-datum]]=\"\",\"\",(lammering[[#This Row],[Speen-gewicht]]-lammering[[#This Row],[geboorte-gewicht]])/(lammering[[#This Row],[Speen-datum]]-lammering[[#This Row],[Werp-datum]]))","v":""},{"$f":"IF(lammering[[#This Row],[Verkoop-datum]]=\"\",\"\",(lammering[[#This Row],[Verkoop-gewicht]]-lammering[[#This Row],[Speen-gewicht]])/(lammering[[#This Row],[Verkoop-datum]]-lammering[[#This Row],[Speen-datum]]))","v":""},{"$f":"IF(lammering[[#This Row],[Verkoop-datum]]=\"\",\"\",(lammering[[#This Row],[Verkoop-gewicht]]-lammering[[#This Row],[geboorte-gewicht]])/(lammering[[#This Row],[Verkoop-datum]]-lammering[[#This Row],[Werp-datum]]))","v":""},"","","","","","",{"$f":"IF(lammering[[#This Row],[Verkoop-gewicht]]=\"\",\"\",lammering[[#This Row],[Verkoop-gewicht]]-lammering[[#This Row],[geboorte-gewicht]])","v":""},"","",{"$f":"Opzoek_ooi[[#This Row],[Ooinummer]]","v":0},"",""]
[{"$f":"lammering[[#This Row],[Ooi]]","v":0},0,0,{"$f":"IF(lammering[[#This Row],[Lam-nummer]]=\"\",0,1)","v":0},{"$f":"IF(lammering[[#This Row],[Dood in geboorte]]=\"ja\",1,0)","v":0},{"$f":"IF(lammering[[#This Row],[Ooi]]=\"\",0,IF(Berekeningen!E94=0,1,0))","v":0},{"$f":"IF(D94=0,0,IF(lammering[[#This Row],[Dood in geboorte]]=\"Ja\",0,IF(lammering[[#This Row],[Dood na geboorte]]=\"ja\",0,1)))","v":0},{"$f":"IF(lammering[[#This Row],[Opfok met kunstmelk]]=\"Ja\",1,0)","v":0},{"$f":"IF(lammering[[#This Row],[geslacht]]=\"O\",1,0)","v":0},{"$f":"IF(lammering[[#This Row],[Speen-datum]]=\"\",\"\",(lammering[[#This Row],[Speen-gewicht]]-lammering[[#This Row],[geboorte-gewicht]])/(lammering[[#This Row],[Speen-datum]]-lammering[[#This Row],[Werp-datum]]))","v":""},{"$f":"IF(lammering[[#This Row],[Verkoop-datum]]=\"\",\"\",(lammering[[#This Row],[Verkoop-gewicht]]-lammering[[#This Row],[Speen-gewicht]])/(lammering[[#This Row],[Verkoop-datum]]-lammering[[#This Row],[Speen-datum]]))","v":""},{"$f":"IF(lammering[[#This Row],[Verkoop-datum]]=\"\",\"\",(lammering[[#This Row],[Verkoop-gewicht]]-lammering[[#This Row],[geboorte-gewicht]])/(lammering[[#This Row],[Verkoop-datum]]-lammering[[#This Row],[Werp-datum]]))","v":""},"","","","","","",{"$f":"IF(lammering[[#This Row],[Verkoop-gewicht]]=\"\",\"\",lammering[[#This Row],[Verkoop-gewicht]]-lammering[[#This Row],[geboorte-gewicht]])","v":""},"","",{"$f":"Opzoek_ooi[[#This Row],[Ooinummer]]","v":0},"",""]
[{"$f":"lammering[[#This Row],[Ooi]]","v":0},0,0,{"$f":"IF(lammering[[#This Row],[Lam-nummer]]=\"\",0,1)","v":0},{"$f":"IF(lammering[[#This Row],[Dood in geboorte]]=\"ja\",1,0)","v":0},{"$f":"IF(lammering[[#This Row],[Ooi]]=\"\",0,IF(Berekeningen!E95=0,1,0))","v":0},{"$f":"IF(D95=0,0,IF(lammering[[#This Row],[Dood in geboorte]]=\"Ja\",0,IF(lammering[[#This Row],[Dood na geboorte]]=\"ja\",0,1)))","v":0},{"$f":"IF(lammering[[#This Row],[Opfok met kunstmelk]]=\"Ja\",1,0)","v":0},{"$f":"IF(lammering[[#This Row],[geslacht]]=\"O\",1,0)","v":0},{"$f":"IF(lammering[[#This Row],[Speen-datum]]=\"\",\"\",(lammering[[#This Row],[Speen-gewicht]]-lammering[[#This Row],[geboorte-gewicht]])/(lammering[[#This Row],[Speen-datum]]-lammering[[#This Row],[Werp-datum]]))","v":""},{"$f":"IF(lammering[[#This Row],[Verkoop-datum]]=\"\",\"\",(lammering[[#This Row],[Verkoop-gewicht]]-lammering[[#This Row],[Speen-gewicht]])/(lammering[[#This Row],[Verkoop-datum]]-lammering[[#This Row],[Speen-datum]]))","v":""},{"$f":"IF(lammering[[#This Row],[Verkoop-datum]]=\"\",\"\",(lammering[[#This Row],[Verkoop-gewicht]]-lammering[[#This Row],[geboorte-gewicht]])/(lammering[[#This Row],[Verkoop-datum]]-lammering[[#This Row],[Werp-datum]]))","v":""},"","","","","","",{"$f":"IF(lammering[[#This Row],[Verkoop-gewicht]]=\"\",\"\",lammering[[#This Row],[Verkoop-gewicht]]-lammering[[#This Row],[geboorte-gewicht]])","v":""},"","",{"$f":"Opzoek_ooi[[#This Row],[Ooinummer]]","v":0},"",""]
[{"$f":"lammering[[#This Row],[Ooi]]","v":0},0,0,{"$f":"IF(lammering[[#This Row],[Lam-nummer]]=\"\",0,1)","v":0},{"$f":"IF(lammering[[#This Row],[Dood in geboorte]]=\"ja\",1,0)","v":0},{"$f":"IF(lammering[[#This Row],[Ooi]]=\"\",0,IF(Berekeningen!E96=0,1,0))","v":0},{"$f":"IF(D96=0,0,IF(lammering[[#This Row],[Dood in geboorte]]=\"Ja\",0,IF(lammering[[#This Row],[Dood na geboorte]]=\"ja\",0,1)))","v":0},{"$f":"IF(lammering[[#This Row],[Opfok met kunstmelk]]=\"Ja\",1,0)","v":0},{"$f":"IF(lammering[[#This Row],[geslacht]]=\"O\",1,0)","v":0},{"$f":"IF(lammering[[#This Row],[Speen-datum]]=\"\",\"\",(lammering[[#This Row],[Speen-gewicht]]-lammering[[#This Row],[geboorte-gewicht]])/(lammering[[#This Row],[Speen-datum]]-lammering[[#This Row],[Werp-datum]]))","v":""},{"$f":"IF(lammering[[#This Row],[Verkoop-datum]]=\"\",\"\",(lammering[[#This Row],[Verkoop-gewicht]]-lammering[[#This Row],[Speen-gewicht]])/(lammering[[#This Row],[Verkoop-datum]]-lammering[[#This Row],[Speen-datum]]))","v":""},{"$f":"IF(lammering[[#This Row],[Verkoop-datum]]=\"\",\"\",(lammering[[#This Row],[Verkoop-gewicht]]-lammering[[#This Row],[geboorte-gewicht]])/(lammering[[#This Row],[Verkoop-datum]]-lammering[[#This Row],[Werp-datum]]))","v":""},"","","","","","",{"$f":"IF(lammering[[#This Row],[Verkoop-gewicht]]=\"\",\"\",lammering[[#This Row],[Verkoop-gewicht]]-lammering[[#This Row],[geboorte-gewicht]])","v":""},"","",{"$f":"Opzoek_ooi[[#This Row],[Ooinummer]]","v":0},"",""]
[{"$f":"lammering[[#This Row],[Ooi]]","v":0},0,0,{"$f":"IF(lammering[[#This Row],[Lam-nummer]]=\"\",0,1)","v":0},{"$f":"IF(lammering[[#This Row],[Dood in geboorte]]=\"ja\",1,0)","v":0},{"$f":"IF(lammering[[#This Row],[Ooi]]=\"\",0,IF(Berekeningen!E97=0,1,0))","v":0},{"$f":"IF(D97=0,0,IF(lammering[[#This Row],[Dood in geboorte]]=\"Ja\",0,IF(lammering[[#This Row],[Dood na geboorte]]=\"ja\",0,1)))","v":0},{"$f":"IF(lammering[[#This Row],[Opfok met kunstmelk]]=\"Ja\",1,0)","v":0},{"$f":"IF(lammering[[#This Row],[geslacht]]=\"O\",1,0)","v":0},{"$f":"IF(lammering[[#This Row],[Speen-datum]]=\"\",\"\",(lammering[[#This Row],[Speen-gewicht]]-lammering[[#This Row],[geboorte-gewicht]])/(lammering[[#This Row],[Speen-datum]]-lammering[[#This Row],[Werp-datum]]))","v":""},{"$f":"IF(lammering[[#This Row],[Verkoop-datum]]=\"\",\"\",(lammering[[#This Row],[Verkoop-gewicht]]-lammering[[#This Row],[Speen-gewicht]])/(lammering[[#This Row],[Verkoop-datum]]-lammering[[#This Row],[Speen-datum]]))","v":""},{"$f":"IF(lammering[[#This Row],[Verkoop-datum]]=\"\",\"\",(lammering[[#This Row],[Verkoop-gewicht]]-lammering[[#This Row],[geboorte-gewicht]])/(lammering[[#This Row],[Verkoop-datum]]-lammering[[#This Row],[Werp-datum]]))","v":""},"","","","","","",{"$f":"IF(lammering[[#This Row],[Verkoop-gewicht]]=\"\",\"\",lammering[[#This Row],[Verkoop-gewicht]]-lammering[[#This Row],[geboorte-gewicht]])","v":""},"","",{"$f":"Opzoek_ooi[[#This Row],[Ooinummer]]","v":0},"",""]
[{"$f":"lammering[[#This Row],[Ooi]]","v":0},0,0,{"$f":"IF(lammering[[#This Row],[Lam-nummer]]=\"\",0,1)","v":0},{"$f":"IF(lammering[[#This Row],[Dood in geboorte]]=\"ja\",1,0)","v":0},{"$f":"IF(lammering[[#This Row],[Ooi]]=\"\",0,IF(Berekeningen!E98=0,1,0))","v":0},{"$f":"IF(D98=0,0,IF(lammering[[#This Row],[Dood in geboorte]]=\"Ja\",0,IF(lammering[[#This Row],[Dood na geboorte]]=\"ja\",0,1)))","v":0},{"$f":"IF(lammering[[#This Row],[Opfok met kunstmelk]]=\"Ja\",1,0)","v":0},{"$f":"IF(lammering[[#This Row],[geslacht]]=\"O\",1,0)","v":0},{"$f":"IF(lammering[[#This Row],[Speen-datum]]=\"\",\"\",(lammering[[#This Row],[Speen-gewicht]]-lammering[[#This Row],[geboorte-gewicht]])/(lammering[[#This Row],[Speen-datum]]-lammering[[#This Row],[Werp-datum]]))","v":""},{"$f":"IF(lammering[[#This Row],[Verkoop-datum]]=\"\",\"\",(lammering[[#This Row],[Verkoop-gewicht]]-lammering[[#This Row],[Speen-gewicht]])/(lammering[[#This Row],[Verkoop-datum]]-lammering[[#This Row],[Speen-datum]]))","v":""},{"$f":"IF(lammering[[#This Row],[Verkoop-datum]]=\"\",\"\",(lammering[[#This Row],[Verkoop-gewicht]]-lammering[[#This Row],[geboorte-gewicht]])/(lammering[[#This Row],[Verkoop-datum]]-lammering[[#This Row],[Werp-datum]]))","v":""},"","","","","","",{"$f":"IF(lammering[[#This Row],[Verkoop-gewicht]]=\"\",\"\",lammering[[#This Row],[Verkoop-gewicht]]-lammering[[#This Row],[geboorte-gewicht]])","v":""},"","",{"$f":"Opzoek_ooi[[#This Row],[Ooinummer]]","v":0},"",""]
[{"$f":"lammering[[#This Row],[Ooi]]","v":0},0,0,{"$f":"IF(lammering[[#This Row],[Lam-nummer]]=\"\",0,1)","v":0},{"$f":"IF(lammering[[#This Row],[Dood in geboorte]]=\"ja\",1,0)","v":0},{"$f":"IF(lammering[[#This Row],[Ooi]]=\"\",0,IF(Berekeningen!E99=0,1,0))","v":0},{"$f":"IF(D99=0,0,IF(lammering[[#This Row],[Dood in geboorte]]=\"Ja\",0,IF(lammering[[#This Row],[Dood na geboorte]]=\"ja\",0,1)))","v":0},{"$f":"IF(lammering[[#This Row],[Opfok met kunstmelk]]=\"Ja\",1,0)","v":0},{"$f":"IF(lammering[[#This Row],[geslacht]]=\"O\",1,0)","v":0},{"$f":"IF(lammering[[#This Row],[Speen-datum]]=\"\",\"\",(lammering[[#This Row],[Speen-gewicht]]-lammering[[#This Row],[geboorte-gewicht]])/(lammering[[#This Row],[Speen-datum]]-lammering[[#This Row],[Werp-datum]]))","v":""},{"$f":"IF(lammering[[#This Row],[Verkoop-datum]]=\"\",\"\",(lammering[[#This Row],[Verkoop-gewicht]]-lammering[[#This Row],[Speen-gewicht]])/(lammering[[#This Row],[Verkoop-datum]]-lammering[[#This Row],[Speen-datum]]))","v":""},{"$f":"IF(lammering[[#This Row],[Verkoop-datum]]=\"\",\"\",(lammering[[#This Row],[Verkoop-gewicht]]-lammering[[#This Row],[geboorte-gewicht]])/(lammering[[#This Row],[Verkoop-datum]]-lammering[[#This Row],[Werp-datum]]))","v":""},"","","","","","",{"$f":"IF(lammering[[#This Row],[Verkoop-gewicht]]=\"\",\"\",lammering[[#This Row],[Verkoop-gewicht]]-lammering[[#This Row],[geboorte-gewicht]])","v":""},"","",{"$f":"Opzoek_ooi[[#This Row],[Ooinummer]]","v":0},"",""]
[{"$f":"lammering[[#This Row],[Ooi]]","v":0},0,0,{"$f":"IF(lammering[[#This Row],[Lam-nummer]]=\"\",0,1)","v":0},{"$f":"IF(lammering[[#This Row],[Dood in geboorte]]=\"ja\",1,0)","v":0},{"$f":"IF(lammering[[#This Row],[Ooi]]=\"\",0,IF(Berekeningen!E100=0,1,0))","v":0},{"$f":"IF(D100=0,0,IF(lammering[[#This Row],[Dood in geboorte]]=\"Ja\",0,IF(lammering[[#This Row],[Dood na geboorte]]=\"ja\",0,1)))","v":0},{"$f":"IF(lammering[[#This Row],[Opfok met kunstmelk]]=\"Ja\",1,0)","v":0},{"$f":"IF(lammering[[#This Row],[geslacht]]=\"O\",1,0)","v":0},{"$f":"IF(lammering[[#This Row],[Speen-datum]]=\"\",\"\",(lammering[[#This Row],[Speen-gewicht]]-lammering[[#This Row],[geboorte-gewicht]])/(lammering[[#This Row],[Speen-datum]]-lammering[[#This Row],[Werp-datum]]))","v":""},{"$f":"IF(lammering[[#This Row],[Verkoop-datum]]=\"\",\"\",(lammering[[#This Row],[Verkoop-gewicht]]-lammering[[#This Row],[Speen-gewicht]])/(lammering[[#This Row],[Verkoop-datum]]-lammering[[#This Row],[Speen-datum]]))","v":""},{"$f":"IF(lammering[[#This Row],[Verkoop-datum]]=\"\",\"\",(lammering[[#This Row],[Verkoop-gewicht]]-lammering[[#This Row],[geboorte-gewicht]])/(lammering[[#This Row],[Verkoop-datum]]-lammering[[#This Row],[Werp-datum]]))","v":""},"","","","","","",{"$f":"IF(lammering[[#This Row],[Verkoop-gewicht]]=\"\",\"\",lammering[[#This Row],[Verkoop-gewicht]]-lammering[[#This Row],[geboorte-gewicht]])","v":""},"","",{"$f":"Opzoek_ooi[[#This Row],[Ooinummer]]","v":0},"",""]
[{"$f":"lammering[[#This Row],[Ooi]]","v":0},0,0,{"$f":"IF(lammering[[#This Row],[Lam-nummer]]=\"\",0,1)","v":0},{"$f":"IF(lammering[[#This Row],[Dood in geboorte]]=\"ja\",1,0)","v":0},{"$f":"IF(lammering[[#This Row],[Ooi]]=\"\",0,IF(Berekeningen!E101=0,1,0))","v":0},{"$f":"IF(D101=0,0,IF(lammering[[#This Row],[Dood in geboorte]]=\"Ja\",0,IF(lammering[[#This Row],[Dood na geboorte]]=\"ja\",0,1)))","v":0},{"$f":"IF(lammering[[#This Row],[Opfok met kunstmelk]]=\"Ja\",1,0)","v":0},{"$f":"IF(lammering[[#This Row],[geslacht]]=\"O\",1,0)","v":0},{"$f":"IF(lammering[[#This Row],[Speen-datum]]=\"\",\"\",(lammering[[#This Row],[Speen-gewicht]]-lammering[[#This Row],[geboorte-gewicht]])/(lammering[[#This Row],[Speen-datum]]-lammering[[#This Row],[Werp-datum]]))","v":""},{"$f":"IF(lammering[[#This Row],[Verkoop-datum]]=\"\",\"\",(lammering[[#This Row],[Verkoop-gewicht]]-lammering[[#This Row],[Speen-gewicht]])/(lammering[[#This Row],[Verkoop-datum]]-lammering[[#This Row],[Speen-datum]]))","v":""},{"$f":"IF(lammering[[#This Row],[Verkoop-datum]]=\"\",\"\",(lammering[[#This Row],[Verkoop-gewicht]]-lammering[[#This Row],[geboorte-gewicht]])/(lammering[[#This Row],[Verkoop-datum]]-lammering[[#This Row],[Werp-datum]]))","v":""},"","","","","","",{"$f":"IF(lammering[[#This Row],[Verkoop-gewicht]]=\"\",\"\",lammering[[#This Row],[Verkoop-gewicht]]-lammering[[#This Row],[geboorte-gewicht]])","v":""},"","",{"$f":"Opzoek_ooi[[#This Row],[Ooinummer]]","v":0},"",""]
[{"$f":"lammering[[#This Row],[Ooi]]","v":0},0,0,{"$f":"IF(lammering[[#This Row],[Lam-nummer]]=\"\",0,1)","v":0},{"$f":"IF(lammering[[#This Row],[Dood in geboorte]]=\"ja\",1,0)","v":0},{"$f":"IF(lammering[[#This Row],[Ooi]]=\"\",0,IF(Berekeningen!E102=0,1,0))","v":0},{"$f":"IF(D102=0,0,IF(lammering[[#This Row],[Dood in geboorte]]=\"Ja\",0,IF(lammering[[#This Row],[Dood na geboorte]]=\"ja\",0,1)))","v":0},{"$f":"IF(lammering[[#This Row],[Opfok met kunstmelk]]=\"Ja\",1,0)","v":0},{"$f":"IF(lammering[[#This Row],[geslacht]]=\"O\",1,0)","v":0},{"$f":"IF(lammering[[#This Row],[Speen-datum]]=\"\",\"\",(lammering[[#This Row],[Speen-gewicht]]-lammering[[#This Row],[geboorte-gewicht]])/(lammering[[#This Row],[Speen-datum]]-lammering[[#This Row],[Werp-datum]]))","v":""},{"$f":"IF(lammering[[#This Row],[Verkoop-datum]]=\"\",\"\",(lammering[[#This Row],[Verkoop-gewicht]]-lammering[[#This Row],[Speen-gewicht]])/(lammering[[#This Row],[Verkoop-datum]]-lammering[[#This Row],[Speen-datum]]))","v":""},{"$f":"IF(lammering[[#This Row],[Verkoop-datum]]=\"\",\"\",(lammering[[#This Row],[Verkoop-gewicht]]-lammering[[#This Row],[geboorte-gewicht]])/(lammering[[#This Row],[Verkoop-datum]]-lammering[[#This Row],[Werp-datum]]))","v":""},"","","","","","",{"$f":"IF(lammering[[#This Row],[Verkoop-gewicht]]=\"\",\"\",lammering[[#This Row],[Verkoop-gewicht]]-lammering[[#This Row],[geboorte-gewicht]])","v":""},"","",{"$f":"Opzoek_ooi[[#This Row],[Ooinummer]]","v":0},"",""]
[{"$f":"lammering[[#This Row],[Ooi]]","v":0},0,0,{"$f":"IF(lammering[[#This Row],[Lam-nummer]]=\"\",0,1)","v":0},{"$f":"IF(lammering[[#This Row],[Dood in geboorte]]=\"ja\",1,0)","v":0},{"$f":"IF(lammering[[#This Row],[Ooi]]=\"\",0,IF(Berekeningen!E103=0,1,0))","v":0},{"$f":"IF(D103=0,0,IF(lammering[[#This Row],[Dood in geboorte]]=\"Ja\",0,IF(lammering[[#This Row],[Dood na geboorte]]=\"ja\",0,1)))","v":0},{"$f":"IF(lammering[[#This Row],[Opfok met kunstmelk]]=\"Ja\",1,0)","v":0},{"$f":"IF(lammering[[#This Row],[geslacht]]=\"O\",1,0)","v":0},{"$f":"IF(lammering[[#This Row],[Speen-datum]]=\"\",\"\",(lammering[[#This Row],[Speen-gewicht]]-lammering[[#This Row],[geboorte-gewicht]])/(lammering[[#This Row],[Speen-datum]]-lammering[[#This Row],[Werp-datum]]))","v":""},{"$f":"IF(lammering[[#This Row],[Verkoop-datum]]=\"\",\"\",(lammering[[#This Row],[Verkoop-gewicht]]-lammering[[#This Row],[Speen-gewicht]])/(lammering[[#This Row],[Verkoop-datum]]-lammering[[#This Row],[Speen-datum]]))","v":""},{"$f":"IF(lammering[[#This Row],[Verkoop-datum]]=\"\",\"\",(lammering[[#This Row],[Verkoop-gewicht]]-lammering[[#This Row],[geboorte-gewicht]])/(lammering[[#This Row],[Verkoop-datum]]-lammering[[#This Row],[Werp-datum]]))","v":""},"","","","","","",{"$f":"IF(lammering[[#This Row],[Verkoop-gewicht]]=\"\",\"\",lammering[[#This Row],[Verkoop-gewicht]]-lammering[[#This Row],[geboorte-gewicht]])","v":""},"","",{"$f":"Opzoek_ooi[[#This Row],[Ooinummer]]","v":0},"",""]
[{"$f":"lammering[[#This Row],[Ooi]]","v":0},0,0,{"$f":"IF(lammering[[#This Row],[Lam-nummer]]=\"\",0,1)","v":0},{"$f":"IF(lammering[[#This Row],[Dood in geboorte]]=\"ja\",1,0)","v":0},{"$f":"IF(lammering[[#This Row],[Ooi]]=\"\",0,IF(Berekeningen!E104=0,1,0))","v":0},{"$f":"IF(D104=0,0,IF(lammering[[#This Row],[Dood in geboorte]]=\"Ja\",0,IF(lammering[[#This Row],[Dood na geboorte]]=\"ja\",0,1)))","v":0},{"$f":"IF(lammering[[#This Row],[Opfok met kunstmelk]]=\"Ja\",1,0)","v":0},{"$f":"IF(lammering[[#This Row],[geslacht]]=\"O\",1,0)","v":0},{"$f":"IF(lammering[[#This Row],[Speen-datum]]=\"\",\"\",(lammering[[#This Row],[Speen-gewicht]]-lammering[[#This Row],[geboorte-gewicht]])/(lammering[[#This Row],[Speen-datum]]-lammering[[#This Row],[Werp-datum]]))","v":""},{"$f":"IF(lammering[[#This Row],[Verkoop-datum]]=\"\",\"\",(lammering[[#This Row],[Verkoop-gewicht]]-lammering[[#This Row],[Speen-gewicht]])/(lammering[[#This Row],[Verkoop-datum]]-lammering[[#This Row],[Speen-datum]]))","v":""},{"$f":"IF(lammering[[#This Row],[Verkoop-datum]]=\"\",\"\",(lammering[[#This Row],[Verkoop-gewicht]]-lammering[[#This Row],[geboorte-gewicht]])/(lammering[[#This Row],[Verkoop-datum]]-lammering[[#This Row],[Werp-datum]]))","v":""},"","","","","","",{"$f":"IF(lammering[[#This Row],[Verkoop-gewicht]]=\"\",\"\",lammering[[#This Row],[Verkoop-gewicht]]-lammering[[#This Row],[geboorte-gewicht]])","v":""},"","",{"$f":"Opzoek_ooi[[#This Row],[Ooinummer]]","v":0},"",""]
[{"$f":"lammering[[#This Row],[Ooi]]","v":0},0,0,{"$f":"IF(lammering[[#This Row],[Lam-nummer]]=\"\",0,1)","v":0},{"$f":"IF(lammering[[#This Row],[Dood in geboorte]]=\"ja\",1,0)","v":0},{"$f":"IF(lammering[[#This Row],[Ooi]]=\"\",0,IF(Berekeningen!E105=0,1,0))","v":0},{"$f":"IF(D105=0,0,IF(lammering[[#This Row],[Dood in geboorte]]=\"Ja\",0,IF(lammering[[#This Row],[Dood na geboorte]]=\"ja\",0,1)))","v":0},{"$f":"IF(lammering[[#This Row],[Opfok met kunstmelk]]=\"Ja\",1,0)","v":0},{"$f":"IF(lammering[[#This Row],[geslacht]]=\"O\",1,0)","v":0},{"$f":"IF(lammering[[#This Row],[Speen-datum]]=\"\",\"\",(lammering[[#This Row],[Speen-gewicht]]-lammering[[#This Row],[geboorte-gewicht]])/(lammering[[#This Row],[Speen-datum]]-lammering[[#This Row],[Werp-datum]]))","v":""},{"$f":"IF(lammering[[#This Row],[Verkoop-datum]]=\"\",\"\",(lammering[[#This Row],[Verkoop-gewicht]]-lammering[[#This Row],[Speen-gewicht]])/(lammering[[#This Row],[Verkoop-datum]]-lammering[[#This Row],[Speen-datum]]))","v":""},{"$f":"IF(lammering[[#This Row],[Verkoop-datum]]=\"\",\"\",(lammering[[#This Row],[Verkoop-gewicht]]-lammering[[#This Row],[geboorte-gewicht]])/(lammering[[#This Row],[Verkoop-datum]]-lammering[[#This Row],[Werp-datum]]))","v":""},"","","","","","",{"$f":"IF(lammering[[#This Row],[Verkoop-gewicht]]=\"\",\"\",lammering[[#This Row],[Verkoop-gewicht]]-lammering[[#This Row],[geboorte-gewicht]])","v":""},"","",{"$f":"Opzoek_ooi[[#This Row],[Ooinummer]]","v":0},"",""]
[{"$f":"lammering[[#This Row],[Ooi]]","v":0},0,0,{"$f":"IF(lammering[[#This Row],[Lam-nummer]]=\"\",0,1)","v":0},{"$f":"IF(lammering[[#This Row],[Dood in geboorte]]=\"ja\",1,0)","v":0},{"$f":"IF(lammering[[#This Row],[Ooi]]=\"\",0,IF(Berekeningen!E106=0,1,0))","v":0},{"$f":"IF(D106=0,0,IF(lammering[[#This Row],[Dood in geboorte]]=\"Ja\",0,IF(lammering[[#This Row],[Dood na geboorte]]=\"ja\",0,1)))","v":0},{"$f":"IF(lammering[[#This Row],[Opfok met kunstmelk]]=\"Ja\",1,0)","v":0},{"$f":"IF(lammering[[#This Row],[geslacht]]=\"O\",1,0)","v":0},{"$f":"IF(lammering[[#This Row],[Speen-datum]]=\"\",\"\",(lammering[[#This Row],[Speen-gewicht]]-lammering[[#This Row],[geboorte-gewicht]])/(lammering[[#This Row],[Speen-datum]]-lammering[[#This Row],[Werp-datum]]))","v":""},{"$f":"IF(lammering[[#This Row],[Verkoop-datum]]=\"\",\"\",(lammering[[#This Row],[Verkoop-gewicht]]-lammering[[#This Row],[Speen-gewicht]])/(lammering[[#This Row],[Verkoop-datum]]-lammering[[#This Row],[Speen-datum]]))","v":""},{"$f":"IF(lammering[[#This Row],[Verkoop-datum]]=\"\",\"\",(lammering[[#This Row],[Verkoop-gewicht]]-lammering[[#This Row],[geboorte-gewicht]])/(lammering[[#This Row],[Verkoop-datum]]-lammering[[#This Row],[Werp-datum]]))","v":""},"","","","","","",{"$f":"IF(lammering[[#This Row],[Verkoop-gewicht]]=\"\",\"\",lammering[[#This Row],[Verkoop-gewicht]]-lammering[[#This Row],[geboorte-gewicht]])","v":""},"","",{"$f":"Opzoek_ooi[[#This Row],[Ooinummer]]","v":0},"",""]
[{"$f":"lammering[[#This Row],[Ooi]]","v":0},0,0,{"$f":"IF(lammering[[#This Row],[Lam-nummer]]=\"\",0,1)","v":0},{"$f":"IF(lammering[[#This Row],[Dood in geboorte]]=\"ja\",1,0)","v":0},{"$f":"IF(lammering[[#This Row],[Ooi]]=\"\",0,IF(Berekeningen!E107=0,1,0))","v":0},{"$f":"IF(D107=0,0,IF(lammering[[#This Row],[Dood in geboorte]]=\"Ja\",0,IF(lammering[[#This Row],[Dood na geboorte]]=\"ja\",0,1)))","v":0},{"$f":"IF(lammering[[#This Row],[Opfok met kunstmelk]]=\"Ja\",1,0)","v":0},{"$f":"IF(lammering[[#This Row],[geslacht]]=\"O\",1,0)","v":0},{"$f":"IF(lammering[[#This Row],[Speen-datum]]=\"\",\"\",(lammering[[#This Row],[Speen-gewicht]]-lammering[[#This Row],[geboorte-gewicht]])/(lammering[[#This Row],[Speen-datum]]-lammering[[#This Row],[Werp-datum]]))","v":""},{"$f":"IF(lammering[[#This Row],[Verkoop-datum]]=\"\",\"\",(lammering[[#This Row],[Verkoop-gewicht]]-lammering[[#This Row],[Speen-gewicht]])/(lammering[[#This Row],[Verkoop-datum]]-lammering[[#This Row],[Speen-datum]]))","v":""},{"$f":"IF(lammering[[#This Row],[Verkoop-datum]]=\"\",\"\",(lammering[[#This Row],[Verkoop-gewicht]]-lammering[[#This Row],[geboorte-gewicht]])/(lammering[[#This Row],[Verkoop-datum]]-lammering[[#This Row],[Werp-datum]]))","v":""},"","","","","","",{"$f":"IF(lammering[[#This Row],[Verkoop-gewicht]]=\"\",\"\",lammering[[#This Row],[Verkoop-gewicht]]-lammering[[#This Row],[geboorte-gewicht]])","v":""},"","",{"$f":"Opzoek_ooi[[#This Row],[Ooinummer]]","v":0},"",""]
[{"$f":"lammering[[#This Row],[Ooi]]","v":0},0,0,{"$f":"IF(lammering[[#This Row],[Lam-nummer]]=\"\",0,1)","v":0},{"$f":"IF(lammering[[#This Row],[Dood in geboorte]]=\"ja\",1,0)","v":0},{"$f":"IF(lammering[[#This Row],[Ooi]]=\"\",0,IF(Berekeningen!E108=0,1,0))","v":0},{"$f":"IF(D108=0,0,IF(lammering[[#This Row],[Dood in geboorte]]=\"Ja\",0,IF(lammering[[#This Row],[Dood na geboorte]]=\"ja\",0,1)))","v":0},{"$f":"IF(lammering[[#This Row],[Opfok met kunstmelk]]=\"Ja\",1,0)","v":0},{"$f":"IF(lammering[[#This Row],[geslacht]]=\"O\",1,0)","v":0},{"$f":"IF(lammering[[#This Row],[Speen-datum]]=\"\",\"\",(lammering[[#This Row],[Speen-gewicht]]-lammering[[#This Row],[geboorte-gewicht]])/(lammering[[#This Row],[Speen-datum]]-lammering[[#This Row],[Werp-datum]]))","v":""},{"$f":"IF(lammering[[#This Row],[Verkoop-datum]]=\"\",\"\",(lammering[[#This Row],[Verkoop-gewicht]]-lammering[[#This Row],[Speen-gewicht]])/(lammering[[#This Row],[Verkoop-datum]]-lammering[[#This Row],[Speen-datum]]))","v":""},{"$f":"IF(lammering[[#This Row],[Verkoop-datum]]=\"\",\"\",(lammering[[#This Row],[Verkoop-gewicht]]-lammering[[#This Row],[geboorte-gewicht]])/(lammering[[#This Row],[Verkoop-datum]]-lammering[[#This Row],[Werp-datum]]))","v":""},"","","","","","",{"$f":"IF(lammering[[#This Row],[Verkoop-gewicht]]=\"\",\"\",lammering[[#This Row],[Verkoop-gewicht]]-lammering[[#This Row],[geboorte-gewicht]])","v":""},"","",{"$f":"Opzoek_ooi[[#This Row],[Ooinummer]]","v":0},"",""]
[{"$f":"lammering[[#This Row],[Ooi]]","v":0},0,0,{"$f":"IF(lammering[[#This Row],[Lam-nummer]]=\"\",0,1)","v":0},{"$f":"IF(lammering[[#This Row],[Dood in geboorte]]=\"ja\",1,0)","v":0},{"$f":"IF(lammering[[#This Row],[Ooi]]=\"\",0,IF(Berekeningen!E109=0,1,0))","v":0},{"$f":"IF(D109=0,0,IF(lammering[[#This Row],[Dood in geboorte]]=\"Ja\",0,IF(lammering[[#This Row],[Dood na geboorte]]=\"ja\",0,1)))","v":0},{"$f":"IF(lammering[[#This Row],[Opfok met kunstmelk]]=\"Ja\",1,0)","v":0},{"$f":"IF(lammering[[#This Row],[geslacht]]=\"O\",1,0)","v":0},{"$f":"IF(lammering[[#This Row],[Speen-datum]]=\"\",\"\",(lammering[[#This Row],[Speen-gewicht]]-lammering[[#This Row],[geboorte-gewicht]])/(lammering[[#This Row],[Speen-datum]]-lammering[[#This Row],[Werp-datum]]))","v":""},{"$f":"IF(lammering[[#This Row],[Verkoop-datum]]=\"\",\"\",(lammering[[#This Row],[Verkoop-gewicht]]-lammering[[#This Row],[Speen-gewicht]])/(lammering[[#This Row],[Verkoop-datum]]-lammering[[#This Row],[Speen-datum]]))","v":""},{"$f":"IF(lammering[[#This Row],[Verkoop-datum]]=\"\",\"\",(lammering[[#This Row],[Verkoop-gewicht]]-lammering[[#This Row],[geboorte-gewicht]])/(lammering[[#This Row],[Verkoop-datum]]-lammering[[#This Row],[Werp-datum]]))","v":""},"","","","","","",{"$f":"IF(lammering[[#This Row],[Verkoop-gewicht]]=\"\",\"\",lammering[[#This Row],[Verkoop-gewicht]]-lammering[[#This Row],[geboorte-gewicht]])","v":""},"","",{"$f":"Opzoek_ooi[[#This Row],[Ooinummer]]","v":0},"",""]
[{"$f":"lammering[[#This Row],[Ooi]]","v":0},0,0,{"$f":"IF(lammering[[#This Row],[Lam-nummer]]=\"\",0,1)","v":0},{"$f":"IF(lammering[[#This Row],[Dood in geboorte]]=\"ja\",1,0)","v":0},{"$f":"IF(lammering[[#This Row],[Ooi]]=\"\",0,IF(Berekeningen!E110=0,1,0))","v":0},{"$f":"IF(D110=0,0,IF(lammering[[#This Row],[Dood in geboorte]]=\"Ja\",0,IF(lammering[[#This Row],[Dood na geboorte]]=\"ja\",0,1)))","v":0},{"$f":"IF(lammering[[#This Row],[Opfok met kunstmelk]]=\"Ja\",1,0)","v":0},{"$f":"IF(lammering[[#This Row],[geslacht]]=\"O\",1,0)","v":0},{"$f":"IF(lammering[[#This Row],[Speen-datum]]=\"\",\"\",(lammering[[#This Row],[Speen-gewicht]]-lammering[[#This Row],[geboorte-gewicht]])/(lammering[[#This Row],[Speen-datum]]-lammering[[#This Row],[Werp-datum]]))","v":""},{"$f":"IF(lammering[[#This Row],[Verkoop-datum]]=\"\",\"\",(lammering[[#This Row],[Verkoop-gewicht]]-lammering[[#This Row],[Speen-gewicht]])/(lammering[[#This Row],[Verkoop-datum]]-lammering[[#This Row],[Speen-datum]]))","v":""},{"$f":"IF(lammering[[#This Row],[Verkoop-datum]]=\"\",\"\",(lammering[[#This Row],[Verkoop-gewicht]]-lammering[[#This Row],[geboorte-gewicht]])/(lammering[[#This Row],[Verkoop-datum]]-lammering[[#This Row],[Werp-datum]]))","v":""},"","","","","","",{"$f":"IF(lammering[[#This Row],[Verkoop-gewicht]]=\"\",\"\",lammering[[#This Row],[Verkoop-gewicht]]-lammering[[#This Row],[geboorte-gewicht]])","v":""},"","",{"$f":"Opzoek_ooi[[#This Row],[Ooinummer]]","v":0},"",""]
[{"$f":"lammering[[#This Row],[Ooi]]","v":0},0,0,{"$f":"IF(lammering[[#This Row],[Lam-nummer]]=\"\",0,1)","v":0},{"$f":"IF(lammering[[#This Row],[Dood in geboorte]]=\"ja\",1,0)","v":0},{"$f":"IF(lammering[[#This Row],[Ooi]]=\"\",0,IF(Berekeningen!E111=0,1,0))","v":0},{"$f":"IF(D111=0,0,IF(lammering[[#This Row],[Dood in geboorte]]=\"Ja\",0,IF(lammering[[#This Row],[Dood na geboorte]]=\"ja\",0,1)))","v":0},{"$f":"IF(lammering[[#This Row],[Opfok met kunstmelk]]=\"Ja\",1,0)","v":0},{"$f":"IF(lammering[[#This Row],[geslacht]]=\"O\",1,0)","v":0},{"$f":"IF(lammering[[#This Row],[Speen-datum]]=\"\",\"\",(lammering[[#This Row],[Speen-gewicht]]-lammering[[#This Row],[geboorte-gewicht]])/(lammering[[#This Row],[Speen-datum]]-lammering[[#This Row],[Werp-datum]]))","v":""},{"$f":"IF(lammering[[#This Row],[Verkoop-datum]]=\"\",\"\",(lammering[[#This Row],[Verkoop-gewicht]]-lammering[[#This Row],[Speen-gewicht]])/(lammering[[#This Row],[Verkoop-datum]]-lammering[[#This Row],[Speen-datum]]))","v":""},{"$f":"IF(lammering[[#This Row],[Verkoop-datum]]=\"\",\"\",(lammering[[#This Row],[Verkoop-gewicht]]-lammering[[#This Row],[geboorte-gewicht]])/(lammering[[#This Row],[Verkoop-datum]]-lammering[[#This Row],[Werp-datum]]))","v":""},"","","","","","",{"$f":"IF(lammering[[#This Row],[Verkoop-gewicht]]=\"\",\"\",lammering[[#This Row],[Verkoop-gewicht]]-lammering[[#This Row],[geboorte-gewicht]])","v":""},"","",{"$f":"Opzoek_ooi[[#This Row],[Ooinummer]]","v":0},"",""]
[{"$f":"lammering[[#This Row],[Ooi]]","v":0},0,0,{"$f":"IF(lammering[[#This Row],[Lam-nummer]]=\"\",0,1)","v":0},{"$f":"IF(lammering[[#This Row],[Dood in geboorte]]=\"ja\",1,0)","v":0},{"$f":"IF(lammering[[#This Row],[Ooi]]=\"\",0,IF(Berekeningen!E112=0,1,0))","v":0},{"$f":"IF(D112=0,0,IF(lammering[[#This Row],[Dood in geboorte]]=\"Ja\",0,IF(lammering[[#This Row],[Dood na geboorte]]=\"ja\",0,1)))","v":0},{"$f":"IF(lammering[[#This Row],[Opfok met kunstmelk]]=\"Ja\",1,0)","v":0},{"$f":"IF(lammering[[#This Row],[geslacht]]=\"O\",1,0)","v":0},{"$f":"IF(lammering[[#This Row],[Speen-datum]]=\"\",\"\",(lammering[[#This Row],[Speen-gewicht]]-lammering[[#This Row],[geboorte-gewicht]])/(lammering[[#This Row],[Speen-datum]]-lammering[[#This Row],[Werp-datum]]))","v":""},{"$f":"IF(lammering[[#This Row],[Verkoop-datum]]=\"\",\"\",(lammering[[#This Row],[Verkoop-gewicht]]-lammering[[#This Row],[Speen-gewicht]])/(lammering[[#This Row],[Verkoop-datum]]-lammering[[#This Row],[Speen-datum]]))","v":""},{"$f":"IF(lammering[[#This Row],[Verkoop-datum]]=\"\",\"\",(lammering[[#This Row],[Verkoop-gewicht]]-lammering[[#This Row],[geboorte-gewicht]])/(lammering[[#This Row],[Verkoop-datum]]-lammering[[#This Row],[Werp-datum]]))","v":""},"","","","","","",{"$f":"IF(lammering[[#This Row],[Verkoop-gewicht]]=\"\",\"\",lammering[[#This Row],[Verkoop-gewicht]]-lammering[[#This Row],[geboorte-gewicht]])","v":""},"","",{"$f":"Opzoek_ooi[[#This Row],[Ooinummer]]","v":0},"",""]
[{"$f":"lammering[[#This Row],[Ooi]]","v":0},0,0,{"$f":"IF(lammering[[#This Row],[Lam-nummer]]=\"\",0,1)","v":0},{"$f":"IF(lammering[[#This Row],[Dood in geboorte]]=\"ja\",1,0)","v":0},{"$f":"IF(lammering[[#This Row],[Ooi]]=\"\",0,IF(Berekeningen!E113=0,1,0))","v":0},{"$f":"IF(D113=0,0,IF(lammering[[#This Row],[Dood in geboorte]]=\"Ja\",0,IF(lammering[[#This Row],[Dood na geboorte]]=\"ja\",0,1)))","v":0},{"$f":"IF(lammering[[#This Row],[Opfok met kunstmelk]]=\"Ja\",1,0)","v":0},{"$f":"IF(lammering[[#This Row],[geslacht]]=\"O\",1,0)","v":0},{"$f":"IF(lammering[[#This Row],[Speen-datum]]=\"\",\"\",(lammering[[#This Row],[Speen-gewicht]]-lammering[[#This Row],[geboorte-gewicht]])/(lammering[[#This Row],[Speen-datum]]-lammering[[#This Row],[Werp-datum]]))","v":""},{"$f":"IF(lammering[[#This Row],[Verkoop-datum]]=\"\",\"\",(lammering[[#This Row],[Verkoop-gewicht]]-lammering[[#This Row],[Speen-gewicht]])/(lammering[[#This Row],[Verkoop-datum]]-lammering[[#This Row],[Speen-datum]]))","v":""},{"$f":"IF(lammering[[#This Row],[Verkoop-datum]]=\"\",\"\",(lammering[[#This Row],[Verkoop-gewicht]]-lammering[[#This Row],[geboorte-gewicht]])/(lammering[[#This Row],[Verkoop-datum]]-lammering[[#This Row],[Werp-datum]]))","v":""},"","","","","","",{"$f":"IF(lammering[[#This Row],[Verkoop-gewicht]]=\"\",\"\",lammering[[#This Row],[Verkoop-gewicht]]-lammering[[#This Row],[geboorte-gewicht]])","v":""},"","",{"$f":"Opzoek_ooi[[#This Row],[Ooinummer]]","v":0},"",""]
[{"$f":"lammering[[#This Row],[Ooi]]","v":0},0,0,{"$f":"IF(lammering[[#This Row],[Lam-nummer]]=\"\",0,1)","v":0},{"$f":"IF(lammering[[#This Row],[Dood in geboorte]]=\"ja\",1,0)","v":0},{"$f":"IF(lammering[[#This Row],[Ooi]]=\"\",0,IF(Berekeningen!E114=0,1,0))","v":0},{"$f":"IF(D114=0,0,IF(lammering[[#This Row],[Dood in geboorte]]=\"Ja\",0,IF(lammering[[#This Row],[Dood na geboorte]]=\"ja\",0,1)))","v":0},{"$f":"IF(lammering[[#This Row],[Opfok met kunstmelk]]=\"Ja\",1,0)","v":0},{"$f":"IF(lammering[[#This Row],[geslacht]]=\"O\",1,0)","v":0},{"$f":"IF(lammering[[#This Row],[Speen-datum]]=\"\",\"\",(lammering[[#This Row],[Speen-gewicht]]-lammering[[#This Row],[geboorte-gewicht]])/(lammering[[#This Row],[Speen-datum]]-lammering[[#This Row],[Werp-datum]]))","v":""},{"$f":"IF(lammering[[#This Row],[Verkoop-datum]]=\"\",\"\",(lammering[[#This Row],[Verkoop-gewicht]]-lammering[[#This Row],[Speen-gewicht]])/(lammering[[#This Row],[Verkoop-datum]]-lammering[[#This Row],[Speen-datum]]))","v":""},{"$f":"IF(lammering[[#This Row],[Verkoop-datum]]=\"\",\"\",(lammering[[#This Row],[Verkoop-gewicht]]-lammering[[#This Row],[geboorte-gewicht]])/(lammering[[#This Row],[Verkoop-datum]]-lammering[[#This Row],[Werp-datum]]))","v":""},"","","","","","",{"$f":"IF(lammering[[#This Row],[Verkoop-gewicht]]=\"\",\"\",lammering[[#This Row],[Verkoop-gewicht]]-lammering[[#This Row],[geboorte-gewicht]])","v":""},"","",{"$f":"Opzoek_ooi[[#This Row],[Ooinummer]]","v":0},"",""]
[{"$f":"lammering[[#This Row],[Ooi]]","v":0},0,0,{"$f":"IF(lammering[[#This Row],[Lam-nummer]]=\"\",0,1)","v":0},{"$f":"IF(lammering[[#This Row],[Dood in geboorte]]=\"ja\",1,0)","v":0},{"$f":"IF(lammering[[#This Row],[Ooi]]=\"\",0,IF(Berekeningen!E115=0,1,0))","v":0},{"$f":"IF(D115=0,0,IF(lammering[[#This Row],[Dood in geboorte]]=\"Ja\",0,IF(lammering[[#This Row],[Dood na geboorte]]=\"ja\",0,1)))","v":0},{"$f":"IF(lammering[[#This Row],[Opfok met kunstmelk]]=\"Ja\",1,0)","v":0},{"$f":"IF(lammering[[#This Row],[geslacht]]=\"O\",1,0)","v":0},{"$f":"IF(lammering[[#This Row],[Speen-datum]]=\"\",\"\",(lammering[[#This Row],[Speen-gewicht]]-lammering[[#This Row],[geboorte-gewicht]])/(lammering[[#This Row],[Speen-datum]]-lammering[[#This Row],[Werp-datum]]))","v":""},{"$f":"IF(lammering[[#This Row],[Verkoop-datum]]=\"\",\"\",(lammering[[#This Row],[Verkoop-gewicht]]-lammering[[#This Row],[Speen-gewicht]])/(lammering[[#This Row],[Verkoop-datum]]-lammering[[#This Row],[Speen-datum]]))","v":""},{"$f":"IF(lammering[[#This Row],[Verkoop-datum]]=\"\",\"\",(lammering[[#This Row],[Verkoop-gewicht]]-lammering[[#This Row],[geboorte-gewicht]])/(lammering[[#This Row],[Verkoop-datum]]-lammering[[#This Row],[Werp-datum]]))","v":""},"","","","","","",{"$f":"IF(lammering[[#This Row],[Verkoop-gewicht]]=\"\",\"\",lammering[[#This Row],[Verkoop-gewicht]]-lammering[[#This Row],[geboorte-gewicht]])","v":""},"","",{"$f":"Opzoek_ooi[[#This Row],[Ooinummer]]","v":0},"",""]
[{"$f":"lammering[[#This Row],[Ooi]]","v":0},0,0,{"$f":"IF(lammering[[#This Row],[Lam-nummer]]=\"\",0,1)","v":0},{"$f":"IF(lammering[[#This Row],[Dood in geboorte]]=\"ja\",1,0)","v":0},{"$f":"IF(lammering[[#This Row],[Ooi]]=\"\",0,IF(Berekeningen!E116=0,1,0))","v":0},{"$f":"IF(D116=0,0,IF(lammering[[#This Row],[Dood in geboorte]]=\"Ja\",0,IF(lammering[[#This Row],[Dood na geboorte]]=\"ja\",0,1)))","v":0},{"$f":"IF(lammering[[#This Row],[Opfok met kunstmelk]]=\"Ja\",1,0)","v":0},{"$f":"IF(lammering[[#This Row],[geslacht]]=\"O\",1,0)","v":0},{"$f":"IF(lammering[[#This Row],[Speen-datum]]=\"\",\"\",(lammering[[#This Row],[Speen-gewicht]]-lammering[[#This Row],[geboorte-gewicht]])/(lammering[[#This Row],[Speen-datum]]-lammering[[#This Row],[Werp-datum]]))","v":""},{"$f":"IF(lammering[[#This Row],[Verkoop-datum]]=\"\",\"\",(lammering[[#This Row],[Verkoop-gewicht]]-lammering[[#This Row],[Speen-gewicht]])/(lammering[[#This Row],[Verkoop-datum]]-lammering[[#This Row],[Speen-datum]]))","v":""},{"$f":"IF(lammering[[#This Row],[Verkoop-datum]]=\"\",\"\",(lammering[[#This Row],[Verkoop-gewicht]]-lammering[[#This Row],[geboorte-gewicht]])/(lammering[[#This Row],[Verkoop-datum]]-lammering[[#This Row],[Werp-datum]]))","v":""},"","","","","","",{"$f":"IF(lammering[[#This Row],[Verkoop-gewicht]]=\"\",\"\",lammering[[#This Row],[Verkoop-gewicht]]-lammering[[#This Row],[geboorte-gewicht]])","v":""},"","",{"$f":"Opzoek_ooi[[#This Row],[Ooinummer]]","v":0},"",""]
[{"$f":"lammering[[#This Row],[Ooi]]","v":0},0,0,{"$f":"IF(lammering[[#This Row],[Lam-nummer]]=\"\",0,1)","v":0},{"$f":"IF(lammering[[#This Row],[Dood in geboorte]]=\"ja\",1,0)","v":0},{"$f":"IF(lammering[[#This Row],[Ooi]]=\"\",0,IF(Berekeningen!E117=0,1,0))","v":0},{"$f":"IF(D117=0,0,IF(lammering[[#This Row],[Dood in geboorte]]=\"Ja\",0,IF(lammering[[#This Row],[Dood na geboorte]]=\"ja\",0,1)))","v":0},{"$f":"IF(lammering[[#This Row],[Opfok met kunstmelk]]=\"Ja\",1,0)","v":0},{"$f":"IF(lammering[[#This Row],[geslacht]]=\"O\",1,0)","v":0},{"$f":"IF(lammering[[#This Row],[Speen-datum]]=\"\",\"\",(lammering[[#This Row],[Speen-gewicht]]-lammering[[#This Row],[geboorte-gewicht]])/(lammering[[#This Row],[Speen-datum]]-lammering[[#This Row],[Werp-datum]]))","v":""},{"$f":"IF(lammering[[#This Row],[Verkoop-datum]]=\"\",\"\",(lammering[[#This Row],[Verkoop-gewicht]]-lammering[[#This Row],[Speen-gewicht]])/(lammering[[#This Row],[Verkoop-datum]]-lammering[[#This Row],[Speen-datum]]))","v":""},{"$f":"IF(lammering[[#This Row],[Verkoop-datum]]=\"\",\"\",(lammering[[#This Row],[Verkoop-gewicht]]-lammering[[#This Row],[geboorte-gewicht]])/(lammering[[#This Row],[Verkoop-datum]]-lammering[[#This Row],[Werp-datum]]))","v":""},"","","","","","",{"$f":"IF(lammering[[#This Row],[Verkoop-gewicht]]=\"\",\"\",lammering[[#This Row],[Verkoop-gewicht]]-lammering[[#This Row],[geboorte-gewicht]])","v":""},"","",{"$f":"Opzoek_ooi[[#This Row],[Ooinummer]]","v":0},"",""]
[{"$f":"lammering[[#This Row],[Ooi]]","v":0},0,0,{"$f":"IF(lammering[[#This Row],[Lam-nummer]]=\"\",0,1)","v":0},{"$f":"IF(lammering[[#This Row],[Dood in geboorte]]=\"ja\",1,0)","v":0},{"$f":"IF(lammering[[#This Row],[Ooi]]=\"\",0,IF(Berekeningen!E118=0,1,0))","v":0},{"$f":"IF(D118=0,0,IF(lammering[[#This Row],[Dood in geboorte]]=\"Ja\",0,IF(lammering[[#This Row],[Dood na geboorte]]=\"ja\",0,1)))","v":0},{"$f":"IF(lammering[[#This Row],[Opfok met kunstmelk]]=\"Ja\",1,0)","v":0},{"$f":"IF(lammering[[#This Row],[geslacht]]=\"O\",1,0)","v":0},{"$f":"IF(lammering[[#This Row],[Speen-datum]]=\"\",\"\",(lammering[[#This Row],[Speen-gewicht]]-lammering[[#This Row],[geboorte-gewicht]])/(lammering[[#This Row],[Speen-datum]]-lammering[[#This Row],[Werp-datum]]))","v":""},{"$f":"IF(lammering[[#This Row],[Verkoop-datum]]=\"\",\"\",(lammering[[#This Row],[Verkoop-gewicht]]-lammering[[#This Row],[Speen-gewicht]])/(lammering[[#This Row],[Verkoop-datum]]-lammering[[#This Row],[Speen-datum]]))","v":""},{"$f":"IF(lammering[[#This Row],[Verkoop-datum]]=\"\",\"\",(lammering[[#This Row],[Verkoop-gewicht]]-lammering[[#This Row],[geboorte-gewicht]])/(lammering[[#This Row],[Verkoop-datum]]-lammering[[#This Row],[Werp-datum]]))","v":""},"","","","","","",{"$f":"IF(lammering[[#This Row],[Verkoop-gewicht]]=\"\",\"\",lammering[[#This Row],[Verkoop-gewicht]]-lammering[[#This Row],[geboorte-gewicht]])","v":""},"","",{"$f":"Opzoek_ooi[[#This Row],[Ooinummer]]","v":0},"",""]
[{"$f":"lammering[[#This Row],[Ooi]]","v":0},0,0,{"$f":"IF(lammering[[#This Row],[Lam-nummer]]=\"\",0,1)","v":0},{"$f":"IF(lammering[[#This Row],[Dood in geboorte]]=\"ja\",1,0)","v":0},{"$f":"IF(lammering[[#This Row],[Ooi]]=\"\",0,IF(Berekeningen!E119=0,1,0))","v":0},{"$f":"IF(D119=0,0,IF(lammering[[#This Row],[Dood in geboorte]]=\"Ja\",0,IF(lammering[[#This Row],[Dood na geboorte]]=\"ja\",0,1)))","v":0},{"$f":"IF(lammering[[#This Row],[Opfok met kunstmelk]]=\"Ja\",1,0)","v":0},{"$f":"IF(lammering[[#This Row],[geslacht]]=\"O\",1,0)","v":0},{"$f":"IF(lammering[[#This Row],[Speen-datum]]=\"\",\"\",(lammering[[#This Row],[Speen-gewicht]]-lammering[[#This Row],[geboorte-gewicht]])/(lammering[[#This Row],[Speen-datum]]-lammering[[#This Row],[Werp-datum]]))","v":""},{"$f":"IF(lammering[[#This Row],[Verkoop-datum]]=\"\",\"\",(lammering[[#This Row],[Verkoop-gewicht]]-lammering[[#This Row],[Speen-gewicht]])/(lammering[[#This Row],[Verkoop-datum]]-lammering[[#This Row],[Speen-datum]]))","v":""},{"$f":"IF(lammering[[#This Row],[Verkoop-datum]]=\"\",\"\",(lammering[[#This Row],[Verkoop-gewicht]]-lammering[[#This Row],[geboorte-gewicht]])/(lammering[[#This Row],[Verkoop-datum]]-lammering[[#This Row],[Werp-datum]]))","v":""},"","","","","","",{"$f":"IF(lammering[[#This Row],[Verkoop-gewicht]]=\"\",\"\",lammering[[#This Row],[Verkoop-gewicht]]-lammering[[#This Row],[geboorte-gewicht]])","v":""},"","",{"$f":"Opzoek_ooi[[#This Row],[Ooinummer]]","v":0},"",""]
[{"$f":"lammering[[#This Row],[Ooi]]","v":0},0,0,{"$f":"IF(lammering[[#This Row],[Lam-nummer]]=\"\",0,1)","v":0},{"$f":"IF(lammering[[#This Row],[Dood in geboorte]]=\"ja\",1,0)","v":0},{"$f":"IF(lammering[[#This Row],[Ooi]]=\"\",0,IF(Berekeningen!E120=0,1,0))","v":0},{"$f":"IF(D120=0,0,IF(lammering[[#This Row],[Dood in geboorte]]=\"Ja\",0,IF(lammering[[#This Row],[Dood na geboorte]]=\"ja\",0,1)))","v":0},{"$f":"IF(lammering[[#This Row],[Opfok met kunstmelk]]=\"Ja\",1,0)","v":0},{"$f":"IF(lammering[[#This Row],[geslacht]]=\"O\",1,0)","v":0},{"$f":"IF(lammering[[#This Row],[Speen-datum]]=\"\",\"\",(lammering[[#This Row],[Speen-gewicht]]-lammering[[#This Row],[geboorte-gewicht]])/(lammering[[#This Row],[Speen-datum]]-lammering[[#This Row],[Werp-datum]]))","v":""},{"$f":"IF(lammering[[#This Row],[Verkoop-datum]]=\"\",\"\",(lammering[[#This Row],[Verkoop-gewicht]]-lammering[[#This Row],[Speen-gewicht]])/(lammering[[#This Row],[Verkoop-datum]]-lammering[[#This Row],[Speen-datum]]))","v":""},{"$f":"IF(lammering[[#This Row],[Verkoop-datum]]=\"\",\"\",(lammering[[#This Row],[Verkoop-gewicht]]-lammering[[#This Row],[geboorte-gewicht]])/(lammering[[#This Row],[Verkoop-datum]]-lammering[[#This Row],[Werp-datum]]))","v":""},"","","","","","",{"$f":"IF(lammering[[#This Row],[Verkoop-gewicht]]=\"\",\"\",lammering[[#This Row],[Verkoop-gewicht]]-lammering[[#This Row],[geboorte-gewicht]])","v":""},"","",{"$f":"Opzoek_ooi[[#This Row],[Ooinummer]]","v":0},"",""]
[{"$f":"lammering[[#This Row],[Ooi]]","v":0},0,0,{"$f":"IF(lammering[[#This Row],[Lam-nummer]]=\"\",0,1)","v":0},{"$f":"IF(lammering[[#This Row],[Dood in geboorte]]=\"ja\",1,0)","v":0},{"$f":"IF(lammering[[#This Row],[Ooi]]=\"\",0,IF(Berekeningen!E121=0,1,0))","v":0},{"$f":"IF(D121=0,0,IF(lammering[[#This Row],[Dood in geboorte]]=\"Ja\",0,IF(lammering[[#This Row],[Dood na geboorte]]=\"ja\",0,1)))","v":0},{"$f":"IF(lammering[[#This Row],[Opfok met kunstmelk]]=\"Ja\",1,0)","v":0},{"$f":"IF(lammering[[#This Row],[geslacht]]=\"O\",1,0)","v":0},{"$f":"IF(lammering[[#This Row],[Speen-datum]]=\"\",\"\",(lammering[[#This Row],[Speen-gewicht]]-lammering[[#This Row],[geboorte-gewicht]])/(lammering[[#This Row],[Speen-datum]]-lammering[[#This Row],[Werp-datum]]))","v":""},{"$f":"IF(lammering[[#This Row],[Verkoop-datum]]=\"\",\"\",(lammering[[#This Row],[Verkoop-gewicht]]-lammering[[#This Row],[Speen-gewicht]])/(lammering[[#This Row],[Verkoop-datum]]-lammering[[#This Row],[Speen-datum]]))","v":""},{"$f":"IF(lammering[[#This Row],[Verkoop-datum]]=\"\",\"\",(lammering[[#This Row],[Verkoop-gewicht]]-lammering[[#This Row],[geboorte-gewicht]])/(lammering[[#This Row],[Verkoop-datum]]-lammering[[#This Row],[Werp-datum]]))","v":""},"","","","","","",{"$f":"IF(lammering[[#This Row],[Verkoop-gewicht]]=\"\",\"\",lammering[[#This Row],[Verkoop-gewicht]]-lammering[[#This Row],[geboorte-gewicht]])","v":""},"","",{"$f":"Opzoek_ooi[[#This Row],[Ooinummer]]","v":0},"",""]
[{"$f":"lammering[[#This Row],[Ooi]]","v":0},0,0,{"$f":"IF(lammering[[#This Row],[Lam-nummer]]=\"\",0,1)","v":0},{"$f":"IF(lammering[[#This Row],[Dood in geboorte]]=\"ja\",1,0)","v":0},{"$f":"IF(lammering[[#This Row],[Ooi]]=\"\",0,IF(Berekeningen!E122=0,1,0))","v":0},{"$f":"IF(D122=0,0,IF(lammering[[#This Row],[Dood in geboorte]]=\"Ja\",0,IF(lammering[[#This Row],[Dood na geboorte]]=\"ja\",0,1)))","v":0},{"$f":"IF(lammering[[#This Row],[Opfok met kunstmelk]]=\"Ja\",1,0)","v":0},{"$f":"IF(lammering[[#This Row],[geslacht]]=\"O\",1,0)","v":0},{"$f":"IF(lammering[[#This Row],[Speen-datum]]=\"\",\"\",(lammering[[#This Row],[Speen-gewicht]]-lammering[[#This Row],[geboorte-gewicht]])/(lammering[[#This Row],[Speen-datum]]-lammering[[#This Row],[Werp-datum]]))","v":""},{"$f":"IF(lammering[[#This Row],[Verkoop-datum]]=\"\",\"\",(lammering[[#This Row],[Verkoop-gewicht]]-lammering[[#This Row],[Speen-gewicht]])/(lammering[[#This Row],[Verkoop-datum]]-lammering[[#This Row],[Speen-datum]]))","v":""},{"$f":"IF(lammering[[#This Row],[Verkoop-datum]]=\"\",\"\",(lammering[[#This Row],[Verkoop-gewicht]]-lammering[[#This Row],[geboorte-gewicht]])/(lammering[[#This Row],[Verkoop-datum]]-lammering[[#This Row],[Werp-datum]]))","v":""},"","","","","","",{"$f":"IF(lammering[[#This Row],[Verkoop-gewicht]]=\"\",\"\",lammering[[#This Row],[Verkoop-gewicht]]-lammering[[#This Row],[geboorte-gewicht]])","v":""},"","",{"$f":"Opzoek_ooi[[#This Row],[Ooinummer]]","v":0},"",""]
[{"$f":"lammering[[#This Row],[Ooi]]","v":0},0,0,{"$f":"IF(lammering[[#This Row],[Lam-nummer]]=\"\",0,1)","v":0},{"$f":"IF(lammering[[#This Row],[Dood in geboorte]]=\"ja\",1,0)","v":0},{"$f":"IF(lammering[[#This Row],[Ooi]]=\"\",0,IF(Berekeningen!E123=0,1,0))","v":0},{"$f":"IF(D123=0,0,IF(lammering[[#This Row],[Dood in geboorte]]=\"Ja\",0,IF(lammering[[#This Row],[Dood na geboorte]]=\"ja\",0,1)))","v":0},{"$f":"IF(lammering[[#This Row],[Opfok met kunstmelk]]=\"Ja\",1,0)","v":0},{"$f":"IF(lammering[[#This Row],[geslacht]]=\"O\",1,0)","v":0},{"$f":"IF(lammering[[#This Row],[Speen-datum]]=\"\",\"\",(lammering[[#This Row],[Speen-gewicht]]-lammering[[#This Row],[geboorte-gewicht]])/(lammering[[#This Row],[Speen-datum]]-lammering[[#This Row],[Werp-datum]]))","v":""},{"$f":"IF(lammering[[#This Row],[Verkoop-datum]]=\"\",\"\",(lammering[[#This Row],[Verkoop-gewicht]]-lammering[[#This Row],[Speen-gewicht]])/(lammering[[#This Row],[Verkoop-datum]]-lammering[[#This Row],[Speen-datum]]))","v":""},{"$f":"IF(lammering[[#This Row],[Verkoop-datum]]=\"\",\"\",(lammering[[#This Row],[Verkoop-gewicht]]-lammering[[#This Row],[geboorte-gewicht]])/(lammering[[#This Row],[Verkoop-datum]]-lammering[[#This Row],[Werp-datum]]))","v":""},"","","","","","",{"$f":"IF(lammering[[#This Row],[Verkoop-gewicht]]=\"\",\"\",lammering[[#This Row],[Verkoop-gewicht]]-lammering[[#This Row],[geboorte-gewicht]])","v":""},"","",{"$f":"Opzoek_ooi[[#This Row],[Ooinummer]]","v":0},"",""]
[{"$f":"lammering[[#This Row],[Ooi]]","v":0},0,0,{"$f":"IF(lammering[[#This Row],[Lam-nummer]]=\"\",0,1)","v":0},{"$f":"IF(lammering[[#This Row],[Dood in geboorte]]=\"ja\",1,0)","v":0},{"$f":"IF(lammering[[#This Row],[Ooi]]=\"\",0,IF(Berekeningen!E124=0,1,0))","v":0},{"$f":"IF(D124=0,0,IF(lammering[[#This Row],[Dood in geboorte]]=\"Ja\",0,IF(lammering[[#This Row],[Dood na geboorte]]=\"ja\",0,1)))","v":0},{"$f":"IF(lammering[[#This Row],[Opfok met kunstmelk]]=\"Ja\",1,0)","v":0},{"$f":"IF(lammering[[#This Row],[geslacht]]=\"O\",1,0)","v":0},{"$f":"IF(lammering[[#This Row],[Speen-datum]]=\"\",\"\",(lammering[[#This Row],[Speen-gewicht]]-lammering[[#This Row],[geboorte-gewicht]])/(lammering[[#This Row],[Speen-datum]]-lammering[[#This Row],[Werp-datum]]))","v":""},{"$f":"IF(lammering[[#This Row],[Verkoop-datum]]=\"\",\"\",(lammering[[#This Row],[Verkoop-gewicht]]-lammering[[#This Row],[Speen-gewicht]])/(lammering[[#This Row],[Verkoop-datum]]-lammering[[#This Row],[Speen-datum]]))","v":""},{"$f":"IF(lammering[[#This Row],[Verkoop-datum]]=\"\",\"\",(lammering[[#This Row],[Verkoop-gewicht]]-lammering[[#This Row],[geboorte-gewicht]])/(lammering[[#This Row],[Verkoop-datum]]-lammering[[#This Row],[Werp-datum]]))","v":""},"","","","","","",{"$f":"IF(lammering[[#This Row],[Verkoop-gewicht]]=\"\",\"\",lammering[[#This Row],[Verkoop-gewicht]]-lammering[[#This Row],[geboorte-gewicht]])","v":""},"","",{"$f":"Opzoek_ooi[[#This Row],[Ooinummer]]","v":0},"",""]
[{"$f":"lammering[[#This Row],[Ooi]]","v":0},0,0,{"$f":"IF(lammering[[#This Row],[Lam-nummer]]=\"\",0,1)","v":0},{"$f":"IF(lammering[[#This Row],[Dood in geboorte]]=\"ja\",1,0)","v":0},{"$f":"IF(lammering[[#This Row],[Ooi]]=\"\",0,IF(Berekeningen!E125=0,1,0))","v":0},{"$f":"IF(D125=0,0,IF(lammering[[#This Row],[Dood in geboorte]]=\"Ja\",0,IF(lammering[[#This Row],[Dood na geboorte]]=\"ja\",0,1)))","v":0},{"$f":"IF(lammering[[#This Row],[Opfok met kunstmelk]]=\"Ja\",1,0)","v":0},{"$f":"IF(lammering[[#This Row],[geslacht]]=\"O\",1,0)","v":0},{"$f":"IF(lammering[[#This Row],[Speen-datum]]=\"\",\"\",(lammering[[#This Row],[Speen-gewicht]]-lammering[[#This Row],[geboorte-gewicht]])/(lammering[[#This Row],[Speen-datum]]-lammering[[#This Row],[Werp-datum]]))","v":""},{"$f":"IF(lammering[[#This Row],[Verkoop-datum]]=\"\",\"\",(lammering[[#This Row],[Verkoop-gewicht]]-lammering[[#This Row],[Speen-gewicht]])/(lammering[[#This Row],[Verkoop-datum]]-lammering[[#This Row],[Speen-datum]]))","v":""},{"$f":"IF(lammering[[#This Row],[Verkoop-datum]]=\"\",\"\",(lammering[[#This Row],[Verkoop-gewicht]]-lammering[[#This Row],[geboorte-gewicht]])/(lammering[[#This Row],[Verkoop-datum]]-lammering[[#This Row],[Werp-datum]]))","v":""},"","","","","","",{"$f":"IF(lammering[[#This Row],[Verkoop-gewicht]]=\"\",\"\",lammering[[#This Row],[Verkoop-gewicht]]-lammering[[#This Row],[geboorte-gewicht]])","v":""},"","",{"$f":"Opzoek_ooi[[#This Row],[Ooinummer]]","v":0},"",""]
[{"$f":"lammering[[#This Row],[Ooi]]","v":0},0,0,{"$f":"IF(lammering[[#This Row],[Lam-nummer]]=\"\",0,1)","v":0},{"$f":"IF(lammering[[#This Row],[Dood in geboorte]]=\"ja\",1,0)","v":0},{"$f":"IF(lammering[[#This Row],[Ooi]]=\"\",0,IF(Berekeningen!E126=0,1,0))","v":0},{"$f":"IF(D126=0,0,IF(lammering[[#This Row],[Dood in geboorte]]=\"Ja\",0,IF(lammering[[#This Row],[Dood na geboorte]]=\"ja\",0,1)))","v":0},{"$f":"IF(lammering[[#This Row],[Opfok met kunstmelk]]=\"Ja\",1,0)","v":0},{"$f":"IF(lammering[[#This Row],[geslacht]]=\"O\",1,0)","v":0},{"$f":"IF(lammering[[#This Row],[Speen-datum]]=\"\",\"\",(lammering[[#This Row],[Speen-gewicht]]-lammering[[#This Row],[geboorte-gewicht]])/(lammering[[#This Row],[Speen-datum]]-lammering[[#This Row],[Werp-datum]]))","v":""},{"$f":"IF(lammering[[#This Row],[Verkoop-datum]]=\"\",\"\",(lammering[[#This Row],[Verkoop-gewicht]]-lammering[[#This Row],[Speen-gewicht]])/(lammering[[#This Row],[Verkoop-datum]]-lammering[[#This Row],[Speen-datum]]))","v":""},{"$f":"IF(lammering[[#This Row],[Verkoop-datum]]=\"\",\"\",(lammering[[#This Row],[Verkoop-gewicht]]-lammering[[#This Row],[geboorte-gewicht]])/(lammering[[#This Row],[Verkoop-datum]]-lammering[[#This Row],[Werp-datum]]))","v":""},"","","","","","",{"$f":"IF(lammering[[#This Row],[Verkoop-gewicht]]=\"\",\"\",lammering[[#This Row],[Verkoop-gewicht]]-lammering[[#This Row],[geboorte-gewicht]])","v":""},"","",{"$f":"Opzoek_ooi[[#This Row],[Ooinummer]]","v":0},"",""]
[{"$f":"lammering[[#This Row],[Ooi]]","v":0},0,0,{"$f":"IF(lammering[[#This Row],[Lam-nummer]]=\"\",0,1)","v":0},{"$f":"IF(lammering[[#This Row],[Dood in geboorte]]=\"ja\",1,0)","v":0},{"$f":"IF(lammering[[#This Row],[Ooi]]=\"\",0,IF(Berekeningen!E127=0,1,0))","v":0},{"$f":"IF(D127=0,0,IF(lammering[[#This Row],[Dood in geboorte]]=\"Ja\",0,IF(lammering[[#This Row],[Dood na geboorte]]=\"ja\",0,1)))","v":0},{"$f":"IF(lammering[[#This Row],[Opfok met kunstmelk]]=\"Ja\",1,0)","v":0},{"$f":"IF(lammering[[#This Row],[geslacht]]=\"O\",1,0)","v":0},{"$f":"IF(lammering[[#This Row],[Speen-datum]]=\"\",\"\",(lammering[[#This Row],[Speen-gewicht]]-lammering[[#This Row],[geboorte-gewicht]])/(lammering[[#This Row],[Speen-datum]]-lammering[[#This Row],[Werp-datum]]))","v":""},{"$f":"IF(lammering[[#This Row],[Verkoop-datum]]=\"\",\"\",(lammering[[#This Row],[Verkoop-gewicht]]-lammering[[#This Row],[Speen-gewicht]])/(lammering[[#This Row],[Verkoop-datum]]-lammering[[#This Row],[Speen-datum]]))","v":""},{"$f":"IF(lammering[[#This Row],[Verkoop-datum]]=\"\",\"\",(lammering[[#This Row],[Verkoop-gewicht]]-lammering[[#This Row],[geboorte-gewicht]])/(lammering[[#This Row],[Verkoop-datum]]-lammering[[#This Row],[Werp-datum]]))","v":""},"","","","","","",{"$f":"IF(lammering[[#This Row],[Verkoop-gewicht]]=\"\",\"\",lammering[[#This Row],[Verkoop-gewicht]]-lammering[[#This Row],[geboorte-gewicht]])","v":""},"","",{"$f":"Opzoek_ooi[[#This Row],[Ooinummer]]","v":0},"",""]
[{"$f":"lammering[[#This Row],[Ooi]]","v":0},0,0,{"$f":"IF(lammering[[#This Row],[Lam-nummer]]=\"\",0,1)","v":0},{"$f":"IF(lammering[[#This Row],[Dood in geboorte]]=\"ja\",1,0)","v":0},{"$f":"IF(lammering[[#This Row],[Ooi]]=\"\",0,IF(Berekeningen!E128=0,1,0))","v":0},{"$f":"IF(D128=0,0,IF(lammering[[#This Row],[Dood in geboorte]]=\"Ja\",0,IF(lammering[[#This Row],[Dood na geboorte]]=\"ja\",0,1)))","v":0},{"$f":"IF(lammering[[#This Row],[Opfok met kunstmelk]]=\"Ja\",1,0)","v":0},{"$f":"IF(lammering[[#This Row],[geslacht]]=\"O\",1,0)","v":0},{"$f":"IF(lammering[[#This Row],[Speen-datum]]=\"\",\"\",(lammering[[#This Row],[Speen-gewicht]]-lammering[[#This Row],[geboorte-gewicht]])/(lammering[[#This Row],[Speen-datum]]-lammering[[#This Row],[Werp-datum]]))","v":""},{"$f":"IF(lammering[[#This Row],[Verkoop-datum]]=\"\",\"\",(lammering[[#This Row],[Verkoop-gewicht]]-lammering[[#This Row],[Speen-gewicht]])/(lammering[[#This Row],[Verkoop-datum]]-lammering[[#This Row],[Speen-datum]]))","v":""},{"$f":"IF(lammering[[#This Row],[Verkoop-datum]]=\"\",\"\",(lammering[[#This Row],[Verkoop-gewicht]]-lammering[[#This Row],[geboorte-gewicht]])/(lammering[[#This Row],[Verkoop-datum]]-lammering[[#This Row],[Werp-datum]]))","v":""},"","","","","","",{"$f":"IF(lammering[[#This Row],[Verkoop-gewicht]]=\"\",\"\",lammering[[#This Row],[Verkoop-gewicht]]-lammering[[#This Row],[geboorte-gewicht]])","v":""},"","",{"$f":"Opzoek_ooi[[#This Row],[Ooinummer]]","v":0},"",""]
[{"$f":"lammering[[#This Row],[Ooi]]","v":0},0,0,{"$f":"IF(lammering[[#This Row],[Lam-nummer]]=\"\",0,1)","v":0},{"$f":"IF(lammering[[#This Row],[Dood in geboorte]]=\"ja\",1,0)","v":0},{"$f":"IF(lammering[[#This Row],[Ooi]]=\"\",0,IF(Berekeningen!E129=0,1,0))","v":0},{"$f":"IF(D129=0,0,IF(lammering[[#This Row],[Dood in geboorte]]=\"Ja\",0,IF(lammering[[#This Row],[Dood na geboorte]]=\"ja\",0,1)))","v":0},{"$f":"IF(lammering[[#This Row],[Opfok met kunstmelk]]=\"Ja\",1,0)","v":0},{"$f":"IF(lammering[[#This Row],[geslacht]]=\"O\",1,0)","v":0},{"$f":"IF(lammering[[#This Row],[Speen-datum]]=\"\",\"\",(lammering[[#This Row],[Speen-gewicht]]-lammering[[#This Row],[geboorte-gewicht]])/(lammering[[#This Row],[Speen-datum]]-lammering[[#This Row],[Werp-datum]]))","v":""},{"$f":"IF(lammering[[#This Row],[Verkoop-datum]]=\"\",\"\",(lammering[[#This Row],[Verkoop-gewicht]]-lammering[[#This Row],[Speen-gewicht]])/(lammering[[#This Row],[Verkoop-datum]]-lammering[[#This Row],[Speen-datum]]))","v":""},{"$f":"IF(lammering[[#This Row],[Verkoop-datum]]=\"\",\"\",(lammering[[#This Row],[Verkoop-gewicht]]-lammering[[#This Row],[geboorte-gewicht]])/(lammering[[#This Row],[Verkoop-datum]]-lammering[[#This Row],[Werp-datum]]))","v":""},"","","","","","",{"$f":"IF(lammering[[#This Row],[Verkoop-gewicht]]=\"\",\"\",lammering[[#This Row],[Verkoop-gewicht]]-lammering[[#This Row],[geboorte-gewicht]])","v":""},"","",{"$f":"Opzoek_ooi[[#This Row],[Ooinummer]]","v":0},"",""]
[{"$f":"lammering[[#This Row],[Ooi]]","v":0},0,0,{"$f":"IF(lammering[[#This Row],[Lam-nummer]]=\"\",0,1)","v":0},{"$f":"IF(lammering[[#This Row],[Dood in geboorte]]=\"ja\",1,0)","v":0},{"$f":"IF(lammering[[#This Row],[Ooi]]=\"\",0,IF(Berekeningen!E130=0,1,0))","v":0},{"$f":"IF(D130=0,0,IF(lammering[[#This Row],[Dood in geboorte]]=\"Ja\",0,IF(lammering[[#This Row],[Dood na geboorte]]=\"ja\",0,1)))","v":0},{"$f":"IF(lammering[[#This Row],[Opfok met kunstmelk]]=\"Ja\",1,0)","v":0},{"$f":"IF(lammering[[#This Row],[geslacht]]=\"O\",1,0)","v":0},{"$f":"IF(lammering[[#This Row],[Speen-datum]]=\"\",\"\",(lammering[[#This Row],[Speen-gewicht]]-lammering[[#This Row],[geboorte-gewicht]])/(lammering[[#This Row],[Speen-datum]]-lammering[[#This Row],[Werp-datum]]))","v":""},{"$f":"IF(lammering[[#This Row],[Verkoop-datum]]=\"\",\"\",(lammering[[#This Row],[Verkoop-gewicht]]-lammering[[#This Row],[Speen-gewicht]])/(lammering[[#This Row],[Verkoop-datum]]-lammering[[#This Row],[Speen-datum]]))","v":""},{"$f":"IF(lammering[[#This Row],[Verkoop-datum]]=\"\",\"\",(lammering[[#This Row],[Verkoop-gewicht]]-lammering[[#This Row],[geboorte-gewicht]])/(lammering[[#This Row],[Verkoop-datum]]-lammering[[#This Row],[Werp-datum]]))","v":""},"","","","","","",{"$f":"IF(lammering[[#This Row],[Verkoop-gewicht]]=\"\",\"\",lammering[[#This Row],[Verkoop-gewicht]]-lammering[[#This Row],[geboorte-gewicht]])","v":""},"","",{"$f":"Opzoek_ooi[[#This Row],[Ooinummer]]","v":0},"",""]
[{"$f":"lammering[[#This Row],[Ooi]]","v":0},{"$f":"IF(A131=0,0,IF(A131=A130,0,1))","v":0},{"$f":"IF(B131=1,A131,0)","v":0},{"$f":"IF(lammering[[#This Row],[Lam-nummer]]=\"\",0,1)","v":0},{"$f":"IF(lammering[[#This Row],[Dood in geboorte]]=\"ja\",1,0)","v":0},{"$f":"IF(lammering[[#This Row],[Ooi]]=\"\",0,IF(Berekeningen!E131=0,1,0))","v":0},{"$f":"IF(D131=0,0,IF(lammering[[#This Row],[Dood in geboorte]]=\"Ja\",0,IF(lammering[[#This Row],[Dood na geboorte]]=\"ja\",0,1)))","v":0},{"$f":"IF(lammering[[#This Row],[Opfok met kunstmelk]]=\"Ja\",1,0)","v":0},{"$f":"IF(lammering[[#This Row],[geslacht]]=\"O\",1,0)","v":0},{"$f":"IF(lammering[[#This Row],[Speen-datum]]=\"\",\"\",(lammering[[#This Row],[Speen-gewicht]]-lammering[[#This Row],[geboorte-gewicht]])/(lammering[[#This Row],[Speen-datum]]-lammering[[#This Row],[Werp-datum]]))","v":""},{"$f":"IF(lammering[[#This Row],[Verkoop-datum]]=\"\",\"\",(lammering[[#This Row],[Verkoop-gewicht]]-lammering[[#This Row],[Speen-gewicht]])/(lammering[[#This Row],[Verkoop-datum]]-lammering[[#This Row],[Speen-datum]]))","v":""},{"$f":"IF(lammering[[#This Row],[Verkoop-datum]]=\"\",\"\",(lammering[[#This Row],[Verkoop-gewicht]]-lammering[[#This Row],[geboorte-gewicht]])/(lammering[[#This Row],[Verkoop-datum]]-lammering[[#This Row],[Werp-datum]]))","v":""},"","","","","","",{"$f":"IF(lammering[[#This Row],[Verkoop-gewicht]]=\"\",\"\",lammering[[#This Row],[Verkoop-gewicht]]-lammering[[#This Row],[geboorte-gewicht]])","v":""},"","",{"$f":"Opzoek_ooi[[#This Row],[Ooinummer]]","v":0},"",{"$f":"IF(W131>0,W131,\"\")","v":""}]
[{"$f":"lammering[[#This Row],[Ooi]]","v":0},0,0,{"$f":"IF(lammering[[#This Row],[Lam-nummer]]=\"\",0,1)","v":0},{"$f":"IF(lammering[[#This Row],[Dood in geboorte]]=\"ja\",1,0)","v":0},{"$f":"IF(lammering[[#This Row],[Ooi]]=\"\",0,IF(Berekeningen!E132=0,1,0))","v":0},{"$f":"IF(D132=0,0,IF(lammering[[#This Row],[Dood in geboorte]]=\"Ja\",0,IF(lammering[[#This Row],[Dood na geboorte]]=\"ja\",0,1)))","v":0},{"$f":"IF(lammering[[#This Row],[Opfok met kunstmelk]]=\"Ja\",1,0)","v":0},{"$f":"IF(lammering[[#This Row],[geslacht]]=\"O\",1,0)","v":0},{"$f":"IF(lammering[[#This Row],[Speen-datum]]=\"\",\"\",(lammering[[#This Row],[Speen-gewicht]]-lammering[[#This Row],[geboorte-gewicht]])/(lammering[[#This Row],[Speen-datum]]-lammering[[#This Row],[Werp-datum]]))","v":""},{"$f":"IF(lammering[[#This Row],[Verkoop-datum]]=\"\",\"\",(lammering[[#This Row],[Verkoop-gewicht]]-lammering[[#This Row],[Speen-gewicht]])/(lammering[[#This Row],[Verkoop-datum]]-lammering[[#This Row],[Speen-datum]]))","v":""},{"$f":"IF(lammering[[#This Row],[Verkoop-datum]]=\"\",\"\",(lammering[[#This Row],[Verkoop-gewicht]]-lammering[[#This Row],[geboorte-gewicht]])/(lammering[[#This Row],[Verkoop-datum]]-lammering[[#This Row],[Werp-datum]]))","v":""},"","","","","","",{"$f":"IF(lammering[[#This Row],[Verkoop-gewicht]]=\"\",\"\",lammering[[#This Row],[Verkoop-gewicht]]-lammering[[#This Row],[geboorte-gewicht]])","v":""},"","",{"$f":"Opzoek_ooi[[#This Row],[Ooinummer]]","v":0},"",""]
[{"$f":"lammering[[#This Row],[Ooi]]","v":0},0,0,{"$f":"IF(lammering[[#This Row],[Lam-nummer]]=\"\",0,1)","v":0},{"$f":"IF(lammering[[#This Row],[Dood in geboorte]]=\"ja\",1,0)","v":0},{"$f":"IF(lammering[[#This Row],[Ooi]]=\"\",0,IF(Berekeningen!E133=0,1,0))","v":0},{"$f":"IF(D133=0,0,IF(lammering[[#This Row],[Dood in geboorte]]=\"Ja\",0,IF(lammering[[#This Row],[Dood na geboorte]]=\"ja\",0,1)))","v":0},{"$f":"IF(lammering[[#This Row],[Opfok met kunstmelk]]=\"Ja\",1,0)","v":0},{"$f":"IF(lammering[[#This Row],[geslacht]]=\"O\",1,0)","v":0},{"$f":"IF(lammering[[#This Row],[Speen-datum]]=\"\",\"\",(lammering[[#This Row],[Speen-gewicht]]-lammering[[#This Row],[geboorte-gewicht]])/(lammering[[#This Row],[Speen-datum]]-lammering[[#This Row],[Werp-datum]]))","v":""},{"$f":"IF(lammering[[#This Row],[Verkoop-datum]]=\"\",\"\",(lammering[[#This Row],[Verkoop-gewicht]]-lammering[[#This Row],[Speen-gewicht]])/(lammering[[#This Row],[Verkoop-datum]]-lammering[[#This Row],[Speen-datum]]))","v":""},{"$f":"IF(lammering[[#This Row],[Verkoop-datum]]=\"\",\"\",(lammering[[#This Row],[Verkoop-gewicht]]-lammering[[#This Row],[geboorte-gewicht]])/(lammering[[#This Row],[Verkoop-datum]]-lammering[[#This Row],[Werp-datum]]))","v":""},"","","","","","",{"$f":"IF(lammering[[#This Row],[Verkoop-gewicht]]=\"\",\"\",lammering[[#This Row],[Verkoop-gewicht]]-lammering[[#This Row],[geboorte-gewicht]])","v":""},"","",{"$f":"Opzoek_ooi[[#This Row],[Ooinummer]]","v":0},"",""]
[{"$f":"lammering[[#This Row],[Ooi]]","v":0},0,0,{"$f":"IF(lammering[[#This Row],[Lam-nummer]]=\"\",0,1)","v":0},{"$f":"IF(lammering[[#This Row],[Dood in geboorte]]=\"ja\",1,0)","v":0},{"$f":"IF(lammering[[#This Row],[Ooi]]=\"\",0,IF(Berekeningen!E134=0,1,0))","v":0},{"$f":"IF(D134=0,0,IF(lammering[[#This Row],[Dood in geboorte]]=\"Ja\",0,IF(lammering[[#This Row],[Dood na geboorte]]=\"ja\",0,1)))","v":0},{"$f":"IF(lammering[[#This Row],[Opfok met kunstmelk]]=\"Ja\",1,0)","v":0},{"$f":"IF(lammering[[#This Row],[geslacht]]=\"O\",1,0)","v":0},{"$f":"IF(lammering[[#This Row],[Speen-datum]]=\"\",\"\",(lammering[[#This Row],[Speen-gewicht]]-lammering[[#This Row],[geboorte-gewicht]])/(lammering[[#This Row],[Speen-datum]]-lammering[[#This Row],[Werp-datum]]))","v":""},{"$f":"IF(lammering[[#This Row],[Verkoop-datum]]=\"\",\"\",(lammering[[#This Row],[Verkoop-gewicht]]-lammering[[#This Row],[Speen-gewicht]])/(lammering[[#This Row],[Verkoop-datum]]-lammering[[#This Row],[Speen-datum]]))","v":""},{"$f":"IF(lammering[[#This Row],[Verkoop-datum]]=\"\",\"\",(lammering[[#This Row],[Verkoop-gewicht]]-lammering[[#This Row],[geboorte-gewicht]])/(lammering[[#This Row],[Verkoop-datum]]-lammering[[#This Row],[Werp-datum]]))","v":""},"","","","","","",{"$f":"IF(lammering[[#This Row],[Verkoop-gewicht]]=\"\",\"\",lammering[[#This Row],[Verkoop-gewicht]]-lammering[[#This Row],[geboorte-gewicht]])","v":""},"","",{"$f":"Opzoek_ooi[[#This Row],[Ooinummer]]","v":0},"",""]
[{"$f":"lammering[[#This Row],[Ooi]]","v":0},0,0,{"$f":"IF(lammering[[#This Row],[Lam-nummer]]=\"\",0,1)","v":0},{"$f":"IF(lammering[[#This Row],[Dood in geboorte]]=\"ja\",1,0)","v":0},{"$f":"IF(lammering[[#This Row],[Ooi]]=\"\",0,IF(Berekeningen!E135=0,1,0))","v":0},{"$f":"IF(D135=0,0,IF(lammering[[#This Row],[Dood in geboorte]]=\"Ja\",0,IF(lammering[[#This Row],[Dood na geboorte]]=\"ja\",0,1)))","v":0},{"$f":"IF(lammering[[#This Row],[Opfok met kunstmelk]]=\"Ja\",1,0)","v":0},{"$f":"IF(lammering[[#This Row],[geslacht]]=\"O\",1,0)","v":0},{"$f":"IF(lammering[[#This Row],[Speen-datum]]=\"\",\"\",(lammering[[#This Row],[Speen-gewicht]]-lammering[[#This Row],[geboorte-gewicht]])/(lammering[[#This Row],[Speen-datum]]-lammering[[#This Row],[Werp-datum]]))","v":""},{"$f":"IF(lammering[[#This Row],[Verkoop-datum]]=\"\",\"\",(lammering[[#This Row],[Verkoop-gewicht]]-lammering[[#This Row],[Speen-gewicht]])/(lammering[[#This Row],[Verkoop-datum]]-lammering[[#This Row],[Speen-datum]]))","v":""},{"$f":"IF(lammering[[#This Row],[Verkoop-datum]]=\"\",\"\",(lammering[[#This Row],[Verkoop-gewicht]]-lammering[[#This Row],[geboorte-gewicht]])/(lammering[[#This Row],[Verkoop-datum]]-lammering[[#This Row],[Werp-datum]]))","v":""},"","","","","","",{"$f":"IF(lammering[[#This Row],[Verkoop-gewicht]]=\"\",\"\",lammering[[#This Row],[Verkoop-gewicht]]-lammering[[#This Row],[geboorte-gewicht]])","v":""},"","",{"$f":"Opzoek_ooi[[#This Row],[Ooinummer]]","v":0},"",""]
[{"$f":"lammering[[#This Row],[Ooi]]","v":0},0,0,{"$f":"IF(lammering[[#This Row],[Lam-nummer]]=\"\",0,1)","v":0},{"$f":"IF(lammering[[#This Row],[Dood in geboorte]]=\"ja\",1,0)","v":0},{"$f":"IF(lammering[[#This Row],[Ooi]]=\"\",0,IF(Berekeningen!E136=0,1,0))","v":0},{"$f":"IF(D136=0,0,IF(lammering[[#This Row],[Dood in geboorte]]=\"Ja\",0,IF(lammering[[#This Row],[Dood na geboorte]]=\"ja\",0,1)))","v":0},{"$f":"IF(lammering[[#This Row],[Opfok met kunstmelk]]=\"Ja\",1,0)","v":0},{"$f":"IF(lammering[[#This Row],[geslacht]]=\"O\",1,0)","v":0},{"$f":"IF(lammering[[#This Row],[Speen-datum]]=\"\",\"\",(lammering[[#This Row],[Speen-gewicht]]-lammering[[#This Row],[geboorte-gewicht]])/(lammering[[#This Row],[Speen-datum]]-lammering[[#This Row],[Werp-datum]]))","v":""},{"$f":"IF(lammering[[#This Row],[Verkoop-datum]]=\"\",\"\",(lammering[[#This Row],[Verkoop-gewicht]]-lammering[[#This Row],[Speen-gewicht]])/(lammering[[#This Row],[Verkoop-datum]]-lammering[[#This Row],[Speen-datum]]))","v":""},{"$f":"IF(lammering[[#This Row],[Verkoop-datum]]=\"\",\"\",(lammering[[#This Row],[Verkoop-gewicht]]-lammering[[#This Row],[geboorte-gewicht]])/(lammering[[#This Row],[Verkoop-datum]]-lammering[[#This Row],[Werp-datum]]))","v":""},"","","","","","",{"$f":"IF(lammering[[#This Row],[Verkoop-gewicht]]=\"\",\"\",lammering[[#This Row],[Verkoop-gewicht]]-lammering[[#This Row],[geboorte-gewicht]])","v":""},"","",{"$f":"Opzoek_ooi[[#This Row],[Ooinummer]]","v":0},"",""]
[{"$f":"lammering[[#This Row],[Ooi]]","v":0},0,0,{"$f":"IF(lammering[[#This Row],[Lam-nummer]]=\"\",0,1)","v":0},{"$f":"IF(lammering[[#This Row],[Dood in geboorte]]=\"ja\",1,0)","v":0},{"$f":"IF(lammering[[#This Row],[Ooi]]=\"\",0,IF(Berekeningen!E137=0,1,0))","v":0},{"$f":"IF(D137=0,0,IF(lammering[[#This Row],[Dood in geboorte]]=\"Ja\",0,IF(lammering[[#This Row],[Dood na geboorte]]=\"ja\",0,1)))","v":0},{"$f":"IF(lammering[[#This Row],[Opfok met kunstmelk]]=\"Ja\",1,0)","v":0},{"$f":"IF(lammering[[#This Row],[geslacht]]=\"O\",1,0)","v":0},{"$f":"IF(lammering[[#This Row],[Speen-datum]]=\"\",\"\",(lammering[[#This Row],[Speen-gewicht]]-lammering[[#This Row],[geboorte-gewicht]])/(lammering[[#This Row],[Speen-datum]]-lammering[[#This Row],[Werp-datum]]))","v":""},{"$f":"IF(lammering[[#This Row],[Verkoop-datum]]=\"\",\"\",(lammering[[#This Row],[Verkoop-gewicht]]-lammering[[#This Row],[Speen-gewicht]])/(lammering[[#This Row],[Verkoop-datum]]-lammering[[#This Row],[Speen-datum]]))","v":""},{"$f":"IF(lammering[[#This Row],[Verkoop-datum]]=\"\",\"\",(lammering[[#This Row],[Verkoop-gewicht]]-lammering[[#This Row],[geboorte-gewicht]])/(lammering[[#This Row],[Verkoop-datum]]-lammering[[#This Row],[Werp-datum]]))","v":""},"","","","","","",{"$f":"IF(lammering[[#This Row],[Verkoop-gewicht]]=\"\",\"\",lammering[[#This Row],[Verkoop-gewicht]]-lammering[[#This Row],[geboorte-gewicht]])","v":""},"","",{"$f":"Opzoek_ooi[[#This Row],[Ooinummer]]","v":0},"",""]
[{"$f":"lammering[[#This Row],[Ooi]]","v":0},0,0,{"$f":"IF(lammering[[#This Row],[Lam-nummer]]=\"\",0,1)","v":0},{"$f":"IF(lammering[[#This Row],[Dood in geboorte]]=\"ja\",1,0)","v":0},{"$f":"IF(lammering[[#This Row],[Ooi]]=\"\",0,IF(Berekeningen!E138=0,1,0))","v":0},{"$f":"IF(D138=0,0,IF(lammering[[#This Row],[Dood in geboorte]]=\"Ja\",0,IF(lammering[[#This Row],[Dood na geboorte]]=\"ja\",0,1)))","v":0},{"$f":"IF(lammering[[#This Row],[Opfok met kunstmelk]]=\"Ja\",1,0)","v":0},{"$f":"IF(lammering[[#This Row],[geslacht]]=\"O\",1,0)","v":0},{"$f":"IF(lammering[[#This Row],[Speen-datum]]=\"\",\"\",(lammering[[#This Row],[Speen-gewicht]]-lammering[[#This Row],[geboorte-gewicht]])/(lammering[[#This Row],[Speen-datum]]-lammering[[#This Row],[Werp-datum]]))","v":""},{"$f":"IF(lammering[[#This Row],[Verkoop-datum]]=\"\",\"\",(lammering[[#This Row],[Verkoop-gewicht]]-lammering[[#This Row],[Speen-gewicht]])/(lammering[[#This Row],[Verkoop-datum]]-lammering[[#This Row],[Speen-datum]]))","v":""},{"$f":"IF(lammering[[#This Row],[Verkoop-datum]]=\"\",\"\",(lammering[[#This Row],[Verkoop-gewicht]]-lammering[[#This Row],[geboorte-gewicht]])/(lammering[[#This Row],[Verkoop-datum]]-lammering[[#This Row],[Werp-datum]]))","v":""},"","","","","","",{"$f":"IF(lammering[[#This Row],[Verkoop-gewicht]]=\"\",\"\",lammering[[#This Row],[Verkoop-gewicht]]-lammering[[#This Row],[geboorte-gewicht]])","v":""},"","",{"$f":"Opzoek_ooi[[#This Row],[Ooinummer]]","v":0},"",""]
[{"$f":"lammering[[#This Row],[Ooi]]","v":0},0,0,{"$f":"IF(lammering[[#This Row],[Lam-nummer]]=\"\",0,1)","v":0},{"$f":"IF(lammering[[#This Row],[Dood in geboorte]]=\"ja\",1,0)","v":0},{"$f":"IF(lammering[[#This Row],[Ooi]]=\"\",0,IF(Berekeningen!E139=0,1,0))","v":0},{"$f":"IF(D139=0,0,IF(lammering[[#This Row],[Dood in geboorte]]=\"Ja\",0,IF(lammering[[#This Row],[Dood na geboorte]]=\"ja\",0,1)))","v":0},{"$f":"IF(lammering[[#This Row],[Opfok met kunstmelk]]=\"Ja\",1,0)","v":0},{"$f":"IF(lammering[[#This Row],[geslacht]]=\"O\",1,0)","v":0},{"$f":"IF(lammering[[#This Row],[Speen-datum]]=\"\",\"\",(lammering[[#This Row],[Speen-gewicht]]-lammering[[#This Row],[geboorte-gewicht]])/(lammering[[#This Row],[Speen-datum]]-lammering[[#This Row],[Werp-datum]]))","v":""},{"$f":"IF(lammering[[#This Row],[Verkoop-datum]]=\"\",\"\",(lammering[[#This Row],[Verkoop-gewicht]]-lammering[[#This Row],[Speen-gewicht]])/(lammering[[#This Row],[Verkoop-datum]]-lammering[[#This Row],[Speen-datum]]))","v":""},{"$f":"IF(lammering[[#This Row],[Verkoop-datum]]=\"\",\"\",(lammering[[#This Row],[Verkoop-gewicht]]-lammering[[#This Row],[geboorte-gewicht]])/(lammering[[#This Row],[Verkoop-datum]]-lammering[[#This Row],[Werp-datum]]))","v":""},"","","","","","",{"$f":"IF(lammering[[#This Row],[Verkoop-gewicht]]=\"\",\"\",lammering[[#This Row],[Verkoop-gewicht]]-lammering[[#This Row],[geboorte-gewicht]])","v":""},"","",{"$f":"Opzoek_ooi[[#This Row],[Ooinummer]]","v":0},"",""]
[{"$f":"lammering[[#This Row],[Ooi]]","v":0},0,0,{"$f":"IF(lammering[[#This Row],[Lam-nummer]]=\"\",0,1)","v":0},{"$f":"IF(lammering[[#This Row],[Dood in geboorte]]=\"ja\",1,0)","v":0},{"$f":"IF(lammering[[#This Row],[Ooi]]=\"\",0,IF(Berekeningen!E140=0,1,0))","v":0},{"$f":"IF(D140=0,0,IF(lammering[[#This Row],[Dood in geboorte]]=\"Ja\",0,IF(lammering[[#This Row],[Dood na geboorte]]=\"ja\",0,1)))","v":0},{"$f":"IF(lammering[[#This Row],[Opfok met kunstmelk]]=\"Ja\",1,0)","v":0},{"$f":"IF(lammering[[#This Row],[geslacht]]=\"O\",1,0)","v":0},{"$f":"IF(lammering[[#This Row],[Speen-datum]]=\"\",\"\",(lammering[[#This Row],[Speen-gewicht]]-lammering[[#This Row],[geboorte-gewicht]])/(lammering[[#This Row],[Speen-datum]]-lammering[[#This Row],[Werp-datum]]))","v":""},{"$f":"IF(lammering[[#This Row],[Verkoop-datum]]=\"\",\"\",(lammering[[#This Row],[Verkoop-gewicht]]-lammering[[#This Row],[Speen-gewicht]])/(lammering[[#This Row],[Verkoop-datum]]-lammering[[#This Row],[Speen-datum]]))","v":""},{"$f":"IF(lammering[[#This Row],[Verkoop-datum]]=\"\",\"\",(lammering[[#This Row],[Verkoop-gewicht]]-lammering[[#This Row],[geboorte-gewicht]])/(lammering[[#This Row],[Verkoop-datum]]-lammering[[#This Row],[Werp-datum]]))","v":""},"","","","","","",{"$f":"IF(lammering[[#This Row],[Verkoop-gewicht]]=\"\",\"\",lammering[[#This Row],[Verkoop-gewicht]]-lammering[[#This Row],[geboorte-gewicht]])","v":""},"","",{"$f":"Opzoek_ooi[[#This Row],[Ooinummer]]","v":0},"",""]
[{"$f":"lammering[[#This Row],[Ooi]]","v":0},0,0,{"$f":"IF(lammering[[#This Row],[Lam-nummer]]=\"\",0,1)","v":0},{"$f":"IF(lammering[[#This Row],[Dood in geboorte]]=\"ja\",1,0)","v":0},{"$f":"IF(lammering[[#This Row],[Ooi]]=\"\",0,IF(Berekeningen!E141=0,1,0))","v":0},{"$f":"IF(D141=0,0,IF(lammering[[#This Row],[Dood in geboorte]]=\"Ja\",0,IF(lammering[[#This Row],[Dood na geboorte]]=\"ja\",0,1)))","v":0},{"$f":"IF(lammering[[#This Row],[Opfok met kunstmelk]]=\"Ja\",1,0)","v":0},{"$f":"IF(lammering[[#This Row],[geslacht]]=\"O\",1,0)","v":0},{"$f":"IF(lammering[[#This Row],[Speen-datum]]=\"\",\"\",(lammering[[#This Row],[Speen-gewicht]]-lammering[[#This Row],[geboorte-gewicht]])/(lammering[[#This Row],[Speen-datum]]-lammering[[#This Row],[Werp-datum]]))","v":""},{"$f":"IF(lammering[[#This Row],[Verkoop-datum]]=\"\",\"\",(lammering[[#This Row],[Verkoop-gewicht]]-lammering[[#This Row],[Speen-gewicht]])/(lammering[[#This Row],[Verkoop-datum]]-lammering[[#This Row],[Speen-datum]]))","v":""},{"$f":"IF(lammering[[#This Row],[Verkoop-datum]]=\"\",\"\",(lammering[[#This Row],[Verkoop-gewicht]]-lammering[[#This Row],[geboorte-gewicht]])/(lammering[[#This Row],[Verkoop-datum]]-lammering[[#This Row],[Werp-datum]]))","v":""},"","","","","","",{"$f":"IF(lammering[[#This Row],[Verkoop-gewicht]]=\"\",\"\",lammering[[#This Row],[Verkoop-gewicht]]-lammering[[#This Row],[geboorte-gewicht]])","v":""},"","",{"$f":"Opzoek_ooi[[#This Row],[Ooinummer]]","v":0},"",""]
[{"$f":"lammering[[#This Row],[Ooi]]","v":0},0,0,{"$f":"IF(lammering[[#This Row],[Lam-nummer]]=\"\",0,1)","v":0},{"$f":"IF(lammering[[#This Row],[Dood in geboorte]]=\"ja\",1,0)","v":0},{"$f":"IF(lammering[[#This Row],[Ooi]]=\"\",0,IF(Berekeningen!E142=0,1,0))","v":0},{"$f":"IF(D142=0,0,IF(lammering[[#This Row],[Dood in geboorte]]=\"Ja\",0,IF(lammering[[#This Row],[Dood na geboorte]]=\"ja\",0,1)))","v":0},{"$f":"IF(lammering[[#This Row],[Opfok met kunstmelk]]=\"Ja\",1,0)","v":0},{"$f":"IF(lammering[[#This Row],[geslacht]]=\"O\",1,0)","v":0},{"$f":"IF(lammering[[#This Row],[Speen-datum]]=\"\",\"\",(lammering[[#This Row],[Speen-gewicht]]-lammering[[#This Row],[geboorte-gewicht]])/(lammering[[#This Row],[Speen-datum]]-lammering[[#This Row],[Werp-datum]]))","v":""},{"$f":"IF(lammering[[#This Row],[Verkoop-datum]]=\"\",\"\",(lammering[[#This Row],[Verkoop-gewicht]]-lammering[[#This Row],[Speen-gewicht]])/(lammering[[#This Row],[Verkoop-datum]]-lammering[[#This Row],[Speen-datum]]))","v":""},{"$f":"IF(lammering[[#This Row],[Verkoop-datum]]=\"\",\"\",(lammering[[#This Row],[Verkoop-gewicht]]-lammering[[#This Row],[geboorte-gewicht]])/(lammering[[#This Row],[Verkoop-datum]]-lammering[[#This Row],[Werp-datum]]))","v":""},"","","","","","",{"$f":"IF(lammering[[#This Row],[Verkoop-gewicht]]=\"\",\"\",lammering[[#This Row],[Verkoop-gewicht]]-lammering[[#This Row],[geboorte-gewicht]])","v":""},"","",{"$f":"Opzoek_ooi[[#This Row],[Ooinummer]]","v":0},"",""]
[{"$f":"lammering[[#This Row],[Ooi]]","v":0},0,0,{"$f":"IF(lammering[[#This Row],[Lam-nummer]]=\"\",0,1)","v":0},{"$f":"IF(lammering[[#This Row],[Dood in geboorte]]=\"ja\",1,0)","v":0},{"$f":"IF(lammering[[#This Row],[Ooi]]=\"\",0,IF(Berekeningen!E143=0,1,0))","v":0},{"$f":"IF(D143=0,0,IF(lammering[[#This Row],[Dood in geboorte]]=\"Ja\",0,IF(lammering[[#This Row],[Dood na geboorte]]=\"ja\",0,1)))","v":0},{"$f":"IF(lammering[[#This Row],[Opfok met kunstmelk]]=\"Ja\",1,0)","v":0},{"$f":"IF(lammering[[#This Row],[geslacht]]=\"O\",1,0)","v":0},{"$f":"IF(lammering[[#This Row],[Speen-datum]]=\"\",\"\",(lammering[[#This Row],[Speen-gewicht]]-lammering[[#This Row],[geboorte-gewicht]])/(lammering[[#This Row],[Speen-datum]]-lammering[[#This Row],[Werp-datum]]))","v":""},{"$f":"IF(lammering[[#This Row],[Verkoop-datum]]=\"\",\"\",(lammering[[#This Row],[Verkoop-gewicht]]-lammering[[#This Row],[Speen-gewicht]])/(lammering[[#This Row],[Verkoop-datum]]-lammering[[#This Row],[Speen-datum]]))","v":""},{"$f":"IF(lammering[[#This Row],[Verkoop-datum]]=\"\",\"\",(lammering[[#This Row],[Verkoop-gewicht]]-lammering[[#This Row],[geboorte-gewicht]])/(lammering[[#This Row],[Verkoop-datum]]-lammering[[#This Row],[Werp-datum]]))","v":""},{"$f":"IF($I143=1,J143,\"\")","v":""},{"$f":"IF($I143=1,K143,\"\")","v":""},{"$f":"IF($I143=1,L143,\"\")","v":""},{"$f":"IF($I143=0,J143,\"\")","v":""},{"$f":"IF($I143=0,K143,\"\")","v":""},{"$f":"IF($I143=0,L143,\"\")","v":""},{"$f":"IF(lammering[[#This Row],[Verkoop-gewicht]]=\"\",\"\",lammering[[#This Row],[Verkoop-gewicht]]-lammering[[#This Row],[geboorte-gewicht]])","v":""},{"$f":"IF(I143=1,S143,\"\")","v":""},{"$f":"IF(I143=0,S143,\"\")","v":""},{"$f":"Opzoek_ooi[[#This Row],[Ooinummer]]","v":0},"",""]
[{"$f":"lammering[[#This Row],[Ooi]]","v":0},0,0,{"$f":"IF(lammering[[#This Row],[Lam-nummer]]=\"\",0,1)","v":0},{"$f":"IF(lammering[[#This Row],[Dood in geboorte]]=\"ja\",1,0)","v":0},{"$f":"IF(lammering[[#This Row],[Ooi]]=\"\",0,IF(Berekeningen!E144=0,1,0))","v":0},{"$f":"IF(D144=0,0,IF(lammering[[#This Row],[Dood in geboorte]]=\"Ja\",0,IF(lammering[[#This Row],[Dood na geboorte]]=\"ja\",0,1)))","v":0},{"$f":"IF(lammering[[#This Row],[Opfok met kunstmelk]]=\"Ja\",1,0)","v":0},{"$f":"IF(lammering[[#This Row],[geslacht]]=\"O\",1,0)","v":0},{"$f":"IF(lammering[[#This Row],[Speen-datum]]=\"\",\"\",(lammering[[#This Row],[Speen-gewicht]]-lammering[[#This Row],[geboorte-gewicht]])/(lammering[[#This Row],[Speen-datum]]-lammering[[#This Row],[Werp-datum]]))","v":""},{"$f":"IF(lammering[[#This Row],[Verkoop-datum]]=\"\",\"\",(lammering[[#This Row],[Verkoop-gewicht]]-lammering[[#This Row],[Speen-gewicht]])/(lammering[[#This Row],[Verkoop-datum]]-lammering[[#This Row],[Speen-datum]]))","v":""},{"$f":"IF(lammering[[#This Row],[Verkoop-datum]]=\"\",\"\",(lammering[[#This Row],[Verkoop-gewicht]]-lammering[[#This Row],[geboorte-gewicht]])/(lammering[[#This Row],[Verkoop-datum]]-lammering[[#This Row],[Werp-datum]]))","v":""},"","","","","","",{"$f":"IF(lammering[[#This Row],[Verkoop-gewicht]]=\"\",\"\",lammering[[#This Row],[Verkoop-gewicht]]-lammering[[#This Row],[geboorte-gewicht]])","v":""},"","",{"$f":"Opzoek_ooi[[#This Row],[Ooinummer]]","v":0},{"$f":"IF(V144=0,\"\",COUNTIF(C$2:C$500,V144))","v":""},""]
[{"$f":"lammering[[#This Row],[Ooi]]","v":0},0,0,{"$f":"IF(lammering[[#This Row],[Lam-nummer]]=\"\",0,1)","v":0},{"$f":"IF(lammering[[#This Row],[Dood in geboorte]]=\"ja\",1,0)","v":0},{"$f":"IF(lammering[[#This Row],[Ooi]]=\"\",0,IF(Berekeningen!E145=0,1,0))","v":0},{"$f":"IF(D145=0,0,IF(lammering[[#This Row],[Dood in geboorte]]=\"Ja\",0,IF(lammering[[#This Row],[Dood na geboorte]]=\"ja\",0,1)))","v":0},{"$f":"IF(lammering[[#This Row],[Opfok met kunstmelk]]=\"Ja\",1,0)","v":0},{"$f":"IF(lammering[[#This Row],[geslacht]]=\"O\",1,0)","v":0},{"$f":"IF(lammering[[#This Row],[Speen-datum]]=\"\",\"\",(lammering[[#This Row],[Speen-gewicht]]-lammering[[#This Row],[geboorte-gewicht]])/(lammering[[#This Row],[Speen-datum]]-lammering[[#This Row],[Werp-datum]]))","v":""},{"$f":"IF(lammering[[#This Row],[Verkoop-datum]]=\"\",\"\",(lammering[[#This Row],[Verkoop-gewicht]]-lammering[[#This Row],[Speen-gewicht]])/(lammering[[#This Row],[Verkoop-datum]]-lammering[[#This Row],[Speen-datum]]))","v":""},{"$f":"IF(lammering[[#This Row],[Verkoop-datum]]=\"\",\"\",(lammering[[#This Row],[Verkoop-gewicht]]-lammering[[#This Row],[geboorte-gewicht]])/(lammering[[#This Row],[Verkoop-datum]]-lammering[[#This Row],[Werp-datum]]))","v":""},"","","","","","",{"$f":"IF(lammering[[#This Row],[Verkoop-gewicht]]=\"\",\"\",lammering[[#This Row],[Verkoop-gewicht]]-lammering[[#This Row],[geboorte-gewicht]])","v":""},"","",{"$f":"Opzoek_ooi[[#This Row],[Ooinummer]]","v":0},"",""]
[{"$f":"lammering[[#This Row],[Ooi]]","v":0},0,0,{"$f":"IF(lammering[[#This Row],[Lam-nummer]]=\"\",0,1)","v":0},{"$f":"IF(lammering[[#This Row],[Dood in geboorte]]=\"ja\",1,0)","v":0},{"$f":"IF(lammering[[#This Row],[Ooi]]=\"\",0,IF(Berekeningen!E146=0,1,0))","v":0},{"$f":"IF(D146=0,0,IF(lammering[[#This Row],[Dood in geboorte]]=\"Ja\",0,IF(lammering[[#This Row],[Dood na geboorte]]=\"ja\",0,1)))","v":0},{"$f":"IF(lammering[[#This Row],[Opfok met kunstmelk]]=\"Ja\",1,0)","v":0},{"$f":"IF(lammering[[#This Row],[geslacht]]=\"O\",1,0)","v":0},{"$f":"IF(lammering[[#This Row],[Speen-datum]]=\"\",\"\",(lammering[[#This Row],[Speen-gewicht]]-lammering[[#This Row],[geboorte-gewicht]])/(lammering[[#This Row],[Speen-datum]]-lammering[[#This Row],[Werp-datum]]))","v":""},{"$f":"IF(lammering[[#This Row],[Verkoop-datum]]=\"\",\"\",(lammering[[#This Row],[Verkoop-gewicht]]-lammering[[#This Row],[Speen-gewicht]])/(lammering[[#This Row],[Verkoop-datum]]-lammering[[#This Row],[Speen-datum]]))","v":""},{"$f":"IF(lammering[[#This Row],[Verkoop-datum]]=\"\",\"\",(lammering[[#This Row],[Verkoop-gewicht]]-lammering[[#This Row],[geboorte-gewicht]])/(lammering[[#This Row],[Verkoop-datum]]-lammering[[#This Row],[Werp-datum]]))","v":""},"","","","","","",{"$f":"IF(lammering[[#This Row],[Verkoop-gewicht]]=\"\",\"\",lammering[[#This Row],[Verkoop-gewicht]]-lammering[[#This Row],[geboorte-gewicht]])","v":""},"","",{"$f":"Opzoek_ooi[[#This Row],[Ooinummer]]","v":0},"",""]
[{"$f":"lammering[[#This Row],[Ooi]]","v":0},0,0,{"$f":"IF(lammering[[#This Row],[Lam-nummer]]=\"\",0,1)","v":0},{"$f":"IF(lammering[[#This Row],[Dood in geboorte]]=\"ja\",1,0)","v":0},{"$f":"IF(lammering[[#This Row],[Ooi]]=\"\",0,IF(Berekeningen!E147=0,1,0))","v":0},{"$f":"IF(D147=0,0,IF(lammering[[#This Row],[Dood in geboorte]]=\"Ja\",0,IF(lammering[[#This Row],[Dood na geboorte]]=\"ja\",0,1)))","v":0},{"$f":"IF(lammering[[#This Row],[Opfok met kunstmelk]]=\"Ja\",1,0)","v":0},{"$f":"IF(lammering[[#This Row],[geslacht]]=\"O\",1,0)","v":0},{"$f":"IF(lammering[[#This Row],[Speen-datum]]=\"\",\"\",(lammering[[#This Row],[Speen-gewicht]]-lammering[[#This Row],[geboorte-gewicht]])/(lammering[[#This Row],[Speen-datum]]-lammering[[#This Row],[Werp-datum]]))","v":""},{"$f":"IF(lammering[[#This Row],[Verkoop-datum]]=\"\",\"\",(lammering[[#This Row],[Verkoop-gewicht]]-lammering[[#This Row],[Speen-gewicht]])/(lammering[[#This Row],[Verkoop-datum]]-lammering[[#This Row],[Speen-datum]]))","v":""},{"$f":"IF(lammering[[#This Row],[Verkoop-datum]]=\"\",\"\",(lammering[[#This Row],[Verkoop-gewicht]]-lammering[[#This Row],[geboorte-gewicht]])/(lammering[[#This Row],[Verkoop-datum]]-lammering[[#This Row],[Werp-datum]]))","v":""},"","","","","","",{"$f":"IF(lammering[[#This Row],[Verkoop-gewicht]]=\"\",\"\",lammering[[#This Row],[Verkoop-gewicht]]-lammering[[#This Row],[geboorte-gewicht]])","v":""},"","",{"$f":"Opzoek_ooi[[#This Row],[Ooinummer]]","v":0},"",""]
[{"$f":"lammering[[#This Row],[Ooi]]","v":0},0,0,{"$f":"IF(lammering[[#This Row],[Lam-nummer]]=\"\",0,1)","v":0},{"$f":"IF(lammering[[#This Row],[Dood in geboorte]]=\"ja\",1,0)","v":0},{"$f":"IF(lammering[[#This Row],[Ooi]]=\"\",0,IF(Berekeningen!E148=0,1,0))","v":0},{"$f":"IF(D148=0,0,IF(lammering[[#This Row],[Dood in geboorte]]=\"Ja\",0,IF(lammering[[#This Row],[Dood na geboorte]]=\"ja\",0,1)))","v":0},{"$f":"IF(lammering[[#This Row],[Opfok met kunstmelk]]=\"Ja\",1,0)","v":0},{"$f":"IF(lammering[[#This Row],[geslacht]]=\"O\",1,0)","v":0},{"$f":"IF(lammering[[#This Row],[Speen-datum]]=\"\",\"\",(lammering[[#This Row],[Speen-gewicht]]-lammering[[#This Row],[geboorte-gewicht]])/(lammering[[#This Row],[Speen-datum]]-lammering[[#This Row],[Werp-datum]]))","v":""},{"$f":"IF(lammering[[#This Row],[Verkoop-datum]]=\"\",\"\",(lammering[[#This Row],[Verkoop-gewicht]]-lammering[[#This Row],[Speen-gewicht]])/(lammering[[#This Row],[Verkoop-datum]]-lammering[[#This Row],[Speen-datum]]))","v":""},{"$f":"IF(lammering[[#This Row],[Verkoop-datum]]=\"\",\"\",(lammering[[#This Row],[Verkoop-gewicht]]-lammering[[#This Row],[geboorte-gewicht]])/(lammering[[#This Row],[Verkoop-datum]]-lammering[[#This Row],[Werp-datum]]))","v":""},"","","","","","",{"$f":"IF(lammering[[#This Row],[Verkoop-gewicht]]=\"\",\"\",lammering[[#This Row],[Verkoop-gewicht]]-lammering[[#This Row],[geboorte-gewicht]])","v":""},"","",{"$f":"Opzoek_ooi[[#This Row],[Ooinummer]]","v":0},"",""]
[{"$f":"lammering[[#This Row],[Ooi]]","v":0},0,0,{"$f":"IF(lammering[[#This Row],[Lam-nummer]]=\"\",0,1)","v":0},{"$f":"IF(lammering[[#This Row],[Dood in geboorte]]=\"ja\",1,0)","v":0},{"$f":"IF(lammering[[#This Row],[Ooi]]=\"\",0,IF(Berekeningen!E149=0,1,0))","v":0},{"$f":"IF(D149=0,0,IF(lammering[[#This Row],[Dood in geboorte]]=\"Ja\",0,IF(lammering[[#This Row],[Dood na geboorte]]=\"ja\",0,1)))","v":0},{"$f":"IF(lammering[[#This Row],[Opfok met kunstmelk]]=\"Ja\",1,0)","v":0},{"$f":"IF(lammering[[#This Row],[geslacht]]=\"O\",1,0)","v":0},{"$f":"IF(lammering[[#This Row],[Speen-datum]]=\"\",\"\",(lammering[[#This Row],[Speen-gewicht]]-lammering[[#This Row],[geboorte-gewicht]])/(lammering[[#This Row],[Speen-datum]]-lammering[[#This Row],[Werp-datum]]))","v":""},{"$f":"IF(lammering[[#This Row],[Verkoop-datum]]=\"\",\"\",(lammering[[#This Row],[Verkoop-gewicht]]-lammering[[#This Row],[Speen-gewicht]])/(lammering[[#This Row],[Verkoop-datum]]-lammering[[#This Row],[Speen-datum]]))","v":""},{"$f":"IF(lammering[[#This Row],[Verkoop-datum]]=\"\",\"\",(lammering[[#This Row],[Verkoop-gewicht]]-lammering[[#This Row],[geboorte-gewicht]])/(lammering[[#This Row],[Verkoop-datum]]-lammering[[#This Row],[Werp-datum]]))","v":""},"","","","","","",{"$f":"IF(lammering[[#This Row],[Verkoop-gewicht]]=\"\",\"\",lammering[[#This Row],[Verkoop-gewicht]]-lammering[[#This Row],[geboorte-gewicht]])","v":""},"","",{"$f":"Opzoek_ooi[[#This Row],[Ooinummer]]","v":0},"",""]
[{"$f":"lammering[[#This Row],[Ooi]]","v":0},0,0,{"$f":"IF(lammering[[#This Row],[Lam-nummer]]=\"\",0,1)","v":0},{"$f":"IF(lammering[[#This Row],[Dood in geboorte]]=\"ja\",1,0)","v":0},{"$f":"IF(lammering[[#This Row],[Ooi]]=\"\",0,IF(Berekeningen!E150=0,1,0))","v":0},{"$f":"IF(D150=0,0,IF(lammering[[#This Row],[Dood in geboorte]]=\"Ja\",0,IF(lammering[[#This Row],[Dood na geboorte]]=\"ja\",0,1)))","v":0},{"$f":"IF(lammering[[#This Row],[Opfok met kunstmelk]]=\"Ja\",1,0)","v":0},{"$f":"IF(lammering[[#This Row],[geslacht]]=\"O\",1,0)","v":0},{"$f":"IF(lammering[[#This Row],[Speen-datum]]=\"\",\"\",(lammering[[#This Row],[Speen-gewicht]]-lammering[[#This Row],[geboorte-gewicht]])/(lammering[[#This Row],[Speen-datum]]-lammering[[#This Row],[Werp-datum]]))","v":""},{"$f":"IF(lammering[[#This Row],[Verkoop-datum]]=\"\",\"\",(lammering[[#This Row],[Verkoop-gewicht]]-lammering[[#This Row],[Speen-gewicht]])/(lammering[[#This Row],[Verkoop-datum]]-lammering[[#This Row],[Speen-datum]]))","v":""},{"$f":"IF(lammering[[#This Row],[Verkoop-datum]]=\"\",\"\",(lammering[[#This Row],[Verkoop-gewicht]]-lammering[[#This Row],[geboorte-gewicht]])/(lammering[[#This Row],[Verkoop-datum]]-lammering[[#This Row],[Werp-datum]]))","v":""},"","","","","","",{"$f":"IF(lammering[[#This Row],[Verkoop-gewicht]]=\"\",\"\",lammering[[#This Row],[Verkoop-gewicht]]-lammering[[#This Row],[geboorte-gewicht]])","v":""},"","",{"$f":"Opzoek_ooi[[#This Row],[Ooinummer]]","v":0},"",""]
[{"$f":"lammering[[#This Row],[Ooi]]","v":0},0,0,{"$f":"IF(lammering[[#This Row],[Lam-nummer]]=\"\",0,1)","v":0},{"$f":"IF(lammering[[#This Row],[Dood in geboorte]]=\"ja\",1,0)","v":0},{"$f":"IF(lammering[[#This Row],[Ooi]]=\"\",0,IF(Berekeningen!E151=0,1,0))","v":0},{"$f":"IF(D151=0,0,IF(lammering[[#This Row],[Dood in geboorte]]=\"Ja\",0,IF(lammering[[#This Row],[Dood na geboorte]]=\"ja\",0,1)))","v":0},{"$f":"IF(lammering[[#This Row],[Opfok met kunstmelk]]=\"Ja\",1,0)","v":0},{"$f":"IF(lammering[[#This Row],[geslacht]]=\"O\",1,0)","v":0},{"$f":"IF(lammering[[#This Row],[Speen-datum]]=\"\",\"\",(lammering[[#This Row],[Speen-gewicht]]-lammering[[#This Row],[geboorte-gewicht]])/(lammering[[#This Row],[Speen-datum]]-lammering[[#This Row],[Werp-datum]]))","v":""},{"$f":"IF(lammering[[#This Row],[Verkoop-datum]]=\"\",\"\",(lammering[[#This Row],[Verkoop-gewicht]]-lammering[[#This Row],[Speen-gewicht]])/(lammering[[#This Row],[Verkoop-datum]]-lammering[[#This Row],[Speen-datum]]))","v":""},{"$f":"IF(lammering[[#This Row],[Verkoop-datum]]=\"\",\"\",(lammering[[#This Row],[Verkoop-gewicht]]-lammering[[#This Row],[geboorte-gewicht]])/(lammering[[#This Row],[Verkoop-datum]]-lammering[[#This Row],[Werp-datum]]))","v":""},"","","","","","",{"$f":"IF(lammering[[#This Row],[Verkoop-gewicht]]=\"\",\"\",lammering[[#This Row],[Verkoop-gewicht]]-lammering[[#This Row],[geboorte-gewicht]])","v":""},"","",{"$f":"Opzoek_ooi[[#This Row],[Ooinummer]]","v":0},"",""]
[{"$f":"lammering[[#This Row],[Ooi]]","v":0},0,0,{"$f":"IF(lammering[[#This Row],[Lam-nummer]]=\"\",0,1)","v":0},{"$f":"IF(lammering[[#This Row],[Dood in geboorte]]=\"ja\",1,0)","v":0},{"$f":"IF(lammering[[#This Row],[Ooi]]=\"\",0,IF(Berekeningen!E152=0,1,0))","v":0},{"$f":"IF(D152=0,0,IF(lammering[[#This Row],[Dood in geboorte]]=\"Ja\",0,IF(lammering[[#This Row],[Dood na geboorte]]=\"ja\",0,1)))","v":0},{"$f":"IF(lammering[[#This Row],[Opfok met kunstmelk]]=\"Ja\",1,0)","v":0},{"$f":"IF(lammering[[#This Row],[geslacht]]=\"O\",1,0)","v":0},{"$f":"IF(lammering[[#This Row],[Speen-datum]]=\"\",\"\",(lammering[[#This Row],[Speen-gewicht]]-lammering[[#This Row],[geboorte-gewicht]])/(lammering[[#This Row],[Speen-datum]]-lammering[[#This Row],[Werp-datum]]))","v":""},{"$f":"IF(lammering[[#This Row],[Verkoop-datum]]=\"\",\"\",(lammering[[#This Row],[Verkoop-gewicht]]-lammering[[#This Row],[Speen-gewicht]])/(lammering[[#This Row],[Verkoop-datum]]-lammering[[#This Row],[Speen-datum]]))","v":""},{"$f":"IF(lammering[[#This Row],[Verkoop-datum]]=\"\",\"\",(lammering[[#This Row],[Verkoop-gewicht]]-lammering[[#This Row],[geboorte-gewicht]])/(lammering[[#This Row],[Verkoop-datum]]-lammering[[#This Row],[Werp-datum]]))","v":""},"","","","","","",{"$f":"IF(lammering[[#This Row],[Verkoop-gewicht]]=\"\",\"\",lammering[[#This Row],[Verkoop-gewicht]]-lammering[[#This Row],[geboorte-gewicht]])","v":""},"","",{"$f":"Opzoek_ooi[[#This Row],[Ooinummer]]","v":0},"",""]
[{"$f":"lammering[[#This Row],[Ooi]]","v":0},0,0,{"$f":"IF(lammering[[#This Row],[Lam-nummer]]=\"\",0,1)","v":0},{"$f":"IF(lammering[[#This Row],[Dood in geboorte]]=\"ja\",1,0)","v":0},{"$f":"IF(lammering[[#This Row],[Ooi]]=\"\",0,IF(Berekeningen!E153=0,1,0))","v":0},{"$f":"IF(D153=0,0,IF(lammering[[#This Row],[Dood in geboorte]]=\"Ja\",0,IF(lammering[[#This Row],[Dood na geboorte]]=\"ja\",0,1)))","v":0},{"$f":"IF(lammering[[#This Row],[Opfok met kunstmelk]]=\"Ja\",1,0)","v":0},{"$f":"IF(lammering[[#This Row],[geslacht]]=\"O\",1,0)","v":0},{"$f":"IF(lammering[[#This Row],[Speen-datum]]=\"\",\"\",(lammering[[#This Row],[Speen-gewicht]]-lammering[[#This Row],[geboorte-gewicht]])/(lammering[[#This Row],[Speen-datum]]-lammering[[#This Row],[Werp-datum]]))","v":""},{"$f":"IF(lammering[[#This Row],[Verkoop-datum]]=\"\",\"\",(lammering[[#This Row],[Verkoop-gewicht]]-lammering[[#This Row],[Speen-gewicht]])/(lammering[[#This Row],[Verkoop-datum]]-lammering[[#This Row],[Speen-datum]]))","v":""},{"$f":"IF(lammering[[#This Row],[Verkoop-datum]]=\"\",\"\",(lammering[[#This Row],[Verkoop-gewicht]]-lammering[[#This Row],[geboorte-gewicht]])/(lammering[[#This Row],[Verkoop-datum]]-lammering[[#This Row],[Werp-datum]]))","v":""},"","","","","","",{"$f":"IF(lammering[[#This Row],[Verkoop-gewicht]]=\"\",\"\",lammering[[#This Row],[Verkoop-gewicht]]-lammering[[#This Row],[geboorte-gewicht]])","v":""},"","",{"$f":"Opzoek_ooi[[#This Row],[Ooinummer]]","v":0},"",""]
[{"$f":"lammering[[#This Row],[Ooi]]","v":0},0,0,{"$f":"IF(lammering[[#This Row],[Lam-nummer]]=\"\",0,1)","v":0},{"$f":"IF(lammering[[#This Row],[Dood in geboorte]]=\"ja\",1,0)","v":0},{"$f":"IF(lammering[[#This Row],[Ooi]]=\"\",0,IF(Berekeningen!E154=0,1,0))","v":0},{"$f":"IF(D154=0,0,IF(lammering[[#This Row],[Dood in geboorte]]=\"Ja\",0,IF(lammering[[#This Row],[Dood na geboorte]]=\"ja\",0,1)))","v":0},{"$f":"IF(lammering[[#This Row],[Opfok met kunstmelk]]=\"Ja\",1,0)","v":0},{"$f":"IF(lammering[[#This Row],[geslacht]]=\"O\",1,0)","v":0},{"$f":"IF(lammering[[#This Row],[Speen-datum]]=\"\",\"\",(lammering[[#This Row],[Speen-gewicht]]-lammering[[#This Row],[geboorte-gewicht]])/(lammering[[#This Row],[Speen-datum]]-lammering[[#This Row],[Werp-datum]]))","v":""},{"$f":"IF(lammering[[#This Row],[Verkoop-datum]]=\"\",\"\",(lammering[[#This Row],[Verkoop-gewicht]]-lammering[[#This Row],[Speen-gewicht]])/(lammering[[#This Row],[Verkoop-datum]]-lammering[[#This Row],[Speen-datum]]))","v":""},{"$f":"IF(lammering[[#This Row],[Verkoop-datum]]=\"\",\"\",(lammering[[#This Row],[Verkoop-gewicht]]-lammering[[#This Row],[geboorte-gewicht]])/(lammering[[#This Row],[Verkoop-datum]]-lammering[[#This Row],[Werp-datum]]))","v":""},"","","","","","",{"$f":"IF(lammering[[#This Row],[Verkoop-gewicht]]=\"\",\"\",lammering[[#This Row],[Verkoop-gewicht]]-lammering[[#This Row],[geboorte-gewicht]])","v":""},"","",{"$f":"Opzoek_ooi[[#This Row],[Ooinummer]]","v":0},"",""]
[{"$f":"lammering[[#This Row],[Ooi]]","v":0},0,0,{"$f":"IF(lammering[[#This Row],[Lam-nummer]]=\"\",0,1)","v":0},{"$f":"IF(lammering[[#This Row],[Dood in geboorte]]=\"ja\",1,0)","v":0},{"$f":"IF(lammering[[#This Row],[Ooi]]=\"\",0,IF(Berekeningen!E155=0,1,0))","v":0},{"$f":"IF(D155=0,0,IF(lammering[[#This Row],[Dood in geboorte]]=\"Ja\",0,IF(lammering[[#This Row],[Dood na geboorte]]=\"ja\",0,1)))","v":0},{"$f":"IF(lammering[[#This Row],[Opfok met kunstmelk]]=\"Ja\",1,0)","v":0},{"$f":"IF(lammering[[#This Row],[geslacht]]=\"O\",1,0)","v":0},{"$f":"IF(lammering[[#This Row],[Speen-datum]]=\"\",\"\",(lammering[[#This Row],[Speen-gewicht]]-lammering[[#This Row],[geboorte-gewicht]])/(lammering[[#This Row],[Speen-datum]]-lammering[[#This Row],[Werp-datum]]))","v":""},{"$f":"IF(lammering[[#This Row],[Verkoop-datum]]=\"\",\"\",(lammering[[#This Row],[Verkoop-gewicht]]-lammering[[#This Row],[Speen-gewicht]])/(lammering[[#This Row],[Verkoop-datum]]-lammering[[#This Row],[Speen-datum]]))","v":""},{"$f":"IF(lammering[[#This Row],[Verkoop-datum]]=\"\",\"\",(lammering[[#This Row],[Verkoop-gewicht]]-lammering[[#This Row],[geboorte-gewicht]])/(lammering[[#This Row],[Verkoop-datum]]-lammering[[#This Row],[Werp-datum]]))","v":""},"","","","","","",{"$f":"IF(lammering[[#This Row],[Verkoop-gewicht]]=\"\",\"\",lammering[[#This Row],[Verkoop-gewicht]]-lammering[[#This Row],[geboorte-gewicht]])","v":""},"","",{"$f":"Opzoek_ooi[[#This Row],[Ooinummer]]","v":0},"",""]
[{"$f":"lammering[[#This Row],[Ooi]]","v":0},0,0,{"$f":"IF(lammering[[#This Row],[Lam-nummer]]=\"\",0,1)","v":0},{"$f":"IF(lammering[[#This Row],[Dood in geboorte]]=\"ja\",1,0)","v":0},{"$f":"IF(lammering[[#This Row],[Ooi]]=\"\",0,IF(Berekeningen!E156=0,1,0))","v":0},{"$f":"IF(D156=0,0,IF(lammering[[#This Row],[Dood in geboorte]]=\"Ja\",0,IF(lammering[[#This Row],[Dood na geboorte]]=\"ja\",0,1)))","v":0},{"$f":"IF(lammering[[#This Row],[Opfok met kunstmelk]]=\"Ja\",1,0)","v":0},{"$f":"IF(lammering[[#This Row],[geslacht]]=\"O\",1,0)","v":0},{"$f":"IF(lammering[[#This Row],[Speen-datum]]=\"\",\"\",(lammering[[#This Row],[Speen-gewicht]]-lammering[[#This Row],[geboorte-gewicht]])/(lammering[[#This Row],[Speen-datum]]-lammering[[#This Row],[Werp-datum]]))","v":""},{"$f":"IF(lammering[[#This Row],[Verkoop-datum]]=\"\",\"\",(lammering[[#This Row],[Verkoop-gewicht]]-lammering[[#This Row],[Speen-gewicht]])/(lammering[[#This Row],[Verkoop-datum]]-lammering[[#This Row],[Speen-datum]]))","v":""},{"$f":"IF(lammering[[#This Row],[Verkoop-datum]]=\"\",\"\",(lammering[[#This Row],[Verkoop-gewicht]]-lammering[[#This Row],[geboorte-gewicht]])/(lammering[[#This Row],[Verkoop-datum]]-lammering[[#This Row],[Werp-datum]]))","v":""},"","","","","","",{"$f":"IF(lammering[[#This Row],[Verkoop-gewicht]]=\"\",\"\",lammering[[#This Row],[Verkoop-gewicht]]-lammering[[#This Row],[geboorte-gewicht]])","v":""},"","",{"$f":"Opzoek_ooi[[#This Row],[Ooinummer]]","v":0},"",""]
[{"$f":"lammering[[#This Row],[Ooi]]","v":0},0,0,{"$f":"IF(lammering[[#This Row],[Lam-nummer]]=\"\",0,1)","v":0},{"$f":"IF(lammering[[#This Row],[Dood in geboorte]]=\"ja\",1,0)","v":0},{"$f":"IF(lammering[[#This Row],[Ooi]]=\"\",0,IF(Berekeningen!E157=0,1,0))","v":0},{"$f":"IF(D157=0,0,IF(lammering[[#This Row],[Dood in geboorte]]=\"Ja\",0,IF(lammering[[#This Row],[Dood na geboorte]]=\"ja\",0,1)))","v":0},{"$f":"IF(lammering[[#This Row],[Opfok met kunstmelk]]=\"Ja\",1,0)","v":0},{"$f":"IF(lammering[[#This Row],[geslacht]]=\"O\",1,0)","v":0},{"$f":"IF(lammering[[#This Row],[Speen-datum]]=\"\",\"\",(lammering[[#This Row],[Speen-gewicht]]-lammering[[#This Row],[geboorte-gewicht]])/(lammering[[#This Row],[Speen-datum]]-lammering[[#This Row],[Werp-datum]]))","v":""},{"$f":"IF(lammering[[#This Row],[Verkoop-datum]]=\"\",\"\",(lammering[[#This Row],[Verkoop-gewicht]]-lammering[[#This Row],[Speen-gewicht]])/(lammering[[#This Row],[Verkoop-datum]]-lammering[[#This Row],[Speen-datum]]))","v":""},{"$f":"IF(lammering[[#This Row],[Verkoop-datum]]=\"\",\"\",(lammering[[#This Row],[Verkoop-gewicht]]-lammering[[#This Row],[geboorte-gewicht]])/(lammering[[#This Row],[Verkoop-datum]]-lammering[[#This Row],[Werp-datum]]))","v":""},"","","","","","",{"$f":"IF(lammering[[#This Row],[Verkoop-gewicht]]=\"\",\"\",lammering[[#This Row],[Verkoop-gewicht]]-lammering[[#This Row],[geboorte-gewicht]])","v":""},"","",{"$f":"Opzoek_ooi[[#This Row],[Ooinummer]]","v":0},"",""]
[{"$f":"lammering[[#This Row],[Ooi]]","v":0},0,0,{"$f":"IF(lammering[[#This Row],[Lam-nummer]]=\"\",0,1)","v":0},{"$f":"IF(lammering[[#This Row],[Dood in geboorte]]=\"ja\",1,0)","v":0},{"$f":"IF(lammering[[#This Row],[Ooi]]=\"\",0,IF(Berekeningen!E158=0,1,0))","v":0},{"$f":"IF(D158=0,0,IF(lammering[[#This Row],[Dood in geboorte]]=\"Ja\",0,IF(lammering[[#This Row],[Dood na geboorte]]=\"ja\",0,1)))","v":0},{"$f":"IF(lammering[[#This Row],[Opfok met kunstmelk]]=\"Ja\",1,0)","v":0},{"$f":"IF(lammering[[#This Row],[geslacht]]=\"O\",1,0)","v":0},{"$f":"IF(lammering[[#This Row],[Speen-datum]]=\"\",\"\",(lammering[[#This Row],[Speen-gewicht]]-lammering[[#This Row],[geboorte-gewicht]])/(lammering[[#This Row],[Speen-datum]]-lammering[[#This Row],[Werp-datum]]))","v":""},{"$f":"IF(lammering[[#This Row],[Verkoop-datum]]=\"\",\"\",(lammering[[#This Row],[Verkoop-gewicht]]-lammering[[#This Row],[Speen-gewicht]])/(lammering[[#This Row],[Verkoop-datum]]-lammering[[#This Row],[Speen-datum]]))","v":""},{"$f":"IF(lammering[[#This Row],[Verkoop-datum]]=\"\",\"\",(lammering[[#This Row],[Verkoop-gewicht]]-lammering[[#This Row],[geboorte-gewicht]])/(lammering[[#This Row],[Verkoop-datum]]-lammering[[#This Row],[Werp-datum]]))","v":""},"","","","","","",{"$f":"IF(lammering[[#This Row],[Verkoop-gewicht]]=\"\",\"\",lammering[[#This Row],[Verkoop-gewicht]]-lammering[[#This Row],[geboorte-gewicht]])","v":""},"","",{"$f":"Opzoek_ooi[[#This Row],[Ooinummer]]","v":0},"",""]
[{"$f":"lammering[[#This Row],[Ooi]]","v":0},0,0,{"$f":"IF(lammering[[#This Row],[Lam-nummer]]=\"\",0,1)","v":0},{"$f":"IF(lammering[[#This Row],[Dood in geboorte]]=\"ja\",1,0)","v":0},{"$f":"IF(lammering[[#This Row],[Ooi]]=\"\",0,IF(Berekeningen!E159=0,1,0))","v":0},{"$f":"IF(D159=0,0,IF(lammering[[#This Row],[Dood in geboorte]]=\"Ja\",0,IF(lammering[[#This Row],[Dood na geboorte]]=\"ja\",0,1)))","v":0},{"$f":"IF(lammering[[#This Row],[Opfok met kunstmelk]]=\"Ja\",1,0)","v":0},{"$f":"IF(lammering[[#This Row],[geslacht]]=\"O\",1,0)","v":0},{"$f":"IF(lammering[[#This Row],[Speen-datum]]=\"\",\"\",(lammering[[#This Row],[Speen-gewicht]]-lammering[[#This Row],[geboorte-gewicht]])/(lammering[[#This Row],[Speen-datum]]-lammering[[#This Row],[Werp-datum]]))","v":""},{"$f":"IF(lammering[[#This Row],[Verkoop-datum]]=\"\",\"\",(lammering[[#This Row],[Verkoop-gewicht]]-lammering[[#This Row],[Speen-gewicht]])/(lammering[[#This Row],[Verkoop-datum]]-lammering[[#This Row],[Speen-datum]]))","v":""},{"$f":"IF(lammering[[#This Row],[Verkoop-datum]]=\"\",\"\",(lammering[[#This Row],[Verkoop-gewicht]]-lammering[[#This Row],[geboorte-gewicht]])/(lammering[[#This Row],[Verkoop-datum]]-lammering[[#This Row],[Werp-datum]]))","v":""},"","","","","","",{"$f":"IF(lammering[[#This Row],[Verkoop-gewicht]]=\"\",\"\",lammering[[#This Row],[Verkoop-gewicht]]-lammering[[#This Row],[geboorte-gewicht]])","v":""},"","",{"$f":"Opzoek_ooi[[#This Row],[Ooinummer]]","v":0},"",""]
[{"$f":"lammering[[#This Row],[Ooi]]","v":0},0,0,{"$f":"IF(lammering[[#This Row],[Lam-nummer]]=\"\",0,1)","v":0},{"$f":"IF(lammering[[#This Row],[Dood in geboorte]]=\"ja\",1,0)","v":0},{"$f":"IF(lammering[[#This Row],[Ooi]]=\"\",0,IF(Berekeningen!E160=0,1,0))","v":0},{"$f":"IF(D160=0,0,IF(lammering[[#This Row],[Dood in geboorte]]=\"Ja\",0,IF(lammering[[#This Row],[Dood na geboorte]]=\"ja\",0,1)))","v":0},{"$f":"IF(lammering[[#This Row],[Opfok met kunstmelk]]=\"Ja\",1,0)","v":0},{"$f":"IF(lammering[[#This Row],[geslacht]]=\"O\",1,0)","v":0},{"$f":"IF(lammering[[#This Row],[Speen-datum]]=\"\",\"\",(lammering[[#This Row],[Speen-gewicht]]-lammering[[#This Row],[geboorte-gewicht]])/(lammering[[#This Row],[Speen-datum]]-lammering[[#This Row],[Werp-datum]]))","v":""},{"$f":"IF(lammering[[#This Row],[Verkoop-datum]]=\"\",\"\",(lammering[[#This Row],[Verkoop-gewicht]]-lammering[[#This Row],[Speen-gewicht]])/(lammering[[#This Row],[Verkoop-datum]]-lammering[[#This Row],[Speen-datum]]))","v":""},{"$f":"IF(lammering[[#This Row],[Verkoop-datum]]=\"\",\"\",(lammering[[#This Row],[Verkoop-gewicht]]-lammering[[#This Row],[geboorte-gewicht]])/(lammering[[#This Row],[Verkoop-datum]]-lammering[[#This Row],[Werp-datum]]))","v":""},"","","","","","",{"$f":"IF(lammering[[#This Row],[Verkoop-gewicht]]=\"\",\"\",lammering[[#This Row],[Verkoop-gewicht]]-lammering[[#This Row],[geboorte-gewicht]])","v":""},"","",{"$f":"Opzoek_ooi[[#This Row],[Ooinummer]]","v":0},"",""]
[{"$f":"lammering[[#This Row],[Ooi]]","v":0},0,0,{"$f":"IF(lammering[[#This Row],[Lam-nummer]]=\"\",0,1)","v":0},{"$f":"IF(lammering[[#This Row],[Dood in geboorte]]=\"ja\",1,0)","v":0},{"$f":"IF(lammering[[#This Row],[Ooi]]=\"\",0,IF(Berekeningen!E161=0,1,0))","v":0},{"$f":"IF(D161=0,0,IF(lammering[[#This Row],[Dood in geboorte]]=\"Ja\",0,IF(lammering[[#This Row],[Dood na geboorte]]=\"ja\",0,1)))","v":0},{"$f":"IF(lammering[[#This Row],[Opfok met kunstmelk]]=\"Ja\",1,0)","v":0},{"$f":"IF(lammering[[#This Row],[geslacht]]=\"O\",1,0)","v":0},{"$f":"IF(lammering[[#This Row],[Speen-datum]]=\"\",\"\",(lammering[[#This Row],[Speen-gewicht]]-lammering[[#This Row],[geboorte-gewicht]])/(lammering[[#This Row],[Speen-datum]]-lammering[[#This Row],[Werp-datum]]))","v":""},{"$f":"IF(lammering[[#This Row],[Verkoop-datum]]=\"\",\"\",(lammering[[#This Row],[Verkoop-gewicht]]-lammering[[#This Row],[Speen-gewicht]])/(lammering[[#This Row],[Verkoop-datum]]-lammering[[#This Row],[Speen-datum]]))","v":""},{"$f":"IF(lammering[[#This Row],[Verkoop-datum]]=\"\",\"\",(lammering[[#This Row],[Verkoop-gewicht]]-lammering[[#This Row],[geboorte-gewicht]])/(lammering[[#This Row],[Verkoop-datum]]-lammering[[#This Row],[Werp-datum]]))","v":""},"","","","","","",{"$f":"IF(lammering[[#This Row],[Verkoop-gewicht]]=\"\",\"\",lammering[[#This Row],[Verkoop-gewicht]]-lammering[[#This Row],[geboorte-gewicht]])","v":""},"","",{"$f":"Opzoek_ooi[[#This Row],[Ooinummer]]","v":0},"",""]
[{"$f":"lammering[[#This Row],[Ooi]]","v":0},0,0,{"$f":"IF(lammering[[#This Row],[Lam-nummer]]=\"\",0,1)","v":0},{"$f":"IF(lammering[[#This Row],[Dood in geboorte]]=\"ja\",1,0)","v":0},{"$f":"IF(lammering[[#This Row],[Ooi]]=\"\",0,IF(Berekeningen!E162=0,1,0))","v":0},{"$f":"IF(D162=0,0,IF(lammering[[#This Row],[Dood in geboorte]]=\"Ja\",0,IF(lammering[[#This Row],[Dood na geboorte]]=\"ja\",0,1)))","v":0},{"$f":"IF(lammering[[#This Row],[Opfok met kunstmelk]]=\"Ja\",1,0)","v":0},{"$f":"IF(lammering[[#This Row],[geslacht]]=\"O\",1,0)","v":0},{"$f":"IF(lammering[[#This Row],[Speen-datum]]=\"\",\"\",(lammering[[#This Row],[Speen-gewicht]]-lammering[[#This Row],[geboorte-gewicht]])/(lammering[[#This Row],[Speen-datum]]-lammering[[#This Row],[Werp-datum]]))","v":""},{"$f":"IF(lammering[[#This Row],[Verkoop-datum]]=\"\",\"\",(lammering[[#This Row],[Verkoop-gewicht]]-lammering[[#This Row],[Speen-gewicht]])/(lammering[[#This Row],[Verkoop-datum]]-lammering[[#This Row],[Speen-datum]]))","v":""},{"$f":"IF(lammering[[#This Row],[Verkoop-datum]]=\"\",\"\",(lammering[[#This Row],[Verkoop-gewicht]]-lammering[[#This Row],[geboorte-gewicht]])/(lammering[[#This Row],[Verkoop-datum]]-lammering[[#This Row],[Werp-datum]]))","v":""},"","","","","","",{"$f":"IF(lammering[[#This Row],[Verkoop-gewicht]]=\"\",\"\",lammering[[#This Row],[Verkoop-gewicht]]-lammering[[#This Row],[geboorte-gewicht]])","v":""},"","",{"$f":"Opzoek_ooi[[#This Row],[Ooinummer]]","v":0},"",""]
[{"$f":"lammering[[#This Row],[Ooi]]","v":0},0,0,{"$f":"IF(lammering[[#This Row],[Lam-nummer]]=\"\",0,1)","v":0},{"$f":"IF(lammering[[#This Row],[Dood in geboorte]]=\"ja\",1,0)","v":0},{"$f":"IF(lammering[[#This Row],[Ooi]]=\"\",0,IF(Berekeningen!E163=0,1,0))","v":0},{"$f":"IF(D163=0,0,IF(lammering[[#This Row],[Dood in geboorte]]=\"Ja\",0,IF(lammering[[#This Row],[Dood na geboorte]]=\"ja\",0,1)))","v":0},{"$f":"IF(lammering[[#This Row],[Opfok met kunstmelk]]=\"Ja\",1,0)","v":0},{"$f":"IF(lammering[[#This Row],[geslacht]]=\"O\",1,0)","v":0},{"$f":"IF(lammering[[#This Row],[Speen-datum]]=\"\",\"\",(lammering[[#This Row],[Speen-gewicht]]-lammering[[#This Row],[geboorte-gewicht]])/(lammering[[#This Row],[Speen-datum]]-lammering[[#This Row],[Werp-datum]]))","v":""},{"$f":"IF(lammering[[#This Row],[Verkoop-datum]]=\"\",\"\",(lammering[[#This Row],[Verkoop-gewicht]]-lammering[[#This Row],[Speen-gewicht]])/(lammering[[#This Row],[Verkoop-datum]]-lammering[[#This Row],[Speen-datum]]))","v":""},{"$f":"IF(lammering[[#This Row],[Verkoop-datum]]=\"\",\"\",(lammering[[#This Row],[Verkoop-gewicht]]-lammering[[#This Row],[geboorte-gewicht]])/(lammering[[#This Row],[Verkoop-datum]]-lammering[[#This Row],[Werp-datum]]))","v":""},"","","","","","",{"$f":"IF(lammering[[#This Row],[Verkoop-gewicht]]=\"\",\"\",lammering[[#This Row],[Verkoop-gewicht]]-lammering[[#This Row],[geboorte-gewicht]])","v":""},"","",{"$f":"Opzoek_ooi[[#This Row],[Ooinummer]]","v":0},"",""]
[{"$f":"lammering[[#This Row],[Ooi]]","v":0},0,0,{"$f":"IF(lammering[[#This Row],[Lam-nummer]]=\"\",0,1)","v":0},{"$f":"IF(lammering[[#This Row],[Dood in geboorte]]=\"ja\",1,0)","v":0},{"$f":"IF(lammering[[#This Row],[Ooi]]=\"\",0,IF(Berekeningen!E164=0,1,0))","v":0},{"$f":"IF(D164=0,0,IF(lammering[[#This Row],[Dood in geboorte]]=\"Ja\",0,IF(lammering[[#This Row],[Dood na geboorte]]=\"ja\",0,1)))","v":0},{"$f":"IF(lammering[[#This Row],[Opfok met kunstmelk]]=\"Ja\",1,0)","v":0},{"$f":"IF(lammering[[#This Row],[geslacht]]=\"O\",1,0)","v":0},{"$f":"IF(lammering[[#This Row],[Speen-datum]]=\"\",\"\",(lammering[[#This Row],[Speen-gewicht]]-lammering[[#This Row],[geboorte-gewicht]])/(lammering[[#This Row],[Speen-datum]]-lammering[[#This Row],[Werp-datum]]))","v":""},{"$f":"IF(lammering[[#This Row],[Verkoop-datum]]=\"\",\"\",(lammering[[#This Row],[Verkoop-gewicht]]-lammering[[#This Row],[Speen-gewicht]])/(lammering[[#This Row],[Verkoop-datum]]-lammering[[#This Row],[Speen-datum]]))","v":""},{"$f":"IF(lammering[[#This Row],[Verkoop-datum]]=\"\",\"\",(lammering[[#This Row],[Verkoop-gewicht]]-lammering[[#This Row],[geboorte-gewicht]])/(lammering[[#This Row],[Verkoop-datum]]-lammering[[#This Row],[Werp-datum]]))","v":""},"","","","","","",{"$f":"IF(lammering[[#This Row],[Verkoop-gewicht]]=\"\",\"\",lammering[[#This Row],[Verkoop-gewicht]]-lammering[[#This Row],[geboorte-gewicht]])","v":""},"","",{"$f":"Opzoek_ooi[[#This Row],[Ooinummer]]","v":0},"",""]
[{"$f":"lammering[[#This Row],[Ooi]]","v":0},0,0,{"$f":"IF(lammering[[#This Row],[Lam-nummer]]=\"\",0,1)","v":0},{"$f":"IF(lammering[[#This Row],[Dood in geboorte]]=\"ja\",1,0)","v":0},{"$f":"IF(lammering[[#This Row],[Ooi]]=\"\",0,IF(Berekeningen!E165=0,1,0))","v":0},{"$f":"IF(D165=0,0,IF(lammering[[#This Row],[Dood in geboorte]]=\"Ja\",0,IF(lammering[[#This Row],[Dood na geboorte]]=\"ja\",0,1)))","v":0},{"$f":"IF(lammering[[#This Row],[Opfok met kunstmelk]]=\"Ja\",1,0)","v":0},{"$f":"IF(lammering[[#This Row],[geslacht]]=\"O\",1,0)","v":0},{"$f":"IF(lammering[[#This Row],[Speen-datum]]=\"\",\"\",(lammering[[#This Row],[Speen-gewicht]]-lammering[[#This Row],[geboorte-gewicht]])/(lammering[[#This Row],[Speen-datum]]-lammering[[#This Row],[Werp-datum]]))","v":""},{"$f":"IF(lammering[[#This Row],[Verkoop-datum]]=\"\",\"\",(lammering[[#This Row],[Verkoop-gewicht]]-lammering[[#This Row],[Speen-gewicht]])/(lammering[[#This Row],[Verkoop-datum]]-lammering[[#This Row],[Speen-datum]]))","v":""},{"$f":"IF(lammering[[#This Row],[Verkoop-datum]]=\"\",\"\",(lammering[[#This Row],[Verkoop-gewicht]]-lammering[[#This Row],[geboorte-gewicht]])/(lammering[[#This Row],[Verkoop-datum]]-lammering[[#This Row],[Werp-datum]]))","v":""},"","","","","","",{"$f":"IF(lammering[[#This Row],[Verkoop-gewicht]]=\"\",\"\",lammering[[#This Row],[Verkoop-gewicht]]-lammering[[#This Row],[geboorte-gewicht]])","v":""},"","",{"$f":"Opzoek_ooi[[#This Row],[Ooinummer]]","v":0},"",""]
[{"$f":"lammering[[#This Row],[Ooi]]","v":0},0,0,{"$f":"IF(lammering[[#This Row],[Lam-nummer]]=\"\",0,1)","v":0},{"$f":"IF(lammering[[#This Row],[Dood in geboorte]]=\"ja\",1,0)","v":0},{"$f":"IF(lammering[[#This Row],[Ooi]]=\"\",0,IF(Berekeningen!E166=0,1,0))","v":0},{"$f":"IF(D166=0,0,IF(lammering[[#This Row],[Dood in geboorte]]=\"Ja\",0,IF(lammering[[#This Row],[Dood na geboorte]]=\"ja\",0,1)))","v":0},{"$f":"IF(lammering[[#This Row],[Opfok met kunstmelk]]=\"Ja\",1,0)","v":0},{"$f":"IF(lammering[[#This Row],[geslacht]]=\"O\",1,0)","v":0},{"$f":"IF(lammering[[#This Row],[Speen-datum]]=\"\",\"\",(lammering[[#This Row],[Speen-gewicht]]-lammering[[#This Row],[geboorte-gewicht]])/(lammering[[#This Row],[Speen-datum]]-lammering[[#This Row],[Werp-datum]]))","v":""},{"$f":"IF(lammering[[#This Row],[Verkoop-datum]]=\"\",\"\",(lammering[[#This Row],[Verkoop-gewicht]]-lammering[[#This Row],[Speen-gewicht]])/(lammering[[#This Row],[Verkoop-datum]]-lammering[[#This Row],[Speen-datum]]))","v":""},{"$f":"IF(lammering[[#This Row],[Verkoop-datum]]=\"\",\"\",(lammering[[#This Row],[Verkoop-gewicht]]-lammering[[#This Row],[geboorte-gewicht]])/(lammering[[#This Row],[Verkoop-datum]]-lammering[[#This Row],[Werp-datum]]))","v":""},"","","","","","",{"$f":"IF(lammering[[#This Row],[Verkoop-gewicht]]=\"\",\"\",lammering[[#This Row],[Verkoop-gewicht]]-lammering[[#This Row],[geboorte-gewicht]])","v":""},"","",{"$f":"Opzoek_ooi[[#This Row],[Ooinummer]]","v":0},"",""]
[{"$f":"lammering[[#This Row],[Ooi]]","v":0},0,0,{"$f":"IF(lammering[[#This Row],[Lam-nummer]]=\"\",0,1)","v":0},{"$f":"IF(lammering[[#This Row],[Dood in geboorte]]=\"ja\",1,0)","v":0},{"$f":"IF(lammering[[#This Row],[Ooi]]=\"\",0,IF(Berekeningen!E167=0,1,0))","v":0},{"$f":"IF(D167=0,0,IF(lammering[[#This Row],[Dood in geboorte]]=\"Ja\",0,IF(lammering[[#This Row],[Dood na geboorte]]=\"ja\",0,1)))","v":0},{"$f":"IF(lammering[[#This Row],[Opfok met kunstmelk]]=\"Ja\",1,0)","v":0},{"$f":"IF(lammering[[#This Row],[geslacht]]=\"O\",1,0)","v":0},{"$f":"IF(lammering[[#This Row],[Speen-datum]]=\"\",\"\",(lammering[[#This Row],[Speen-gewicht]]-lammering[[#This Row],[geboorte-gewicht]])/(lammering[[#This Row],[Speen-datum]]-lammering[[#This Row],[Werp-datum]]))","v":""},{"$f":"IF(lammering[[#This Row],[Verkoop-datum]]=\"\",\"\",(lammering[[#This Row],[Verkoop-gewicht]]-lammering[[#This Row],[Speen-gewicht]])/(lammering[[#This Row],[Verkoop-datum]]-lammering[[#This Row],[Speen-datum]]))","v":""},{"$f":"IF(lammering[[#This Row],[Verkoop-datum]]=\"\",\"\",(lammering[[#This Row],[Verkoop-gewicht]]-lammering[[#This Row],[geboorte-gewicht]])/(lammering[[#This Row],[Verkoop-datum]]-lammering[[#This Row],[Werp-datum]]))","v":""},"","","","","","",{"$f":"IF(lammering[[#This Row],[Verkoop-gewicht]]=\"\",\"\",lammering[[#This Row],[Verkoop-gewicht]]-lammering[[#This Row],[geboorte-gewicht]])","v":""},"","",{"$f":"Opzoek_ooi[[#This Row],[Ooinummer]]","v":0},"",""]
[{"$f":"lammering[[#This Row],[Ooi]]","v":0},0,0,{"$f":"IF(lammering[[#This Row],[Lam-nummer]]=\"\",0,1)","v":0},{"$f":"IF(lammering[[#This Row],[Dood in geboorte]]=\"ja\",1,0)","v":0},{"$f":"IF(lammering[[#This Row],[Ooi]]=\"\",0,IF(Berekeningen!E168=0,1,0))","v":0},{"$f":"IF(D168=0,0,IF(lammering[[#This Row],[Dood in geboorte]]=\"Ja\",0,IF(lammering[[#This Row],[Dood na geboorte]]=\"ja\",0,1)))","v":0},{"$f":"IF(lammering[[#This Row],[Opfok met kunstmelk]]=\"Ja\",1,0)","v":0},{"$f":"IF(lammering[[#This Row],[geslacht]]=\"O\",1,0)","v":0},{"$f":"IF(lammering[[#This Row],[Speen-datum]]=\"\",\"\",(lammering[[#This Row],[Speen-gewicht]]-lammering[[#This Row],[geboorte-gewicht]])/(lammering[[#This Row],[Speen-datum]]-lammering[[#This Row],[Werp-datum]]))","v":""},{"$f":"IF(lammering[[#This Row],[Verkoop-datum]]=\"\",\"\",(lammering[[#This Row],[Verkoop-gewicht]]-lammering[[#This Row],[Speen-gewicht]])/(lammering[[#This Row],[Verkoop-datum]]-lammering[[#This Row],[Speen-datum]]))","v":""},{"$f":"IF(lammering[[#This Row],[Verkoop-datum]]=\"\",\"\",(lammering[[#This Row],[Verkoop-gewicht]]-lammering[[#This Row],[geboorte-gewicht]])/(lammering[[#This Row],[Verkoop-datum]]-lammering[[#This Row],[Werp-datum]]))","v":""},"","","","","","",{"$f":"IF(lammering[[#This Row],[Verkoop-gewicht]]=\"\",\"\",lammering[[#This Row],[Verkoop-gewicht]]-lammering[[#This Row],[geboorte-gewicht]])","v":""},"","",{"$f":"Opzoek_ooi[[#This Row],[Ooinummer]]","v":0},"",""]
[{"$f":"lammering[[#This Row],[Ooi]]","v":0},0,0,{"$f":"IF(lammering[[#This Row],[Lam-nummer]]=\"\",0,1)","v":0},{"$f":"IF(lammering[[#This Row],[Dood in geboorte]]=\"ja\",1,0)","v":0},{"$f":"IF(lammering[[#This Row],[Ooi]]=\"\",0,IF(Berekeningen!E169=0,1,0))","v":0},{"$f":"IF(D169=0,0,IF(lammering[[#This Row],[Dood in geboorte]]=\"Ja\",0,IF(lammering[[#This Row],[Dood na geboorte]]=\"ja\",0,1)))","v":0},{"$f":"IF(lammering[[#This Row],[Opfok met kunstmelk]]=\"Ja\",1,0)","v":0},{"$f":"IF(lammering[[#This Row],[geslacht]]=\"O\",1,0)","v":0},{"$f":"IF(lammering[[#This Row],[Speen-datum]]=\"\",\"\",(lammering[[#This Row],[Speen-gewicht]]-lammering[[#This Row],[geboorte-gewicht]])/(lammering[[#This Row],[Speen-datum]]-lammering[[#This Row],[Werp-datum]]))","v":""},{"$f":"IF(lammering[[#This Row],[Verkoop-datum]]=\"\",\"\",(lammering[[#This Row],[Verkoop-gewicht]]-lammering[[#This Row],[Speen-gewicht]])/(lammering[[#This Row],[Verkoop-datum]]-lammering[[#This Row],[Speen-datum]]))","v":""},{"$f":"IF(lammering[[#This Row],[Verkoop-datum]]=\"\",\"\",(lammering[[#This Row],[Verkoop-gewicht]]-lammering[[#This Row],[geboorte-gewicht]])/(lammering[[#This Row],[Verkoop-datum]]-lammering[[#This Row],[Werp-datum]]))","v":""},"","","","","","",{"$f":"IF(lammering[[#This Row],[Verkoop-gewicht]]=\"\",\"\",lammering[[#This Row],[Verkoop-gewicht]]-lammering[[#This Row],[geboorte-gewicht]])","v":""},"","",{"$f":"Opzoek_ooi[[#This Row],[Ooinummer]]","v":0},"",""]
[{"$f":"lammering[[#This Row],[Ooi]]","v":0},0,0,{"$f":"IF(lammering[[#This Row],[Lam-nummer]]=\"\",0,1)","v":0},{"$f":"IF(lammering[[#This Row],[Dood in geboorte]]=\"ja\",1,0)","v":0},{"$f":"IF(lammering[[#This Row],[Ooi]]=\"\",0,IF(Berekeningen!E170=0,1,0))","v":0},{"$f":"IF(D170=0,0,IF(lammering[[#This Row],[Dood in geboorte]]=\"Ja\",0,IF(lammering[[#This Row],[Dood na geboorte]]=\"ja\",0,1)))","v":0},{"$f":"IF(lammering[[#This Row],[Opfok met kunstmelk]]=\"Ja\",1,0)","v":0},{"$f":"IF(lammering[[#This Row],[geslacht]]=\"O\",1,0)","v":0},{"$f":"IF(lammering[[#This Row],[Speen-datum]]=\"\",\"\",(lammering[[#This Row],[Speen-gewicht]]-lammering[[#This Row],[geboorte-gewicht]])/(lammering[[#This Row],[Speen-datum]]-lammering[[#This Row],[Werp-datum]]))","v":""},{"$f":"IF(lammering[[#This Row],[Verkoop-datum]]=\"\",\"\",(lammering[[#This Row],[Verkoop-gewicht]]-lammering[[#This Row],[Speen-gewicht]])/(lammering[[#This Row],[Verkoop-datum]]-lammering[[#This Row],[Speen-datum]]))","v":""},{"$f":"IF(lammering[[#This Row],[Verkoop-datum]]=\"\",\"\",(lammering[[#This Row],[Verkoop-gewicht]]-lammering[[#This Row],[geboorte-gewicht]])/(lammering[[#This Row],[Verkoop-datum]]-lammering[[#This Row],[Werp-datum]]))","v":""},"","","","","","",{"$f":"IF(lammering[[#This Row],[Verkoop-gewicht]]=\"\",\"\",lammering[[#This Row],[Verkoop-gewicht]]-lammering[[#This Row],[geboorte-gewicht]])","v":""},"","",{"$f":"Opzoek_ooi[[#This Row],[Ooinummer]]","v":0},"",""]
[{"$f":"lammering[[#This Row],[Ooi]]","v":0},0,0,{"$f":"IF(lammering[[#This Row],[Lam-nummer]]=\"\",0,1)","v":0},{"$f":"IF(lammering[[#This Row],[Dood in geboorte]]=\"ja\",1,0)","v":0},{"$f":"IF(lammering[[#This Row],[Ooi]]=\"\",0,IF(Berekeningen!E171=0,1,0))","v":0},{"$f":"IF(D171=0,0,IF(lammering[[#This Row],[Dood in geboorte]]=\"Ja\",0,IF(lammering[[#This Row],[Dood na geboorte]]=\"ja\",0,1)))","v":0},{"$f":"IF(lammering[[#This Row],[Opfok met kunstmelk]]=\"Ja\",1,0)","v":0},{"$f":"IF(lammering[[#This Row],[geslacht]]=\"O\",1,0)","v":0},{"$f":"IF(lammering[[#This Row],[Speen-datum]]=\"\",\"\",(lammering[[#This Row],[Speen-gewicht]]-lammering[[#This Row],[geboorte-gewicht]])/(lammering[[#This Row],[Speen-datum]]-lammering[[#This Row],[Werp-datum]]))","v":""},{"$f":"IF(lammering[[#This Row],[Verkoop-datum]]=\"\",\"\",(lammering[[#This Row],[Verkoop-gewicht]]-lammering[[#This Row],[Speen-gewicht]])/(lammering[[#This Row],[Verkoop-datum]]-lammering[[#This Row],[Speen-datum]]))","v":""},{"$f":"IF(lammering[[#This Row],[Verkoop-datum]]=\"\",\"\",(lammering[[#This Row],[Verkoop-gewicht]]-lammering[[#This Row],[geboorte-gewicht]])/(lammering[[#This Row],[Verkoop-datum]]-lammering[[#This Row],[Werp-datum]]))","v":""},"","","","","","",{"$f":"IF(lammering[[#This Row],[Verkoop-gewicht]]=\"\",\"\",lammering[[#This Row],[Verkoop-gewicht]]-lammering[[#This Row],[geboorte-gewicht]])","v":""},"","",{"$f":"Opzoek_ooi[[#This Row],[Ooinummer]]","v":0},"",""]
[{"$f":"lammering[[#This Row],[Ooi]]","v":0},0,0,{"$f":"IF(lammering[[#This Row],[Lam-nummer]]=\"\",0,1)","v":0},{"$f":"IF(lammering[[#This Row],[Dood in geboorte]]=\"ja\",1,0)","v":0},{"$f":"IF(lammering[[#This Row],[Ooi]]=\"\",0,IF(Berekeningen!E172=0,1,0))","v":0},{"$f":"IF(D172=0,0,IF(lammering[[#This Row],[Dood in geboorte]]=\"Ja\",0,IF(lammering[[#This Row],[Dood na geboorte]]=\"ja\",0,1)))","v":0},{"$f":"IF(lammering[[#This Row],[Opfok met kunstmelk]]=\"Ja\",1,0)","v":0},{"$f":"IF(lammering[[#This Row],[geslacht]]=\"O\",1,0)","v":0},{"$f":"IF(lammering[[#This Row],[Speen-datum]]=\"\",\"\",(lammering[[#This Row],[Speen-gewicht]]-lammering[[#This Row],[geboorte-gewicht]])/(lammering[[#This Row],[Speen-datum]]-lammering[[#This Row],[Werp-datum]]))","v":""},{"$f":"IF(lammering[[#This Row],[Verkoop-datum]]=\"\",\"\",(lammering[[#This Row],[Verkoop-gewicht]]-lammering[[#This Row],[Speen-gewicht]])/(lammering[[#This Row],[Verkoop-datum]]-lammering[[#This Row],[Speen-datum]]))","v":""},{"$f":"IF(lammering[[#This Row],[Verkoop-datum]]=\"\",\"\",(lammering[[#This Row],[Verkoop-gewicht]]-lammering[[#This Row],[geboorte-gewicht]])/(lammering[[#This Row],[Verkoop-datum]]-lammering[[#This Row],[Werp-datum]]))","v":""},"","","","","","",{"$f":"IF(lammering[[#This Row],[Verkoop-gewicht]]=\"\",\"\",lammering[[#This Row],[Verkoop-gewicht]]-lammering[[#This Row],[geboorte-gewicht]])","v":""},"","",{"$f":"Opzoek_ooi[[#This Row],[Ooinummer]]","v":0},"",""]
[{"$f":"lammering[[#This Row],[Ooi]]","v":0},0,0,{"$f":"IF(lammering[[#This Row],[Lam-nummer]]=\"\",0,1)","v":0},{"$f":"IF(lammering[[#This Row],[Dood in geboorte]]=\"ja\",1,0)","v":0},{"$f":"IF(lammering[[#This Row],[Ooi]]=\"\",0,IF(Berekeningen!E173=0,1,0))","v":0},{"$f":"IF(D173=0,0,IF(lammering[[#This Row],[Dood in geboorte]]=\"Ja\",0,IF(lammering[[#This Row],[Dood na geboorte]]=\"ja\",0,1)))","v":0},{"$f":"IF(lammering[[#This Row],[Opfok met kunstmelk]]=\"Ja\",1,0)","v":0},{"$f":"IF(lammering[[#This Row],[geslacht]]=\"O\",1,0)","v":0},{"$f":"IF(lammering[[#This Row],[Speen-datum]]=\"\",\"\",(lammering[[#This Row],[Speen-gewicht]]-lammering[[#This Row],[geboorte-gewicht]])/(lammering[[#This Row],[Speen-datum]]-lammering[[#This Row],[Werp-datum]]))","v":""},{"$f":"IF(lammering[[#This Row],[Verkoop-datum]]=\"\",\"\",(lammering[[#This Row],[Verkoop-gewicht]]-lammering[[#This Row],[Speen-gewicht]])/(lammering[[#This Row],[Verkoop-datum]]-lammering[[#This Row],[Speen-datum]]))","v":""},{"$f":"IF(lammering[[#This Row],[Verkoop-datum]]=\"\",\"\",(lammering[[#This Row],[Verkoop-gewicht]]-lammering[[#This Row],[geboorte-gewicht]])/(lammering[[#This Row],[Verkoop-datum]]-lammering[[#This Row],[Werp-datum]]))","v":""},"","","","","","",{"$f":"IF(lammering[[#This Row],[Verkoop-gewicht]]=\"\",\"\",lammering[[#This Row],[Verkoop-gewicht]]-lammering[[#This Row],[geboorte-gewicht]])","v":""},"","",{"$f":"Opzoek_ooi[[#This Row],[Ooinummer]]","v":0},"",""]
[{"$f":"lammering[[#This Row],[Ooi]]","v":0},0,0,{"$f":"IF(lammering[[#This Row],[Lam-nummer]]=\"\",0,1)","v":0},{"$f":"IF(lammering[[#This Row],[Dood in geboorte]]=\"ja\",1,0)","v":0},{"$f":"IF(lammering[[#This Row],[Ooi]]=\"\",0,IF(Berekeningen!E174=0,1,0))","v":0},{"$f":"IF(D174=0,0,IF(lammering[[#This Row],[Dood in geboorte]]=\"Ja\",0,IF(lammering[[#This Row],[Dood na geboorte]]=\"ja\",0,1)))","v":0},{"$f":"IF(lammering[[#This Row],[Opfok met kunstmelk]]=\"Ja\",1,0)","v":0},{"$f":"IF(lammering[[#This Row],[geslacht]]=\"O\",1,0)","v":0},{"$f":"IF(lammering[[#This Row],[Speen-datum]]=\"\",\"\",(lammering[[#This Row],[Speen-gewicht]]-lammering[[#This Row],[geboorte-gewicht]])/(lammering[[#This Row],[Speen-datum]]-lammering[[#This Row],[Werp-datum]]))","v":""},{"$f":"IF(lammering[[#This Row],[Verkoop-datum]]=\"\",\"\",(lammering[[#This Row],[Verkoop-gewicht]]-lammering[[#This Row],[Speen-gewicht]])/(lammering[[#This Row],[Verkoop-datum]]-lammering[[#This Row],[Speen-datum]]))","v":""},{"$f":"IF(lammering[[#This Row],[Verkoop-datum]]=\"\",\"\",(lammering[[#This Row],[Verkoop-gewicht]]-lammering[[#This Row],[geboorte-gewicht]])/(lammering[[#This Row],[Verkoop-datum]]-lammering[[#This Row],[Werp-datum]]))","v":""},"","","","","","",{"$f":"IF(lammering[[#This Row],[Verkoop-gewicht]]=\"\",\"\",lammering[[#This Row],[Verkoop-gewicht]]-lammering[[#This Row],[geboorte-gewicht]])","v":""},"","",{"$f":"Opzoek_ooi[[#This Row],[Ooinummer]]","v":0},"",""]
[{"$f":"lammering[[#This Row],[Ooi]]","v":0},0,0,{"$f":"IF(lammering[[#This Row],[Lam-nummer]]=\"\",0,1)","v":0},{"$f":"IF(lammering[[#This Row],[Dood in geboorte]]=\"ja\",1,0)","v":0},{"$f":"IF(lammering[[#This Row],[Ooi]]=\"\",0,IF(Berekeningen!E175=0,1,0))","v":0},{"$f":"IF(D175=0,0,IF(lammering[[#This Row],[Dood in geboorte]]=\"Ja\",0,IF(lammering[[#This Row],[Dood na geboorte]]=\"ja\",0,1)))","v":0},{"$f":"IF(lammering[[#This Row],[Opfok met kunstmelk]]=\"Ja\",1,0)","v":0},{"$f":"IF(lammering[[#This Row],[geslacht]]=\"O\",1,0)","v":0},{"$f":"IF(lammering[[#This Row],[Speen-datum]]=\"\",\"\",(lammering[[#This Row],[Speen-gewicht]]-lammering[[#This Row],[geboorte-gewicht]])/(lammering[[#This Row],[Speen-datum]]-lammering[[#This Row],[Werp-datum]]))","v":""},{"$f":"IF(lammering[[#This Row],[Verkoop-datum]]=\"\",\"\",(lammering[[#This Row],[Verkoop-gewicht]]-lammering[[#This Row],[Speen-gewicht]])/(lammering[[#This Row],[Verkoop-datum]]-lammering[[#This Row],[Speen-datum]]))","v":""},{"$f":"IF(lammering[[#This Row],[Verkoop-datum]]=\"\",\"\",(lammering[[#This Row],[Verkoop-gewicht]]-lammering[[#This Row],[geboorte-gewicht]])/(lammering[[#This Row],[Verkoop-datum]]-lammering[[#This Row],[Werp-datum]]))","v":""},"","","","","","",{"$f":"IF(lammering[[#This Row],[Verkoop-gewicht]]=\"\",\"\",lammering[[#This Row],[Verkoop-gewicht]]-lammering[[#This Row],[geboorte-gewicht]])","v":""},"","",{"$f":"Opzoek_ooi[[#This Row],[Ooinummer]]","v":0},"",""]
[{"$f":"lammering[[#This Row],[Ooi]]","v":0},0,0,{"$f":"IF(lammering[[#This Row],[Lam-nummer]]=\"\",0,1)","v":0},{"$f":"IF(lammering[[#This Row],[Dood in geboorte]]=\"ja\",1,0)","v":0},{"$f":"IF(lammering[[#This Row],[Ooi]]=\"\",0,IF(Berekeningen!E176=0,1,0))","v":0},{"$f":"IF(D176=0,0,IF(lammering[[#This Row],[Dood in geboorte]]=\"Ja\",0,IF(lammering[[#This Row],[Dood na geboorte]]=\"ja\",0,1)))","v":0},{"$f":"IF(lammering[[#This Row],[Opfok met kunstmelk]]=\"Ja\",1,0)","v":0},{"$f":"IF(lammering[[#This Row],[geslacht]]=\"O\",1,0)","v":0},{"$f":"IF(lammering[[#This Row],[Speen-datum]]=\"\",\"\",(lammering[[#This Row],[Speen-gewicht]]-lammering[[#This Row],[geboorte-gewicht]])/(lammering[[#This Row],[Speen-datum]]-lammering[[#This Row],[Werp-datum]]))","v":""},{"$f":"IF(lammering[[#This Row],[Verkoop-datum]]=\"\",\"\",(lammering[[#This Row],[Verkoop-gewicht]]-lammering[[#This Row],[Speen-gewicht]])/(lammering[[#This Row],[Verkoop-datum]]-lammering[[#This Row],[Speen-datum]]))","v":""},{"$f":"IF(lammering[[#This Row],[Verkoop-datum]]=\"\",\"\",(lammering[[#This Row],[Verkoop-gewicht]]-lammering[[#This Row],[geboorte-gewicht]])/(lammering[[#This Row],[Verkoop-datum]]-lammering[[#This Row],[Werp-datum]]))","v":""},"","","","","","",{"$f":"IF(lammering[[#This Row],[Verkoop-gewicht]]=\"\",\"\",lammering[[#This Row],[Verkoop-gewicht]]-lammering[[#This Row],[geboorte-gewicht]])","v":""},"","",{"$f":"Opzoek_ooi[[#This Row],[Ooinummer]]","v":0},"",""]
[{"$f":"lammering[[#This Row],[Ooi]]","v":0},0,0,{"$f":"IF(lammering[[#This Row],[Lam-nummer]]=\"\",0,1)","v":0},{"$f":"IF(lammering[[#This Row],[Dood in geboorte]]=\"ja\",1,0)","v":0},{"$f":"IF(lammering[[#This Row],[Ooi]]=\"\",0,IF(Berekeningen!E177=0,1,0))","v":0},{"$f":"IF(D177=0,0,IF(lammering[[#This Row],[Dood in geboorte]]=\"Ja\",0,IF(lammering[[#This Row],[Dood na geboorte]]=\"ja\",0,1)))","v":0},{"$f":"IF(lammering[[#This Row],[Opfok met kunstmelk]]=\"Ja\",1,0)","v":0},{"$f":"IF(lammering[[#This Row],[geslacht]]=\"O\",1,0)","v":0},{"$f":"IF(lammering[[#This Row],[Speen-datum]]=\"\",\"\",(lammering[[#This Row],[Speen-gewicht]]-lammering[[#This Row],[geboorte-gewicht]])/(lammering[[#This Row],[Speen-datum]]-lammering[[#This Row],[Werp-datum]]))","v":""},{"$f":"IF(lammering[[#This Row],[Verkoop-datum]]=\"\",\"\",(lammering[[#This Row],[Verkoop-gewicht]]-lammering[[#This Row],[Speen-gewicht]])/(lammering[[#This Row],[Verkoop-datum]]-lammering[[#This Row],[Speen-datum]]))","v":""},{"$f":"IF(lammering[[#This Row],[Verkoop-datum]]=\"\",\"\",(lammering[[#This Row],[Verkoop-gewicht]]-lammering[[#This Row],[geboorte-gewicht]])/(lammering[[#This Row],[Verkoop-datum]]-lammering[[#This Row],[Werp-datum]]))","v":""},"","","","","","",{"$f":"IF(lammering[[#This Row],[Verkoop-gewicht]]=\"\",\"\",lammering[[#This Row],[Verkoop-gewicht]]-lammering[[#This Row],[geboorte-gewicht]])","v":""},"","",{"$f":"Opzoek_ooi[[#This Row],[Ooinummer]]","v":0},"",""]
[{"$f":"lammering[[#This Row],[Ooi]]","v":0},0,0,{"$f":"IF(lammering[[#This Row],[Lam-nummer]]=\"\",0,1)","v":0},{"$f":"IF(lammering[[#This Row],[Dood in geboorte]]=\"ja\",1,0)","v":0},{"$f":"IF(lammering[[#This Row],[Ooi]]=\"\",0,IF(Berekeningen!E178=0,1,0))","v":0},{"$f":"IF(D178=0,0,IF(lammering[[#This Row],[Dood in geboorte]]=\"Ja\",0,IF(lammering[[#This Row],[Dood na geboorte]]=\"ja\",0,1)))","v":0},{"$f":"IF(lammering[[#This Row],[Opfok met kunstmelk]]=\"Ja\",1,0)","v":0},{"$f":"IF(lammering[[#This Row],[geslacht]]=\"O\",1,0)","v":0},{"$f":"IF(lammering[[#This Row],[Speen-datum]]=\"\",\"\",(lammering[[#This Row],[Speen-gewicht]]-lammering[[#This Row],[geboorte-gewicht]])/(lammering[[#This Row],[Speen-datum]]-lammering[[#This Row],[Werp-datum]]))","v":""},{"$f":"IF(lammering[[#This Row],[Verkoop-datum]]=\"\",\"\",(lammering[[#This Row],[Verkoop-gewicht]]-lammering[[#This Row],[Speen-gewicht]])/(lammering[[#This Row],[Verkoop-datum]]-lammering[[#This Row],[Speen-datum]]))","v":""},{"$f":"IF(lammering[[#This Row],[Verkoop-datum]]=\"\",\"\",(lammering[[#This Row],[Verkoop-gewicht]]-lammering[[#This Row],[geboorte-gewicht]])/(lammering[[#This Row],[Verkoop-datum]]-lammering[[#This Row],[Werp-datum]]))","v":""},"","","","","","",{"$f":"IF(lammering[[#This Row],[Verkoop-gewicht]]=\"\",\"\",lammering[[#This Row],[Verkoop-gewicht]]-lammering[[#This Row],[geboorte-gewicht]])","v":""},"","",{"$f":"Opzoek_ooi[[#This Row],[Ooinummer]]","v":0},"",""]
[{"$f":"lammering[[#This Row],[Ooi]]","v":0},0,0,{"$f":"IF(lammering[[#This Row],[Lam-nummer]]=\"\",0,1)","v":0},{"$f":"IF(lammering[[#This Row],[Dood in geboorte]]=\"ja\",1,0)","v":0},{"$f":"IF(lammering[[#This Row],[Ooi]]=\"\",0,IF(Berekeningen!E179=0,1,0))","v":0},{"$f":"IF(D179=0,0,IF(lammering[[#This Row],[Dood in geboorte]]=\"Ja\",0,IF(lammering[[#This Row],[Dood na geboorte]]=\"ja\",0,1)))","v":0},{"$f":"IF(lammering[[#This Row],[Opfok met kunstmelk]]=\"Ja\",1,0)","v":0},{"$f":"IF(lammering[[#This Row],[geslacht]]=\"O\",1,0)","v":0},{"$f":"IF(lammering[[#This Row],[Speen-datum]]=\"\",\"\",(lammering[[#This Row],[Speen-gewicht]]-lammering[[#This Row],[geboorte-gewicht]])/(lammering[[#This Row],[Speen-datum]]-lammering[[#This Row],[Werp-datum]]))","v":""},{"$f":"IF(lammering[[#This Row],[Verkoop-datum]]=\"\",\"\",(lammering[[#This Row],[Verkoop-gewicht]]-lammering[[#This Row],[Speen-gewicht]])/(lammering[[#This Row],[Verkoop-datum]]-lammering[[#This Row],[Speen-datum]]))","v":""},{"$f":"IF(lammering[[#This Row],[Verkoop-datum]]=\"\",\"\",(lammering[[#This Row],[Verkoop-gewicht]]-lammering[[#This Row],[geboorte-gewicht]])/(lammering[[#This Row],[Verkoop-datum]]-lammering[[#This Row],[Werp-datum]]))","v":""},"","","","","","",{"$f":"IF(lammering[[#This Row],[Verkoop-gewicht]]=\"\",\"\",lammering[[#This Row],[Verkoop-gewicht]]-lammering[[#This Row],[geboorte-gewicht]])","v":""},"","",{"$f":"Opzoek_ooi[[#This Row],[Ooinummer]]","v":0},"",""]
[{"$f":"lammering[[#This Row],[Ooi]]","v":0},0,0,{"$f":"IF(lammering[[#This Row],[Lam-nummer]]=\"\",0,1)","v":0},{"$f":"IF(lammering[[#This Row],[Dood in geboorte]]=\"ja\",1,0)","v":0},{"$f":"IF(lammering[[#This Row],[Ooi]]=\"\",0,IF(Berekeningen!E180=0,1,0))","v":0},{"$f":"IF(D180=0,0,IF(lammering[[#This Row],[Dood in geboorte]]=\"Ja\",0,IF(lammering[[#This Row],[Dood na geboorte]]=\"ja\",0,1)))","v":0},{"$f":"IF(lammering[[#This Row],[Opfok met kunstmelk]]=\"Ja\",1,0)","v":0},{"$f":"IF(lammering[[#This Row],[geslacht]]=\"O\",1,0)","v":0},{"$f":"IF(lammering[[#This Row],[Speen-datum]]=\"\",\"\",(lammering[[#This Row],[Speen-gewicht]]-lammering[[#This Row],[geboorte-gewicht]])/(lammering[[#This Row],[Speen-datum]]-lammering[[#This Row],[Werp-datum]]))","v":""},{"$f":"IF(lammering[[#This Row],[Verkoop-datum]]=\"\",\"\",(lammering[[#This Row],[Verkoop-gewicht]]-lammering[[#This Row],[Speen-gewicht]])/(lammering[[#This Row],[Verkoop-datum]]-lammering[[#This Row],[Speen-datum]]))","v":""},{"$f":"IF(lammering[[#This Row],[Verkoop-datum]]=\"\",\"\",(lammering[[#This Row],[Verkoop-gewicht]]-lammering[[#This Row],[geboorte-gewicht]])/(lammering[[#This Row],[Verkoop-datum]]-lammering[[#This Row],[Werp-datum]]))","v":""},"","","","","","",{"$f":"IF(lammering[[#This Row],[Verkoop-gewicht]]=\"\",\"\",lammering[[#This Row],[Verkoop-gewicht]]-lammering[[#This Row],[geboorte-gewicht]])","v":""},"","",{"$f":"Opzoek_ooi[[#This Row],[Ooinummer]]","v":0},"",""]
[{"$f":"lammering[[#This Row],[Ooi]]","v":0},0,0,{"$f":"IF(lammering[[#This Row],[Lam-nummer]]=\"\",0,1)","v":0},{"$f":"IF(lammering[[#This Row],[Dood in geboorte]]=\"ja\",1,0)","v":0},{"$f":"IF(lammering[[#This Row],[Ooi]]=\"\",0,IF(Berekeningen!E181=0,1,0))","v":0},{"$f":"IF(D181=0,0,IF(lammering[[#This Row],[Dood in geboorte]]=\"Ja\",0,IF(lammering[[#This Row],[Dood na geboorte]]=\"ja\",0,1)))","v":0},{"$f":"IF(lammering[[#This Row],[Opfok met kunstmelk]]=\"Ja\",1,0)","v":0},{"$f":"IF(lammering[[#This Row],[geslacht]]=\"O\",1,0)","v":0},{"$f":"IF(lammering[[#This Row],[Speen-datum]]=\"\",\"\",(lammering[[#This Row],[Speen-gewicht]]-lammering[[#This Row],[geboorte-gewicht]])/(lammering[[#This Row],[Speen-datum]]-lammering[[#This Row],[Werp-datum]]))","v":""},{"$f":"IF(lammering[[#This Row],[Verkoop-datum]]=\"\",\"\",(lammering[[#This Row],[Verkoop-gewicht]]-lammering[[#This Row],[Speen-gewicht]])/(lammering[[#This Row],[Verkoop-datum]]-lammering[[#This Row],[Speen-datum]]))","v":""},{"$f":"IF(lammering[[#This Row],[Verkoop-datum]]=\"\",\"\",(lammering[[#This Row],[Verkoop-gewicht]]-lammering[[#This Row],[geboorte-gewicht]])/(lammering[[#This Row],[Verkoop-datum]]-lammering[[#This Row],[Werp-datum]]))","v":""},"","","","","","",{"$f":"IF(lammering[[#This Row],[Verkoop-gewicht]]=\"\",\"\",lammering[[#This Row],[Verkoop-gewicht]]-lammering[[#This Row],[geboorte-gewicht]])","v":""},"","",{"$f":"Opzoek_ooi[[#This Row],[Ooinummer]]","v":0},"",""]
[{"$f":"lammering[[#This Row],[Ooi]]","v":0},0,0,{"$f":"IF(lammering[[#This Row],[Lam-nummer]]=\"\",0,1)","v":0},{"$f":"IF(lammering[[#This Row],[Dood in geboorte]]=\"ja\",1,0)","v":0},{"$f":"IF(lammering[[#This Row],[Ooi]]=\"\",0,IF(Berekeningen!E182=0,1,0))","v":0},{"$f":"IF(D182=0,0,IF(lammering[[#This Row],[Dood in geboorte]]=\"Ja\",0,IF(lammering[[#This Row],[Dood na geboorte]]=\"ja\",0,1)))","v":0},{"$f":"IF(lammering[[#This Row],[Opfok met kunstmelk]]=\"Ja\",1,0)","v":0},{"$f":"IF(lammering[[#This Row],[geslacht]]=\"O\",1,0)","v":0},{"$f":"IF(lammering[[#This Row],[Speen-datum]]=\"\",\"\",(lammering[[#This Row],[Speen-gewicht]]-lammering[[#This Row],[geboorte-gewicht]])/(lammering[[#This Row],[Speen-datum]]-lammering[[#This Row],[Werp-datum]]))","v":""},{"$f":"IF(lammering[[#This Row],[Verkoop-datum]]=\"\",\"\",(lammering[[#This Row],[Verkoop-gewicht]]-lammering[[#This Row],[Speen-gewicht]])/(lammering[[#This Row],[Verkoop-datum]]-lammering[[#This Row],[Speen-datum]]))","v":""},{"$f":"IF(lammering[[#This Row],[Verkoop-datum]]=\"\",\"\",(lammering[[#This Row],[Verkoop-gewicht]]-lammering[[#This Row],[geboorte-gewicht]])/(lammering[[#This Row],[Verkoop-datum]]-lammering[[#This Row],[Werp-datum]]))","v":""},"","","","","","",{"$f":"IF(lammering[[#This Row],[Verkoop-gewicht]]=\"\",\"\",lammering[[#This Row],[Verkoop-gewicht]]-lammering[[#This Row],[geboorte-gewicht]])","v":""},"","",{"$f":"Opzoek_ooi[[#This Row],[Ooinummer]]","v":0},"",""]
[{"$f":"lammering[[#This Row],[Ooi]]","v":0},0,0,{"$f":"IF(lammering[[#This Row],[Lam-nummer]]=\"\",0,1)","v":0},{"$f":"IF(lammering[[#This Row],[Dood in geboorte]]=\"ja\",1,0)","v":0},{"$f":"IF(lammering[[#This Row],[Ooi]]=\"\",0,IF(Berekeningen!E183=0,1,0))","v":0},{"$f":"IF(D183=0,0,IF(lammering[[#This Row],[Dood in geboorte]]=\"Ja\",0,IF(lammering[[#This Row],[Dood na geboorte]]=\"ja\",0,1)))","v":0},{"$f":"IF(lammering[[#This Row],[Opfok met kunstmelk]]=\"Ja\",1,0)","v":0},{"$f":"IF(lammering[[#This Row],[geslacht]]=\"O\",1,0)","v":0},{"$f":"IF(lammering[[#This Row],[Speen-datum]]=\"\",\"\",(lammering[[#This Row],[Speen-gewicht]]-lammering[[#This Row],[geboorte-gewicht]])/(lammering[[#This Row],[Speen-datum]]-lammering[[#This Row],[Werp-datum]]))","v":""},{"$f":"IF(lammering[[#This Row],[Verkoop-datum]]=\"\",\"\",(lammering[[#This Row],[Verkoop-gewicht]]-lammering[[#This Row],[Speen-gewicht]])/(lammering[[#This Row],[Verkoop-datum]]-lammering[[#This Row],[Speen-datum]]))","v":""},{"$f":"IF(lammering[[#This Row],[Verkoop-datum]]=\"\",\"\",(lammering[[#This Row],[Verkoop-gewicht]]-lammering[[#This Row],[geboorte-gewicht]])/(lammering[[#This Row],[Verkoop-datum]]-lammering[[#This Row],[Werp-datum]]))","v":""},"","","","","","",{"$f":"IF(lammering[[#This Row],[Verkoop-gewicht]]=\"\",\"\",lammering[[#This Row],[Verkoop-gewicht]]-lammering[[#This Row],[geboorte-gewicht]])","v":""},"","",{"$f":"Opzoek_ooi[[#This Row],[Ooinummer]]","v":0},"",""]
[{"$f":"lammering[[#This Row],[Ooi]]","v":0},0,0,{"$f":"IF(lammering[[#This Row],[Lam-nummer]]=\"\",0,1)","v":0},{"$f":"IF(lammering[[#This Row],[Dood in geboorte]]=\"ja\",1,0)","v":0},{"$f":"IF(lammering[[#This Row],[Ooi]]=\"\",0,IF(Berekeningen!E184=0,1,0))","v":0},{"$f":"IF(D184=0,0,IF(lammering[[#This Row],[Dood in geboorte]]=\"Ja\",0,IF(lammering[[#This Row],[Dood na geboorte]]=\"ja\",0,1)))","v":0},{"$f":"IF(lammering[[#This Row],[Opfok met kunstmelk]]=\"Ja\",1,0)","v":0},{"$f":"IF(lammering[[#This Row],[geslacht]]=\"O\",1,0)","v":0},{"$f":"IF(lammering[[#This Row],[Speen-datum]]=\"\",\"\",(lammering[[#This Row],[Speen-gewicht]]-lammering[[#This Row],[geboorte-gewicht]])/(lammering[[#This Row],[Speen-datum]]-lammering[[#This Row],[Werp-datum]]))","v":""},{"$f":"IF(lammering[[#This Row],[Verkoop-datum]]=\"\",\"\",(lammering[[#This Row],[Verkoop-gewicht]]-lammering[[#This Row],[Speen-gewicht]])/(lammering[[#This Row],[Verkoop-datum]]-lammering[[#This Row],[Speen-datum]]))","v":""},{"$f":"IF(lammering[[#This Row],[Verkoop-datum]]=\"\",\"\",(lammering[[#This Row],[Verkoop-gewicht]]-lammering[[#This Row],[geboorte-gewicht]])/(lammering[[#This Row],[Verkoop-datum]]-lammering[[#This Row],[Werp-datum]]))","v":""},"","","","","","",{"$f":"IF(lammering[[#This Row],[Verkoop-gewicht]]=\"\",\"\",lammering[[#This Row],[Verkoop-gewicht]]-lammering[[#This Row],[geboorte-gewicht]])","v":""},"","",{"$f":"Opzoek_ooi[[#This Row],[Ooinummer]]","v":0},"",""]
[{"$f":"lammering[[#This Row],[Ooi]]","v":0},0,0,{"$f":"IF(lammering[[#This Row],[Lam-nummer]]=\"\",0,1)","v":0},{"$f":"IF(lammering[[#This Row],[Dood in geboorte]]=\"ja\",1,0)","v":0},{"$f":"IF(lammering[[#This Row],[Ooi]]=\"\",0,IF(Berekeningen!E185=0,1,0))","v":0},{"$f":"IF(D185=0,0,IF(lammering[[#This Row],[Dood in geboorte]]=\"Ja\",0,IF(lammering[[#This Row],[Dood na geboorte]]=\"ja\",0,1)))","v":0},{"$f":"IF(lammering[[#This Row],[Opfok met kunstmelk]]=\"Ja\",1,0)","v":0},{"$f":"IF(lammering[[#This Row],[geslacht]]=\"O\",1,0)","v":0},{"$f":"IF(lammering[[#This Row],[Speen-datum]]=\"\",\"\",(lammering[[#This Row],[Speen-gewicht]]-lammering[[#This Row],[geboorte-gewicht]])/(lammering[[#This Row],[Speen-datum]]-lammering[[#This Row],[Werp-datum]]))","v":""},{"$f":"IF(lammering[[#This Row],[Verkoop-datum]]=\"\",\"\",(lammering[[#This Row],[Verkoop-gewicht]]-lammering[[#This Row],[Speen-gewicht]])/(lammering[[#This Row],[Verkoop-datum]]-lammering[[#This Row],[Speen-datum]]))","v":""},{"$f":"IF(lammering[[#This Row],[Verkoop-datum]]=\"\",\"\",(lammering[[#This Row],[Verkoop-gewicht]]-lammering[[#This Row],[geboorte-gewicht]])/(lammering[[#This Row],[Verkoop-datum]]-lammering[[#This Row],[Werp-datum]]))","v":""},"","","","","","",{"$f":"IF(lammering[[#This Row],[Verkoop-gewicht]]=\"\",\"\",lammering[[#This Row],[Verkoop-gewicht]]-lammering[[#This Row],[geboorte-gewicht]])","v":""},"","",{"$f":"Opzoek_ooi[[#This Row],[Ooinummer]]","v":0},"",""]
[{"$f":"lammering[[#This Row],[Ooi]]","v":0},0,0,{"$f":"IF(lammering[[#This Row],[Lam-nummer]]=\"\",0,1)","v":0},{"$f":"IF(lammering[[#This Row],[Dood in geboorte]]=\"ja\",1,0)","v":0},{"$f":"IF(lammering[[#This Row],[Ooi]]=\"\",0,IF(Berekeningen!E186=0,1,0))","v":0},{"$f":"IF(D186=0,0,IF(lammering[[#This Row],[Dood in geboorte]]=\"Ja\",0,IF(lammering[[#This Row],[Dood na geboorte]]=\"ja\",0,1)))","v":0},{"$f":"IF(lammering[[#This Row],[Opfok met kunstmelk]]=\"Ja\",1,0)","v":0},{"$f":"IF(lammering[[#This Row],[geslacht]]=\"O\",1,0)","v":0},{"$f":"IF(lammering[[#This Row],[Speen-datum]]=\"\",\"\",(lammering[[#This Row],[Speen-gewicht]]-lammering[[#This Row],[geboorte-gewicht]])/(lammering[[#This Row],[Speen-datum]]-lammering[[#This Row],[Werp-datum]]))","v":""},{"$f":"IF(lammering[[#This Row],[Verkoop-datum]]=\"\",\"\",(lammering[[#This Row],[Verkoop-gewicht]]-lammering[[#This Row],[Speen-gewicht]])/(lammering[[#This Row],[Verkoop-datum]]-lammering[[#This Row],[Speen-datum]]))","v":""},{"$f":"IF(lammering[[#This Row],[Verkoop-datum]]=\"\",\"\",(lammering[[#This Row],[Verkoop-gewicht]]-lammering[[#This Row],[geboorte-gewicht]])/(lammering[[#This Row],[Verkoop-datum]]-lammering[[#This Row],[Werp-datum]]))","v":""},"","","","","","",{"$f":"IF(lammering[[#This Row],[Verkoop-gewicht]]=\"\",\"\",lammering[[#This Row],[Verkoop-gewicht]]-lammering[[#This Row],[geboorte-gewicht]])","v":""},"","",{"$f":"Opzoek_ooi[[#This Row],[Ooinummer]]","v":0},"",""]
[{"$f":"lammering[[#This Row],[Ooi]]","v":0},0,0,{"$f":"IF(lammering[[#This Row],[Lam-nummer]]=\"\",0,1)","v":0},{"$f":"IF(lammering[[#This Row],[Dood in geboorte]]=\"ja\",1,0)","v":0},{"$f":"IF(lammering[[#This Row],[Ooi]]=\"\",0,IF(Berekeningen!E187=0,1,0))","v":0},{"$f":"IF(D187=0,0,IF(lammering[[#This Row],[Dood in geboorte]]=\"Ja\",0,IF(lammering[[#This Row],[Dood na geboorte]]=\"ja\",0,1)))","v":0},{"$f":"IF(lammering[[#This Row],[Opfok met kunstmelk]]=\"Ja\",1,0)","v":0},{"$f":"IF(lammering[[#This Row],[geslacht]]=\"O\",1,0)","v":0},{"$f":"IF(lammering[[#This Row],[Speen-datum]]=\"\",\"\",(lammering[[#This Row],[Speen-gewicht]]-lammering[[#This Row],[geboorte-gewicht]])/(lammering[[#This Row],[Speen-datum]]-lammering[[#This Row],[Werp-datum]]))","v":""},{"$f":"IF(lammering[[#This Row],[Verkoop-datum]]=\"\",\"\",(lammering[[#This Row],[Verkoop-gewicht]]-lammering[[#This Row],[Speen-gewicht]])/(lammering[[#This Row],[Verkoop-datum]]-lammering[[#This Row],[Speen-datum]]))","v":""},{"$f":"IF(lammering[[#This Row],[Verkoop-datum]]=\"\",\"\",(lammering[[#This Row],[Verkoop-gewicht]]-lammering[[#This Row],[geboorte-gewicht]])/(lammering[[#This Row],[Verkoop-datum]]-lammering[[#This Row],[Werp-datum]]))","v":""},"","","","","","",{"$f":"IF(lammering[[#This Row],[Verkoop-gewicht]]=\"\",\"\",lammering[[#This Row],[Verkoop-gewicht]]-lammering[[#This Row],[geboorte-gewicht]])","v":""},"","",{"$f":"Opzoek_ooi[[#This Row],[Ooinummer]]","v":0},"",""]
[{"$f":"lammering[[#This Row],[Ooi]]","v":0},0,0,{"$f":"IF(lammering[[#This Row],[Lam-nummer]]=\"\",0,1)","v":0},{"$f":"IF(lammering[[#This Row],[Dood in geboorte]]=\"ja\",1,0)","v":0},{"$f":"IF(lammering[[#This Row],[Ooi]]=\"\",0,IF(Berekeningen!E188=0,1,0))","v":0},{"$f":"IF(D188=0,0,IF(lammering[[#This Row],[Dood in geboorte]]=\"Ja\",0,IF(lammering[[#This Row],[Dood na geboorte]]=\"ja\",0,1)))","v":0},{"$f":"IF(lammering[[#This Row],[Opfok met kunstmelk]]=\"Ja\",1,0)","v":0},{"$f":"IF(lammering[[#This Row],[geslacht]]=\"O\",1,0)","v":0},{"$f":"IF(lammering[[#This Row],[Speen-datum]]=\"\",\"\",(lammering[[#This Row],[Speen-gewicht]]-lammering[[#This Row],[geboorte-gewicht]])/(lammering[[#This Row],[Speen-datum]]-lammering[[#This Row],[Werp-datum]]))","v":""},{"$f":"IF(lammering[[#This Row],[Verkoop-datum]]=\"\",\"\",(lammering[[#This Row],[Verkoop-gewicht]]-lammering[[#This Row],[Speen-gewicht]])/(lammering[[#This Row],[Verkoop-datum]]-lammering[[#This Row],[Speen-datum]]))","v":""},{"$f":"IF(lammering[[#This Row],[Verkoop-datum]]=\"\",\"\",(lammering[[#This Row],[Verkoop-gewicht]]-lammering[[#This Row],[geboorte-gewicht]])/(lammering[[#This Row],[Verkoop-datum]]-lammering[[#This Row],[Werp-datum]]))","v":""},"","","","","","",{"$f":"IF(lammering[[#This Row],[Verkoop-gewicht]]=\"\",\"\",lammering[[#This Row],[Verkoop-gewicht]]-lammering[[#This Row],[geboorte-gewicht]])","v":""},"","",{"$f":"Opzoek_ooi[[#This Row],[Ooinummer]]","v":0},"",""]
[{"$f":"lammering[[#This Row],[Ooi]]","v":0},0,0,{"$f":"IF(lammering[[#This Row],[Lam-nummer]]=\"\",0,1)","v":0},{"$f":"IF(lammering[[#This Row],[Dood in geboorte]]=\"ja\",1,0)","v":0},{"$f":"IF(lammering[[#This Row],[Ooi]]=\"\",0,IF(Berekeningen!E189=0,1,0))","v":0},{"$f":"IF(D189=0,0,IF(lammering[[#This Row],[Dood in geboorte]]=\"Ja\",0,IF(lammering[[#This Row],[Dood na geboorte]]=\"ja\",0,1)))","v":0},{"$f":"IF(lammering[[#This Row],[Opfok met kunstmelk]]=\"Ja\",1,0)","v":0},{"$f":"IF(lammering[[#This Row],[geslacht]]=\"O\",1,0)","v":0},{"$f":"IF(lammering[[#This Row],[Speen-datum]]=\"\",\"\",(lammering[[#This Row],[Speen-gewicht]]-lammering[[#This Row],[geboorte-gewicht]])/(lammering[[#This Row],[Speen-datum]]-lammering[[#This Row],[Werp-datum]]))","v":""},{"$f":"IF(lammering[[#This Row],[Verkoop-datum]]=\"\",\"\",(lammering[[#This Row],[Verkoop-gewicht]]-lammering[[#This Row],[Speen-gewicht]])/(lammering[[#This Row],[Verkoop-datum]]-lammering[[#This Row],[Speen-datum]]))","v":""},{"$f":"IF(lammering[[#This Row],[Verkoop-datum]]=\"\",\"\",(lammering[[#This Row],[Verkoop-gewicht]]-lammering[[#This Row],[geboorte-gewicht]])/(lammering[[#This Row],[Verkoop-datum]]-lammering[[#This Row],[Werp-datum]]))","v":""},"","","","","","",{"$f":"IF(lammering[[#This Row],[Verkoop-gewicht]]=\"\",\"\",lammering[[#This Row],[Verkoop-gewicht]]-lammering[[#This Row],[geboorte-gewicht]])","v":""},"","",{"$f":"Opzoek_ooi[[#This Row],[Ooinummer]]","v":0},"",""]
[{"$f":"lammering[[#This Row],[Ooi]]","v":0},0,0,{"$f":"IF(lammering[[#This Row],[Lam-nummer]]=\"\",0,1)","v":0},{"$f":"IF(lammering[[#This Row],[Dood in geboorte]]=\"ja\",1,0)","v":0},{"$f":"IF(lammering[[#This Row],[Ooi]]=\"\",0,IF(Berekeningen!E190=0,1,0))","v":0},{"$f":"IF(D190=0,0,IF(lammering[[#This Row],[Dood in geboorte]]=\"Ja\",0,IF(lammering[[#This Row],[Dood na geboorte]]=\"ja\",0,1)))","v":0},{"$f":"IF(lammering[[#This Row],[Opfok met kunstmelk]]=\"Ja\",1,0)","v":0},{"$f":"IF(lammering[[#This Row],[geslacht]]=\"O\",1,0)","v":0},{"$f":"IF(lammering[[#This Row],[Speen-datum]]=\"\",\"\",(lammering[[#This Row],[Speen-gewicht]]-lammering[[#This Row],[geboorte-gewicht]])/(lammering[[#This Row],[Speen-datum]]-lammering[[#This Row],[Werp-datum]]))","v":""},{"$f":"IF(lammering[[#This Row],[Verkoop-datum]]=\"\",\"\",(lammering[[#This Row],[Verkoop-gewicht]]-lammering[[#This Row],[Speen-gewicht]])/(lammering[[#This Row],[Verkoop-datum]]-lammering[[#This Row],[Speen-datum]]))","v":""},{"$f":"IF(lammering[[#This Row],[Verkoop-datum]]=\"\",\"\",(lammering[[#This Row],[Verkoop-gewicht]]-lammering[[#This Row],[geboorte-gewicht]])/(lammering[[#This Row],[Verkoop-datum]]-lammering[[#This Row],[Werp-datum]]))","v":""},"","","","","","",{"$f":"IF(lammering[[#This Row],[Verkoop-gewicht]]=\"\",\"\",lammering[[#This Row],[Verkoop-gewicht]]-lammering[[#This Row],[geboorte-gewicht]])","v":""},"","",{"$f":"Opzoek_ooi[[#This Row],[Ooinummer]]","v":0},"",""]
[{"$f":"lammering[[#This Row],[Ooi]]","v":0},0,0,{"$f":"IF(lammering[[#This Row],[Lam-nummer]]=\"\",0,1)","v":0},{"$f":"IF(lammering[[#This Row],[Dood in geboorte]]=\"ja\",1,0)","v":0},{"$f":"IF(lammering[[#This Row],[Ooi]]=\"\",0,IF(Berekeningen!E191=0,1,0))","v":0},{"$f":"IF(D191=0,0,IF(lammering[[#This Row],[Dood in geboorte]]=\"Ja\",0,IF(lammering[[#This Row],[Dood na geboorte]]=\"ja\",0,1)))","v":0},{"$f":"IF(lammering[[#This Row],[Opfok met kunstmelk]]=\"Ja\",1,0)","v":0},{"$f":"IF(lammering[[#This Row],[geslacht]]=\"O\",1,0)","v":0},{"$f":"IF(lammering[[#This Row],[Speen-datum]]=\"\",\"\",(lammering[[#This Row],[Speen-gewicht]]-lammering[[#This Row],[geboorte-gewicht]])/(lammering[[#This Row],[Speen-datum]]-lammering[[#This Row],[Werp-datum]]))","v":""},{"$f":"IF(lammering[[#This Row],[Verkoop-datum]]=\"\",\"\",(lammering[[#This Row],[Verkoop-gewicht]]-lammering[[#This Row],[Speen-gewicht]])/(lammering[[#This Row],[Verkoop-datum]]-lammering[[#This Row],[Speen-datum]]))","v":""},{"$f":"IF(lammering[[#This Row],[Verkoop-datum]]=\"\",\"\",(lammering[[#This Row],[Verkoop-gewicht]]-lammering[[#This Row],[geboorte-gewicht]])/(lammering[[#This Row],[Verkoop-datum]]-lammering[[#This Row],[Werp-datum]]))","v":""},"","","","","","",{"$f":"IF(lammering[[#This Row],[Verkoop-gewicht]]=\"\",\"\",lammering[[#This Row],[Verkoop-gewicht]]-lammering[[#This Row],[geboorte-gewicht]])","v":""},"","",{"$f":"Opzoek_ooi[[#This Row],[Ooinummer]]","v":0},"",""]
[{"$f":"lammering[[#This Row],[Ooi]]","v":0},0,0,{"$f":"IF(lammering[[#This Row],[Lam-nummer]]=\"\",0,1)","v":0},{"$f":"IF(lammering[[#This Row],[Dood in geboorte]]=\"ja\",1,0)","v":0},{"$f":"IF(lammering[[#This Row],[Ooi]]=\"\",0,IF(Berekeningen!E192=0,1,0))","v":0},{"$f":"IF(D192=0,0,IF(lammering[[#This Row],[Dood in geboorte]]=\"Ja\",0,IF(lammering[[#This Row],[Dood na geboorte]]=\"ja\",0,1)))","v":0},{"$f":"IF(lammering[[#This Row],[Opfok met kunstmelk]]=\"Ja\",1,0)","v":0},{"$f":"IF(lammering[[#This Row],[geslacht]]=\"O\",1,0)","v":0},{"$f":"IF(lammering[[#This Row],[Speen-datum]]=\"\",\"\",(lammering[[#This Row],[Speen-gewicht]]-lammering[[#This Row],[geboorte-gewicht]])/(lammering[[#This Row],[Speen-datum]]-lammering[[#This Row],[Werp-datum]]))","v":""},{"$f":"IF(lammering[[#This Row],[Verkoop-datum]]=\"\",\"\",(lammering[[#This Row],[Verkoop-gewicht]]-lammering[[#This Row],[Speen-gewicht]])/(lammering[[#This Row],[Verkoop-datum]]-lammering[[#This Row],[Speen-datum]]))","v":""},{"$f":"IF(lammering[[#This Row],[Verkoop-datum]]=\"\",\"\",(lammering[[#This Row],[Verkoop-gewicht]]-lammering[[#This Row],[geboorte-gewicht]])/(lammering[[#This Row],[Verkoop-datum]]-lammering[[#This Row],[Werp-datum]]))","v":""},"","","","","","",{"$f":"IF(lammering[[#This Row],[Verkoop-gewicht]]=\"\",\"\",lammering[[#This Row],[Verkoop-gewicht]]-lammering[[#This Row],[geboorte-gewicht]])","v":""},"","",{"$f":"Opzoek_ooi[[#This Row],[Ooinummer]]","v":0},"",""]
[{"$f":"lammering[[#This Row],[Ooi]]","v":0},0,0,{"$f":"IF(lammering[[#This Row],[Lam-nummer]]=\"\",0,1)","v":0},{"$f":"IF(lammering[[#This Row],[Dood in geboorte]]=\"ja\",1,0)","v":0},{"$f":"IF(lammering[[#This Row],[Ooi]]=\"\",0,IF(Berekeningen!E193=0,1,0))","v":0},{"$f":"IF(D193=0,0,IF(lammering[[#This Row],[Dood in geboorte]]=\"Ja\",0,IF(lammering[[#This Row],[Dood na geboorte]]=\"ja\",0,1)))","v":0},{"$f":"IF(lammering[[#This Row],[Opfok met kunstmelk]]=\"Ja\",1,0)","v":0},{"$f":"IF(lammering[[#This Row],[geslacht]]=\"O\",1,0)","v":0},{"$f":"IF(lammering[[#This Row],[Speen-datum]]=\"\",\"\",(lammering[[#This Row],[Speen-gewicht]]-lammering[[#This Row],[geboorte-gewicht]])/(lammering[[#This Row],[Speen-datum]]-lammering[[#This Row],[Werp-datum]]))","v":""},{"$f":"IF(lammering[[#This Row],[Verkoop-datum]]=\"\",\"\",(lammering[[#This Row],[Verkoop-gewicht]]-lammering[[#This Row],[Speen-gewicht]])/(lammering[[#This Row],[Verkoop-datum]]-lammering[[#This Row],[Speen-datum]]))","v":""},{"$f":"IF(lammering[[#This Row],[Verkoop-datum]]=\"\",\"\",(lammering[[#This Row],[Verkoop-gewicht]]-lammering[[#This Row],[geboorte-gewicht]])/(lammering[[#This Row],[Verkoop-datum]]-lammering[[#This Row],[Werp-datum]]))","v":""},"","","","","","",{"$f":"IF(lammering[[#This Row],[Verkoop-gewicht]]=\"\",\"\",lammering[[#This Row],[Verkoop-gewicht]]-lammering[[#This Row],[geboorte-gewicht]])","v":""},"","",{"$f":"Opzoek_ooi[[#This Row],[Ooinummer]]","v":0},"",""]
[{"$f":"lammering[[#This Row],[Ooi]]","v":0},0,0,{"$f":"IF(lammering[[#This Row],[Lam-nummer]]=\"\",0,1)","v":0},{"$f":"IF(lammering[[#This Row],[Dood in geboorte]]=\"ja\",1,0)","v":0},{"$f":"IF(lammering[[#This Row],[Ooi]]=\"\",0,IF(Berekeningen!E194=0,1,0))","v":0},{"$f":"IF(D194=0,0,IF(lammering[[#This Row],[Dood in geboorte]]=\"Ja\",0,IF(lammering[[#This Row],[Dood na geboorte]]=\"ja\",0,1)))","v":0},{"$f":"IF(lammering[[#This Row],[Opfok met kunstmelk]]=\"Ja\",1,0)","v":0},{"$f":"IF(lammering[[#This Row],[geslacht]]=\"O\",1,0)","v":0},{"$f":"IF(lammering[[#This Row],[Speen-datum]]=\"\",\"\",(lammering[[#This Row],[Speen-gewicht]]-lammering[[#This Row],[geboorte-gewicht]])/(lammering[[#This Row],[Speen-datum]]-lammering[[#This Row],[Werp-datum]]))","v":""},{"$f":"IF(lammering[[#This Row],[Verkoop-datum]]=\"\",\"\",(lammering[[#This Row],[Verkoop-gewicht]]-lammering[[#This Row],[Speen-gewicht]])/(lammering[[#This Row],[Verkoop-datum]]-lammering[[#This Row],[Speen-datum]]))","v":""},{"$f":"IF(lammering[[#This Row],[Verkoop-datum]]=\"\",\"\",(lammering[[#This Row],[Verkoop-gewicht]]-lammering[[#This Row],[geboorte-gewicht]])/(lammering[[#This Row],[Verkoop-datum]]-lammering[[#This Row],[Werp-datum]]))","v":""},"","","","","","",{"$f":"IF(lammering[[#This Row],[Verkoop-gewicht]]=\"\",\"\",lammering[[#This Row],[Verkoop-gewicht]]-lammering[[#This Row],[geboorte-gewicht]])","v":""},"","",{"$f":"Opzoek_ooi[[#This Row],[Ooinummer]]","v":0},"",""]
[{"$f":"lammering[[#This Row],[Ooi]]","v":0},{"$f":"IF(A195=0,0,IF(A195=A194,0,1))","v":0},{"$f":"IF(B195=1,A195,0)","v":0},{"$f":"IF(lammering[[#This Row],[Lam-nummer]]=\"\",0,1)","v":0},{"$f":"IF(lammering[[#This Row],[Dood in geboorte]]=\"ja\",1,0)","v":0},{"$f":"IF(lammering[[#This Row],[Ooi]]=\"\",0,IF(Berekeningen!E195=0,1,0))","v":0},{"$f":"IF(D195=0,0,IF(lammering[[#This Row],[Dood in geboorte]]=\"Ja\",0,IF(lammering[[#This Row],[Dood na geboorte]]=\"ja\",0,1)))","v":0},{"$f":"IF(lammering[[#This Row],[Opfok met kunstmelk]]=\"Ja\",1,0)","v":0},{"$f":"IF(lammering[[#This Row],[geslacht]]=\"O\",1,0)","v":0},{"$f":"IF(lammering[[#This Row],[Speen-datum]]=\"\",\"\",(lammering[[#This Row],[Speen-gewicht]]-lammering[[#This Row],[geboorte-gewicht]])/(lammering[[#This Row],[Speen-datum]]-lammering[[#This Row],[Werp-datum]]))","v":""},{"$f":"IF(lammering[[#This Row],[Verkoop-datum]]=\"\",\"\",(lammering[[#This Row],[Verkoop-gewicht]]-lammering[[#This Row],[Speen-gewicht]])/(lammering[[#This Row],[Verkoop-datum]]-lammering[[#This Row],[Speen-datum]]))","v":""},{"$f":"IF(lammering[[#This Row],[Verkoop-datum]]=\"\",\"\",(lammering[[#This Row],[Verkoop-gewicht]]-lammering[[#This Row],[geboorte-gewicht]])/(lammering[[#This Row],[Verkoop-datum]]-lammering[[#This Row],[Werp-datum]]))","v":""},"","","","","","",{"$f":"IF(lammering[[#This Row],[Verkoop-gewicht]]=\"\",\"\",lammering[[#This Row],[Verkoop-gewicht]]-lammering[[#This Row],[geboorte-gewicht]])","v":""},"","",{"$f":"Opzoek_ooi[[#This Row],[Ooinummer]]","v":0},"",{"$f":"IF(W195>0,W195,\"\")","v":""}]
[{"$f":"lammering[[#This Row],[Ooi]]","v":0},0,0,{"$f":"IF(lammering[[#This Row],[Lam-nummer]]=\"\",0,1)","v":0},{"$f":"IF(lammering[[#This Row],[Dood in geboorte]]=\"ja\",1,0)","v":0},{"$f":"IF(lammering[[#This Row],[Ooi]]=\"\",0,IF(Berekeningen!E196=0,1,0))","v":0},{"$f":"IF(D196=0,0,IF(lammering[[#This Row],[Dood in geboorte]]=\"Ja\",0,IF(lammering[[#This Row],[Dood na geboorte]]=\"ja\",0,1)))","v":0},{"$f":"IF(lammering[[#This Row],[Opfok met kunstmelk]]=\"Ja\",1,0)","v":0},{"$f":"IF(lammering[[#This Row],[geslacht]]=\"O\",1,0)","v":0},{"$f":"IF(lammering[[#This Row],[Speen-datum]]=\"\",\"\",(lammering[[#This Row],[Speen-gewicht]]-lammering[[#This Row],[geboorte-gewicht]])/(lammering[[#This Row],[Speen-datum]]-lammering[[#This Row],[Werp-datum]]))","v":""},{"$f":"IF(lammering[[#This Row],[Verkoop-datum]]=\"\",\"\",(lammering[[#This Row],[Verkoop-gewicht]]-lammering[[#This Row],[Speen-gewicht]])/(lammering[[#This Row],[Verkoop-datum]]-lammering[[#This Row],[Speen-datum]]))","v":""},{"$f":"IF(lammering[[#This Row],[Verkoop-datum]]=\"\",\"\",(lammering[[#This Row],[Verkoop-gewicht]]-lammering[[#This Row],[geboorte-gewicht]])/(lammering[[#This Row],[Verkoop-datum]]-lammering[[#This Row],[Werp-datum]]))","v":""},"","","","","","",{"$f":"IF(lammering[[#This Row],[Verkoop-gewicht]]=\"\",\"\",lammering[[#This Row],[Verkoop-gewicht]]-lammering[[#This Row],[geboorte-gewicht]])","v":""},"","",{"$f":"Opzoek_ooi[[#This Row],[Ooinummer]]","v":0},"",""]
[{"$f":"lammering[[#This Row],[Ooi]]","v":0},0,0,{"$f":"IF(lammering[[#This Row],[Lam-nummer]]=\"\",0,1)","v":0},{"$f":"IF(lammering[[#This Row],[Dood in geboorte]]=\"ja\",1,0)","v":0},{"$f":"IF(lammering[[#This Row],[Ooi]]=\"\",0,IF(Berekeningen!E197=0,1,0))","v":0},{"$f":"IF(D197=0,0,IF(lammering[[#This Row],[Dood in geboorte]]=\"Ja\",0,IF(lammering[[#This Row],[Dood na geboorte]]=\"ja\",0,1)))","v":0},{"$f":"IF(lammering[[#This Row],[Opfok met kunstmelk]]=\"Ja\",1,0)","v":0},{"$f":"IF(lammering[[#This Row],[geslacht]]=\"O\",1,0)","v":0},{"$f":"IF(lammering[[#This Row],[Speen-datum]]=\"\",\"\",(lammering[[#This Row],[Speen-gewicht]]-lammering[[#This Row],[geboorte-gewicht]])/(lammering[[#This Row],[Speen-datum]]-lammering[[#This Row],[Werp-datum]]))","v":""},{"$f":"IF(lammering[[#This Row],[Verkoop-datum]]=\"\",\"\",(lammering[[#This Row],[Verkoop-gewicht]]-lammering[[#This Row],[Speen-gewicht]])/(lammering[[#This Row],[Verkoop-datum]]-lammering[[#This Row],[Speen-datum]]))","v":""},{"$f":"IF(lammering[[#This Row],[Verkoop-datum]]=\"\",\"\",(lammering[[#This Row],[Verkoop-gewicht]]-lammering[[#This Row],[geboorte-gewicht]])/(lammering[[#This Row],[Verkoop-datum]]-lammering[[#This Row],[Werp-datum]]))","v":""},"","","","","","",{"$f":"IF(lammering[[#This Row],[Verkoop-gewicht]]=\"\",\"\",lammering[[#This Row],[Verkoop-gewicht]]-lammering[[#This Row],[geboorte-gewicht]])","v":""},"","",{"$f":"Opzoek_ooi[[#This Row],[Ooinummer]]","v":0},"",""]
[{"$f":"lammering[[#This Row],[Ooi]]","v":0},0,0,{"$f":"IF(lammering[[#This Row],[Lam-nummer]]=\"\",0,1)","v":0},{"$f":"IF(lammering[[#This Row],[Dood in geboorte]]=\"ja\",1,0)","v":0},{"$f":"IF(lammering[[#This Row],[Ooi]]=\"\",0,IF(Berekeningen!E198=0,1,0))","v":0},{"$f":"IF(D198=0,0,IF(lammering[[#This Row],[Dood in geboorte]]=\"Ja\",0,IF(lammering[[#This Row],[Dood na geboorte]]=\"ja\",0,1)))","v":0},{"$f":"IF(lammering[[#This Row],[Opfok met kunstmelk]]=\"Ja\",1,0)","v":0},{"$f":"IF(lammering[[#This Row],[geslacht]]=\"O\",1,0)","v":0},{"$f":"IF(lammering[[#This Row],[Speen-datum]]=\"\",\"\",(lammering[[#This Row],[Speen-gewicht]]-lammering[[#This Row],[geboorte-gewicht]])/(lammering[[#This Row],[Speen-datum]]-lammering[[#This Row],[Werp-datum]]))","v":""},{"$f":"IF(lammering[[#This Row],[Verkoop-datum]]=\"\",\"\",(lammering[[#This Row],[Verkoop-gewicht]]-lammering[[#This Row],[Speen-gewicht]])/(lammering[[#This Row],[Verkoop-datum]]-lammering[[#This Row],[Speen-datum]]))","v":""},{"$f":"IF(lammering[[#This Row],[Verkoop-datum]]=\"\",\"\",(lammering[[#This Row],[Verkoop-gewicht]]-lammering[[#This Row],[geboorte-gewicht]])/(lammering[[#This Row],[Verkoop-datum]]-lammering[[#This Row],[Werp-datum]]))","v":""},"","","","","","",{"$f":"IF(lammering[[#This Row],[Verkoop-gewicht]]=\"\",\"\",lammering[[#This Row],[Verkoop-gewicht]]-lammering[[#This Row],[geboorte-gewicht]])","v":""},"","",{"$f":"Opzoek_ooi[[#This Row],[Ooinummer]]","v":0},"",""]
[{"$f":"lammering[[#This Row],[Ooi]]","v":0},0,0,{"$f":"IF(lammering[[#This Row],[Lam-nummer]]=\"\",0,1)","v":0},{"$f":"IF(lammering[[#This Row],[Dood in geboorte]]=\"ja\",1,0)","v":0},{"$f":"IF(lammering[[#This Row],[Ooi]]=\"\",0,IF(Berekeningen!E199=0,1,0))","v":0},{"$f":"IF(D199=0,0,IF(lammering[[#This Row],[Dood in geboorte]]=\"Ja\",0,IF(lammering[[#This Row],[Dood na geboorte]]=\"ja\",0,1)))","v":0},{"$f":"IF(lammering[[#This Row],[Opfok met kunstmelk]]=\"Ja\",1,0)","v":0},{"$f":"IF(lammering[[#This Row],[geslacht]]=\"O\",1,0)","v":0},{"$f":"IF(lammering[[#This Row],[Speen-datum]]=\"\",\"\",(lammering[[#This Row],[Speen-gewicht]]-lammering[[#This Row],[geboorte-gewicht]])/(lammering[[#This Row],[Speen-datum]]-lammering[[#This Row],[Werp-datum]]))","v":""},{"$f":"IF(lammering[[#This Row],[Verkoop-datum]]=\"\",\"\",(lammering[[#This Row],[Verkoop-gewicht]]-lammering[[#This Row],[Speen-gewicht]])/(lammering[[#This Row],[Verkoop-datum]]-lammering[[#This Row],[Speen-datum]]))","v":""},{"$f":"IF(lammering[[#This Row],[Verkoop-datum]]=\"\",\"\",(lammering[[#This Row],[Verkoop-gewicht]]-lammering[[#This Row],[geboorte-gewicht]])/(lammering[[#This Row],[Verkoop-datum]]-lammering[[#This Row],[Werp-datum]]))","v":""},"","","","","","",{"$f":"IF(lammering[[#This Row],[Verkoop-gewicht]]=\"\",\"\",lammering[[#This Row],[Verkoop-gewicht]]-lammering[[#This Row],[geboorte-gewicht]])","v":""},"","",{"$f":"Opzoek_ooi[[#This Row],[Ooinummer]]","v":0},"",""]
[{"$f":"lammering[[#This Row],[Ooi]]","v":0},0,0,{"$f":"IF(lammering[[#This Row],[Lam-nummer]]=\"\",0,1)","v":0},{"$f":"IF(lammering[[#This Row],[Dood in geboorte]]=\"ja\",1,0)","v":0},{"$f":"IF(lammering[[#This Row],[Ooi]]=\"\",0,IF(Berekeningen!E200=0,1,0))","v":0},{"$f":"IF(D200=0,0,IF(lammering[[#This Row],[Dood in geboorte]]=\"Ja\",0,IF(lammering[[#This Row],[Dood na geboorte]]=\"ja\",0,1)))","v":0},{"$f":"IF(lammering[[#This Row],[Opfok met kunstmelk]]=\"Ja\",1,0)","v":0},{"$f":"IF(lammering[[#This Row],[geslacht]]=\"O\",1,0)","v":0},{"$f":"IF(lammering[[#This Row],[Speen-datum]]=\"\",\"\",(lammering[[#This Row],[Speen-gewicht]]-lammering[[#This Row],[geboorte-gewicht]])/(lammering[[#This Row],[Speen-datum]]-lammering[[#This Row],[Werp-datum]]))","v":""},{"$f":"IF(lammering[[#This Row],[Verkoop-datum]]=\"\",\"\",(lammering[[#This Row],[Verkoop-gewicht]]-lammering[[#This Row],[Speen-gewicht]])/(lammering[[#This Row],[Verkoop-datum]]-lammering[[#This Row],[Speen-datum]]))","v":""},{"$f":"IF(lammering[[#This Row],[Verkoop-datum]]=\"\",\"\",(lammering[[#This Row],[Verkoop-gewicht]]-lammering[[#This Row],[geboorte-gewicht]])/(lammering[[#This Row],[Verkoop-datum]]-lammering[[#This Row],[Werp-datum]]))","v":""},"","","","","","",{"$f":"IF(lammering[[#This Row],[Verkoop-gewicht]]=\"\",\"\",lammering[[#This Row],[Verkoop-gewicht]]-lammering[[#This Row],[geboorte-gewicht]])","v":""},"","",{"$f":"Opzoek_ooi[[#This Row],[Ooinummer]]","v":0},"",""]
[{"$f":"lammering[[#This Row],[Ooi]]","v":0},0,0,{"$f":"IF(lammering[[#This Row],[Lam-nummer]]=\"\",0,1)","v":0},{"$f":"IF(lammering[[#This Row],[Dood in geboorte]]=\"ja\",1,0)","v":0},{"$f":"IF(lammering[[#This Row],[Ooi]]=\"\",0,IF(Berekeningen!E201=0,1,0))","v":0},{"$f":"IF(D201=0,0,IF(lammering[[#This Row],[Dood in geboorte]]=\"Ja\",0,IF(lammering[[#This Row],[Dood na geboorte]]=\"ja\",0,1)))","v":0},{"$f":"IF(lammering[[#This Row],[Opfok met kunstmelk]]=\"Ja\",1,0)","v":0},{"$f":"IF(lammering[[#This Row],[geslacht]]=\"O\",1,0)","v":0},{"$f":"IF(lammering[[#This Row],[Speen-datum]]=\"\",\"\",(lammering[[#This Row],[Speen-gewicht]]-lammering[[#This Row],[geboorte-gewicht]])/(lammering[[#This Row],[Speen-datum]]-lammering[[#This Row],[Werp-datum]]))","v":""},{"$f":"IF(lammering[[#This Row],[Verkoop-datum]]=\"\",\"\",(lammering[[#This Row],[Verkoop-gewicht]]-lammering[[#This Row],[Speen-gewicht]])/(lammering[[#This Row],[Verkoop-datum]]-lammering[[#This Row],[Speen-datum]]))","v":""},{"$f":"IF(lammering[[#This Row],[Verkoop-datum]]=\"\",\"\",(lammering[[#This Row],[Verkoop-gewicht]]-lammering[[#This Row],[geboorte-gewicht]])/(lammering[[#This Row],[Verkoop-datum]]-lammering[[#This Row],[Werp-datum]]))","v":""},"","","","","","",{"$f":"IF(lammering[[#This Row],[Verkoop-gewicht]]=\"\",\"\",lammering[[#This Row],[Verkoop-gewicht]]-lammering[[#This Row],[geboorte-gewicht]])","v":""},"","",{"$f":"Opzoek_ooi[[#This Row],[Ooinummer]]","v":0},"",""]
[{"$f":"lammering[[#This Row],[Ooi]]","v":0},0,0,{"$f":"IF(lammering[[#This Row],[Lam-nummer]]=\"\",0,1)","v":0},{"$f":"IF(lammering[[#This Row],[Dood in geboorte]]=\"ja\",1,0)","v":0},{"$f":"IF(lammering[[#This Row],[Ooi]]=\"\",0,IF(Berekeningen!E202=0,1,0))","v":0},{"$f":"IF(D202=0,0,IF(lammering[[#This Row],[Dood in geboorte]]=\"Ja\",0,IF(lammering[[#This Row],[Dood na geboorte]]=\"ja\",0,1)))","v":0},{"$f":"IF(lammering[[#This Row],[Opfok met kunstmelk]]=\"Ja\",1,0)","v":0},{"$f":"IF(lammering[[#This Row],[geslacht]]=\"O\",1,0)","v":0},{"$f":"IF(lammering[[#This Row],[Speen-datum]]=\"\",\"\",(lammering[[#This Row],[Speen-gewicht]]-lammering[[#This Row],[geboorte-gewicht]])/(lammering[[#This Row],[Speen-datum]]-lammering[[#This Row],[Werp-datum]]))","v":""},{"$f":"IF(lammering[[#This Row],[Verkoop-datum]]=\"\",\"\",(lammering[[#This Row],[Verkoop-gewicht]]-lammering[[#This Row],[Speen-gewicht]])/(lammering[[#This Row],[Verkoop-datum]]-lammering[[#This Row],[Speen-datum]]))","v":""},{"$f":"IF(lammering[[#This Row],[Verkoop-datum]]=\"\",\"\",(lammering[[#This Row],[Verkoop-gewicht]]-lammering[[#This Row],[geboorte-gewicht]])/(lammering[[#This Row],[Verkoop-datum]]-lammering[[#This Row],[Werp-datum]]))","v":""},"","","","","","",{"$f":"IF(lammering[[#This Row],[Verkoop-gewicht]]=\"\",\"\",lammering[[#This Row],[Verkoop-gewicht]]-lammering[[#This Row],[geboorte-gewicht]])","v":""},"","",{"$f":"Opzoek_ooi[[#This Row],[Ooinummer]]","v":0},"",""]
[{"$f":"lammering[[#This Row],[Ooi]]","v":0},0,0,{"$f":"IF(lammering[[#This Row],[Lam-nummer]]=\"\",0,1)","v":0},{"$f":"IF(lammering[[#This Row],[Dood in geboorte]]=\"ja\",1,0)","v":0},{"$f":"IF(lammering[[#This Row],[Ooi]]=\"\",0,IF(Berekeningen!E203=0,1,0))","v":0},{"$f":"IF(D203=0,0,IF(lammering[[#This Row],[Dood in geboorte]]=\"Ja\",0,IF(lammering[[#This Row],[Dood na geboorte]]=\"ja\",0,1)))","v":0},{"$f":"IF(lammering[[#This Row],[Opfok met kunstmelk]]=\"Ja\",1,0)","v":0},{"$f":"IF(lammering[[#This Row],[geslacht]]=\"O\",1,0)","v":0},{"$f":"IF(lammering[[#This Row],[Speen-datum]]=\"\",\"\",(lammering[[#This Row],[Speen-gewicht]]-lammering[[#This Row],[geboorte-gewicht]])/(lammering[[#This Row],[Speen-datum]]-lammering[[#This Row],[Werp-datum]]))","v":""},{"$f":"IF(lammering[[#This Row],[Verkoop-datum]]=\"\",\"\",(lammering[[#This Row],[Verkoop-gewicht]]-lammering[[#This Row],[Speen-gewicht]])/(lammering[[#This Row],[Verkoop-datum]]-lammering[[#This Row],[Speen-datum]]))","v":""},{"$f":"IF(lammering[[#This Row],[Verkoop-datum]]=\"\",\"\",(lammering[[#This Row],[Verkoop-gewicht]]-lammering[[#This Row],[geboorte-gewicht]])/(lammering[[#This Row],[Verkoop-datum]]-lammering[[#This Row],[Werp-datum]]))","v":""},"","","","","","",{"$f":"IF(lammering[[#This Row],[Verkoop-gewicht]]=\"\",\"\",lammering[[#This Row],[Verkoop-gewicht]]-lammering[[#This Row],[geboorte-gewicht]])","v":""},"","",{"$f":"Opzoek_ooi[[#This Row],[Ooinummer]]","v":0},"",""]
[{"$f":"lammering[[#This Row],[Ooi]]","v":0},0,0,{"$f":"IF(lammering[[#This Row],[Lam-nummer]]=\"\",0,1)","v":0},{"$f":"IF(lammering[[#This Row],[Dood in geboorte]]=\"ja\",1,0)","v":0},{"$f":"IF(lammering[[#This Row],[Ooi]]=\"\",0,IF(Berekeningen!E204=0,1,0))","v":0},{"$f":"IF(D204=0,0,IF(lammering[[#This Row],[Dood in geboorte]]=\"Ja\",0,IF(lammering[[#This Row],[Dood na geboorte]]=\"ja\",0,1)))","v":0},{"$f":"IF(lammering[[#This Row],[Opfok met kunstmelk]]=\"Ja\",1,0)","v":0},{"$f":"IF(lammering[[#This Row],[geslacht]]=\"O\",1,0)","v":0},{"$f":"IF(lammering[[#This Row],[Speen-datum]]=\"\",\"\",(lammering[[#This Row],[Speen-gewicht]]-lammering[[#This Row],[geboorte-gewicht]])/(lammering[[#This Row],[Speen-datum]]-lammering[[#This Row],[Werp-datum]]))","v":""},{"$f":"IF(lammering[[#This Row],[Verkoop-datum]]=\"\",\"\",(lammering[[#This Row],[Verkoop-gewicht]]-lammering[[#This Row],[Speen-gewicht]])/(lammering[[#This Row],[Verkoop-datum]]-lammering[[#This Row],[Speen-datum]]))","v":""},{"$f":"IF(lammering[[#This Row],[Verkoop-datum]]=\"\",\"\",(lammering[[#This Row],[Verkoop-gewicht]]-lammering[[#This Row],[geboorte-gewicht]])/(lammering[[#This Row],[Verkoop-datum]]-lammering[[#This Row],[Werp-datum]]))","v":""},"","","","","","",{"$f":"IF(lammering[[#This Row],[Verkoop-gewicht]]=\"\",\"\",lammering[[#This Row],[Verkoop-gewicht]]-lammering[[#This Row],[geboorte-gewicht]])","v":""},"","",{"$f":"Opzoek_ooi[[#This Row],[Ooinummer]]","v":0},"",""]
[{"$f":"lammering[[#This Row],[Ooi]]","v":0},0,0,{"$f":"IF(lammering[[#This Row],[Lam-nummer]]=\"\",0,1)","v":0},{"$f":"IF(lammering[[#This Row],[Dood in geboorte]]=\"ja\",1,0)","v":0},{"$f":"IF(lammering[[#This Row],[Ooi]]=\"\",0,IF(Berekeningen!E205=0,1,0))","v":0},{"$f":"IF(D205=0,0,IF(lammering[[#This Row],[Dood in geboorte]]=\"Ja\",0,IF(lammering[[#This Row],[Dood na geboorte]]=\"ja\",0,1)))","v":0},{"$f":"IF(lammering[[#This Row],[Opfok met kunstmelk]]=\"Ja\",1,0)","v":0},{"$f":"IF(lammering[[#This Row],[geslacht]]=\"O\",1,0)","v":0},{"$f":"IF(lammering[[#This Row],[Speen-datum]]=\"\",\"\",(lammering[[#This Row],[Speen-gewicht]]-lammering[[#This Row],[geboorte-gewicht]])/(lammering[[#This Row],[Speen-datum]]-lammering[[#This Row],[Werp-datum]]))","v":""},{"$f":"IF(lammering[[#This Row],[Verkoop-datum]]=\"\",\"\",(lammering[[#This Row],[Verkoop-gewicht]]-lammering[[#This Row],[Speen-gewicht]])/(lammering[[#This Row],[Verkoop-datum]]-lammering[[#This Row],[Speen-datum]]))","v":""},{"$f":"IF(lammering[[#This Row],[Verkoop-datum]]=\"\",\"\",(lammering[[#This Row],[Verkoop-gewicht]]-lammering[[#This Row],[geboorte-gewicht]])/(lammering[[#This Row],[Verkoop-datum]]-lammering[[#This Row],[Werp-datum]]))","v":""},"","","","","","",{"$f":"IF(lammering[[#This Row],[Verkoop-gewicht]]=\"\",\"\",lammering[[#This Row],[Verkoop-gewicht]]-lammering[[#This Row],[geboorte-gewicht]])","v":""},"","",{"$f":"Opzoek_ooi[[#This Row],[Ooinummer]]","v":0},"",""]
[{"$f":"lammering[[#This Row],[Ooi]]","v":0},0,0,{"$f":"IF(lammering[[#This Row],[Lam-nummer]]=\"\",0,1)","v":0},{"$f":"IF(lammering[[#This Row],[Dood in geboorte]]=\"ja\",1,0)","v":0},{"$f":"IF(lammering[[#This Row],[Ooi]]=\"\",0,IF(Berekeningen!E206=0,1,0))","v":0},{"$f":"IF(D206=0,0,IF(lammering[[#This Row],[Dood in geboorte]]=\"Ja\",0,IF(lammering[[#This Row],[Dood na geboorte]]=\"ja\",0,1)))","v":0},{"$f":"IF(lammering[[#This Row],[Opfok met kunstmelk]]=\"Ja\",1,0)","v":0},{"$f":"IF(lammering[[#This Row],[geslacht]]=\"O\",1,0)","v":0},{"$f":"IF(lammering[[#This Row],[Speen-datum]]=\"\",\"\",(lammering[[#This Row],[Speen-gewicht]]-lammering[[#This Row],[geboorte-gewicht]])/(lammering[[#This Row],[Speen-datum]]-lammering[[#This Row],[Werp-datum]]))","v":""},{"$f":"IF(lammering[[#This Row],[Verkoop-datum]]=\"\",\"\",(lammering[[#This Row],[Verkoop-gewicht]]-lammering[[#This Row],[Speen-gewicht]])/(lammering[[#This Row],[Verkoop-datum]]-lammering[[#This Row],[Speen-datum]]))","v":""},{"$f":"IF(lammering[[#This Row],[Verkoop-datum]]=\"\",\"\",(lammering[[#This Row],[Verkoop-gewicht]]-lammering[[#This Row],[geboorte-gewicht]])/(lammering[[#This Row],[Verkoop-datum]]-lammering[[#This Row],[Werp-datum]]))","v":""},"","","","","","",{"$f":"IF(lammering[[#This Row],[Verkoop-gewicht]]=\"\",\"\",lammering[[#This Row],[Verkoop-gewicht]]-lammering[[#This Row],[geboorte-gewicht]])","v":""},"","",{"$f":"Opzoek_ooi[[#This Row],[Ooinummer]]","v":0},"",""]
[{"$f":"lammering[[#This Row],[Ooi]]","v":0},0,0,{"$f":"IF(lammering[[#This Row],[Lam-nummer]]=\"\",0,1)","v":0},{"$f":"IF(lammering[[#This Row],[Dood in geboorte]]=\"ja\",1,0)","v":0},{"$f":"IF(lammering[[#This Row],[Ooi]]=\"\",0,IF(Berekeningen!E207=0,1,0))","v":0},{"$f":"IF(D207=0,0,IF(lammering[[#This Row],[Dood in geboorte]]=\"Ja\",0,IF(lammering[[#This Row],[Dood na geboorte]]=\"ja\",0,1)))","v":0},{"$f":"IF(lammering[[#This Row],[Opfok met kunstmelk]]=\"Ja\",1,0)","v":0},{"$f":"IF(lammering[[#This Row],[geslacht]]=\"O\",1,0)","v":0},{"$f":"IF(lammering[[#This Row],[Speen-datum]]=\"\",\"\",(lammering[[#This Row],[Speen-gewicht]]-lammering[[#This Row],[geboorte-gewicht]])/(lammering[[#This Row],[Speen-datum]]-lammering[[#This Row],[Werp-datum]]))","v":""},{"$f":"IF(lammering[[#This Row],[Verkoop-datum]]=\"\",\"\",(lammering[[#This Row],[Verkoop-gewicht]]-lammering[[#This Row],[Speen-gewicht]])/(lammering[[#This Row],[Verkoop-datum]]-lammering[[#This Row],[Speen-datum]]))","v":""},{"$f":"IF(lammering[[#This Row],[Verkoop-datum]]=\"\",\"\",(lammering[[#This Row],[Verkoop-gewicht]]-lammering[[#This Row],[geboorte-gewicht]])/(lammering[[#This Row],[Verkoop-datum]]-lammering[[#This Row],[Werp-datum]]))","v":""},{"$f":"IF($I207=1,J207,\"\")","v":""},{"$f":"IF($I207=1,K207,\"\")","v":""},{"$f":"IF($I207=1,L207,\"\")","v":""},{"$f":"IF($I207=0,J207,\"\")","v":""},{"$f":"IF($I207=0,K207,\"\")","v":""},{"$f":"IF($I207=0,L207,\"\")","v":""},{"$f":"IF(lammering[[#This Row],[Verkoop-gewicht]]=\"\",\"\",lammering[[#This Row],[Verkoop-gewicht]]-lammering[[#This Row],[geboorte-gewicht]])","v":""},{"$f":"IF(I207=1,S207,\"\")","v":""},{"$f":"IF(I207=0,S207,\"\")","v":""},{"$f":"Opzoek_ooi[[#This Row],[Ooinummer]]","v":0},"",""]
[{"$f":"lammering[[#This Row],[Ooi]]","v":0},0,0,{"$f":"IF(lammering[[#This Row],[Lam-nummer]]=\"\",0,1)","v":0},{"$f":"IF(lammering[[#This Row],[Dood in geboorte]]=\"ja\",1,0)","v":0},{"$f":"IF(lammering[[#This Row],[Ooi]]=\"\",0,IF(Berekeningen!E208=0,1,0))","v":0},{"$f":"IF(D208=0,0,IF(lammering[[#This Row],[Dood in geboorte]]=\"Ja\",0,IF(lammering[[#This Row],[Dood na geboorte]]=\"ja\",0,1)))","v":0},{"$f":"IF(lammering[[#This Row],[Opfok met kunstmelk]]=\"Ja\",1,0)","v":0},{"$f":"IF(lammering[[#This Row],[geslacht]]=\"O\",1,0)","v":0},{"$f":"IF(lammering[[#This Row],[Speen-datum]]=\"\",\"\",(lammering[[#This Row],[Speen-gewicht]]-lammering[[#This Row],[geboorte-gewicht]])/(lammering[[#This Row],[Speen-datum]]-lammering[[#This Row],[Werp-datum]]))","v":""},{"$f":"IF(lammering[[#This Row],[Verkoop-datum]]=\"\",\"\",(lammering[[#This Row],[Verkoop-gewicht]]-lammering[[#This Row],[Speen-gewicht]])/(lammering[[#This Row],[Verkoop-datum]]-lammering[[#This Row],[Speen-datum]]))","v":""},{"$f":"IF(lammering[[#This Row],[Verkoop-datum]]=\"\",\"\",(lammering[[#This Row],[Verkoop-gewicht]]-lammering[[#This Row],[geboorte-gewicht]])/(lammering[[#This Row],[Verkoop-datum]]-lammering[[#This Row],[Werp-datum]]))","v":""},"","","","","","",{"$f":"IF(lammering[[#This Row],[Verkoop-gewicht]]=\"\",\"\",lammering[[#This Row],[Verkoop-gewicht]]-lammering[[#This Row],[geboorte-gewicht]])","v":""},"","",{"$f":"Opzoek_ooi[[#This Row],[Ooinummer]]","v":0},{"$f":"IF(V208=0,\"\",COUNTIF(C$2:C$500,V208))","v":""},""]
[{"$f":"lammering[[#This Row],[Ooi]]","v":0},0,0,{"$f":"IF(lammering[[#This Row],[Lam-nummer]]=\"\",0,1)","v":0},{"$f":"IF(lammering[[#This Row],[Dood in geboorte]]=\"ja\",1,0)","v":0},{"$f":"IF(lammering[[#This Row],[Ooi]]=\"\",0,IF(Berekeningen!E209=0,1,0))","v":0},{"$f":"IF(D209=0,0,IF(lammering[[#This Row],[Dood in geboorte]]=\"Ja\",0,IF(lammering[[#This Row],[Dood na geboorte]]=\"ja\",0,1)))","v":0},{"$f":"IF(lammering[[#This Row],[Opfok met kunstmelk]]=\"Ja\",1,0)","v":0},{"$f":"IF(lammering[[#This Row],[geslacht]]=\"O\",1,0)","v":0},{"$f":"IF(lammering[[#This Row],[Speen-datum]]=\"\",\"\",(lammering[[#This Row],[Speen-gewicht]]-lammering[[#This Row],[geboorte-gewicht]])/(lammering[[#This Row],[Speen-datum]]-lammering[[#This Row],[Werp-datum]]))","v":""},{"$f":"IF(lammering[[#This Row],[Verkoop-datum]]=\"\",\"\",(lammering[[#This Row],[Verkoop-gewicht]]-lammering[[#This Row],[Speen-gewicht]])/(lammering[[#This Row],[Verkoop-datum]]-lammering[[#This Row],[Speen-datum]]))","v":""},{"$f":"IF(lammering[[#This Row],[Verkoop-datum]]=\"\",\"\",(lammering[[#This Row],[Verkoop-gewicht]]-lammering[[#This Row],[geboorte-gewicht]])/(lammering[[#This Row],[Verkoop-datum]]-lammering[[#This Row],[Werp-datum]]))","v":""},"","","","","","",{"$f":"IF(lammering[[#This Row],[Verkoop-gewicht]]=\"\",\"\",lammering[[#This Row],[Verkoop-gewicht]]-lammering[[#This Row],[geboorte-gewicht]])","v":""},"","",{"$f":"Opzoek_ooi[[#This Row],[Ooinummer]]","v":0},"",""]
[{"$f":"lammering[[#This Row],[Ooi]]","v":0},0,0,{"$f":"IF(lammering[[#This Row],[Lam-nummer]]=\"\",0,1)","v":0},{"$f":"IF(lammering[[#This Row],[Dood in geboorte]]=\"ja\",1,0)","v":0},{"$f":"IF(lammering[[#This Row],[Ooi]]=\"\",0,IF(Berekeningen!E210=0,1,0))","v":0},{"$f":"IF(D210=0,0,IF(lammering[[#This Row],[Dood in geboorte]]=\"Ja\",0,IF(lammering[[#This Row],[Dood na geboorte]]=\"ja\",0,1)))","v":0},{"$f":"IF(lammering[[#This Row],[Opfok met kunstmelk]]=\"Ja\",1,0)","v":0},{"$f":"IF(lammering[[#This Row],[geslacht]]=\"O\",1,0)","v":0},{"$f":"IF(lammering[[#This Row],[Speen-datum]]=\"\",\"\",(lammering[[#This Row],[Speen-gewicht]]-lammering[[#This Row],[geboorte-gewicht]])/(lammering[[#This Row],[Speen-datum]]-lammering[[#This Row],[Werp-datum]]))","v":""},{"$f":"IF(lammering[[#This Row],[Verkoop-datum]]=\"\",\"\",(lammering[[#This Row],[Verkoop-gewicht]]-lammering[[#This Row],[Speen-gewicht]])/(lammering[[#This Row],[Verkoop-datum]]-lammering[[#This Row],[Speen-datum]]))","v":""},{"$f":"IF(lammering[[#This Row],[Verkoop-datum]]=\"\",\"\",(lammering[[#This Row],[Verkoop-gewicht]]-lammering[[#This Row],[geboorte-gewicht]])/(lammering[[#This Row],[Verkoop-datum]]-lammering[[#This Row],[Werp-datum]]))","v":""},"","","","","","",{"$f":"IF(lammering[[#This Row],[Verkoop-gewicht]]=\"\",\"\",lammering[[#This Row],[Verkoop-gewicht]]-lammering[[#This Row],[geboorte-gewicht]])","v":""},"","",{"$f":"Opzoek_ooi[[#This Row],[Ooinummer]]","v":0},"",""]
[{"$f":"lammering[[#This Row],[Ooi]]","v":0},0,0,{"$f":"IF(lammering[[#This Row],[Lam-nummer]]=\"\",0,1)","v":0},{"$f":"IF(lammering[[#This Row],[Dood in geboorte]]=\"ja\",1,0)","v":0},{"$f":"IF(lammering[[#This Row],[Ooi]]=\"\",0,IF(Berekeningen!E211=0,1,0))","v":0},{"$f":"IF(D211=0,0,IF(lammering[[#This Row],[Dood in geboorte]]=\"Ja\",0,IF(lammering[[#This Row],[Dood na geboorte]]=\"ja\",0,1)))","v":0},{"$f":"IF(lammering[[#This Row],[Opfok met kunstmelk]]=\"Ja\",1,0)","v":0},{"$f":"IF(lammering[[#This Row],[geslacht]]=\"O\",1,0)","v":0},{"$f":"IF(lammering[[#This Row],[Speen-datum]]=\"\",\"\",(lammering[[#This Row],[Speen-gewicht]]-lammering[[#This Row],[geboorte-gewicht]])/(lammering[[#This Row],[Speen-datum]]-lammering[[#This Row],[Werp-datum]]))","v":""},{"$f":"IF(lammering[[#This Row],[Verkoop-datum]]=\"\",\"\",(lammering[[#This Row],[Verkoop-gewicht]]-lammering[[#This Row],[Speen-gewicht]])/(lammering[[#This Row],[Verkoop-datum]]-lammering[[#This Row],[Speen-datum]]))","v":""},{"$f":"IF(lammering[[#This Row],[Verkoop-datum]]=\"\",\"\",(lammering[[#This Row],[Verkoop-gewicht]]-lammering[[#This Row],[geboorte-gewicht]])/(lammering[[#This Row],[Verkoop-datum]]-lammering[[#This Row],[Werp-datum]]))","v":""},"","","","","","",{"$f":"IF(lammering[[#This Row],[Verkoop-gewicht]]=\"\",\"\",lammering[[#This Row],[Verkoop-gewicht]]-lammering[[#This Row],[geboorte-gewicht]])","v":""},"","",{"$f":"Opzoek_ooi[[#This Row],[Ooinummer]]","v":0},"",""]
[{"$f":"lammering[[#This Row],[Ooi]]","v":0},0,0,{"$f":"IF(lammering[[#This Row],[Lam-nummer]]=\"\",0,1)","v":0},{"$f":"IF(lammering[[#This Row],[Dood in geboorte]]=\"ja\",1,0)","v":0},{"$f":"IF(lammering[[#This Row],[Ooi]]=\"\",0,IF(Berekeningen!E212=0,1,0))","v":0},{"$f":"IF(D212=0,0,IF(lammering[[#This Row],[Dood in geboorte]]=\"Ja\",0,IF(lammering[[#This Row],[Dood na geboorte]]=\"ja\",0,1)))","v":0},{"$f":"IF(lammering[[#This Row],[Opfok met kunstmelk]]=\"Ja\",1,0)","v":0},{"$f":"IF(lammering[[#This Row],[geslacht]]=\"O\",1,0)","v":0},{"$f":"IF(lammering[[#This Row],[Speen-datum]]=\"\",\"\",(lammering[[#This Row],[Speen-gewicht]]-lammering[[#This Row],[geboorte-gewicht]])/(lammering[[#This Row],[Speen-datum]]-lammering[[#This Row],[Werp-datum]]))","v":""},{"$f":"IF(lammering[[#This Row],[Verkoop-datum]]=\"\",\"\",(lammering[[#This Row],[Verkoop-gewicht]]-lammering[[#This Row],[Speen-gewicht]])/(lammering[[#This Row],[Verkoop-datum]]-lammering[[#This Row],[Speen-datum]]))","v":""},{"$f":"IF(lammering[[#This Row],[Verkoop-datum]]=\"\",\"\",(lammering[[#This Row],[Verkoop-gewicht]]-lammering[[#This Row],[geboorte-gewicht]])/(lammering[[#This Row],[Verkoop-datum]]-lammering[[#This Row],[Werp-datum]]))","v":""},"","","","","","",{"$f":"IF(lammering[[#This Row],[Verkoop-gewicht]]=\"\",\"\",lammering[[#This Row],[Verkoop-gewicht]]-lammering[[#This Row],[geboorte-gewicht]])","v":""},"","",{"$f":"Opzoek_ooi[[#This Row],[Ooinummer]]","v":0},"",""]
[{"$f":"lammering[[#This Row],[Ooi]]","v":0},0,0,{"$f":"IF(lammering[[#This Row],[Lam-nummer]]=\"\",0,1)","v":0},{"$f":"IF(lammering[[#This Row],[Dood in geboorte]]=\"ja\",1,0)","v":0},{"$f":"IF(lammering[[#This Row],[Ooi]]=\"\",0,IF(Berekeningen!E213=0,1,0))","v":0},{"$f":"IF(D213=0,0,IF(lammering[[#This Row],[Dood in geboorte]]=\"Ja\",0,IF(lammering[[#This Row],[Dood na geboorte]]=\"ja\",0,1)))","v":0},{"$f":"IF(lammering[[#This Row],[Opfok met kunstmelk]]=\"Ja\",1,0)","v":0},{"$f":"IF(lammering[[#This Row],[geslacht]]=\"O\",1,0)","v":0},{"$f":"IF(lammering[[#This Row],[Speen-datum]]=\"\",\"\",(lammering[[#This Row],[Speen-gewicht]]-lammering[[#This Row],[geboorte-gewicht]])/(lammering[[#This Row],[Speen-datum]]-lammering[[#This Row],[Werp-datum]]))","v":""},{"$f":"IF(lammering[[#This Row],[Verkoop-datum]]=\"\",\"\",(lammering[[#This Row],[Verkoop-gewicht]]-lammering[[#This Row],[Speen-gewicht]])/(lammering[[#This Row],[Verkoop-datum]]-lammering[[#This Row],[Speen-datum]]))","v":""},{"$f":"IF(lammering[[#This Row],[Verkoop-datum]]=\"\",\"\",(lammering[[#This Row],[Verkoop-gewicht]]-lammering[[#This Row],[geboorte-gewicht]])/(lammering[[#This Row],[Verkoop-datum]]-lammering[[#This Row],[Werp-datum]]))","v":""},"","","","","","",{"$f":"IF(lammering[[#This Row],[Verkoop-gewicht]]=\"\",\"\",lammering[[#This Row],[Verkoop-gewicht]]-lammering[[#This Row],[geboorte-gewicht]])","v":""},"","",{"$f":"Opzoek_ooi[[#This Row],[Ooinummer]]","v":0},"",""]
[{"$f":"lammering[[#This Row],[Ooi]]","v":0},0,0,{"$f":"IF(lammering[[#This Row],[Lam-nummer]]=\"\",0,1)","v":0},{"$f":"IF(lammering[[#This Row],[Dood in geboorte]]=\"ja\",1,0)","v":0},{"$f":"IF(lammering[[#This Row],[Ooi]]=\"\",0,IF(Berekeningen!E214=0,1,0))","v":0},{"$f":"IF(D214=0,0,IF(lammering[[#This Row],[Dood in geboorte]]=\"Ja\",0,IF(lammering[[#This Row],[Dood na geboorte]]=\"ja\",0,1)))","v":0},{"$f":"IF(lammering[[#This Row],[Opfok met kunstmelk]]=\"Ja\",1,0)","v":0},{"$f":"IF(lammering[[#This Row],[geslacht]]=\"O\",1,0)","v":0},{"$f":"IF(lammering[[#This Row],[Speen-datum]]=\"\",\"\",(lammering[[#This Row],[Speen-gewicht]]-lammering[[#This Row],[geboorte-gewicht]])/(lammering[[#This Row],[Speen-datum]]-lammering[[#This Row],[Werp-datum]]))","v":""},{"$f":"IF(lammering[[#This Row],[Verkoop-datum]]=\"\",\"\",(lammering[[#This Row],[Verkoop-gewicht]]-lammering[[#This Row],[Speen-gewicht]])/(lammering[[#This Row],[Verkoop-datum]]-lammering[[#This Row],[Speen-datum]]))","v":""},{"$f":"IF(lammering[[#This Row],[Verkoop-datum]]=\"\",\"\",(lammering[[#This Row],[Verkoop-gewicht]]-lammering[[#This Row],[geboorte-gewicht]])/(lammering[[#This Row],[Verkoop-datum]]-lammering[[#This Row],[Werp-datum]]))","v":""},"","","","","","",{"$f":"IF(lammering[[#This Row],[Verkoop-gewicht]]=\"\",\"\",lammering[[#This Row],[Verkoop-gewicht]]-lammering[[#This Row],[geboorte-gewicht]])","v":""},"","",{"$f":"Opzoek_ooi[[#This Row],[Ooinummer]]","v":0},"",""]
[{"$f":"lammering[[#This Row],[Ooi]]","v":0},0,0,{"$f":"IF(lammering[[#This Row],[Lam-nummer]]=\"\",0,1)","v":0},{"$f":"IF(lammering[[#This Row],[Dood in geboorte]]=\"ja\",1,0)","v":0},{"$f":"IF(lammering[[#This Row],[Ooi]]=\"\",0,IF(Berekeningen!E215=0,1,0))","v":0},{"$f":"IF(D215=0,0,IF(lammering[[#This Row],[Dood in geboorte]]=\"Ja\",0,IF(lammering[[#This Row],[Dood na geboorte]]=\"ja\",0,1)))","v":0},{"$f":"IF(lammering[[#This Row],[Opfok met kunstmelk]]=\"Ja\",1,0)","v":0},{"$f":"IF(lammering[[#This Row],[geslacht]]=\"O\",1,0)","v":0},{"$f":"IF(lammering[[#This Row],[Speen-datum]]=\"\",\"\",(lammering[[#This Row],[Speen-gewicht]]-lammering[[#This Row],[geboorte-gewicht]])/(lammering[[#This Row],[Speen-datum]]-lammering[[#This Row],[Werp-datum]]))","v":""},{"$f":"IF(lammering[[#This Row],[Verkoop-datum]]=\"\",\"\",(lammering[[#This Row],[Verkoop-gewicht]]-lammering[[#This Row],[Speen-gewicht]])/(lammering[[#This Row],[Verkoop-datum]]-lammering[[#This Row],[Speen-datum]]))","v":""},{"$f":"IF(lammering[[#This Row],[Verkoop-datum]]=\"\",\"\",(lammering[[#This Row],[Verkoop-gewicht]]-lammering[[#This Row],[geboorte-gewicht]])/(lammering[[#This Row],[Verkoop-datum]]-lammering[[#This Row],[Werp-datum]]))","v":""},"","","","","","",{"$f":"IF(lammering[[#This Row],[Verkoop-gewicht]]=\"\",\"\",lammering[[#This Row],[Verkoop-gewicht]]-lammering[[#This Row],[geboorte-gewicht]])","v":""},"","",{"$f":"Opzoek_ooi[[#This Row],[Ooinummer]]","v":0},"",""]
[{"$f":"lammering[[#This Row],[Ooi]]","v":0},0,0,{"$f":"IF(lammering[[#This Row],[Lam-nummer]]=\"\",0,1)","v":0},{"$f":"IF(lammering[[#This Row],[Dood in geboorte]]=\"ja\",1,0)","v":0},{"$f":"IF(lammering[[#This Row],[Ooi]]=\"\",0,IF(Berekeningen!E216=0,1,0))","v":0},{"$f":"IF(D216=0,0,IF(lammering[[#This Row],[Dood in geboorte]]=\"Ja\",0,IF(lammering[[#This Row],[Dood na geboorte]]=\"ja\",0,1)))","v":0},{"$f":"IF(lammering[[#This Row],[Opfok met kunstmelk]]=\"Ja\",1,0)","v":0},{"$f":"IF(lammering[[#This Row],[geslacht]]=\"O\",1,0)","v":0},{"$f":"IF(lammering[[#This Row],[Speen-datum]]=\"\",\"\",(lammering[[#This Row],[Speen-gewicht]]-lammering[[#This Row],[geboorte-gewicht]])/(lammering[[#This Row],[Speen-datum]]-lammering[[#This Row],[Werp-datum]]))","v":""},{"$f":"IF(lammering[[#This Row],[Verkoop-datum]]=\"\",\"\",(lammering[[#This Row],[Verkoop-gewicht]]-lammering[[#This Row],[Speen-gewicht]])/(lammering[[#This Row],[Verkoop-datum]]-lammering[[#This Row],[Speen-datum]]))","v":""},{"$f":"IF(lammering[[#This Row],[Verkoop-datum]]=\"\",\"\",(lammering[[#This Row],[Verkoop-gewicht]]-lammering[[#This Row],[geboorte-gewicht]])/(lammering[[#This Row],[Verkoop-datum]]-lammering[[#This Row],[Werp-datum]]))","v":""},"","","","","","",{"$f":"IF(lammering[[#This Row],[Verkoop-gewicht]]=\"\",\"\",lammering[[#This Row],[Verkoop-gewicht]]-lammering[[#This Row],[geboorte-gewicht]])","v":""},"","",{"$f":"Opzoek_ooi[[#This Row],[Ooinummer]]","v":0},"",""]
[{"$f":"lammering[[#This Row],[Ooi]]","v":0},0,0,{"$f":"IF(lammering[[#This Row],[Lam-nummer]]=\"\",0,1)","v":0},{"$f":"IF(lammering[[#This Row],[Dood in geboorte]]=\"ja\",1,0)","v":0},{"$f":"IF(lammering[[#This Row],[Ooi]]=\"\",0,IF(Berekeningen!E217=0,1,0))","v":0},{"$f":"IF(D217=0,0,IF(lammering[[#This Row],[Dood in geboorte]]=\"Ja\",0,IF(lammering[[#This Row],[Dood na geboorte]]=\"ja\",0,1)))","v":0},{"$f":"IF(lammering[[#This Row],[Opfok met kunstmelk]]=\"Ja\",1,0)","v":0},{"$f":"IF(lammering[[#This Row],[geslacht]]=\"O\",1,0)","v":0},{"$f":"IF(lammering[[#This Row],[Speen-datum]]=\"\",\"\",(lammering[[#This Row],[Speen-gewicht]]-lammering[[#This Row],[geboorte-gewicht]])/(lammering[[#This Row],[Speen-datum]]-lammering[[#This Row],[Werp-datum]]))","v":""},{"$f":"IF(lammering[[#This Row],[Verkoop-datum]]=\"\",\"\",(lammering[[#This Row],[Verkoop-gewicht]]-lammering[[#This Row],[Speen-gewicht]])/(lammering[[#This Row],[Verkoop-datum]]-lammering[[#This Row],[Speen-datum]]))","v":""},{"$f":"IF(lammering[[#This Row],[Verkoop-datum]]=\"\",\"\",(lammering[[#This Row],[Verkoop-gewicht]]-lammering[[#This Row],[geboorte-gewicht]])/(lammering[[#This Row],[Verkoop-datum]]-lammering[[#This Row],[Werp-datum]]))","v":""},"","","","","","",{"$f":"IF(lammering[[#This Row],[Verkoop-gewicht]]=\"\",\"\",lammering[[#This Row],[Verkoop-gewicht]]-lammering[[#This Row],[geboorte-gewicht]])","v":""},"","",{"$f":"Opzoek_ooi[[#This Row],[Ooinummer]]","v":0},"",""]
[{"$f":"lammering[[#This Row],[Ooi]]","v":0},0,0,{"$f":"IF(lammering[[#This Row],[Lam-nummer]]=\"\",0,1)","v":0},{"$f":"IF(lammering[[#This Row],[Dood in geboorte]]=\"ja\",1,0)","v":0},{"$f":"IF(lammering[[#This Row],[Ooi]]=\"\",0,IF(Berekeningen!E218=0,1,0))","v":0},{"$f":"IF(D218=0,0,IF(lammering[[#This Row],[Dood in geboorte]]=\"Ja\",0,IF(lammering[[#This Row],[Dood na geboorte]]=\"ja\",0,1)))","v":0},{"$f":"IF(lammering[[#This Row],[Opfok met kunstmelk]]=\"Ja\",1,0)","v":0},{"$f":"IF(lammering[[#This Row],[geslacht]]=\"O\",1,0)","v":0},{"$f":"IF(lammering[[#This Row],[Speen-datum]]=\"\",\"\",(lammering[[#This Row],[Speen-gewicht]]-lammering[[#This Row],[geboorte-gewicht]])/(lammering[[#This Row],[Speen-datum]]-lammering[[#This Row],[Werp-datum]]))","v":""},{"$f":"IF(lammering[[#This Row],[Verkoop-datum]]=\"\",\"\",(lammering[[#This Row],[Verkoop-gewicht]]-lammering[[#This Row],[Speen-gewicht]])/(lammering[[#This Row],[Verkoop-datum]]-lammering[[#This Row],[Speen-datum]]))","v":""},{"$f":"IF(lammering[[#This Row],[Verkoop-datum]]=\"\",\"\",(lammering[[#This Row],[Verkoop-gewicht]]-lammering[[#This Row],[geboorte-gewicht]])/(lammering[[#This Row],[Verkoop-datum]]-lammering[[#This Row],[Werp-datum]]))","v":""},"","","","","","",{"$f":"IF(lammering[[#This Row],[Verkoop-gewicht]]=\"\",\"\",lammering[[#This Row],[Verkoop-gewicht]]-lammering[[#This Row],[geboorte-gewicht]])","v":""},"","",{"$f":"Opzoek_ooi[[#This Row],[Ooinummer]]","v":0},"",""]
[{"$f":"lammering[[#This Row],[Ooi]]","v":0},0,0,{"$f":"IF(lammering[[#This Row],[Lam-nummer]]=\"\",0,1)","v":0},{"$f":"IF(lammering[[#This Row],[Dood in geboorte]]=\"ja\",1,0)","v":0},{"$f":"IF(lammering[[#This Row],[Ooi]]=\"\",0,IF(Berekeningen!E219=0,1,0))","v":0},{"$f":"IF(D219=0,0,IF(lammering[[#This Row],[Dood in geboorte]]=\"Ja\",0,IF(lammering[[#This Row],[Dood na geboorte]]=\"ja\",0,1)))","v":0},{"$f":"IF(lammering[[#This Row],[Opfok met kunstmelk]]=\"Ja\",1,0)","v":0},{"$f":"IF(lammering[[#This Row],[geslacht]]=\"O\",1,0)","v":0},{"$f":"IF(lammering[[#This Row],[Speen-datum]]=\"\",\"\",(lammering[[#This Row],[Speen-gewicht]]-lammering[[#This Row],[geboorte-gewicht]])/(lammering[[#This Row],[Speen-datum]]-lammering[[#This Row],[Werp-datum]]))","v":""},{"$f":"IF(lammering[[#This Row],[Verkoop-datum]]=\"\",\"\",(lammering[[#This Row],[Verkoop-gewicht]]-lammering[[#This Row],[Speen-gewicht]])/(lammering[[#This Row],[Verkoop-datum]]-lammering[[#This Row],[Speen-datum]]))","v":""},{"$f":"IF(lammering[[#This Row],[Verkoop-datum]]=\"\",\"\",(lammering[[#This Row],[Verkoop-gewicht]]-lammering[[#This Row],[geboorte-gewicht]])/(lammering[[#This Row],[Verkoop-datum]]-lammering[[#This Row],[Werp-datum]]))","v":""},"","","","","","",{"$f":"IF(lammering[[#This Row],[Verkoop-gewicht]]=\"\",\"\",lammering[[#This Row],[Verkoop-gewicht]]-lammering[[#This Row],[geboorte-gewicht]])","v":""},"","",{"$f":"Opzoek_ooi[[#This Row],[Ooinummer]]","v":0},"",""]
[{"$f":"lammering[[#This Row],[Ooi]]","v":0},0,0,{"$f":"IF(lammering[[#This Row],[Lam-nummer]]=\"\",0,1)","v":0},{"$f":"IF(lammering[[#This Row],[Dood in geboorte]]=\"ja\",1,0)","v":0},{"$f":"IF(lammering[[#This Row],[Ooi]]=\"\",0,IF(Berekeningen!E220=0,1,0))","v":0},{"$f":"IF(D220=0,0,IF(lammering[[#This Row],[Dood in geboorte]]=\"Ja\",0,IF(lammering[[#This Row],[Dood na geboorte]]=\"ja\",0,1)))","v":0},{"$f":"IF(lammering[[#This Row],[Opfok met kunstmelk]]=\"Ja\",1,0)","v":0},{"$f":"IF(lammering[[#This Row],[geslacht]]=\"O\",1,0)","v":0},{"$f":"IF(lammering[[#This Row],[Speen-datum]]=\"\",\"\",(lammering[[#This Row],[Speen-gewicht]]-lammering[[#This Row],[geboorte-gewicht]])/(lammering[[#This Row],[Speen-datum]]-lammering[[#This Row],[Werp-datum]]))","v":""},{"$f":"IF(lammering[[#This Row],[Verkoop-datum]]=\"\",\"\",(lammering[[#This Row],[Verkoop-gewicht]]-lammering[[#This Row],[Speen-gewicht]])/(lammering[[#This Row],[Verkoop-datum]]-lammering[[#This Row],[Speen-datum]]))","v":""},{"$f":"IF(lammering[[#This Row],[Verkoop-datum]]=\"\",\"\",(lammering[[#This Row],[Verkoop-gewicht]]-lammering[[#This Row],[geboorte-gewicht]])/(lammering[[#This Row],[Verkoop-datum]]-lammering[[#This Row],[Werp-datum]]))","v":""},"","","","","","",{"$f":"IF(lammering[[#This Row],[Verkoop-gewicht]]=\"\",\"\",lammering[[#This Row],[Verkoop-gewicht]]-lammering[[#This Row],[geboorte-gewicht]])","v":""},"","",{"$f":"Opzoek_ooi[[#This Row],[Ooinummer]]","v":0},"",""]
[{"$f":"lammering[[#This Row],[Ooi]]","v":0},0,0,{"$f":"IF(lammering[[#This Row],[Lam-nummer]]=\"\",0,1)","v":0},{"$f":"IF(lammering[[#This Row],[Dood in geboorte]]=\"ja\",1,0)","v":0},{"$f":"IF(lammering[[#This Row],[Ooi]]=\"\",0,IF(Berekeningen!E221=0,1,0))","v":0},{"$f":"IF(D221=0,0,IF(lammering[[#This Row],[Dood in geboorte]]=\"Ja\",0,IF(lammering[[#This Row],[Dood na geboorte]]=\"ja\",0,1)))","v":0},{"$f":"IF(lammering[[#This Row],[Opfok met kunstmelk]]=\"Ja\",1,0)","v":0},{"$f":"IF(lammering[[#This Row],[geslacht]]=\"O\",1,0)","v":0},{"$f":"IF(lammering[[#This Row],[Speen-datum]]=\"\",\"\",(lammering[[#This Row],[Speen-gewicht]]-lammering[[#This Row],[geboorte-gewicht]])/(lammering[[#This Row],[Speen-datum]]-lammering[[#This Row],[Werp-datum]]))","v":""},{"$f":"IF(lammering[[#This Row],[Verkoop-datum]]=\"\",\"\",(lammering[[#This Row],[Verkoop-gewicht]]-lammering[[#This Row],[Speen-gewicht]])/(lammering[[#This Row],[Verkoop-datum]]-lammering[[#This Row],[Speen-datum]]))","v":""},{"$f":"IF(lammering[[#This Row],[Verkoop-datum]]=\"\",\"\",(lammering[[#This Row],[Verkoop-gewicht]]-lammering[[#This Row],[geboorte-gewicht]])/(lammering[[#This Row],[Verkoop-datum]]-lammering[[#This Row],[Werp-datum]]))","v":""},"","","","","","",{"$f":"IF(lammering[[#This Row],[Verkoop-gewicht]]=\"\",\"\",lammering[[#This Row],[Verkoop-gewicht]]-lammering[[#This Row],[geboorte-gewicht]])","v":""},"",""]
[{"$f":"lammering[[#This Row],[Ooi]]","v":0},0,0,{"$f":"IF(lammering[[#This Row],[Lam-nummer]]=\"\",0,1)","v":0},{"$f":"IF(lammering[[#This Row],[Dood in geboorte]]=\"ja\",1,0)","v":0},{"$f":"IF(lammering[[#This Row],[Ooi]]=\"\",0,IF(Berekeningen!E222=0,1,0))","v":0},{"$f":"IF(D222=0,0,IF(lammering[[#This Row],[Dood in geboorte]]=\"Ja\",0,IF(lammering[[#This Row],[Dood na geboorte]]=\"ja\",0,1)))","v":0},{"$f":"IF(lammering[[#This Row],[Opfok met kunstmelk]]=\"Ja\",1,0)","v":0},{"$f":"IF(lammering[[#This Row],[geslacht]]=\"O\",1,0)","v":0},{"$f":"IF(lammering[[#This Row],[Speen-datum]]=\"\",\"\",(lammering[[#This Row],[Speen-gewicht]]-lammering[[#This Row],[geboorte-gewicht]])/(lammering[[#This Row],[Speen-datum]]-lammering[[#This Row],[Werp-datum]]))","v":""},{"$f":"IF(lammering[[#This Row],[Verkoop-datum]]=\"\",\"\",(lammering[[#This Row],[Verkoop-gewicht]]-lammering[[#This Row],[Speen-gewicht]])/(lammering[[#This Row],[Verkoop-datum]]-lammering[[#This Row],[Speen-datum]]))","v":""},{"$f":"IF(lammering[[#This Row],[Verkoop-datum]]=\"\",\"\",(lammering[[#This Row],[Verkoop-gewicht]]-lammering[[#This Row],[geboorte-gewicht]])/(lammering[[#This Row],[Verkoop-datum]]-lammering[[#This Row],[Werp-datum]]))","v":""},"","","","","","",{"$f":"IF(lammering[[#This Row],[Verkoop-gewicht]]=\"\",\"\",lammering[[#This Row],[Verkoop-gewicht]]-lammering[[#This Row],[geboorte-gewicht]])","v":""},"",""]
[{"$f":"lammering[[#This Row],[Ooi]]","v":0},0,0,{"$f":"IF(lammering[[#This Row],[Lam-nummer]]=\"\",0,1)","v":0},{"$f":"IF(lammering[[#This Row],[Dood in geboorte]]=\"ja\",1,0)","v":0},{"$f":"IF(lammering[[#This Row],[Ooi]]=\"\",0,IF(Berekeningen!E223=0,1,0))","v":0},{"$f":"IF(D223=0,0,IF(lammering[[#This Row],[Dood in geboorte]]=\"Ja\",0,IF(lammering[[#This Row],[Dood na geboorte]]=\"ja\",0,1)))","v":0},{"$f":"IF(lammering[[#This Row],[Opfok met kunstmelk]]=\"Ja\",1,0)","v":0},{"$f":"IF(lammering[[#This Row],[geslacht]]=\"O\",1,0)","v":0},{"$f":"IF(lammering[[#This Row],[Speen-datum]]=\"\",\"\",(lammering[[#This Row],[Speen-gewicht]]-lammering[[#This Row],[geboorte-gewicht]])/(lammering[[#This Row],[Speen-datum]]-lammering[[#This Row],[Werp-datum]]))","v":""},{"$f":"IF(lammering[[#This Row],[Verkoop-datum]]=\"\",\"\",(lammering[[#This Row],[Verkoop-gewicht]]-lammering[[#This Row],[Speen-gewicht]])/(lammering[[#This Row],[Verkoop-datum]]-lammering[[#This Row],[Speen-datum]]))","v":""},{"$f":"IF(lammering[[#This Row],[Verkoop-datum]]=\"\",\"\",(lammering[[#This Row],[Verkoop-gewicht]]-lammering[[#This Row],[geboorte-gewicht]])/(lammering[[#This Row],[Verkoop-datum]]-lammering[[#This Row],[Werp-datum]]))","v":""},"","","","","","",{"$f":"IF(lammering[[#This Row],[Verkoop-gewicht]]=\"\",\"\",lammering[[#This Row],[Verkoop-gewicht]]-lammering[[#This Row],[geboorte-gewicht]])","v":""},"",""]
[{"$f":"lammering[[#This Row],[Ooi]]","v":0},0,0,{"$f":"IF(lammering[[#This Row],[Lam-nummer]]=\"\",0,1)","v":0},{"$f":"IF(lammering[[#This Row],[Dood in geboorte]]=\"ja\",1,0)","v":0},{"$f":"IF(lammering[[#This Row],[Ooi]]=\"\",0,IF(Berekeningen!E224=0,1,0))","v":0},{"$f":"IF(D224=0,0,IF(lammering[[#This Row],[Dood in geboorte]]=\"Ja\",0,IF(lammering[[#This Row],[Dood na geboorte]]=\"ja\",0,1)))","v":0},{"$f":"IF(lammering[[#This Row],[Opfok met kunstmelk]]=\"Ja\",1,0)","v":0},{"$f":"IF(lammering[[#This Row],[geslacht]]=\"O\",1,0)","v":0},{"$f":"IF(lammering[[#This Row],[Speen-datum]]=\"\",\"\",(lammering[[#This Row],[Speen-gewicht]]-lammering[[#This Row],[geboorte-gewicht]])/(lammering[[#This Row],[Speen-datum]]-lammering[[#This Row],[Werp-datum]]))","v":""},{"$f":"IF(lammering[[#This Row],[Verkoop-datum]]=\"\",\"\",(lammering[[#This Row],[Verkoop-gewicht]]-lammering[[#This Row],[Speen-gewicht]])/(lammering[[#This Row],[Verkoop-datum]]-lammering[[#This Row],[Speen-datum]]))","v":""},{"$f":"IF(lammering[[#This Row],[Verkoop-datum]]=\"\",\"\",(lammering[[#This Row],[Verkoop-gewicht]]-lammering[[#This Row],[geboorte-gewicht]])/(lammering[[#This Row],[Verkoop-datum]]-lammering[[#This Row],[Werp-datum]]))","v":""},"","","","","","",{"$f":"IF(lammering[[#This Row],[Verkoop-gewicht]]=\"\",\"\",lammering[[#This Row],[Verkoop-gewicht]]-lammering[[#This Row],[geboorte-gewicht]])","v":""},"",""]
[{"$f":"lammering[[#This Row],[Ooi]]","v":0},0,0,{"$f":"IF(lammering[[#This Row],[Lam-nummer]]=\"\",0,1)","v":0},{"$f":"IF(lammering[[#This Row],[Dood in geboorte]]=\"ja\",1,0)","v":0},{"$f":"IF(lammering[[#This Row],[Ooi]]=\"\",0,IF(Berekeningen!E225=0,1,0))","v":0},{"$f":"IF(D225=0,0,IF(lammering[[#This Row],[Dood in geboorte]]=\"Ja\",0,IF(lammering[[#This Row],[Dood na geboorte]]=\"ja\",0,1)))","v":0},{"$f":"IF(lammering[[#This Row],[Opfok met kunstmelk]]=\"Ja\",1,0)","v":0},{"$f":"IF(lammering[[#This Row],[geslacht]]=\"O\",1,0)","v":0},{"$f":"IF(lammering[[#This Row],[Speen-datum]]=\"\",\"\",(lammering[[#This Row],[Speen-gewicht]]-lammering[[#This Row],[geboorte-gewicht]])/(lammering[[#This Row],[Speen-datum]]-lammering[[#This Row],[Werp-datum]]))","v":""},{"$f":"IF(lammering[[#This Row],[Verkoop-datum]]=\"\",\"\",(lammering[[#This Row],[Verkoop-gewicht]]-lammering[[#This Row],[Speen-gewicht]])/(lammering[[#This Row],[Verkoop-datum]]-lammering[[#This Row],[Speen-datum]]))","v":""},{"$f":"IF(lammering[[#This Row],[Verkoop-datum]]=\"\",\"\",(lammering[[#This Row],[Verkoop-gewicht]]-lammering[[#This Row],[geboorte-gewicht]])/(lammering[[#This Row],[Verkoop-datum]]-lammering[[#This Row],[Werp-datum]]))","v":""},"","","","","","",{"$f":"IF(lammering[[#This Row],[Verkoop-gewicht]]=\"\",\"\",lammering[[#This Row],[Verkoop-gewicht]]-lammering[[#This Row],[geboorte-gewicht]])","v":""},"",""]
[{"$f":"lammering[[#This Row],[Ooi]]","v":0},0,0,{"$f":"IF(lammering[[#This Row],[Lam-nummer]]=\"\",0,1)","v":0},{"$f":"IF(lammering[[#This Row],[Dood in geboorte]]=\"ja\",1,0)","v":0},{"$f":"IF(lammering[[#This Row],[Ooi]]=\"\",0,IF(Berekeningen!E226=0,1,0))","v":0},{"$f":"IF(D226=0,0,IF(lammering[[#This Row],[Dood in geboorte]]=\"Ja\",0,IF(lammering[[#This Row],[Dood na geboorte]]=\"ja\",0,1)))","v":0},{"$f":"IF(lammering[[#This Row],[Opfok met kunstmelk]]=\"Ja\",1,0)","v":0},{"$f":"IF(lammering[[#This Row],[geslacht]]=\"O\",1,0)","v":0},{"$f":"IF(lammering[[#This Row],[Speen-datum]]=\"\",\"\",(lammering[[#This Row],[Speen-gewicht]]-lammering[[#This Row],[geboorte-gewicht]])/(lammering[[#This Row],[Speen-datum]]-lammering[[#This Row],[Werp-datum]]))","v":""},{"$f":"IF(lammering[[#This Row],[Verkoop-datum]]=\"\",\"\",(lammering[[#This Row],[Verkoop-gewicht]]-lammering[[#This Row],[Speen-gewicht]])/(lammering[[#This Row],[Verkoop-datum]]-lammering[[#This Row],[Speen-datum]]))","v":""},{"$f":"IF(lammering[[#This Row],[Verkoop-datum]]=\"\",\"\",(lammering[[#This Row],[Verkoop-gewicht]]-lammering[[#This Row],[geboorte-gewicht]])/(lammering[[#This Row],[Verkoop-datum]]-lammering[[#This Row],[Werp-datum]]))","v":""},"","","","","","",{"$f":"IF(lammering[[#This Row],[Verkoop-gewicht]]=\"\",\"\",lammering[[#This Row],[Verkoop-gewicht]]-lammering[[#This Row],[geboorte-gewicht]])","v":""},"",""]
[{"$f":"lammering[[#This Row],[Ooi]]","v":0},0,0,{"$f":"IF(lammering[[#This Row],[Lam-nummer]]=\"\",0,1)","v":0},{"$f":"IF(lammering[[#This Row],[Dood in geboorte]]=\"ja\",1,0)","v":0},{"$f":"IF(lammering[[#This Row],[Ooi]]=\"\",0,IF(Berekeningen!E227=0,1,0))","v":0},{"$f":"IF(D227=0,0,IF(lammering[[#This Row],[Dood in geboorte]]=\"Ja\",0,IF(lammering[[#This Row],[Dood na geboorte]]=\"ja\",0,1)))","v":0},{"$f":"IF(lammering[[#This Row],[Opfok met kunstmelk]]=\"Ja\",1,0)","v":0},{"$f":"IF(lammering[[#This Row],[geslacht]]=\"O\",1,0)","v":0},{"$f":"IF(lammering[[#This Row],[Speen-datum]]=\"\",\"\",(lammering[[#This Row],[Speen-gewicht]]-lammering[[#This Row],[geboorte-gewicht]])/(lammering[[#This Row],[Speen-datum]]-lammering[[#This Row],[Werp-datum]]))","v":""},{"$f":"IF(lammering[[#This Row],[Verkoop-datum]]=\"\",\"\",(lammering[[#This Row],[Verkoop-gewicht]]-lammering[[#This Row],[Speen-gewicht]])/(lammering[[#This Row],[Verkoop-datum]]-lammering[[#This Row],[Speen-datum]]))","v":""},{"$f":"IF(lammering[[#This Row],[Verkoop-datum]]=\"\",\"\",(lammering[[#This Row],[Verkoop-gewicht]]-lammering[[#This Row],[geboorte-gewicht]])/(lammering[[#This Row],[Verkoop-datum]]-lammering[[#This Row],[Werp-datum]]))","v":""},"","","","","","",{"$f":"IF(lammering[[#This Row],[Verkoop-gewicht]]=\"\",\"\",lammering[[#This Row],[Verkoop-gewicht]]-lammering[[#This Row],[geboorte-gewicht]])","v":""},"",""]
[{"$f":"lammering[[#This Row],[Ooi]]","v":0},0,0,{"$f":"IF(lammering[[#This Row],[Lam-nummer]]=\"\",0,1)","v":0},{"$f":"IF(lammering[[#This Row],[Dood in geboorte]]=\"ja\",1,0)","v":0},{"$f":"IF(lammering[[#This Row],[Ooi]]=\"\",0,IF(Berekeningen!E228=0,1,0))","v":0},{"$f":"IF(D228=0,0,IF(lammering[[#This Row],[Dood in geboorte]]=\"Ja\",0,IF(lammering[[#This Row],[Dood na geboorte]]=\"ja\",0,1)))","v":0},{"$f":"IF(lammering[[#This Row],[Opfok met kunstmelk]]=\"Ja\",1,0)","v":0},{"$f":"IF(lammering[[#This Row],[geslacht]]=\"O\",1,0)","v":0},{"$f":"IF(lammering[[#This Row],[Speen-datum]]=\"\",\"\",(lammering[[#This Row],[Speen-gewicht]]-lammering[[#This Row],[geboorte-gewicht]])/(lammering[[#This Row],[Speen-datum]]-lammering[[#This Row],[Werp-datum]]))","v":""},{"$f":"IF(lammering[[#This Row],[Verkoop-datum]]=\"\",\"\",(lammering[[#This Row],[Verkoop-gewicht]]-lammering[[#This Row],[Speen-gewicht]])/(lammering[[#This Row],[Verkoop-datum]]-lammering[[#This Row],[Speen-datum]]))","v":""},{"$f":"IF(lammering[[#This Row],[Verkoop-datum]]=\"\",\"\",(lammering[[#This Row],[Verkoop-gewicht]]-lammering[[#This Row],[geboorte-gewicht]])/(lammering[[#This Row],[Verkoop-datum]]-lammering[[#This Row],[Werp-datum]]))","v":""},"","","","","","",{"$f":"IF(lammering[[#This Row],[Verkoop-gewicht]]=\"\",\"\",lammering[[#This Row],[Verkoop-gewicht]]-lammering[[#This Row],[geboorte-gewicht]])","v":""},"",""]
[{"$f":"lammering[[#This Row],[Ooi]]","v":0},0,0,{"$f":"IF(lammering[[#This Row],[Lam-nummer]]=\"\",0,1)","v":0},{"$f":"IF(lammering[[#This Row],[Dood in geboorte]]=\"ja\",1,0)","v":0},{"$f":"IF(lammering[[#This Row],[Ooi]]=\"\",0,IF(Berekeningen!E229=0,1,0))","v":0},{"$f":"IF(D229=0,0,IF(lammering[[#This Row],[Dood in geboorte]]=\"Ja\",0,IF(lammering[[#This Row],[Dood na geboorte]]=\"ja\",0,1)))","v":0},{"$f":"IF(lammering[[#This Row],[Opfok met kunstmelk]]=\"Ja\",1,0)","v":0},{"$f":"IF(lammering[[#This Row],[geslacht]]=\"O\",1,0)","v":0},{"$f":"IF(lammering[[#This Row],[Speen-datum]]=\"\",\"\",(lammering[[#This Row],[Speen-gewicht]]-lammering[[#This Row],[geboorte-gewicht]])/(lammering[[#This Row],[Speen-datum]]-lammering[[#This Row],[Werp-datum]]))","v":""},{"$f":"IF(lammering[[#This Row],[Verkoop-datum]]=\"\",\"\",(lammering[[#This Row],[Verkoop-gewicht]]-lammering[[#This Row],[Speen-gewicht]])/(lammering[[#This Row],[Verkoop-datum]]-lammering[[#This Row],[Speen-datum]]))","v":""},{"$f":"IF(lammering[[#This Row],[Verkoop-datum]]=\"\",\"\",(lammering[[#This Row],[Verkoop-gewicht]]-lammering[[#This Row],[geboorte-gewicht]])/(lammering[[#This Row],[Verkoop-datum]]-lammering[[#This Row],[Werp-datum]]))","v":""},"","","","","","",{"$f":"IF(lammering[[#This Row],[Verkoop-gewicht]]=\"\",\"\",lammering[[#This Row],[Verkoop-gewicht]]-lammering[[#This Row],[geboorte-gewicht]])","v":""},"",""]
[{"$f":"lammering[[#This Row],[Ooi]]","v":0},0,0,{"$f":"IF(lammering[[#This Row],[Lam-nummer]]=\"\",0,1)","v":0},{"$f":"IF(lammering[[#This Row],[Dood in geboorte]]=\"ja\",1,0)","v":0},{"$f":"IF(lammering[[#This Row],[Ooi]]=\"\",0,IF(Berekeningen!E230=0,1,0))","v":0},{"$f":"IF(D230=0,0,IF(lammering[[#This Row],[Dood in geboorte]]=\"Ja\",0,IF(lammering[[#This Row],[Dood na geboorte]]=\"ja\",0,1)))","v":0},{"$f":"IF(lammering[[#This Row],[Opfok met kunstmelk]]=\"Ja\",1,0)","v":0},{"$f":"IF(lammering[[#This Row],[geslacht]]=\"O\",1,0)","v":0},{"$f":"IF(lammering[[#This Row],[Speen-datum]]=\"\",\"\",(lammering[[#This Row],[Speen-gewicht]]-lammering[[#This Row],[geboorte-gewicht]])/(lammering[[#This Row],[Speen-datum]]-lammering[[#This Row],[Werp-datum]]))","v":""},{"$f":"IF(lammering[[#This Row],[Verkoop-datum]]=\"\",\"\",(lammering[[#This Row],[Verkoop-gewicht]]-lammering[[#This Row],[Speen-gewicht]])/(lammering[[#This Row],[Verkoop-datum]]-lammering[[#This Row],[Speen-datum]]))","v":""},{"$f":"IF(lammering[[#This Row],[Verkoop-datum]]=\"\",\"\",(lammering[[#This Row],[Verkoop-gewicht]]-lammering[[#This Row],[geboorte-gewicht]])/(lammering[[#This Row],[Verkoop-datum]]-lammering[[#This Row],[Werp-datum]]))","v":""},"","","","","","",{"$f":"IF(lammering[[#This Row],[Verkoop-gewicht]]=\"\",\"\",lammering[[#This Row],[Verkoop-gewicht]]-lammering[[#This Row],[geboorte-gewicht]])","v":""},"",""]
[{"$f":"lammering[[#This Row],[Ooi]]","v":0},0,0,{"$f":"IF(lammering[[#This Row],[Lam-nummer]]=\"\",0,1)","v":0},{"$f":"IF(lammering[[#This Row],[Dood in geboorte]]=\"ja\",1,0)","v":0},{"$f":"IF(lammering[[#This Row],[Ooi]]=\"\",0,IF(Berekeningen!E231=0,1,0))","v":0},{"$f":"IF(D231=0,0,IF(lammering[[#This Row],[Dood in geboorte]]=\"Ja\",0,IF(lammering[[#This Row],[Dood na geboorte]]=\"ja\",0,1)))","v":0},{"$f":"IF(lammering[[#This Row],[Opfok met kunstmelk]]=\"Ja\",1,0)","v":0},{"$f":"IF(lammering[[#This Row],[geslacht]]=\"O\",1,0)","v":0},{"$f":"IF(lammering[[#This Row],[Speen-datum]]=\"\",\"\",(lammering[[#This Row],[Speen-gewicht]]-lammering[[#This Row],[geboorte-gewicht]])/(lammering[[#This Row],[Speen-datum]]-lammering[[#This Row],[Werp-datum]]))","v":""},{"$f":"IF(lammering[[#This Row],[Verkoop-datum]]=\"\",\"\",(lammering[[#This Row],[Verkoop-gewicht]]-lammering[[#This Row],[Speen-gewicht]])/(lammering[[#This Row],[Verkoop-datum]]-lammering[[#This Row],[Speen-datum]]))","v":""},{"$f":"IF(lammering[[#This Row],[Verkoop-datum]]=\"\",\"\",(lammering[[#This Row],[Verkoop-gewicht]]-lammering[[#This Row],[geboorte-gewicht]])/(lammering[[#This Row],[Verkoop-datum]]-lammering[[#This Row],[Werp-datum]]))","v":""},"","","","","","",{"$f":"IF(lammering[[#This Row],[Verkoop-gewicht]]=\"\",\"\",lammering[[#This Row],[Verkoop-gewicht]]-lammering[[#This Row],[geboorte-gewicht]])","v":""},"",""]
[{"$f":"lammering[[#This Row],[Ooi]]","v":0},0,0,{"$f":"IF(lammering[[#This Row],[Lam-nummer]]=\"\",0,1)","v":0},{"$f":"IF(lammering[[#This Row],[Dood in geboorte]]=\"ja\",1,0)","v":0},{"$f":"IF(lammering[[#This Row],[Ooi]]=\"\",0,IF(Berekeningen!E232=0,1,0))","v":0},{"$f":"IF(D232=0,0,IF(lammering[[#This Row],[Dood in geboorte]]=\"Ja\",0,IF(lammering[[#This Row],[Dood na geboorte]]=\"ja\",0,1)))","v":0},{"$f":"IF(lammering[[#This Row],[Opfok met kunstmelk]]=\"Ja\",1,0)","v":0},{"$f":"IF(lammering[[#This Row],[geslacht]]=\"O\",1,0)","v":0},{"$f":"IF(lammering[[#This Row],[Speen-datum]]=\"\",\"\",(lammering[[#This Row],[Speen-gewicht]]-lammering[[#This Row],[geboorte-gewicht]])/(lammering[[#This Row],[Speen-datum]]-lammering[[#This Row],[Werp-datum]]))","v":""},{"$f":"IF(lammering[[#This Row],[Verkoop-datum]]=\"\",\"\",(lammering[[#This Row],[Verkoop-gewicht]]-lammering[[#This Row],[Speen-gewicht]])/(lammering[[#This Row],[Verkoop-datum]]-lammering[[#This Row],[Speen-datum]]))","v":""},{"$f":"IF(lammering[[#This Row],[Verkoop-datum]]=\"\",\"\",(lammering[[#This Row],[Verkoop-gewicht]]-lammering[[#This Row],[geboorte-gewicht]])/(lammering[[#This Row],[Verkoop-datum]]-lammering[[#This Row],[Werp-datum]]))","v":""},"","","","","","",{"$f":"IF(lammering[[#This Row],[Verkoop-gewicht]]=\"\",\"\",lammering[[#This Row],[Verkoop-gewicht]]-lammering[[#This Row],[geboorte-gewicht]])","v":""},"",""]
[{"$f":"lammering[[#This Row],[Ooi]]","v":0},0,0,{"$f":"IF(lammering[[#This Row],[Lam-nummer]]=\"\",0,1)","v":0},{"$f":"IF(lammering[[#This Row],[Dood in geboorte]]=\"ja\",1,0)","v":0},{"$f":"IF(lammering[[#This Row],[Ooi]]=\"\",0,IF(Berekeningen!E233=0,1,0))","v":0},{"$f":"IF(D233=0,0,IF(lammering[[#This Row],[Dood in geboorte]]=\"Ja\",0,IF(lammering[[#This Row],[Dood na geboorte]]=\"ja\",0,1)))","v":0},{"$f":"IF(lammering[[#This Row],[Opfok met kunstmelk]]=\"Ja\",1,0)","v":0},{"$f":"IF(lammering[[#This Row],[geslacht]]=\"O\",1,0)","v":0},{"$f":"IF(lammering[[#This Row],[Speen-datum]]=\"\",\"\",(lammering[[#This Row],[Speen-gewicht]]-lammering[[#This Row],[geboorte-gewicht]])/(lammering[[#This Row],[Speen-datum]]-lammering[[#This Row],[Werp-datum]]))","v":""},{"$f":"IF(lammering[[#This Row],[Verkoop-datum]]=\"\",\"\",(lammering[[#This Row],[Verkoop-gewicht]]-lammering[[#This Row],[Speen-gewicht]])/(lammering[[#This Row],[Verkoop-datum]]-lammering[[#This Row],[Speen-datum]]))","v":""},{"$f":"IF(lammering[[#This Row],[Verkoop-datum]]=\"\",\"\",(lammering[[#This Row],[Verkoop-gewicht]]-lammering[[#This Row],[geboorte-gewicht]])/(lammering[[#This Row],[Verkoop-datum]]-lammering[[#This Row],[Werp-datum]]))","v":""},"","","","","","",{"$f":"IF(lammering[[#This Row],[Verkoop-gewicht]]=\"\",\"\",lammering[[#This Row],[Verkoop-gewicht]]-lammering[[#This Row],[geboorte-gewicht]])","v":""},"",""]
[{"$f":"lammering[[#This Row],[Ooi]]","v":0},0,0,{"$f":"IF(lammering[[#This Row],[Lam-nummer]]=\"\",0,1)","v":0},{"$f":"IF(lammering[[#This Row],[Dood in geboorte]]=\"ja\",1,0)","v":0},{"$f":"IF(lammering[[#This Row],[Ooi]]=\"\",0,IF(Berekeningen!E234=0,1,0))","v":0},{"$f":"IF(D234=0,0,IF(lammering[[#This Row],[Dood in geboorte]]=\"Ja\",0,IF(lammering[[#This Row],[Dood na geboorte]]=\"ja\",0,1)))","v":0},{"$f":"IF(lammering[[#This Row],[Opfok met kunstmelk]]=\"Ja\",1,0)","v":0},{"$f":"IF(lammering[[#This Row],[geslacht]]=\"O\",1,0)","v":0},{"$f":"IF(lammering[[#This Row],[Speen-datum]]=\"\",\"\",(lammering[[#This Row],[Speen-gewicht]]-lammering[[#This Row],[geboorte-gewicht]])/(lammering[[#This Row],[Speen-datum]]-lammering[[#This Row],[Werp-datum]]))","v":""},{"$f":"IF(lammering[[#This Row],[Verkoop-datum]]=\"\",\"\",(lammering[[#This Row],[Verkoop-gewicht]]-lammering[[#This Row],[Speen-gewicht]])/(lammering[[#This Row],[Verkoop-datum]]-lammering[[#This Row],[Speen-datum]]))","v":""},{"$f":"IF(lammering[[#This Row],[Verkoop-datum]]=\"\",\"\",(lammering[[#This Row],[Verkoop-gewicht]]-lammering[[#This Row],[geboorte-gewicht]])/(lammering[[#This Row],[Verkoop-datum]]-lammering[[#This Row],[Werp-datum]]))","v":""},"","","","","","",{"$f":"IF(lammering[[#This Row],[Verkoop-gewicht]]=\"\",\"\",lammering[[#This Row],[Verkoop-gewicht]]-lammering[[#This Row],[geboorte-gewicht]])","v":""},"",""]
[{"$f":"lammering[[#This Row],[Ooi]]","v":0},0,0,{"$f":"IF(lammering[[#This Row],[Lam-nummer]]=\"\",0,1)","v":0},{"$f":"IF(lammering[[#This Row],[Dood in geboorte]]=\"ja\",1,0)","v":0},{"$f":"IF(lammering[[#This Row],[Ooi]]=\"\",0,IF(Berekeningen!E235=0,1,0))","v":0},{"$f":"IF(D235=0,0,IF(lammering[[#This Row],[Dood in geboorte]]=\"Ja\",0,IF(lammering[[#This Row],[Dood na geboorte]]=\"ja\",0,1)))","v":0},{"$f":"IF(lammering[[#This Row],[Opfok met kunstmelk]]=\"Ja\",1,0)","v":0},{"$f":"IF(lammering[[#This Row],[geslacht]]=\"O\",1,0)","v":0},{"$f":"IF(lammering[[#This Row],[Speen-datum]]=\"\",\"\",(lammering[[#This Row],[Speen-gewicht]]-lammering[[#This Row],[geboorte-gewicht]])/(lammering[[#This Row],[Speen-datum]]-lammering[[#This Row],[Werp-datum]]))","v":""},{"$f":"IF(lammering[[#This Row],[Verkoop-datum]]=\"\",\"\",(lammering[[#This Row],[Verkoop-gewicht]]-lammering[[#This Row],[Speen-gewicht]])/(lammering[[#This Row],[Verkoop-datum]]-lammering[[#This Row],[Speen-datum]]))","v":""},{"$f":"IF(lammering[[#This Row],[Verkoop-datum]]=\"\",\"\",(lammering[[#This Row],[Verkoop-gewicht]]-lammering[[#This Row],[geboorte-gewicht]])/(lammering[[#This Row],[Verkoop-datum]]-lammering[[#This Row],[Werp-datum]]))","v":""},"","","","","","",{"$f":"IF(lammering[[#This Row],[Verkoop-gewicht]]=\"\",\"\",lammering[[#This Row],[Verkoop-gewicht]]-lammering[[#This Row],[geboorte-gewicht]])","v":""},"",""]
[{"$f":"lammering[[#This Row],[Ooi]]","v":0},0,0,{"$f":"IF(lammering[[#This Row],[Lam-nummer]]=\"\",0,1)","v":0},{"$f":"IF(lammering[[#This Row],[Dood in geboorte]]=\"ja\",1,0)","v":0},{"$f":"IF(lammering[[#This Row],[Ooi]]=\"\",0,IF(Berekeningen!E236=0,1,0))","v":0},{"$f":"IF(D236=0,0,IF(lammering[[#This Row],[Dood in geboorte]]=\"Ja\",0,IF(lammering[[#This Row],[Dood na geboorte]]=\"ja\",0,1)))","v":0},{"$f":"IF(lammering[[#This Row],[Opfok met kunstmelk]]=\"Ja\",1,0)","v":0},{"$f":"IF(lammering[[#This Row],[geslacht]]=\"O\",1,0)","v":0},{"$f":"IF(lammering[[#This Row],[Speen-datum]]=\"\",\"\",(lammering[[#This Row],[Speen-gewicht]]-lammering[[#This Row],[geboorte-gewicht]])/(lammering[[#This Row],[Speen-datum]]-lammering[[#This Row],[Werp-datum]]))","v":""},{"$f":"IF(lammering[[#This Row],[Verkoop-datum]]=\"\",\"\",(lammering[[#This Row],[Verkoop-gewicht]]-lammering[[#This Row],[Speen-gewicht]])/(lammering[[#This Row],[Verkoop-datum]]-lammering[[#This Row],[Speen-datum]]))","v":""},{"$f":"IF(lammering[[#This Row],[Verkoop-datum]]=\"\",\"\",(lammering[[#This Row],[Verkoop-gewicht]]-lammering[[#This Row],[geboorte-gewicht]])/(lammering[[#This Row],[Verkoop-datum]]-lammering[[#This Row],[Werp-datum]]))","v":""},"","","","","","",{"$f":"IF(lammering[[#This Row],[Verkoop-gewicht]]=\"\",\"\",lammering[[#This Row],[Verkoop-gewicht]]-lammering[[#This Row],[geboorte-gewicht]])","v":""},"",""]
[{"$f":"lammering[[#This Row],[Ooi]]","v":0},0,0,{"$f":"IF(lammering[[#This Row],[Lam-nummer]]=\"\",0,1)","v":0},{"$f":"IF(lammering[[#This Row],[Dood in geboorte]]=\"ja\",1,0)","v":0},{"$f":"IF(lammering[[#This Row],[Ooi]]=\"\",0,IF(Berekeningen!E237=0,1,0))","v":0},{"$f":"IF(D237=0,0,IF(lammering[[#This Row],[Dood in geboorte]]=\"Ja\",0,IF(lammering[[#This Row],[Dood na geboorte]]=\"ja\",0,1)))","v":0},{"$f":"IF(lammering[[#This Row],[Opfok met kunstmelk]]=\"Ja\",1,0)","v":0},{"$f":"IF(lammering[[#This Row],[geslacht]]=\"O\",1,0)","v":0},{"$f":"IF(lammering[[#This Row],[Speen-datum]]=\"\",\"\",(lammering[[#This Row],[Speen-gewicht]]-lammering[[#This Row],[geboorte-gewicht]])/(lammering[[#This Row],[Speen-datum]]-lammering[[#This Row],[Werp-datum]]))","v":""},{"$f":"IF(lammering[[#This Row],[Verkoop-datum]]=\"\",\"\",(lammering[[#This Row],[Verkoop-gewicht]]-lammering[[#This Row],[Speen-gewicht]])/(lammering[[#This Row],[Verkoop-datum]]-lammering[[#This Row],[Speen-datum]]))","v":""},{"$f":"IF(lammering[[#This Row],[Verkoop-datum]]=\"\",\"\",(lammering[[#This Row],[Verkoop-gewicht]]-lammering[[#This Row],[geboorte-gewicht]])/(lammering[[#This Row],[Verkoop-datum]]-lammering[[#This Row],[Werp-datum]]))","v":""},"","","","","","",{"$f":"IF(lammering[[#This Row],[Verkoop-gewicht]]=\"\",\"\",lammering[[#This Row],[Verkoop-gewicht]]-lammering[[#This Row],[geboorte-gewicht]])","v":""},"",""]
[{"$f":"lammering[[#This Row],[Ooi]]","v":0},0,0,{"$f":"IF(lammering[[#This Row],[Lam-nummer]]=\"\",0,1)","v":0},{"$f":"IF(lammering[[#This Row],[Dood in geboorte]]=\"ja\",1,0)","v":0},{"$f":"IF(lammering[[#This Row],[Ooi]]=\"\",0,IF(Berekeningen!E238=0,1,0))","v":0},{"$f":"IF(D238=0,0,IF(lammering[[#This Row],[Dood in geboorte]]=\"Ja\",0,IF(lammering[[#This Row],[Dood na geboorte]]=\"ja\",0,1)))","v":0},{"$f":"IF(lammering[[#This Row],[Opfok met kunstmelk]]=\"Ja\",1,0)","v":0},{"$f":"IF(lammering[[#This Row],[geslacht]]=\"O\",1,0)","v":0},{"$f":"IF(lammering[[#This Row],[Speen-datum]]=\"\",\"\",(lammering[[#This Row],[Speen-gewicht]]-lammering[[#This Row],[geboorte-gewicht]])/(lammering[[#This Row],[Speen-datum]]-lammering[[#This Row],[Werp-datum]]))","v":""},{"$f":"IF(lammering[[#This Row],[Verkoop-datum]]=\"\",\"\",(lammering[[#This Row],[Verkoop-gewicht]]-lammering[[#This Row],[Speen-gewicht]])/(lammering[[#This Row],[Verkoop-datum]]-lammering[[#This Row],[Speen-datum]]))","v":""},{"$f":"IF(lammering[[#This Row],[Verkoop-datum]]=\"\",\"\",(lammering[[#This Row],[Verkoop-gewicht]]-lammering[[#This Row],[geboorte-gewicht]])/(lammering[[#This Row],[Verkoop-datum]]-lammering[[#This Row],[Werp-datum]]))","v":""},"","","","","","",{"$f":"IF(lammering[[#This Row],[Verkoop-gewicht]]=\"\",\"\",lammering[[#This Row],[Verkoop-gewicht]]-lammering[[#This Row],[geboorte-gewicht]])","v":""},"",""]
[{"$f":"lammering[[#This Row],[Ooi]]","v":0},0,0,{"$f":"IF(lammering[[#This Row],[Lam-nummer]]=\"\",0,1)","v":0},{"$f":"IF(lammering[[#This Row],[Dood in geboorte]]=\"ja\",1,0)","v":0},{"$f":"IF(lammering[[#This Row],[Ooi]]=\"\",0,IF(Berekeningen!E239=0,1,0))","v":0},{"$f":"IF(D239=0,0,IF(lammering[[#This Row],[Dood in geboorte]]=\"Ja\",0,IF(lammering[[#This Row],[Dood na geboorte]]=\"ja\",0,1)))","v":0},{"$f":"IF(lammering[[#This Row],[Opfok met kunstmelk]]=\"Ja\",1,0)","v":0},{"$f":"IF(lammering[[#This Row],[geslacht]]=\"O\",1,0)","v":0},{"$f":"IF(lammering[[#This Row],[Speen-datum]]=\"\",\"\",(lammering[[#This Row],[Speen-gewicht]]-lammering[[#This Row],[geboorte-gewicht]])/(lammering[[#This Row],[Speen-datum]]-lammering[[#This Row],[Werp-datum]]))","v":""},{"$f":"IF(lammering[[#This Row],[Verkoop-datum]]=\"\",\"\",(lammering[[#This Row],[Verkoop-gewicht]]-lammering[[#This Row],[Speen-gewicht]])/(lammering[[#This Row],[Verkoop-datum]]-lammering[[#This Row],[Speen-datum]]))","v":""},{"$f":"IF(lammering[[#This Row],[Verkoop-datum]]=\"\",\"\",(lammering[[#This Row],[Verkoop-gewicht]]-lammering[[#This Row],[geboorte-gewicht]])/(lammering[[#This Row],[Verkoop-datum]]-lammering[[#This Row],[Werp-datum]]))","v":""},"","","","","","",{"$f":"IF(lammering[[#This Row],[Verkoop-gewicht]]=\"\",\"\",lammering[[#This Row],[Verkoop-gewicht]]-lammering[[#This Row],[geboorte-gewicht]])","v":""},"",""]
[{"$f":"lammering[[#This Row],[Ooi]]","v":0},0,0,{"$f":"IF(lammering[[#This Row],[Lam-nummer]]=\"\",0,1)","v":0},{"$f":"IF(lammering[[#This Row],[Dood in geboorte]]=\"ja\",1,0)","v":0},{"$f":"IF(lammering[[#This Row],[Ooi]]=\"\",0,IF(Berekeningen!E240=0,1,0))","v":0},{"$f":"IF(D240=0,0,IF(lammering[[#This Row],[Dood in geboorte]]=\"Ja\",0,IF(lammering[[#This Row],[Dood na geboorte]]=\"ja\",0,1)))","v":0},{"$f":"IF(lammering[[#This Row],[Opfok met kunstmelk]]=\"Ja\",1,0)","v":0},{"$f":"IF(lammering[[#This Row],[geslacht]]=\"O\",1,0)","v":0},{"$f":"IF(lammering[[#This Row],[Speen-datum]]=\"\",\"\",(lammering[[#This Row],[Speen-gewicht]]-lammering[[#This Row],[geboorte-gewicht]])/(lammering[[#This Row],[Speen-datum]]-lammering[[#This Row],[Werp-datum]]))","v":""},{"$f":"IF(lammering[[#This Row],[Verkoop-datum]]=\"\",\"\",(lammering[[#This Row],[Verkoop-gewicht]]-lammering[[#This Row],[Speen-gewicht]])/(lammering[[#This Row],[Verkoop-datum]]-lammering[[#This Row],[Speen-datum]]))","v":""},{"$f":"IF(lammering[[#This Row],[Verkoop-datum]]=\"\",\"\",(lammering[[#This Row],[Verkoop-gewicht]]-lammering[[#This Row],[geboorte-gewicht]])/(lammering[[#This Row],[Verkoop-datum]]-lammering[[#This Row],[Werp-datum]]))","v":""},"","","","","","",{"$f":"IF(lammering[[#This Row],[Verkoop-gewicht]]=\"\",\"\",lammering[[#This Row],[Verkoop-gewicht]]-lammering[[#This Row],[geboorte-gewicht]])","v":""},"",""]
[{"$f":"lammering[[#This Row],[Ooi]]","v":0},0,0,{"$f":"IF(lammering[[#This Row],[Lam-nummer]]=\"\",0,1)","v":0},{"$f":"IF(lammering[[#This Row],[Dood in geboorte]]=\"ja\",1,0)","v":0},{"$f":"IF(lammering[[#This Row],[Ooi]]=\"\",0,IF(Berekeningen!E241=0,1,0))","v":0},{"$f":"IF(D241=0,0,IF(lammering[[#This Row],[Dood in geboorte]]=\"Ja\",0,IF(lammering[[#This Row],[Dood na geboorte]]=\"ja\",0,1)))","v":0},{"$f":"IF(lammering[[#This Row],[Opfok met kunstmelk]]=\"Ja\",1,0)","v":0},{"$f":"IF(lammering[[#This Row],[geslacht]]=\"O\",1,0)","v":0},{"$f":"IF(lammering[[#This Row],[Speen-datum]]=\"\",\"\",(lammering[[#This Row],[Speen-gewicht]]-lammering[[#This Row],[geboorte-gewicht]])/(lammering[[#This Row],[Speen-datum]]-lammering[[#This Row],[Werp-datum]]))","v":""},{"$f":"IF(lammering[[#This Row],[Verkoop-datum]]=\"\",\"\",(lammering[[#This Row],[Verkoop-gewicht]]-lammering[[#This Row],[Speen-gewicht]])/(lammering[[#This Row],[Verkoop-datum]]-lammering[[#This Row],[Speen-datum]]))","v":""},{"$f":"IF(lammering[[#This Row],[Verkoop-datum]]=\"\",\"\",(lammering[[#This Row],[Verkoop-gewicht]]-lammering[[#This Row],[geboorte-gewicht]])/(lammering[[#This Row],[Verkoop-datum]]-lammering[[#This Row],[Werp-datum]]))","v":""},"","","","","","",{"$f":"IF(lammering[[#This Row],[Verkoop-gewicht]]=\"\",\"\",lammering[[#This Row],[Verkoop-gewicht]]-lammering[[#This Row],[geboorte-gewicht]])","v":""},"",""]
[{"$f":"lammering[[#This Row],[Ooi]]","v":0},0,0,{"$f":"IF(lammering[[#This Row],[Lam-nummer]]=\"\",0,1)","v":0},{"$f":"IF(lammering[[#This Row],[Dood in geboorte]]=\"ja\",1,0)","v":0},{"$f":"IF(lammering[[#This Row],[Ooi]]=\"\",0,IF(Berekeningen!E242=0,1,0))","v":0},{"$f":"IF(D242=0,0,IF(lammering[[#This Row],[Dood in geboorte]]=\"Ja\",0,IF(lammering[[#This Row],[Dood na geboorte]]=\"ja\",0,1)))","v":0},{"$f":"IF(lammering[[#This Row],[Opfok met kunstmelk]]=\"Ja\",1,0)","v":0},{"$f":"IF(lammering[[#This Row],[geslacht]]=\"O\",1,0)","v":0},{"$f":"IF(lammering[[#This Row],[Speen-datum]]=\"\",\"\",(lammering[[#This Row],[Speen-gewicht]]-lammering[[#This Row],[geboorte-gewicht]])/(lammering[[#This Row],[Speen-datum]]-lammering[[#This Row],[Werp-datum]]))","v":""},{"$f":"IF(lammering[[#This Row],[Verkoop-datum]]=\"\",\"\",(lammering[[#This Row],[Verkoop-gewicht]]-lammering[[#This Row],[Speen-gewicht]])/(lammering[[#This Row],[Verkoop-datum]]-lammering[[#This Row],[Speen-datum]]))","v":""},{"$f":"IF(lammering[[#This Row],[Verkoop-datum]]=\"\",\"\",(lammering[[#This Row],[Verkoop-gewicht]]-lammering[[#This Row],[geboorte-gewicht]])/(lammering[[#This Row],[Verkoop-datum]]-lammering[[#This Row],[Werp-datum]]))","v":""},"","","","","","",{"$f":"IF(lammering[[#This Row],[Verkoop-gewicht]]=\"\",\"\",lammering[[#This Row],[Verkoop-gewicht]]-lammering[[#This Row],[geboorte-gewicht]])","v":""},"",""]
[{"$f":"lammering[[#This Row],[Ooi]]","v":0},0,0,{"$f":"IF(lammering[[#This Row],[Lam-nummer]]=\"\",0,1)","v":0},{"$f":"IF(lammering[[#This Row],[Dood in geboorte]]=\"ja\",1,0)","v":0},{"$f":"IF(lammering[[#This Row],[Ooi]]=\"\",0,IF(Berekeningen!E243=0,1,0))","v":0},{"$f":"IF(D243=0,0,IF(lammering[[#This Row],[Dood in geboorte]]=\"Ja\",0,IF(lammering[[#This Row],[Dood na geboorte]]=\"ja\",0,1)))","v":0},{"$f":"IF(lammering[[#This Row],[Opfok met kunstmelk]]=\"Ja\",1,0)","v":0},{"$f":"IF(lammering[[#This Row],[geslacht]]=\"O\",1,0)","v":0},{"$f":"IF(lammering[[#This Row],[Speen-datum]]=\"\",\"\",(lammering[[#This Row],[Speen-gewicht]]-lammering[[#This Row],[geboorte-gewicht]])/(lammering[[#This Row],[Speen-datum]]-lammering[[#This Row],[Werp-datum]]))","v":""},{"$f":"IF(lammering[[#This Row],[Verkoop-datum]]=\"\",\"\",(lammering[[#This Row],[Verkoop-gewicht]]-lammering[[#This Row],[Speen-gewicht]])/(lammering[[#This Row],[Verkoop-datum]]-lammering[[#This Row],[Speen-datum]]))","v":""},{"$f":"IF(lammering[[#This Row],[Verkoop-datum]]=\"\",\"\",(lammering[[#This Row],[Verkoop-gewicht]]-lammering[[#This Row],[geboorte-gewicht]])/(lammering[[#This Row],[Verkoop-datum]]-lammering[[#This Row],[Werp-datum]]))","v":""},"","","","","","",{"$f":"IF(lammering[[#This Row],[Verkoop-gewicht]]=\"\",\"\",lammering[[#This Row],[Verkoop-gewicht]]-lammering[[#This Row],[geboorte-gewicht]])","v":""},"",""]
[{"$f":"lammering[[#This Row],[Ooi]]","v":0},0,0,{"$f":"IF(lammering[[#This Row],[Lam-nummer]]=\"\",0,1)","v":0},{"$f":"IF(lammering[[#This Row],[Dood in geboorte]]=\"ja\",1,0)","v":0},{"$f":"IF(lammering[[#This Row],[Ooi]]=\"\",0,IF(Berekeningen!E244=0,1,0))","v":0},{"$f":"IF(D244=0,0,IF(lammering[[#This Row],[Dood in geboorte]]=\"Ja\",0,IF(lammering[[#This Row],[Dood na geboorte]]=\"ja\",0,1)))","v":0},{"$f":"IF(lammering[[#This Row],[Opfok met kunstmelk]]=\"Ja\",1,0)","v":0},{"$f":"IF(lammering[[#This Row],[geslacht]]=\"O\",1,0)","v":0},{"$f":"IF(lammering[[#This Row],[Speen-datum]]=\"\",\"\",(lammering[[#This Row],[Speen-gewicht]]-lammering[[#This Row],[geboorte-gewicht]])/(lammering[[#This Row],[Speen-datum]]-lammering[[#This Row],[Werp-datum]]))","v":""},{"$f":"IF(lammering[[#This Row],[Verkoop-datum]]=\"\",\"\",(lammering[[#This Row],[Verkoop-gewicht]]-lammering[[#This Row],[Speen-gewicht]])/(lammering[[#This Row],[Verkoop-datum]]-lammering[[#This Row],[Speen-datum]]))","v":""},{"$f":"IF(lammering[[#This Row],[Verkoop-datum]]=\"\",\"\",(lammering[[#This Row],[Verkoop-gewicht]]-lammering[[#This Row],[geboorte-gewicht]])/(lammering[[#This Row],[Verkoop-datum]]-lammering[[#This Row],[Werp-datum]]))","v":""},"","","","","","",{"$f":"IF(lammering[[#This Row],[Verkoop-gewicht]]=\"\",\"\",lammering[[#This Row],[Verkoop-gewicht]]-lammering[[#This Row],[geboorte-gewicht]])","v":""},"",""]
[{"$f":"lammering[[#This Row],[Ooi]]","v":0},0,0,{"$f":"IF(lammering[[#This Row],[Lam-nummer]]=\"\",0,1)","v":0},{"$f":"IF(lammering[[#This Row],[Dood in geboorte]]=\"ja\",1,0)","v":0},{"$f":"IF(lammering[[#This Row],[Ooi]]=\"\",0,IF(Berekeningen!E245=0,1,0))","v":0},{"$f":"IF(D245=0,0,IF(lammering[[#This Row],[Dood in geboorte]]=\"Ja\",0,IF(lammering[[#This Row],[Dood na geboorte]]=\"ja\",0,1)))","v":0},{"$f":"IF(lammering[[#This Row],[Opfok met kunstmelk]]=\"Ja\",1,0)","v":0},{"$f":"IF(lammering[[#This Row],[geslacht]]=\"O\",1,0)","v":0},{"$f":"IF(lammering[[#This Row],[Speen-datum]]=\"\",\"\",(lammering[[#This Row],[Speen-gewicht]]-lammering[[#This Row],[geboorte-gewicht]])/(lammering[[#This Row],[Speen-datum]]-lammering[[#This Row],[Werp-datum]]))","v":""},{"$f":"IF(lammering[[#This Row],[Verkoop-datum]]=\"\",\"\",(lammering[[#This Row],[Verkoop-gewicht]]-lammering[[#This Row],[Speen-gewicht]])/(lammering[[#This Row],[Verkoop-datum]]-lammering[[#This Row],[Speen-datum]]))","v":""},{"$f":"IF(lammering[[#This Row],[Verkoop-datum]]=\"\",\"\",(lammering[[#This Row],[Verkoop-gewicht]]-lammering[[#This Row],[geboorte-gewicht]])/(lammering[[#This Row],[Verkoop-datum]]-lammering[[#This Row],[Werp-datum]]))","v":""},"","","","","","",{"$f":"IF(lammering[[#This Row],[Verkoop-gewicht]]=\"\",\"\",lammering[[#This Row],[Verkoop-gewicht]]-lammering[[#This Row],[geboorte-gewicht]])","v":""},"",""]
[{"$f":"lammering[[#This Row],[Ooi]]","v":0},0,0,{"$f":"IF(lammering[[#This Row],[Lam-nummer]]=\"\",0,1)","v":0},{"$f":"IF(lammering[[#This Row],[Dood in geboorte]]=\"ja\",1,0)","v":0},{"$f":"IF(lammering[[#This Row],[Ooi]]=\"\",0,IF(Berekeningen!E246=0,1,0))","v":0},{"$f":"IF(D246=0,0,IF(lammering[[#This Row],[Dood in geboorte]]=\"Ja\",0,IF(lammering[[#This Row],[Dood na geboorte]]=\"ja\",0,1)))","v":0},{"$f":"IF(lammering[[#This Row],[Opfok met kunstmelk]]=\"Ja\",1,0)","v":0},{"$f":"IF(lammering[[#This Row],[geslacht]]=\"O\",1,0)","v":0},{"$f":"IF(lammering[[#This Row],[Speen-datum]]=\"\",\"\",(lammering[[#This Row],[Speen-gewicht]]-lammering[[#This Row],[geboorte-gewicht]])/(lammering[[#This Row],[Speen-datum]]-lammering[[#This Row],[Werp-datum]]))","v":""},{"$f":"IF(lammering[[#This Row],[Verkoop-datum]]=\"\",\"\",(lammering[[#This Row],[Verkoop-gewicht]]-lammering[[#This Row],[Speen-gewicht]])/(lammering[[#This Row],[Verkoop-datum]]-lammering[[#This Row],[Speen-datum]]))","v":""},{"$f":"IF(lammering[[#This Row],[Verkoop-datum]]=\"\",\"\",(lammering[[#This Row],[Verkoop-gewicht]]-lammering[[#This Row],[geboorte-gewicht]])/(lammering[[#This Row],[Verkoop-datum]]-lammering[[#This Row],[Werp-datum]]))","v":""},"","","","","","",{"$f":"IF(lammering[[#This Row],[Verkoop-gewicht]]=\"\",\"\",lammering[[#This Row],[Verkoop-gewicht]]-lammering[[#This Row],[geboorte-gewicht]])","v":""},"",""]
[{"$f":"lammering[[#This Row],[Ooi]]","v":0},0,0,{"$f":"IF(lammering[[#This Row],[Lam-nummer]]=\"\",0,1)","v":0},{"$f":"IF(lammering[[#This Row],[Dood in geboorte]]=\"ja\",1,0)","v":0},{"$f":"IF(lammering[[#This Row],[Ooi]]=\"\",0,IF(Berekeningen!E247=0,1,0))","v":0},{"$f":"IF(D247=0,0,IF(lammering[[#This Row],[Dood in geboorte]]=\"Ja\",0,IF(lammering[[#This Row],[Dood na geboorte]]=\"ja\",0,1)))","v":0},{"$f":"IF(lammering[[#This Row],[Opfok met kunstmelk]]=\"Ja\",1,0)","v":0},{"$f":"IF(lammering[[#This Row],[geslacht]]=\"O\",1,0)","v":0},{"$f":"IF(lammering[[#This Row],[Speen-datum]]=\"\",\"\",(lammering[[#This Row],[Speen-gewicht]]-lammering[[#This Row],[geboorte-gewicht]])/(lammering[[#This Row],[Speen-datum]]-lammering[[#This Row],[Werp-datum]]))","v":""},{"$f":"IF(lammering[[#This Row],[Verkoop-datum]]=\"\",\"\",(lammering[[#This Row],[Verkoop-gewicht]]-lammering[[#This Row],[Speen-gewicht]])/(lammering[[#This Row],[Verkoop-datum]]-lammering[[#This Row],[Speen-datum]]))","v":""},{"$f":"IF(lammering[[#This Row],[Verkoop-datum]]=\"\",\"\",(lammering[[#This Row],[Verkoop-gewicht]]-lammering[[#This Row],[geboorte-gewicht]])/(lammering[[#This Row],[Verkoop-datum]]-lammering[[#This Row],[Werp-datum]]))","v":""},"","","","","","",{"$f":"IF(lammering[[#This Row],[Verkoop-gewicht]]=\"\",\"\",lammering[[#This Row],[Verkoop-gewicht]]-lammering[[#This Row],[geboorte-gewicht]])","v":""},"",""]
[{"$f":"lammering[[#This Row],[Ooi]]","v":0},0,0,{"$f":"IF(lammering[[#This Row],[Lam-nummer]]=\"\",0,1)","v":0},{"$f":"IF(lammering[[#This Row],[Dood in geboorte]]=\"ja\",1,0)","v":0},{"$f":"IF(lammering[[#This Row],[Ooi]]=\"\",0,IF(Berekeningen!E248=0,1,0))","v":0},{"$f":"IF(D248=0,0,IF(lammering[[#This Row],[Dood in geboorte]]=\"Ja\",0,IF(lammering[[#This Row],[Dood na geboorte]]=\"ja\",0,1)))","v":0},{"$f":"IF(lammering[[#This Row],[Opfok met kunstmelk]]=\"Ja\",1,0)","v":0},{"$f":"IF(lammering[[#This Row],[geslacht]]=\"O\",1,0)","v":0},{"$f":"IF(lammering[[#This Row],[Speen-datum]]=\"\",\"\",(lammering[[#This Row],[Speen-gewicht]]-lammering[[#This Row],[geboorte-gewicht]])/(lammering[[#This Row],[Speen-datum]]-lammering[[#This Row],[Werp-datum]]))","v":""},{"$f":"IF(lammering[[#This Row],[Verkoop-datum]]=\"\",\"\",(lammering[[#This Row],[Verkoop-gewicht]]-lammering[[#This Row],[Speen-gewicht]])/(lammering[[#This Row],[Verkoop-datum]]-lammering[[#This Row],[Speen-datum]]))","v":""},{"$f":"IF(lammering[[#This Row],[Verkoop-datum]]=\"\",\"\",(lammering[[#This Row],[Verkoop-gewicht]]-lammering[[#This Row],[geboorte-gewicht]])/(lammering[[#This Row],[Verkoop-datum]]-lammering[[#This Row],[Werp-datum]]))","v":""},"","","","","","",{"$f":"IF(lammering[[#This Row],[Verkoop-gewicht]]=\"\",\"\",lammering[[#This Row],[Verkoop-gewicht]]-lammering[[#This Row],[geboorte-gewicht]])","v":""},"",""]
[{"$f":"lammering[[#This Row],[Ooi]]","v":0},0,0,{"$f":"IF(lammering[[#This Row],[Lam-nummer]]=\"\",0,1)","v":0},{"$f":"IF(lammering[[#This Row],[Dood in geboorte]]=\"ja\",1,0)","v":0},{"$f":"IF(lammering[[#This Row],[Ooi]]=\"\",0,IF(Berekeningen!E249=0,1,0))","v":0},{"$f":"IF(D249=0,0,IF(lammering[[#This Row],[Dood in geboorte]]=\"Ja\",0,IF(lammering[[#This Row],[Dood na geboorte]]=\"ja\",0,1)))","v":0},{"$f":"IF(lammering[[#This Row],[Opfok met kunstmelk]]=\"Ja\",1,0)","v":0},{"$f":"IF(lammering[[#This Row],[geslacht]]=\"O\",1,0)","v":0},{"$f":"IF(lammering[[#This Row],[Speen-datum]]=\"\",\"\",(lammering[[#This Row],[Speen-gewicht]]-lammering[[#This Row],[geboorte-gewicht]])/(lammering[[#This Row],[Speen-datum]]-lammering[[#This Row],[Werp-datum]]))","v":""},{"$f":"IF(lammering[[#This Row],[Verkoop-datum]]=\"\",\"\",(lammering[[#This Row],[Verkoop-gewicht]]-lammering[[#This Row],[Speen-gewicht]])/(lammering[[#This Row],[Verkoop-datum]]-lammering[[#This Row],[Speen-datum]]))","v":""},{"$f":"IF(lammering[[#This Row],[Verkoop-datum]]=\"\",\"\",(lammering[[#This Row],[Verkoop-gewicht]]-lammering[[#This Row],[geboorte-gewicht]])/(lammering[[#This Row],[Verkoop-datum]]-lammering[[#This Row],[Werp-datum]]))","v":""},"","","","","","",{"$f":"IF(lammering[[#This Row],[Verkoop-gewicht]]=\"\",\"\",lammering[[#This Row],[Verkoop-gewicht]]-lammering[[#This Row],[geboorte-gewicht]])","v":""},"",""]
[{"$f":"lammering[[#This Row],[Ooi]]","v":0},0,0,{"$f":"IF(lammering[[#This Row],[Lam-nummer]]=\"\",0,1)","v":0},{"$f":"IF(lammering[[#This Row],[Dood in geboorte]]=\"ja\",1,0)","v":0},{"$f":"IF(lammering[[#This Row],[Ooi]]=\"\",0,IF(Berekeningen!E250=0,1,0))","v":0},{"$f":"IF(D250=0,0,IF(lammering[[#This Row],[Dood in geboorte]]=\"Ja\",0,IF(lammering[[#This Row],[Dood na geboorte]]=\"ja\",0,1)))","v":0},{"$f":"IF(lammering[[#This Row],[Opfok met kunstmelk]]=\"Ja\",1,0)","v":0},{"$f":"IF(lammering[[#This Row],[geslacht]]=\"O\",1,0)","v":0},{"$f":"IF(lammering[[#This Row],[Speen-datum]]=\"\",\"\",(lammering[[#This Row],[Speen-gewicht]]-lammering[[#This Row],[geboorte-gewicht]])/(lammering[[#This Row],[Speen-datum]]-lammering[[#This Row],[Werp-datum]]))","v":""},{"$f":"IF(lammering[[#This Row],[Verkoop-datum]]=\"\",\"\",(lammering[[#This Row],[Verkoop-gewicht]]-lammering[[#This Row],[Speen-gewicht]])/(lammering[[#This Row],[Verkoop-datum]]-lammering[[#This Row],[Speen-datum]]))","v":""},{"$f":"IF(lammering[[#This Row],[Verkoop-datum]]=\"\",\"\",(lammering[[#This Row],[Verkoop-gewicht]]-lammering[[#This Row],[geboorte-gewicht]])/(lammering[[#This Row],[Verkoop-datum]]-lammering[[#This Row],[Werp-datum]]))","v":""},"","","","","","",{"$f":"IF(lammering[[#This Row],[Verkoop-gewicht]]=\"\",\"\",lammering[[#This Row],[Verkoop-gewicht]]-lammering[[#This Row],[geboorte-gewicht]])","v":""},"",""]
[{"$f":"lammering[[#This Row],[Ooi]]","v":0},0,0,{"$f":"IF(lammering[[#This Row],[Lam-nummer]]=\"\",0,1)","v":0},{"$f":"IF(lammering[[#This Row],[Dood in geboorte]]=\"ja\",1,0)","v":0},{"$f":"IF(lammering[[#This Row],[Ooi]]=\"\",0,IF(Berekeningen!E251=0,1,0))","v":0},{"$f":"IF(D251=0,0,IF(lammering[[#This Row],[Dood in geboorte]]=\"Ja\",0,IF(lammering[[#This Row],[Dood na geboorte]]=\"ja\",0,1)))","v":0},{"$f":"IF(lammering[[#This Row],[Opfok met kunstmelk]]=\"Ja\",1,0)","v":0},{"$f":"IF(lammering[[#This Row],[geslacht]]=\"O\",1,0)","v":0},{"$f":"IF(lammering[[#This Row],[Speen-datum]]=\"\",\"\",(lammering[[#This Row],[Speen-gewicht]]-lammering[[#This Row],[geboorte-gewicht]])/(lammering[[#This Row],[Speen-datum]]-lammering[[#This Row],[Werp-datum]]))","v":""},{"$f":"IF(lammering[[#This Row],[Verkoop-datum]]=\"\",\"\",(lammering[[#This Row],[Verkoop-gewicht]]-lammering[[#This Row],[Speen-gewicht]])/(lammering[[#This Row],[Verkoop-datum]]-lammering[[#This Row],[Speen-datum]]))","v":""},{"$f":"IF(lammering[[#This Row],[Verkoop-datum]]=\"\",\"\",(lammering[[#This Row],[Verkoop-gewicht]]-lammering[[#This Row],[geboorte-gewicht]])/(lammering[[#This Row],[Verkoop-datum]]-lammering[[#This Row],[Werp-datum]]))","v":""},"","","","","","",{"$f":"IF(lammering[[#This Row],[Verkoop-gewicht]]=\"\",\"\",lammering[[#This Row],[Verkoop-gewicht]]-lammering[[#This Row],[geboorte-gewicht]])","v":""},"",""]
[{"$f":"lammering[[#This Row],[Ooi]]","v":0},0,0,{"$f":"IF(lammering[[#This Row],[Lam-nummer]]=\"\",0,1)","v":0},{"$f":"IF(lammering[[#This Row],[Dood in geboorte]]=\"ja\",1,0)","v":0},{"$f":"IF(lammering[[#This Row],[Ooi]]=\"\",0,IF(Berekeningen!E252=0,1,0))","v":0},{"$f":"IF(D252=0,0,IF(lammering[[#This Row],[Dood in geboorte]]=\"Ja\",0,IF(lammering[[#This Row],[Dood na geboorte]]=\"ja\",0,1)))","v":0},{"$f":"IF(lammering[[#This Row],[Opfok met kunstmelk]]=\"Ja\",1,0)","v":0},{"$f":"IF(lammering[[#This Row],[geslacht]]=\"O\",1,0)","v":0},{"$f":"IF(lammering[[#This Row],[Speen-datum]]=\"\",\"\",(lammering[[#This Row],[Speen-gewicht]]-lammering[[#This Row],[geboorte-gewicht]])/(lammering[[#This Row],[Speen-datum]]-lammering[[#This Row],[Werp-datum]]))","v":""},{"$f":"IF(lammering[[#This Row],[Verkoop-datum]]=\"\",\"\",(lammering[[#This Row],[Verkoop-gewicht]]-lammering[[#This Row],[Speen-gewicht]])/(lammering[[#This Row],[Verkoop-datum]]-lammering[[#This Row],[Speen-datum]]))","v":""},{"$f":"IF(lammering[[#This Row],[Verkoop-datum]]=\"\",\"\",(lammering[[#This Row],[Verkoop-gewicht]]-lammering[[#This Row],[geboorte-gewicht]])/(lammering[[#This Row],[Verkoop-datum]]-lammering[[#This Row],[Werp-datum]]))","v":""},"","","","","","",{"$f":"IF(lammering[[#This Row],[Verkoop-gewicht]]=\"\",\"\",lammering[[#This Row],[Verkoop-gewicht]]-lammering[[#This Row],[geboorte-gewicht]])","v":""},"",""]
[{"$f":"lammering[[#This Row],[Ooi]]","v":0},0,0,{"$f":"IF(lammering[[#This Row],[Lam-nummer]]=\"\",0,1)","v":0},{"$f":"IF(lammering[[#This Row],[Dood in geboorte]]=\"ja\",1,0)","v":0},{"$f":"IF(lammering[[#This Row],[Ooi]]=\"\",0,IF(Berekeningen!E253=0,1,0))","v":0},{"$f":"IF(D253=0,0,IF(lammering[[#This Row],[Dood in geboorte]]=\"Ja\",0,IF(lammering[[#This Row],[Dood na geboorte]]=\"ja\",0,1)))","v":0},{"$f":"IF(lammering[[#This Row],[Opfok met kunstmelk]]=\"Ja\",1,0)","v":0},{"$f":"IF(lammering[[#This Row],[geslacht]]=\"O\",1,0)","v":0},{"$f":"IF(lammering[[#This Row],[Speen-datum]]=\"\",\"\",(lammering[[#This Row],[Speen-gewicht]]-lammering[[#This Row],[geboorte-gewicht]])/(lammering[[#This Row],[Speen-datum]]-lammering[[#This Row],[Werp-datum]]))","v":""},{"$f":"IF(lammering[[#This Row],[Verkoop-datum]]=\"\",\"\",(lammering[[#This Row],[Verkoop-gewicht]]-lammering[[#This Row],[Speen-gewicht]])/(lammering[[#This Row],[Verkoop-datum]]-lammering[[#This Row],[Speen-datum]]))","v":""},{"$f":"IF(lammering[[#This Row],[Verkoop-datum]]=\"\",\"\",(lammering[[#This Row],[Verkoop-gewicht]]-lammering[[#This Row],[geboorte-gewicht]])/(lammering[[#This Row],[Verkoop-datum]]-lammering[[#This Row],[Werp-datum]]))","v":""},"","","","","","",{"$f":"IF(lammering[[#This Row],[Verkoop-gewicht]]=\"\",\"\",lammering[[#This Row],[Verkoop-gewicht]]-lammering[[#This Row],[geboorte-gewicht]])","v":""},"",""]
[{"$f":"lammering[[#This Row],[Ooi]]","v":0},0,0,{"$f":"IF(lammering[[#This Row],[Lam-nummer]]=\"\",0,1)","v":0},{"$f":"IF(lammering[[#This Row],[Dood in geboorte]]=\"ja\",1,0)","v":0},{"$f":"IF(lammering[[#This Row],[Ooi]]=\"\",0,IF(Berekeningen!E254=0,1,0))","v":0},{"$f":"IF(D254=0,0,IF(lammering[[#This Row],[Dood in geboorte]]=\"Ja\",0,IF(lammering[[#This Row],[Dood na geboorte]]=\"ja\",0,1)))","v":0},{"$f":"IF(lammering[[#This Row],[Opfok met kunstmelk]]=\"Ja\",1,0)","v":0},{"$f":"IF(lammering[[#This Row],[geslacht]]=\"O\",1,0)","v":0},{"$f":"IF(lammering[[#This Row],[Speen-datum]]=\"\",\"\",(lammering[[#This Row],[Speen-gewicht]]-lammering[[#This Row],[geboorte-gewicht]])/(lammering[[#This Row],[Speen-datum]]-lammering[[#This Row],[Werp-datum]]))","v":""},{"$f":"IF(lammering[[#This Row],[Verkoop-datum]]=\"\",\"\",(lammering[[#This Row],[Verkoop-gewicht]]-lammering[[#This Row],[Speen-gewicht]])/(lammering[[#This Row],[Verkoop-datum]]-lammering[[#This Row],[Speen-datum]]))","v":""},{"$f":"IF(lammering[[#This Row],[Verkoop-datum]]=\"\",\"\",(lammering[[#This Row],[Verkoop-gewicht]]-lammering[[#This Row],[geboorte-gewicht]])/(lammering[[#This Row],[Verkoop-datum]]-lammering[[#This Row],[Werp-datum]]))","v":""},"","","","","","",{"$f":"IF(lammering[[#This Row],[Verkoop-gewicht]]=\"\",\"\",lammering[[#This Row],[Verkoop-gewicht]]-lammering[[#This Row],[geboorte-gewicht]])","v":""},"",""]
[{"$f":"lammering[[#This Row],[Ooi]]","v":0},0,0,{"$f":"IF(lammering[[#This Row],[Lam-nummer]]=\"\",0,1)","v":0},{"$f":"IF(lammering[[#This Row],[Dood in geboorte]]=\"ja\",1,0)","v":0},{"$f":"IF(lammering[[#This Row],[Ooi]]=\"\",0,IF(Berekeningen!E255=0,1,0))","v":0},{"$f":"IF(D255=0,0,IF(lammering[[#This Row],[Dood in geboorte]]=\"Ja\",0,IF(lammering[[#This Row],[Dood na geboorte]]=\"ja\",0,1)))","v":0},{"$f":"IF(lammering[[#This Row],[Opfok met kunstmelk]]=\"Ja\",1,0)","v":0},{"$f":"IF(lammering[[#This Row],[geslacht]]=\"O\",1,0)","v":0},{"$f":"IF(lammering[[#This Row],[Speen-datum]]=\"\",\"\",(lammering[[#This Row],[Speen-gewicht]]-lammering[[#This Row],[geboorte-gewicht]])/(lammering[[#This Row],[Speen-datum]]-lammering[[#This Row],[Werp-datum]]))","v":""},{"$f":"IF(lammering[[#This Row],[Verkoop-datum]]=\"\",\"\",(lammering[[#This Row],[Verkoop-gewicht]]-lammering[[#This Row],[Speen-gewicht]])/(lammering[[#This Row],[Verkoop-datum]]-lammering[[#This Row],[Speen-datum]]))","v":""},{"$f":"IF(lammering[[#This Row],[Verkoop-datum]]=\"\",\"\",(lammering[[#This Row],[Verkoop-gewicht]]-lammering[[#This Row],[geboorte-gewicht]])/(lammering[[#This Row],[Verkoop-datum]]-lammering[[#This Row],[Werp-datum]]))","v":""},"","","","","","",{"$f":"IF(lammering[[#This Row],[Verkoop-gewicht]]=\"\",\"\",lammering[[#This Row],[Verkoop-gewicht]]-lammering[[#This Row],[geboorte-gewicht]])","v":""},"",""]
[{"$f":"lammering[[#This Row],[Ooi]]","v":0},0,0,{"$f":"IF(lammering[[#This Row],[Lam-nummer]]=\"\",0,1)","v":0},{"$f":"IF(lammering[[#This Row],[Dood in geboorte]]=\"ja\",1,0)","v":0},{"$f":"IF(lammering[[#This Row],[Ooi]]=\"\",0,IF(Berekeningen!E256=0,1,0))","v":0},{"$f":"IF(D256=0,0,IF(lammering[[#This Row],[Dood in geboorte]]=\"Ja\",0,IF(lammering[[#This Row],[Dood na geboorte]]=\"ja\",0,1)))","v":0},{"$f":"IF(lammering[[#This Row],[Opfok met kunstmelk]]=\"Ja\",1,0)","v":0},{"$f":"IF(lammering[[#This Row],[geslacht]]=\"O\",1,0)","v":0},{"$f":"IF(lammering[[#This Row],[Speen-datum]]=\"\",\"\",(lammering[[#This Row],[Speen-gewicht]]-lammering[[#This Row],[geboorte-gewicht]])/(lammering[[#This Row],[Speen-datum]]-lammering[[#This Row],[Werp-datum]]))","v":""},{"$f":"IF(lammering[[#This Row],[Verkoop-datum]]=\"\",\"\",(lammering[[#This Row],[Verkoop-gewicht]]-lammering[[#This Row],[Speen-gewicht]])/(lammering[[#This Row],[Verkoop-datum]]-lammering[[#This Row],[Speen-datum]]))","v":""},{"$f":"IF(lammering[[#This Row],[Verkoop-datum]]=\"\",\"\",(lammering[[#This Row],[Verkoop-gewicht]]-lammering[[#This Row],[geboorte-gewicht]])/(lammering[[#This Row],[Verkoop-datum]]-lammering[[#This Row],[Werp-datum]]))","v":""},"","","","","","",{"$f":"IF(lammering[[#This Row],[Verkoop-gewicht]]=\"\",\"\",lammering[[#This Row],[Verkoop-gewicht]]-lammering[[#This Row],[geboorte-gewicht]])","v":""},"",""]
[{"$f":"lammering[[#This Row],[Ooi]]","v":0},0,0,{"$f":"IF(lammering[[#This Row],[Lam-nummer]]=\"\",0,1)","v":0},{"$f":"IF(lammering[[#This Row],[Dood in geboorte]]=\"ja\",1,0)","v":0},{"$f":"IF(lammering[[#This Row],[Ooi]]=\"\",0,IF(Berekeningen!E257=0,1,0))","v":0},{"$f":"IF(D257=0,0,IF(lammering[[#This Row],[Dood in geboorte]]=\"Ja\",0,IF(lammering[[#This Row],[Dood na geboorte]]=\"ja\",0,1)))","v":0},{"$f":"IF(lammering[[#This Row],[Opfok met kunstmelk]]=\"Ja\",1,0)","v":0},{"$f":"IF(lammering[[#This Row],[geslacht]]=\"O\",1,0)","v":0},{"$f":"IF(lammering[[#This Row],[Speen-datum]]=\"\",\"\",(lammering[[#This Row],[Speen-gewicht]]-lammering[[#This Row],[geboorte-gewicht]])/(lammering[[#This Row],[Speen-datum]]-lammering[[#This Row],[Werp-datum]]))","v":""},{"$f":"IF(lammering[[#This Row],[Verkoop-datum]]=\"\",\"\",(lammering[[#This Row],[Verkoop-gewicht]]-lammering[[#This Row],[Speen-gewicht]])/(lammering[[#This Row],[Verkoop-datum]]-lammering[[#This Row],[Speen-datum]]))","v":""},{"$f":"IF(lammering[[#This Row],[Verkoop-datum]]=\"\",\"\",(lammering[[#This Row],[Verkoop-gewicht]]-lammering[[#This Row],[geboorte-gewicht]])/(lammering[[#This Row],[Verkoop-datum]]-lammering[[#This Row],[Werp-datum]]))","v":""},"","","","","","",{"$f":"IF(lammering[[#This Row],[Verkoop-gewicht]]=\"\",\"\",lammering[[#This Row],[Verkoop-gewicht]]-lammering[[#This Row],[geboorte-gewicht]])","v":""},"",""]
[{"$f":"lammering[[#This Row],[Ooi]]","v":0},0,0,{"$f":"IF(lammering[[#This Row],[Lam-nummer]]=\"\",0,1)","v":0},{"$f":"IF(lammering[[#This Row],[Dood in geboorte]]=\"ja\",1,0)","v":0},{"$f":"IF(lammering[[#This Row],[Ooi]]=\"\",0,IF(Berekeningen!E258=0,1,0))","v":0},{"$f":"IF(D258=0,0,IF(lammering[[#This Row],[Dood in geboorte]]=\"Ja\",0,IF(lammering[[#This Row],[Dood na geboorte]]=\"ja\",0,1)))","v":0},{"$f":"IF(lammering[[#This Row],[Opfok met kunstmelk]]=\"Ja\",1,0)","v":0},{"$f":"IF(lammering[[#This Row],[geslacht]]=\"O\",1,0)","v":0},{"$f":"IF(lammering[[#This Row],[Speen-datum]]=\"\",\"\",(lammering[[#This Row],[Speen-gewicht]]-lammering[[#This Row],[geboorte-gewicht]])/(lammering[[#This Row],[Speen-datum]]-lammering[[#This Row],[Werp-datum]]))","v":""},{"$f":"IF(lammering[[#This Row],[Verkoop-datum]]=\"\",\"\",(lammering[[#This Row],[Verkoop-gewicht]]-lammering[[#This Row],[Speen-gewicht]])/(lammering[[#This Row],[Verkoop-datum]]-lammering[[#This Row],[Speen-datum]]))","v":""},{"$f":"IF(lammering[[#This Row],[Verkoop-datum]]=\"\",\"\",(lammering[[#This Row],[Verkoop-gewicht]]-lammering[[#This Row],[geboorte-gewicht]])/(lammering[[#This Row],[Verkoop-datum]]-lammering[[#This Row],[Werp-datum]]))","v":""},"","","","","","",{"$f":"IF(lammering[[#This Row],[Verkoop-gewicht]]=\"\",\"\",lammering[[#This Row],[Verkoop-gewicht]]-lammering[[#This Row],[geboorte-gewicht]])","v":""},"",""]
[{"$f":"lammering[[#This Row],[Ooi]]","v":0},{"$f":"IF(A259=0,0,IF(A259=A258,0,1))","v":0},{"$f":"IF(B259=1,A259,0)","v":0},{"$f":"IF(lammering[[#This Row],[Lam-nummer]]=\"\",0,1)","v":0},{"$f":"IF(lammering[[#This Row],[Dood in geboorte]]=\"ja\",1,0)","v":0},{"$f":"IF(lammering[[#This Row],[Ooi]]=\"\",0,IF(Berekeningen!E259=0,1,0))","v":0},{"$f":"IF(D259=0,0,IF(lammering[[#This Row],[Dood in geboorte]]=\"Ja\",0,IF(lammering[[#This Row],[Dood na geboorte]]=\"ja\",0,1)))","v":0},{"$f":"IF(lammering[[#This Row],[Opfok met kunstmelk]]=\"Ja\",1,0)","v":0},{"$f":"IF(lammering[[#This Row],[geslacht]]=\"O\",1,0)","v":0},{"$f":"IF(lammering[[#This Row],[Speen-datum]]=\"\",\"\",(lammering[[#This Row],[Speen-gewicht]]-lammering[[#This Row],[geboorte-gewicht]])/(lammering[[#This Row],[Speen-datum]]-lammering[[#This Row],[Werp-datum]]))","v":""},{"$f":"IF(lammering[[#This Row],[Verkoop-datum]]=\"\",\"\",(lammering[[#This Row],[Verkoop-gewicht]]-lammering[[#This Row],[Speen-gewicht]])/(lammering[[#This Row],[Verkoop-datum]]-lammering[[#This Row],[Speen-datum]]))","v":""},{"$f":"IF(lammering[[#This Row],[Verkoop-datum]]=\"\",\"\",(lammering[[#This Row],[Verkoop-gewicht]]-lammering[[#This Row],[geboorte-gewicht]])/(lammering[[#This Row],[Verkoop-datum]]-lammering[[#This Row],[Werp-datum]]))","v":""},"","","","","","",{"$f":"IF(lammering[[#This Row],[Verkoop-gewicht]]=\"\",\"\",lammering[[#This Row],[Verkoop-gewicht]]-lammering[[#This Row],[geboorte-gewicht]])","v":""},"",""]
[{"$f":"lammering[[#This Row],[Ooi]]","v":0},0,0,{"$f":"IF(lammering[[#This Row],[Lam-nummer]]=\"\",0,1)","v":0},{"$f":"IF(lammering[[#This Row],[Dood in geboorte]]=\"ja\",1,0)","v":0},{"$f":"IF(lammering[[#This Row],[Ooi]]=\"\",0,IF(Berekeningen!E260=0,1,0))","v":0},{"$f":"IF(D260=0,0,IF(lammering[[#This Row],[Dood in geboorte]]=\"Ja\",0,IF(lammering[[#This Row],[Dood na geboorte]]=\"ja\",0,1)))","v":0},{"$f":"IF(lammering[[#This Row],[Opfok met kunstmelk]]=\"Ja\",1,0)","v":0},{"$f":"IF(lammering[[#This Row],[geslacht]]=\"O\",1,0)","v":0},{"$f":"IF(lammering[[#This Row],[Speen-datum]]=\"\",\"\",(lammering[[#This Row],[Speen-gewicht]]-lammering[[#This Row],[geboorte-gewicht]])/(lammering[[#This Row],[Speen-datum]]-lammering[[#This Row],[Werp-datum]]))","v":""},{"$f":"IF(lammering[[#This Row],[Verkoop-datum]]=\"\",\"\",(lammering[[#This Row],[Verkoop-gewicht]]-lammering[[#This Row],[Speen-gewicht]])/(lammering[[#This Row],[Verkoop-datum]]-lammering[[#This Row],[Speen-datum]]))","v":""},{"$f":"IF(lammering[[#This Row],[Verkoop-datum]]=\"\",\"\",(lammering[[#This Row],[Verkoop-gewicht]]-lammering[[#This Row],[geboorte-gewicht]])/(lammering[[#This Row],[Verkoop-datum]]-lammering[[#This Row],[Werp-datum]]))","v":""},"","","","","","",{"$f":"IF(lammering[[#This Row],[Verkoop-gewicht]]=\"\",\"\",lammering[[#This Row],[Verkoop-gewicht]]-lammering[[#This Row],[geboorte-gewicht]])","v":""},"",""]
[{"$f":"lammering[[#This Row],[Ooi]]","v":0},0,0,{"$f":"IF(lammering[[#This Row],[Lam-nummer]]=\"\",0,1)","v":0},{"$f":"IF(lammering[[#This Row],[Dood in geboorte]]=\"ja\",1,0)","v":0},{"$f":"IF(lammering[[#This Row],[Ooi]]=\"\",0,IF(Berekeningen!E261=0,1,0))","v":0},{"$f":"IF(D261=0,0,IF(lammering[[#This Row],[Dood in geboorte]]=\"Ja\",0,IF(lammering[[#This Row],[Dood na geboorte]]=\"ja\",0,1)))","v":0},{"$f":"IF(lammering[[#This Row],[Opfok met kunstmelk]]=\"Ja\",1,0)","v":0},{"$f":"IF(lammering[[#This Row],[geslacht]]=\"O\",1,0)","v":0},{"$f":"IF(lammering[[#This Row],[Speen-datum]]=\"\",\"\",(lammering[[#This Row],[Speen-gewicht]]-lammering[[#This Row],[geboorte-gewicht]])/(lammering[[#This Row],[Speen-datum]]-lammering[[#This Row],[Werp-datum]]))","v":""},{"$f":"IF(lammering[[#This Row],[Verkoop-datum]]=\"\",\"\",(lammering[[#This Row],[Verkoop-gewicht]]-lammering[[#This Row],[Speen-gewicht]])/(lammering[[#This Row],[Verkoop-datum]]-lammering[[#This Row],[Speen-datum]]))","v":""},{"$f":"IF(lammering[[#This Row],[Verkoop-datum]]=\"\",\"\",(lammering[[#This Row],[Verkoop-gewicht]]-lammering[[#This Row],[geboorte-gewicht]])/(lammering[[#This Row],[Verkoop-datum]]-lammering[[#This Row],[Werp-datum]]))","v":""},"","","","","","",{"$f":"IF(lammering[[#This Row],[Verkoop-gewicht]]=\"\",\"\",lammering[[#This Row],[Verkoop-gewicht]]-lammering[[#This Row],[geboorte-gewicht]])","v":""},"",""]
[{"$f":"lammering[[#This Row],[Ooi]]","v":0},0,0,{"$f":"IF(lammering[[#This Row],[Lam-nummer]]=\"\",0,1)","v":0},{"$f":"IF(lammering[[#This Row],[Dood in geboorte]]=\"ja\",1,0)","v":0},{"$f":"IF(lammering[[#This Row],[Ooi]]=\"\",0,IF(Berekeningen!E262=0,1,0))","v":0},{"$f":"IF(D262=0,0,IF(lammering[[#This Row],[Dood in geboorte]]=\"Ja\",0,IF(lammering[[#This Row],[Dood na geboorte]]=\"ja\",0,1)))","v":0},{"$f":"IF(lammering[[#This Row],[Opfok met kunstmelk]]=\"Ja\",1,0)","v":0},{"$f":"IF(lammering[[#This Row],[geslacht]]=\"O\",1,0)","v":0},{"$f":"IF(lammering[[#This Row],[Speen-datum]]=\"\",\"\",(lammering[[#This Row],[Speen-gewicht]]-lammering[[#This Row],[geboorte-gewicht]])/(lammering[[#This Row],[Speen-datum]]-lammering[[#This Row],[Werp-datum]]))","v":""},{"$f":"IF(lammering[[#This Row],[Verkoop-datum]]=\"\",\"\",(lammering[[#This Row],[Verkoop-gewicht]]-lammering[[#This Row],[Speen-gewicht]])/(lammering[[#This Row],[Verkoop-datum]]-lammering[[#This Row],[Speen-datum]]))","v":""},{"$f":"IF(lammering[[#This Row],[Verkoop-datum]]=\"\",\"\",(lammering[[#This Row],[Verkoop-gewicht]]-lammering[[#This Row],[geboorte-gewicht]])/(lammering[[#This Row],[Verkoop-datum]]-lammering[[#This Row],[Werp-datum]]))","v":""},"","","","","","",{"$f":"IF(lammering[[#This Row],[Verkoop-gewicht]]=\"\",\"\",lammering[[#This Row],[Verkoop-gewicht]]-lammering[[#This Row],[geboorte-gewicht]])","v":""},"",""]
[{"$f":"lammering[[#This Row],[Ooi]]","v":0},0,0,{"$f":"IF(lammering[[#This Row],[Lam-nummer]]=\"\",0,1)","v":0},{"$f":"IF(lammering[[#This Row],[Dood in geboorte]]=\"ja\",1,0)","v":0},{"$f":"IF(lammering[[#This Row],[Ooi]]=\"\",0,IF(Berekeningen!E263=0,1,0))","v":0},{"$f":"IF(D263=0,0,IF(lammering[[#This Row],[Dood in geboorte]]=\"Ja\",0,IF(lammering[[#This Row],[Dood na geboorte]]=\"ja\",0,1)))","v":0},{"$f":"IF(lammering[[#This Row],[Opfok met kunstmelk]]=\"Ja\",1,0)","v":0},{"$f":"IF(lammering[[#This Row],[geslacht]]=\"O\",1,0)","v":0},{"$f":"IF(lammering[[#This Row],[Speen-datum]]=\"\",\"\",(lammering[[#This Row],[Speen-gewicht]]-lammering[[#This Row],[geboorte-gewicht]])/(lammering[[#This Row],[Speen-datum]]-lammering[[#This Row],[Werp-datum]]))","v":""},{"$f":"IF(lammering[[#This Row],[Verkoop-datum]]=\"\",\"\",(lammering[[#This Row],[Verkoop-gewicht]]-lammering[[#This Row],[Speen-gewicht]])/(lammering[[#This Row],[Verkoop-datum]]-lammering[[#This Row],[Speen-datum]]))","v":""},{"$f":"IF(lammering[[#This Row],[Verkoop-datum]]=\"\",\"\",(lammering[[#This Row],[Verkoop-gewicht]]-lammering[[#This Row],[geboorte-gewicht]])/(lammering[[#This Row],[Verkoop-datum]]-lammering[[#This Row],[Werp-datum]]))","v":""},"","","","","","",{"$f":"IF(lammering[[#This Row],[Verkoop-gewicht]]=\"\",\"\",lammering[[#This Row],[Verkoop-gewicht]]-lammering[[#This Row],[geboorte-gewicht]])","v":""},"",""]
[{"$f":"lammering[[#This Row],[Ooi]]","v":0},0,0,{"$f":"IF(lammering[[#This Row],[Lam-nummer]]=\"\",0,1)","v":0},{"$f":"IF(lammering[[#This Row],[Dood in geboorte]]=\"ja\",1,0)","v":0},{"$f":"IF(lammering[[#This Row],[Ooi]]=\"\",0,IF(Berekeningen!E264=0,1,0))","v":0},{"$f":"IF(D264=0,0,IF(lammering[[#This Row],[Dood in geboorte]]=\"Ja\",0,IF(lammering[[#This Row],[Dood na geboorte]]=\"ja\",0,1)))","v":0},{"$f":"IF(lammering[[#This Row],[Opfok met kunstmelk]]=\"Ja\",1,0)","v":0},{"$f":"IF(lammering[[#This Row],[geslacht]]=\"O\",1,0)","v":0},{"$f":"IF(lammering[[#This Row],[Speen-datum]]=\"\",\"\",(lammering[[#This Row],[Speen-gewicht]]-lammering[[#This Row],[geboorte-gewicht]])/(lammering[[#This Row],[Speen-datum]]-lammering[[#This Row],[Werp-datum]]))","v":""},{"$f":"IF(lammering[[#This Row],[Verkoop-datum]]=\"\",\"\",(lammering[[#This Row],[Verkoop-gewicht]]-lammering[[#This Row],[Speen-gewicht]])/(lammering[[#This Row],[Verkoop-datum]]-lammering[[#This Row],[Speen-datum]]))","v":""},{"$f":"IF(lammering[[#This Row],[Verkoop-datum]]=\"\",\"\",(lammering[[#This Row],[Verkoop-gewicht]]-lammering[[#This Row],[geboorte-gewicht]])/(lammering[[#This Row],[Verkoop-datum]]-lammering[[#This Row],[Werp-datum]]))","v":""},"","","","","","",{"$f":"IF(lammering[[#This Row],[Verkoop-gewicht]]=\"\",\"\",lammering[[#This Row],[Verkoop-gewicht]]-lammering[[#This Row],[geboorte-gewicht]])","v":""},"",""]
[{"$f":"lammering[[#This Row],[Ooi]]","v":0},0,0,{"$f":"IF(lammering[[#This Row],[Lam-nummer]]=\"\",0,1)","v":0},{"$f":"IF(lammering[[#This Row],[Dood in geboorte]]=\"ja\",1,0)","v":0},{"$f":"IF(lammering[[#This Row],[Ooi]]=\"\",0,IF(Berekeningen!E265=0,1,0))","v":0},{"$f":"IF(D265=0,0,IF(lammering[[#This Row],[Dood in geboorte]]=\"Ja\",0,IF(lammering[[#This Row],[Dood na geboorte]]=\"ja\",0,1)))","v":0},{"$f":"IF(lammering[[#This Row],[Opfok met kunstmelk]]=\"Ja\",1,0)","v":0},{"$f":"IF(lammering[[#This Row],[geslacht]]=\"O\",1,0)","v":0},{"$f":"IF(lammering[[#This Row],[Speen-datum]]=\"\",\"\",(lammering[[#This Row],[Speen-gewicht]]-lammering[[#This Row],[geboorte-gewicht]])/(lammering[[#This Row],[Speen-datum]]-lammering[[#This Row],[Werp-datum]]))","v":""},{"$f":"IF(lammering[[#This Row],[Verkoop-datum]]=\"\",\"\",(lammering[[#This Row],[Verkoop-gewicht]]-lammering[[#This Row],[Speen-gewicht]])/(lammering[[#This Row],[Verkoop-datum]]-lammering[[#This Row],[Speen-datum]]))","v":""},{"$f":"IF(lammering[[#This Row],[Verkoop-datum]]=\"\",\"\",(lammering[[#This Row],[Verkoop-gewicht]]-lammering[[#This Row],[geboorte-gewicht]])/(lammering[[#This Row],[Verkoop-datum]]-lammering[[#This Row],[Werp-datum]]))","v":""},"","","","","","",{"$f":"IF(lammering[[#This Row],[Verkoop-gewicht]]=\"\",\"\",lammering[[#This Row],[Verkoop-gewicht]]-lammering[[#This Row],[geboorte-gewicht]])","v":""},"",""]
[{"$f":"lammering[[#This Row],[Ooi]]","v":0},0,0,{"$f":"IF(lammering[[#This Row],[Lam-nummer]]=\"\",0,1)","v":0},{"$f":"IF(lammering[[#This Row],[Dood in geboorte]]=\"ja\",1,0)","v":0},{"$f":"IF(lammering[[#This Row],[Ooi]]=\"\",0,IF(Berekeningen!E266=0,1,0))","v":0},{"$f":"IF(D266=0,0,IF(lammering[[#This Row],[Dood in geboorte]]=\"Ja\",0,IF(lammering[[#This Row],[Dood na geboorte]]=\"ja\",0,1)))","v":0},{"$f":"IF(lammering[[#This Row],[Opfok met kunstmelk]]=\"Ja\",1,0)","v":0},{"$f":"IF(lammering[[#This Row],[geslacht]]=\"O\",1,0)","v":0},{"$f":"IF(lammering[[#This Row],[Speen-datum]]=\"\",\"\",(lammering[[#This Row],[Speen-gewicht]]-lammering[[#This Row],[geboorte-gewicht]])/(lammering[[#This Row],[Speen-datum]]-lammering[[#This Row],[Werp-datum]]))","v":""},{"$f":"IF(lammering[[#This Row],[Verkoop-datum]]=\"\",\"\",(lammering[[#This Row],[Verkoop-gewicht]]-lammering[[#This Row],[Speen-gewicht]])/(lammering[[#This Row],[Verkoop-datum]]-lammering[[#This Row],[Speen-datum]]))","v":""},{"$f":"IF(lammering[[#This Row],[Verkoop-datum]]=\"\",\"\",(lammering[[#This Row],[Verkoop-gewicht]]-lammering[[#This Row],[geboorte-gewicht]])/(lammering[[#This Row],[Verkoop-datum]]-lammering[[#This Row],[Werp-datum]]))","v":""},"","","","","","",{"$f":"IF(lammering[[#This Row],[Verkoop-gewicht]]=\"\",\"\",lammering[[#This Row],[Verkoop-gewicht]]-lammering[[#This Row],[geboorte-gewicht]])","v":""},"",""]
[{"$f":"lammering[[#This Row],[Ooi]]","v":0},0,0,{"$f":"IF(lammering[[#This Row],[Lam-nummer]]=\"\",0,1)","v":0},{"$f":"IF(lammering[[#This Row],[Dood in geboorte]]=\"ja\",1,0)","v":0},{"$f":"IF(lammering[[#This Row],[Ooi]]=\"\",0,IF(Berekeningen!E267=0,1,0))","v":0},{"$f":"IF(D267=0,0,IF(lammering[[#This Row],[Dood in geboorte]]=\"Ja\",0,IF(lammering[[#This Row],[Dood na geboorte]]=\"ja\",0,1)))","v":0},{"$f":"IF(lammering[[#This Row],[Opfok met kunstmelk]]=\"Ja\",1,0)","v":0},{"$f":"IF(lammering[[#This Row],[geslacht]]=\"O\",1,0)","v":0},{"$f":"IF(lammering[[#This Row],[Speen-datum]]=\"\",\"\",(lammering[[#This Row],[Speen-gewicht]]-lammering[[#This Row],[geboorte-gewicht]])/(lammering[[#This Row],[Speen-datum]]-lammering[[#This Row],[Werp-datum]]))","v":""},{"$f":"IF(lammering[[#This Row],[Verkoop-datum]]=\"\",\"\",(lammering[[#This Row],[Verkoop-gewicht]]-lammering[[#This Row],[Speen-gewicht]])/(lammering[[#This Row],[Verkoop-datum]]-lammering[[#This Row],[Speen-datum]]))","v":""},{"$f":"IF(lammering[[#This Row],[Verkoop-datum]]=\"\",\"\",(lammering[[#This Row],[Verkoop-gewicht]]-lammering[[#This Row],[geboorte-gewicht]])/(lammering[[#This Row],[Verkoop-datum]]-lammering[[#This Row],[Werp-datum]]))","v":""},"","","","","","",{"$f":"IF(lammering[[#This Row],[Verkoop-gewicht]]=\"\",\"\",lammering[[#This Row],[Verkoop-gewicht]]-lammering[[#This Row],[geboorte-gewicht]])","v":""},"",""]
[{"$f":"lammering[[#This Row],[Ooi]]","v":0},0,0,{"$f":"IF(lammering[[#This Row],[Lam-nummer]]=\"\",0,1)","v":0},{"$f":"IF(lammering[[#This Row],[Dood in geboorte]]=\"ja\",1,0)","v":0},{"$f":"IF(lammering[[#This Row],[Ooi]]=\"\",0,IF(Berekeningen!E268=0,1,0))","v":0},{"$f":"IF(D268=0,0,IF(lammering[[#This Row],[Dood in geboorte]]=\"Ja\",0,IF(lammering[[#This Row],[Dood na geboorte]]=\"ja\",0,1)))","v":0},{"$f":"IF(lammering[[#This Row],[Opfok met kunstmelk]]=\"Ja\",1,0)","v":0},{"$f":"IF(lammering[[#This Row],[geslacht]]=\"O\",1,0)","v":0},{"$f":"IF(lammering[[#This Row],[Speen-datum]]=\"\",\"\",(lammering[[#This Row],[Speen-gewicht]]-lammering[[#This Row],[geboorte-gewicht]])/(lammering[[#This Row],[Speen-datum]]-lammering[[#This Row],[Werp-datum]]))","v":""},{"$f":"IF(lammering[[#This Row],[Verkoop-datum]]=\"\",\"\",(lammering[[#This Row],[Verkoop-gewicht]]-lammering[[#This Row],[Speen-gewicht]])/(lammering[[#This Row],[Verkoop-datum]]-lammering[[#This Row],[Speen-datum]]))","v":""},{"$f":"IF(lammering[[#This Row],[Verkoop-datum]]=\"\",\"\",(lammering[[#This Row],[Verkoop-gewicht]]-lammering[[#This Row],[geboorte-gewicht]])/(lammering[[#This Row],[Verkoop-datum]]-lammering[[#This Row],[Werp-datum]]))","v":""},"","","","","","",{"$f":"IF(lammering[[#This Row],[Verkoop-gewicht]]=\"\",\"\",lammering[[#This Row],[Verkoop-gewicht]]-lammering[[#This Row],[geboorte-gewicht]])","v":""},"",""]
[{"$f":"lammering[[#This Row],[Ooi]]","v":0},0,0,{"$f":"IF(lammering[[#This Row],[Lam-nummer]]=\"\",0,1)","v":0},{"$f":"IF(lammering[[#This Row],[Dood in geboorte]]=\"ja\",1,0)","v":0},{"$f":"IF(lammering[[#This Row],[Ooi]]=\"\",0,IF(Berekeningen!E269=0,1,0))","v":0},{"$f":"IF(D269=0,0,IF(lammering[[#This Row],[Dood in geboorte]]=\"Ja\",0,IF(lammering[[#This Row],[Dood na geboorte]]=\"ja\",0,1)))","v":0},{"$f":"IF(lammering[[#This Row],[Opfok met kunstmelk]]=\"Ja\",1,0)","v":0},{"$f":"IF(lammering[[#This Row],[geslacht]]=\"O\",1,0)","v":0},{"$f":"IF(lammering[[#This Row],[Speen-datum]]=\"\",\"\",(lammering[[#This Row],[Speen-gewicht]]-lammering[[#This Row],[geboorte-gewicht]])/(lammering[[#This Row],[Speen-datum]]-lammering[[#This Row],[Werp-datum]]))","v":""},{"$f":"IF(lammering[[#This Row],[Verkoop-datum]]=\"\",\"\",(lammering[[#This Row],[Verkoop-gewicht]]-lammering[[#This Row],[Speen-gewicht]])/(lammering[[#This Row],[Verkoop-datum]]-lammering[[#This Row],[Speen-datum]]))","v":""},{"$f":"IF(lammering[[#This Row],[Verkoop-datum]]=\"\",\"\",(lammering[[#This Row],[Verkoop-gewicht]]-lammering[[#This Row],[geboorte-gewicht]])/(lammering[[#This Row],[Verkoop-datum]]-lammering[[#This Row],[Werp-datum]]))","v":""},"","","","","","",{"$f":"IF(lammering[[#This Row],[Verkoop-gewicht]]=\"\",\"\",lammering[[#This Row],[Verkoop-gewicht]]-lammering[[#This Row],[geboorte-gewicht]])","v":""},"",""]
[{"$f":"lammering[[#This Row],[Ooi]]","v":0},0,0,{"$f":"IF(lammering[[#This Row],[Lam-nummer]]=\"\",0,1)","v":0},{"$f":"IF(lammering[[#This Row],[Dood in geboorte]]=\"ja\",1,0)","v":0},{"$f":"IF(lammering[[#This Row],[Ooi]]=\"\",0,IF(Berekeningen!E270=0,1,0))","v":0},{"$f":"IF(D270=0,0,IF(lammering[[#This Row],[Dood in geboorte]]=\"Ja\",0,IF(lammering[[#This Row],[Dood na geboorte]]=\"ja\",0,1)))","v":0},{"$f":"IF(lammering[[#This Row],[Opfok met kunstmelk]]=\"Ja\",1,0)","v":0},{"$f":"IF(lammering[[#This Row],[geslacht]]=\"O\",1,0)","v":0},{"$f":"IF(lammering[[#This Row],[Speen-datum]]=\"\",\"\",(lammering[[#This Row],[Speen-gewicht]]-lammering[[#This Row],[geboorte-gewicht]])/(lammering[[#This Row],[Speen-datum]]-lammering[[#This Row],[Werp-datum]]))","v":""},{"$f":"IF(lammering[[#This Row],[Verkoop-datum]]=\"\",\"\",(lammering[[#This Row],[Verkoop-gewicht]]-lammering[[#This Row],[Speen-gewicht]])/(lammering[[#This Row],[Verkoop-datum]]-lammering[[#This Row],[Speen-datum]]))","v":""},{"$f":"IF(lammering[[#This Row],[Verkoop-datum]]=\"\",\"\",(lammering[[#This Row],[Verkoop-gewicht]]-lammering[[#This Row],[geboorte-gewicht]])/(lammering[[#This Row],[Verkoop-datum]]-lammering[[#This Row],[Werp-datum]]))","v":""},"","","","","","",{"$f":"IF(lammering[[#This Row],[Verkoop-gewicht]]=\"\",\"\",lammering[[#This Row],[Verkoop-gewicht]]-lammering[[#This Row],[geboorte-gewicht]])","v":""},"",""]
[{"$f":"lammering[[#This Row],[Ooi]]","v":0},0,0,{"$f":"IF(lammering[[#This Row],[Lam-nummer]]=\"\",0,1)","v":0},{"$f":"IF(lammering[[#This Row],[Dood in geboorte]]=\"ja\",1,0)","v":0},{"$f":"IF(lammering[[#This Row],[Ooi]]=\"\",0,IF(Berekeningen!E271=0,1,0))","v":0},{"$f":"IF(D271=0,0,IF(lammering[[#This Row],[Dood in geboorte]]=\"Ja\",0,IF(lammering[[#This Row],[Dood na geboorte]]=\"ja\",0,1)))","v":0},{"$f":"IF(lammering[[#This Row],[Opfok met kunstmelk]]=\"Ja\",1,0)","v":0},{"$f":"IF(lammering[[#This Row],[geslacht]]=\"O\",1,0)","v":0},{"$f":"IF(lammering[[#This Row],[Speen-datum]]=\"\",\"\",(lammering[[#This Row],[Speen-gewicht]]-lammering[[#This Row],[geboorte-gewicht]])/(lammering[[#This Row],[Speen-datum]]-lammering[[#This Row],[Werp-datum]]))","v":""},{"$f":"IF(lammering[[#This Row],[Verkoop-datum]]=\"\",\"\",(lammering[[#This Row],[Verkoop-gewicht]]-lammering[[#This Row],[Speen-gewicht]])/(lammering[[#This Row],[Verkoop-datum]]-lammering[[#This Row],[Speen-datum]]))","v":""},{"$f":"IF(lammering[[#This Row],[Verkoop-datum]]=\"\",\"\",(lammering[[#This Row],[Verkoop-gewicht]]-lammering[[#This Row],[geboorte-gewicht]])/(lammering[[#This Row],[Verkoop-datum]]-lammering[[#This Row],[Werp-datum]]))","v":""},{"$f":"IF($I271=1,J271,\"\")","v":""},{"$f":"IF($I271=1,K271,\"\")","v":""},{"$f":"IF($I271=1,L271,\"\")","v":""},{"$f":"IF($I271=0,J271,\"\")","v":""},{"$f":"IF($I271=0,K271,\"\")","v":""},{"$f":"IF($I271=0,L271,\"\")","v":""},{"$f":"IF(lammering[[#This Row],[Verkoop-gewicht]]=\"\",\"\",lammering[[#This Row],[Verkoop-gewicht]]-lammering[[#This Row],[geboorte-gewicht]])","v":""},{"$f":"IF(I271=1,S271,\"\")","v":""},{"$f":"IF(I271=0,S271,\"\")","v":""}]
[{"$f":"lammering[[#This Row],[Ooi]]","v":0},0,0,{"$f":"IF(lammering[[#This Row],[Lam-nummer]]=\"\",0,1)","v":0},{"$f":"IF(lammering[[#This Row],[Dood in geboorte]]=\"ja\",1,0)","v":0},{"$f":"IF(lammering[[#This Row],[Ooi]]=\"\",0,IF(Berekeningen!E272=0,1,0))","v":0},{"$f":"IF(D272=0,0,IF(lammering[[#This Row],[Dood in geboorte]]=\"Ja\",0,IF(lammering[[#This Row],[Dood na geboorte]]=\"ja\",0,1)))","v":0},{"$f":"IF(lammering[[#This Row],[Opfok met kunstmelk]]=\"Ja\",1,0)","v":0},{"$f":"IF(lammering[[#This Row],[geslacht]]=\"O\",1,0)","v":0},{"$f":"IF(lammering[[#This Row],[Speen-datum]]=\"\",\"\",(lammering[[#This Row],[Speen-gewicht]]-lammering[[#This Row],[geboorte-gewicht]])/(lammering[[#This Row],[Speen-datum]]-lammering[[#This Row],[Werp-datum]]))","v":""},{"$f":"IF(lammering[[#This Row],[Verkoop-datum]]=\"\",\"\",(lammering[[#This Row],[Verkoop-gewicht]]-lammering[[#This Row],[Speen-gewicht]])/(lammering[[#This Row],[Verkoop-datum]]-lammering[[#This Row],[Speen-datum]]))","v":""},{"$f":"IF(lammering[[#This Row],[Verkoop-datum]]=\"\",\"\",(lammering[[#This Row],[Verkoop-gewicht]]-lammering[[#This Row],[geboorte-gewicht]])/(lammering[[#This Row],[Verkoop-datum]]-lammering[[#This Row],[Werp-datum]]))","v":""},"","","","","","",{"$f":"IF(lammering[[#This Row],[Verkoop-gewicht]]=\"\",\"\",lammering[[#This Row],[Verkoop-gewicht]]-lammering[[#This Row],[geboorte-gewicht]])","v":""},"",""]
[{"$f":"lammering[[#This Row],[Ooi]]","v":0},0,0,{"$f":"IF(lammering[[#This Row],[Lam-nummer]]=\"\",0,1)","v":0},{"$f":"IF(lammering[[#This Row],[Dood in geboorte]]=\"ja\",1,0)","v":0},{"$f":"IF(lammering[[#This Row],[Ooi]]=\"\",0,IF(Berekeningen!E273=0,1,0))","v":0},{"$f":"IF(D273=0,0,IF(lammering[[#This Row],[Dood in geboorte]]=\"Ja\",0,IF(lammering[[#This Row],[Dood na geboorte]]=\"ja\",0,1)))","v":0},{"$f":"IF(lammering[[#This Row],[Opfok met kunstmelk]]=\"Ja\",1,0)","v":0},{"$f":"IF(lammering[[#This Row],[geslacht]]=\"O\",1,0)","v":0},{"$f":"IF(lammering[[#This Row],[Speen-datum]]=\"\",\"\",(lammering[[#This Row],[Speen-gewicht]]-lammering[[#This Row],[geboorte-gewicht]])/(lammering[[#This Row],[Speen-datum]]-lammering[[#This Row],[Werp-datum]]))","v":""},{"$f":"IF(lammering[[#This Row],[Verkoop-datum]]=\"\",\"\",(lammering[[#This Row],[Verkoop-gewicht]]-lammering[[#This Row],[Speen-gewicht]])/(lammering[[#This Row],[Verkoop-datum]]-lammering[[#This Row],[Speen-datum]]))","v":""},{"$f":"IF(lammering[[#This Row],[Verkoop-datum]]=\"\",\"\",(lammering[[#This Row],[Verkoop-gewicht]]-lammering[[#This Row],[geboorte-gewicht]])/(lammering[[#This Row],[Verkoop-datum]]-lammering[[#This Row],[Werp-datum]]))","v":""},"","","","","","",{"$f":"IF(lammering[[#This Row],[Verkoop-gewicht]]=\"\",\"\",lammering[[#This Row],[Verkoop-gewicht]]-lammering[[#This Row],[geboorte-gewicht]])","v":""},"",""]
[{"$f":"lammering[[#This Row],[Ooi]]","v":0},0,0,{"$f":"IF(lammering[[#This Row],[Lam-nummer]]=\"\",0,1)","v":0},{"$f":"IF(lammering[[#This Row],[Dood in geboorte]]=\"ja\",1,0)","v":0},{"$f":"IF(lammering[[#This Row],[Ooi]]=\"\",0,IF(Berekeningen!E274=0,1,0))","v":0},{"$f":"IF(D274=0,0,IF(lammering[[#This Row],[Dood in geboorte]]=\"Ja\",0,IF(lammering[[#This Row],[Dood na geboorte]]=\"ja\",0,1)))","v":0},{"$f":"IF(lammering[[#This Row],[Opfok met kunstmelk]]=\"Ja\",1,0)","v":0},{"$f":"IF(lammering[[#This Row],[geslacht]]=\"O\",1,0)","v":0},{"$f":"IF(lammering[[#This Row],[Speen-datum]]=\"\",\"\",(lammering[[#This Row],[Speen-gewicht]]-lammering[[#This Row],[geboorte-gewicht]])/(lammering[[#This Row],[Speen-datum]]-lammering[[#This Row],[Werp-datum]]))","v":""},{"$f":"IF(lammering[[#This Row],[Verkoop-datum]]=\"\",\"\",(lammering[[#This Row],[Verkoop-gewicht]]-lammering[[#This Row],[Speen-gewicht]])/(lammering[[#This Row],[Verkoop-datum]]-lammering[[#This Row],[Speen-datum]]))","v":""},{"$f":"IF(lammering[[#This Row],[Verkoop-datum]]=\"\",\"\",(lammering[[#This Row],[Verkoop-gewicht]]-lammering[[#This Row],[geboorte-gewicht]])/(lammering[[#This Row],[Verkoop-datum]]-lammering[[#This Row],[Werp-datum]]))","v":""},"","","","","","",{"$f":"IF(lammering[[#This Row],[Verkoop-gewicht]]=\"\",\"\",lammering[[#This Row],[Verkoop-gewicht]]-lammering[[#This Row],[geboorte-gewicht]])","v":""},"",""]
[{"$f":"lammering[[#This Row],[Ooi]]","v":0},0,0,{"$f":"IF(lammering[[#This Row],[Lam-nummer]]=\"\",0,1)","v":0},{"$f":"IF(lammering[[#This Row],[Dood in geboorte]]=\"ja\",1,0)","v":0},{"$f":"IF(lammering[[#This Row],[Ooi]]=\"\",0,IF(Berekeningen!E275=0,1,0))","v":0},{"$f":"IF(D275=0,0,IF(lammering[[#This Row],[Dood in geboorte]]=\"Ja\",0,IF(lammering[[#This Row],[Dood na geboorte]]=\"ja\",0,1)))","v":0},{"$f":"IF(lammering[[#This Row],[Opfok met kunstmelk]]=\"Ja\",1,0)","v":0},{"$f":"IF(lammering[[#This Row],[geslacht]]=\"O\",1,0)","v":0},{"$f":"IF(lammering[[#This Row],[Speen-datum]]=\"\",\"\",(lammering[[#This Row],[Speen-gewicht]]-lammering[[#This Row],[geboorte-gewicht]])/(lammering[[#This Row],[Speen-datum]]-lammering[[#This Row],[Werp-datum]]))","v":""},{"$f":"IF(lammering[[#This Row],[Verkoop-datum]]=\"\",\"\",(lammering[[#This Row],[Verkoop-gewicht]]-lammering[[#This Row],[Speen-gewicht]])/(lammering[[#This Row],[Verkoop-datum]]-lammering[[#This Row],[Speen-datum]]))","v":""},{"$f":"IF(lammering[[#This Row],[Verkoop-datum]]=\"\",\"\",(lammering[[#This Row],[Verkoop-gewicht]]-lammering[[#This Row],[geboorte-gewicht]])/(lammering[[#This Row],[Verkoop-datum]]-lammering[[#This Row],[Werp-datum]]))","v":""},"","","","","","",{"$f":"IF(lammering[[#This Row],[Verkoop-gewicht]]=\"\",\"\",lammering[[#This Row],[Verkoop-gewicht]]-lammering[[#This Row],[geboorte-gewicht]])","v":""},"",""]
[{"$f":"lammering[[#This Row],[Ooi]]","v":0},0,0,{"$f":"IF(lammering[[#This Row],[Lam-nummer]]=\"\",0,1)","v":0},{"$f":"IF(lammering[[#This Row],[Dood in geboorte]]=\"ja\",1,0)","v":0},{"$f":"IF(lammering[[#This Row],[Ooi]]=\"\",0,IF(Berekeningen!E276=0,1,0))","v":0},{"$f":"IF(D276=0,0,IF(lammering[[#This Row],[Dood in geboorte]]=\"Ja\",0,IF(lammering[[#This Row],[Dood na geboorte]]=\"ja\",0,1)))","v":0},{"$f":"IF(lammering[[#This Row],[Opfok met kunstmelk]]=\"Ja\",1,0)","v":0},{"$f":"IF(lammering[[#This Row],[geslacht]]=\"O\",1,0)","v":0},{"$f":"IF(lammering[[#This Row],[Speen-datum]]=\"\",\"\",(lammering[[#This Row],[Speen-gewicht]]-lammering[[#This Row],[geboorte-gewicht]])/(lammering[[#This Row],[Speen-datum]]-lammering[[#This Row],[Werp-datum]]))","v":""},{"$f":"IF(lammering[[#This Row],[Verkoop-datum]]=\"\",\"\",(lammering[[#This Row],[Verkoop-gewicht]]-lammering[[#This Row],[Speen-gewicht]])/(lammering[[#This Row],[Verkoop-datum]]-lammering[[#This Row],[Speen-datum]]))","v":""},{"$f":"IF(lammering[[#This Row],[Verkoop-datum]]=\"\",\"\",(lammering[[#This Row],[Verkoop-gewicht]]-lammering[[#This Row],[geboorte-gewicht]])/(lammering[[#This Row],[Verkoop-datum]]-lammering[[#This Row],[Werp-datum]]))","v":""},"","","","","","",{"$f":"IF(lammering[[#This Row],[Verkoop-gewicht]]=\"\",\"\",lammering[[#This Row],[Verkoop-gewicht]]-lammering[[#This Row],[geboorte-gewicht]])","v":""},"",""]
[{"$f":"lammering[[#This Row],[Ooi]]","v":0},0,0,{"$f":"IF(lammering[[#This Row],[Lam-nummer]]=\"\",0,1)","v":0},{"$f":"IF(lammering[[#This Row],[Dood in geboorte]]=\"ja\",1,0)","v":0},{"$f":"IF(lammering[[#This Row],[Ooi]]=\"\",0,IF(Berekeningen!E277=0,1,0))","v":0},{"$f":"IF(D277=0,0,IF(lammering[[#This Row],[Dood in geboorte]]=\"Ja\",0,IF(lammering[[#This Row],[Dood na geboorte]]=\"ja\",0,1)))","v":0},{"$f":"IF(lammering[[#This Row],[Opfok met kunstmelk]]=\"Ja\",1,0)","v":0},{"$f":"IF(lammering[[#This Row],[geslacht]]=\"O\",1,0)","v":0},{"$f":"IF(lammering[[#This Row],[Speen-datum]]=\"\",\"\",(lammering[[#This Row],[Speen-gewicht]]-lammering[[#This Row],[geboorte-gewicht]])/(lammering[[#This Row],[Speen-datum]]-lammering[[#This Row],[Werp-datum]]))","v":""},{"$f":"IF(lammering[[#This Row],[Verkoop-datum]]=\"\",\"\",(lammering[[#This Row],[Verkoop-gewicht]]-lammering[[#This Row],[Speen-gewicht]])/(lammering[[#This Row],[Verkoop-datum]]-lammering[[#This Row],[Speen-datum]]))","v":""},{"$f":"IF(lammering[[#This Row],[Verkoop-datum]]=\"\",\"\",(lammering[[#This Row],[Verkoop-gewicht]]-lammering[[#This Row],[geboorte-gewicht]])/(lammering[[#This Row],[Verkoop-datum]]-lammering[[#This Row],[Werp-datum]]))","v":""},"","","","","","",{"$f":"IF(lammering[[#This Row],[Verkoop-gewicht]]=\"\",\"\",lammering[[#This Row],[Verkoop-gewicht]]-lammering[[#This Row],[geboorte-gewicht]])","v":""},"",""]
[{"$f":"lammering[[#This Row],[Ooi]]","v":0},0,0,{"$f":"IF(lammering[[#This Row],[Lam-nummer]]=\"\",0,1)","v":0},{"$f":"IF(lammering[[#This Row],[Dood in geboorte]]=\"ja\",1,0)","v":0},{"$f":"IF(lammering[[#This Row],[Ooi]]=\"\",0,IF(Berekeningen!E278=0,1,0))","v":0},{"$f":"IF(D278=0,0,IF(lammering[[#This Row],[Dood in geboorte]]=\"Ja\",0,IF(lammering[[#This Row],[Dood na geboorte]]=\"ja\",0,1)))","v":0},{"$f":"IF(lammering[[#This Row],[Opfok met kunstmelk]]=\"Ja\",1,0)","v":0},{"$f":"IF(lammering[[#This Row],[geslacht]]=\"O\",1,0)","v":0},{"$f":"IF(lammering[[#This Row],[Speen-datum]]=\"\",\"\",(lammering[[#This Row],[Speen-gewicht]]-lammering[[#This Row],[geboorte-gewicht]])/(lammering[[#This Row],[Speen-datum]]-lammering[[#This Row],[Werp-datum]]))","v":""},{"$f":"IF(lammering[[#This Row],[Verkoop-datum]]=\"\",\"\",(lammering[[#This Row],[Verkoop-gewicht]]-lammering[[#This Row],[Speen-gewicht]])/(lammering[[#This Row],[Verkoop-datum]]-lammering[[#This Row],[Speen-datum]]))","v":""},{"$f":"IF(lammering[[#This Row],[Verkoop-datum]]=\"\",\"\",(lammering[[#This Row],[Verkoop-gewicht]]-lammering[[#This Row],[geboorte-gewicht]])/(lammering[[#This Row],[Verkoop-datum]]-lammering[[#This Row],[Werp-datum]]))","v":""},"","","","","","",{"$f":"IF(lammering[[#This Row],[Verkoop-gewicht]]=\"\",\"\",lammering[[#This Row],[Verkoop-gewicht]]-lammering[[#This Row],[geboorte-gewicht]])","v":""},"",""]
[{"$f":"lammering[[#This Row],[Ooi]]","v":0},0,0,{"$f":"IF(lammering[[#This Row],[Lam-nummer]]=\"\",0,1)","v":0},{"$f":"IF(lammering[[#This Row],[Dood in geboorte]]=\"ja\",1,0)","v":0},{"$f":"IF(lammering[[#This Row],[Ooi]]=\"\",0,IF(Berekeningen!E279=0,1,0))","v":0},{"$f":"IF(D279=0,0,IF(lammering[[#This Row],[Dood in geboorte]]=\"Ja\",0,IF(lammering[[#This Row],[Dood na geboorte]]=\"ja\",0,1)))","v":0},{"$f":"IF(lammering[[#This Row],[Opfok met kunstmelk]]=\"Ja\",1,0)","v":0},{"$f":"IF(lammering[[#This Row],[geslacht]]=\"O\",1,0)","v":0},{"$f":"IF(lammering[[#This Row],[Speen-datum]]=\"\",\"\",(lammering[[#This Row],[Speen-gewicht]]-lammering[[#This Row],[geboorte-gewicht]])/(lammering[[#This Row],[Speen-datum]]-lammering[[#This Row],[Werp-datum]]))","v":""},{"$f":"IF(lammering[[#This Row],[Verkoop-datum]]=\"\",\"\",(lammering[[#This Row],[Verkoop-gewicht]]-lammering[[#This Row],[Speen-gewicht]])/(lammering[[#This Row],[Verkoop-datum]]-lammering[[#This Row],[Speen-datum]]))","v":""},{"$f":"IF(lammering[[#This Row],[Verkoop-datum]]=\"\",\"\",(lammering[[#This Row],[Verkoop-gewicht]]-lammering[[#This Row],[geboorte-gewicht]])/(lammering[[#This Row],[Verkoop-datum]]-lammering[[#This Row],[Werp-datum]]))","v":""},"","","","","","",{"$f":"IF(lammering[[#This Row],[Verkoop-gewicht]]=\"\",\"\",lammering[[#This Row],[Verkoop-gewicht]]-lammering[[#This Row],[geboorte-gewicht]])","v":""},"",""]
[{"$f":"lammering[[#This Row],[Ooi]]","v":0},0,0,{"$f":"IF(lammering[[#This Row],[Lam-nummer]]=\"\",0,1)","v":0},{"$f":"IF(lammering[[#This Row],[Dood in geboorte]]=\"ja\",1,0)","v":0},{"$f":"IF(lammering[[#This Row],[Ooi]]=\"\",0,IF(Berekeningen!E280=0,1,0))","v":0},{"$f":"IF(D280=0,0,IF(lammering[[#This Row],[Dood in geboorte]]=\"Ja\",0,IF(lammering[[#This Row],[Dood na geboorte]]=\"ja\",0,1)))","v":0},{"$f":"IF(lammering[[#This Row],[Opfok met kunstmelk]]=\"Ja\",1,0)","v":0},{"$f":"IF(lammering[[#This Row],[geslacht]]=\"O\",1,0)","v":0},{"$f":"IF(lammering[[#This Row],[Speen-datum]]=\"\",\"\",(lammering[[#This Row],[Speen-gewicht]]-lammering[[#This Row],[geboorte-gewicht]])/(lammering[[#This Row],[Speen-datum]]-lammering[[#This Row],[Werp-datum]]))","v":""},{"$f":"IF(lammering[[#This Row],[Verkoop-datum]]=\"\",\"\",(lammering[[#This Row],[Verkoop-gewicht]]-lammering[[#This Row],[Speen-gewicht]])/(lammering[[#This Row],[Verkoop-datum]]-lammering[[#This Row],[Speen-datum]]))","v":""},{"$f":"IF(lammering[[#This Row],[Verkoop-datum]]=\"\",\"\",(lammering[[#This Row],[Verkoop-gewicht]]-lammering[[#This Row],[geboorte-gewicht]])/(lammering[[#This Row],[Verkoop-datum]]-lammering[[#This Row],[Werp-datum]]))","v":""},"","","","","","",{"$f":"IF(lammering[[#This Row],[Verkoop-gewicht]]=\"\",\"\",lammering[[#This Row],[Verkoop-gewicht]]-lammering[[#This Row],[geboorte-gewicht]])","v":""},"",""]
[{"$f":"lammering[[#This Row],[Ooi]]","v":0},0,0,{"$f":"IF(lammering[[#This Row],[Lam-nummer]]=\"\",0,1)","v":0},{"$f":"IF(lammering[[#This Row],[Dood in geboorte]]=\"ja\",1,0)","v":0},{"$f":"IF(lammering[[#This Row],[Ooi]]=\"\",0,IF(Berekeningen!E281=0,1,0))","v":0},{"$f":"IF(D281=0,0,IF(lammering[[#This Row],[Dood in geboorte]]=\"Ja\",0,IF(lammering[[#This Row],[Dood na geboorte]]=\"ja\",0,1)))","v":0},{"$f":"IF(lammering[[#This Row],[Opfok met kunstmelk]]=\"Ja\",1,0)","v":0},{"$f":"IF(lammering[[#This Row],[geslacht]]=\"O\",1,0)","v":0},{"$f":"IF(lammering[[#This Row],[Speen-datum]]=\"\",\"\",(lammering[[#This Row],[Speen-gewicht]]-lammering[[#This Row],[geboorte-gewicht]])/(lammering[[#This Row],[Speen-datum]]-lammering[[#This Row],[Werp-datum]]))","v":""},{"$f":"IF(lammering[[#This Row],[Verkoop-datum]]=\"\",\"\",(lammering[[#This Row],[Verkoop-gewicht]]-lammering[[#This Row],[Speen-gewicht]])/(lammering[[#This Row],[Verkoop-datum]]-lammering[[#This Row],[Speen-datum]]))","v":""},{"$f":"IF(lammering[[#This Row],[Verkoop-datum]]=\"\",\"\",(lammering[[#This Row],[Verkoop-gewicht]]-lammering[[#This Row],[geboorte-gewicht]])/(lammering[[#This Row],[Verkoop-datum]]-lammering[[#This Row],[Werp-datum]]))","v":""},"","","","","","",{"$f":"IF(lammering[[#This Row],[Verkoop-gewicht]]=\"\",\"\",lammering[[#This Row],[Verkoop-gewicht]]-lammering[[#This Row],[geboorte-gewicht]])","v":""},"",""]
[{"$f":"lammering[[#This Row],[Ooi]]","v":0},0,0,{"$f":"IF(lammering[[#This Row],[Lam-nummer]]=\"\",0,1)","v":0},{"$f":"IF(lammering[[#This Row],[Dood in geboorte]]=\"ja\",1,0)","v":0},{"$f":"IF(lammering[[#This Row],[Ooi]]=\"\",0,IF(Berekeningen!E282=0,1,0))","v":0},{"$f":"IF(D282=0,0,IF(lammering[[#This Row],[Dood in geboorte]]=\"Ja\",0,IF(lammering[[#This Row],[Dood na geboorte]]=\"ja\",0,1)))","v":0},{"$f":"IF(lammering[[#This Row],[Opfok met kunstmelk]]=\"Ja\",1,0)","v":0},{"$f":"IF(lammering[[#This Row],[geslacht]]=\"O\",1,0)","v":0},{"$f":"IF(lammering[[#This Row],[Speen-datum]]=\"\",\"\",(lammering[[#This Row],[Speen-gewicht]]-lammering[[#This Row],[geboorte-gewicht]])/(lammering[[#This Row],[Speen-datum]]-lammering[[#This Row],[Werp-datum]]))","v":""},{"$f":"IF(lammering[[#This Row],[Verkoop-datum]]=\"\",\"\",(lammering[[#This Row],[Verkoop-gewicht]]-lammering[[#This Row],[Speen-gewicht]])/(lammering[[#This Row],[Verkoop-datum]]-lammering[[#This Row],[Speen-datum]]))","v":""},{"$f":"IF(lammering[[#This Row],[Verkoop-datum]]=\"\",\"\",(lammering[[#This Row],[Verkoop-gewicht]]-lammering[[#This Row],[geboorte-gewicht]])/(lammering[[#This Row],[Verkoop-datum]]-lammering[[#This Row],[Werp-datum]]))","v":""},"","","","","","",{"$f":"IF(lammering[[#This Row],[Verkoop-gewicht]]=\"\",\"\",lammering[[#This Row],[Verkoop-gewicht]]-lammering[[#This Row],[geboorte-gewicht]])","v":""},"",""]
[{"$f":"lammering[[#This Row],[Ooi]]","v":0},0,0,{"$f":"IF(lammering[[#This Row],[Lam-nummer]]=\"\",0,1)","v":0},{"$f":"IF(lammering[[#This Row],[Dood in geboorte]]=\"ja\",1,0)","v":0},{"$f":"IF(lammering[[#This Row],[Ooi]]=\"\",0,IF(Berekeningen!E283=0,1,0))","v":0},{"$f":"IF(D283=0,0,IF(lammering[[#This Row],[Dood in geboorte]]=\"Ja\",0,IF(lammering[[#This Row],[Dood na geboorte]]=\"ja\",0,1)))","v":0},{"$f":"IF(lammering[[#This Row],[Opfok met kunstmelk]]=\"Ja\",1,0)","v":0},{"$f":"IF(lammering[[#This Row],[geslacht]]=\"O\",1,0)","v":0},{"$f":"IF(lammering[[#This Row],[Speen-datum]]=\"\",\"\",(lammering[[#This Row],[Speen-gewicht]]-lammering[[#This Row],[geboorte-gewicht]])/(lammering[[#This Row],[Speen-datum]]-lammering[[#This Row],[Werp-datum]]))","v":""},{"$f":"IF(lammering[[#This Row],[Verkoop-datum]]=\"\",\"\",(lammering[[#This Row],[Verkoop-gewicht]]-lammering[[#This Row],[Speen-gewicht]])/(lammering[[#This Row],[Verkoop-datum]]-lammering[[#This Row],[Speen-datum]]))","v":""},{"$f":"IF(lammering[[#This Row],[Verkoop-datum]]=\"\",\"\",(lammering[[#This Row],[Verkoop-gewicht]]-lammering[[#This Row],[geboorte-gewicht]])/(lammering[[#This Row],[Verkoop-datum]]-lammering[[#This Row],[Werp-datum]]))","v":""},"","","","","","",{"$f":"IF(lammering[[#This Row],[Verkoop-gewicht]]=\"\",\"\",lammering[[#This Row],[Verkoop-gewicht]]-lammering[[#This Row],[geboorte-gewicht]])","v":""},"",""]
[{"$f":"lammering[[#This Row],[Ooi]]","v":0},0,0,{"$f":"IF(lammering[[#This Row],[Lam-nummer]]=\"\",0,1)","v":0},{"$f":"IF(lammering[[#This Row],[Dood in geboorte]]=\"ja\",1,0)","v":0},{"$f":"IF(lammering[[#This Row],[Ooi]]=\"\",0,IF(Berekeningen!E284=0,1,0))","v":0},{"$f":"IF(D284=0,0,IF(lammering[[#This Row],[Dood in geboorte]]=\"Ja\",0,IF(lammering[[#This Row],[Dood na geboorte]]=\"ja\",0,1)))","v":0},{"$f":"IF(lammering[[#This Row],[Opfok met kunstmelk]]=\"Ja\",1,0)","v":0},{"$f":"IF(lammering[[#This Row],[geslacht]]=\"O\",1,0)","v":0},{"$f":"IF(lammering[[#This Row],[Speen-datum]]=\"\",\"\",(lammering[[#This Row],[Speen-gewicht]]-lammering[[#This Row],[geboorte-gewicht]])/(lammering[[#This Row],[Speen-datum]]-lammering[[#This Row],[Werp-datum]]))","v":""},{"$f":"IF(lammering[[#This Row],[Verkoop-datum]]=\"\",\"\",(lammering[[#This Row],[Verkoop-gewicht]]-lammering[[#This Row],[Speen-gewicht]])/(lammering[[#This Row],[Verkoop-datum]]-lammering[[#This Row],[Speen-datum]]))","v":""},{"$f":"IF(lammering[[#This Row],[Verkoop-datum]]=\"\",\"\",(lammering[[#This Row],[Verkoop-gewicht]]-lammering[[#This Row],[geboorte-gewicht]])/(lammering[[#This Row],[Verkoop-datum]]-lammering[[#This Row],[Werp-datum]]))","v":""},"","","","","","",{"$f":"IF(lammering[[#This Row],[Verkoop-gewicht]]=\"\",\"\",lammering[[#This Row],[Verkoop-gewicht]]-lammering[[#This Row],[geboorte-gewicht]])","v":""},"",""]
[{"$f":"lammering[[#This Row],[Ooi]]","v":0},0,0,{"$f":"IF(lammering[[#This Row],[Lam-nummer]]=\"\",0,1)","v":0},{"$f":"IF(lammering[[#This Row],[Dood in geboorte]]=\"ja\",1,0)","v":0},{"$f":"IF(lammering[[#This Row],[Ooi]]=\"\",0,IF(Berekeningen!E285=0,1,0))","v":0},{"$f":"IF(D285=0,0,IF(lammering[[#This Row],[Dood in geboorte]]=\"Ja\",0,IF(lammering[[#This Row],[Dood na geboorte]]=\"ja\",0,1)))","v":0},{"$f":"IF(lammering[[#This Row],[Opfok met kunstmelk]]=\"Ja\",1,0)","v":0},{"$f":"IF(lammering[[#This Row],[geslacht]]=\"O\",1,0)","v":0},{"$f":"IF(lammering[[#This Row],[Speen-datum]]=\"\",\"\",(lammering[[#This Row],[Speen-gewicht]]-lammering[[#This Row],[geboorte-gewicht]])/(lammering[[#This Row],[Speen-datum]]-lammering[[#This Row],[Werp-datum]]))","v":""},{"$f":"IF(lammering[[#This Row],[Verkoop-datum]]=\"\",\"\",(lammering[[#This Row],[Verkoop-gewicht]]-lammering[[#This Row],[Speen-gewicht]])/(lammering[[#This Row],[Verkoop-datum]]-lammering[[#This Row],[Speen-datum]]))","v":""},{"$f":"IF(lammering[[#This Row],[Verkoop-datum]]=\"\",\"\",(lammering[[#This Row],[Verkoop-gewicht]]-lammering[[#This Row],[geboorte-gewicht]])/(lammering[[#This Row],[Verkoop-datum]]-lammering[[#This Row],[Werp-datum]]))","v":""},"","","","","","",{"$f":"IF(lammering[[#This Row],[Verkoop-gewicht]]=\"\",\"\",lammering[[#This Row],[Verkoop-gewicht]]-lammering[[#This Row],[geboorte-gewicht]])","v":""},"",""]
[{"$f":"lammering[[#This Row],[Ooi]]","v":0},0,0,{"$f":"IF(lammering[[#This Row],[Lam-nummer]]=\"\",0,1)","v":0},{"$f":"IF(lammering[[#This Row],[Dood in geboorte]]=\"ja\",1,0)","v":0},{"$f":"IF(lammering[[#This Row],[Ooi]]=\"\",0,IF(Berekeningen!E286=0,1,0))","v":0},{"$f":"IF(D286=0,0,IF(lammering[[#This Row],[Dood in geboorte]]=\"Ja\",0,IF(lammering[[#This Row],[Dood na geboorte]]=\"ja\",0,1)))","v":0},{"$f":"IF(lammering[[#This Row],[Opfok met kunstmelk]]=\"Ja\",1,0)","v":0},{"$f":"IF(lammering[[#This Row],[geslacht]]=\"O\",1,0)","v":0},{"$f":"IF(lammering[[#This Row],[Speen-datum]]=\"\",\"\",(lammering[[#This Row],[Speen-gewicht]]-lammering[[#This Row],[geboorte-gewicht]])/(lammering[[#This Row],[Speen-datum]]-lammering[[#This Row],[Werp-datum]]))","v":""},{"$f":"IF(lammering[[#This Row],[Verkoop-datum]]=\"\",\"\",(lammering[[#This Row],[Verkoop-gewicht]]-lammering[[#This Row],[Speen-gewicht]])/(lammering[[#This Row],[Verkoop-datum]]-lammering[[#This Row],[Speen-datum]]))","v":""},{"$f":"IF(lammering[[#This Row],[Verkoop-datum]]=\"\",\"\",(lammering[[#This Row],[Verkoop-gewicht]]-lammering[[#This Row],[geboorte-gewicht]])/(lammering[[#This Row],[Verkoop-datum]]-lammering[[#This Row],[Werp-datum]]))","v":""},"","","","","","",{"$f":"IF(lammering[[#This Row],[Verkoop-gewicht]]=\"\",\"\",lammering[[#This Row],[Verkoop-gewicht]]-lammering[[#This Row],[geboorte-gewicht]])","v":""},"",""]
[{"$f":"lammering[[#This Row],[Ooi]]","v":0},0,0,{"$f":"IF(lammering[[#This Row],[Lam-nummer]]=\"\",0,1)","v":0},{"$f":"IF(lammering[[#This Row],[Dood in geboorte]]=\"ja\",1,0)","v":0},{"$f":"IF(lammering[[#This Row],[Ooi]]=\"\",0,IF(Berekeningen!E287=0,1,0))","v":0},{"$f":"IF(D287=0,0,IF(lammering[[#This Row],[Dood in geboorte]]=\"Ja\",0,IF(lammering[[#This Row],[Dood na geboorte]]=\"ja\",0,1)))","v":0},{"$f":"IF(lammering[[#This Row],[Opfok met kunstmelk]]=\"Ja\",1,0)","v":0},{"$f":"IF(lammering[[#This Row],[geslacht]]=\"O\",1,0)","v":0},{"$f":"IF(lammering[[#This Row],[Speen-datum]]=\"\",\"\",(lammering[[#This Row],[Speen-gewicht]]-lammering[[#This Row],[geboorte-gewicht]])/(lammering[[#This Row],[Speen-datum]]-lammering[[#This Row],[Werp-datum]]))","v":""},{"$f":"IF(lammering[[#This Row],[Verkoop-datum]]=\"\",\"\",(lammering[[#This Row],[Verkoop-gewicht]]-lammering[[#This Row],[Speen-gewicht]])/(lammering[[#This Row],[Verkoop-datum]]-lammering[[#This Row],[Speen-datum]]))","v":""},{"$f":"IF(lammering[[#This Row],[Verkoop-datum]]=\"\",\"\",(lammering[[#This Row],[Verkoop-gewicht]]-lammering[[#This Row],[geboorte-gewicht]])/(lammering[[#This Row],[Verkoop-datum]]-lammering[[#This Row],[Werp-datum]]))","v":""},"","","","","","",{"$f":"IF(lammering[[#This Row],[Verkoop-gewicht]]=\"\",\"\",lammering[[#This Row],[Verkoop-gewicht]]-lammering[[#This Row],[geboorte-gewicht]])","v":""},"",""]
[{"$f":"lammering[[#This Row],[Ooi]]","v":0},0,0,{"$f":"IF(lammering[[#This Row],[Lam-nummer]]=\"\",0,1)","v":0},{"$f":"IF(lammering[[#This Row],[Dood in geboorte]]=\"ja\",1,0)","v":0},{"$f":"IF(lammering[[#This Row],[Ooi]]=\"\",0,IF(Berekeningen!E288=0,1,0))","v":0},{"$f":"IF(D288=0,0,IF(lammering[[#This Row],[Dood in geboorte]]=\"Ja\",0,IF(lammering[[#This Row],[Dood na geboorte]]=\"ja\",0,1)))","v":0},{"$f":"IF(lammering[[#This Row],[Opfok met kunstmelk]]=\"Ja\",1,0)","v":0},{"$f":"IF(lammering[[#This Row],[geslacht]]=\"O\",1,0)","v":0},{"$f":"IF(lammering[[#This Row],[Speen-datum]]=\"\",\"\",(lammering[[#This Row],[Speen-gewicht]]-lammering[[#This Row],[geboorte-gewicht]])/(lammering[[#This Row],[Speen-datum]]-lammering[[#This Row],[Werp-datum]]))","v":""},{"$f":"IF(lammering[[#This Row],[Verkoop-datum]]=\"\",\"\",(lammering[[#This Row],[Verkoop-gewicht]]-lammering[[#This Row],[Speen-gewicht]])/(lammering[[#This Row],[Verkoop-datum]]-lammering[[#This Row],[Speen-datum]]))","v":""},{"$f":"IF(lammering[[#This Row],[Verkoop-datum]]=\"\",\"\",(lammering[[#This Row],[Verkoop-gewicht]]-lammering[[#This Row],[geboorte-gewicht]])/(lammering[[#This Row],[Verkoop-datum]]-lammering[[#This Row],[Werp-datum]]))","v":""},"","","","","","",{"$f":"IF(lammering[[#This Row],[Verkoop-gewicht]]=\"\",\"\",lammering[[#This Row],[Verkoop-gewicht]]-lammering[[#This Row],[geboorte-gewicht]])","v":""},"",""]
[{"$f":"lammering[[#This Row],[Ooi]]","v":0},0,0,{"$f":"IF(lammering[[#This Row],[Lam-nummer]]=\"\",0,1)","v":0},{"$f":"IF(lammering[[#This Row],[Dood in geboorte]]=\"ja\",1,0)","v":0},{"$f":"IF(lammering[[#This Row],[Ooi]]=\"\",0,IF(Berekeningen!E289=0,1,0))","v":0},{"$f":"IF(D289=0,0,IF(lammering[[#This Row],[Dood in geboorte]]=\"Ja\",0,IF(lammering[[#This Row],[Dood na geboorte]]=\"ja\",0,1)))","v":0},{"$f":"IF(lammering[[#This Row],[Opfok met kunstmelk]]=\"Ja\",1,0)","v":0},{"$f":"IF(lammering[[#This Row],[geslacht]]=\"O\",1,0)","v":0},{"$f":"IF(lammering[[#This Row],[Speen-datum]]=\"\",\"\",(lammering[[#This Row],[Speen-gewicht]]-lammering[[#This Row],[geboorte-gewicht]])/(lammering[[#This Row],[Speen-datum]]-lammering[[#This Row],[Werp-datum]]))","v":""},{"$f":"IF(lammering[[#This Row],[Verkoop-datum]]=\"\",\"\",(lammering[[#This Row],[Verkoop-gewicht]]-lammering[[#This Row],[Speen-gewicht]])/(lammering[[#This Row],[Verkoop-datum]]-lammering[[#This Row],[Speen-datum]]))","v":""},{"$f":"IF(lammering[[#This Row],[Verkoop-datum]]=\"\",\"\",(lammering[[#This Row],[Verkoop-gewicht]]-lammering[[#This Row],[geboorte-gewicht]])/(lammering[[#This Row],[Verkoop-datum]]-lammering[[#This Row],[Werp-datum]]))","v":""},"","","","","","",{"$f":"IF(lammering[[#This Row],[Verkoop-gewicht]]=\"\",\"\",lammering[[#This Row],[Verkoop-gewicht]]-lammering[[#This Row],[geboorte-gewicht]])","v":""},"",""]
[{"$f":"lammering[[#This Row],[Ooi]]","v":0},0,0,{"$f":"IF(lammering[[#This Row],[Lam-nummer]]=\"\",0,1)","v":0},{"$f":"IF(lammering[[#This Row],[Dood in geboorte]]=\"ja\",1,0)","v":0},{"$f":"IF(lammering[[#This Row],[Ooi]]=\"\",0,IF(Berekeningen!E290=0,1,0))","v":0},{"$f":"IF(D290=0,0,IF(lammering[[#This Row],[Dood in geboorte]]=\"Ja\",0,IF(lammering[[#This Row],[Dood na geboorte]]=\"ja\",0,1)))","v":0},{"$f":"IF(lammering[[#This Row],[Opfok met kunstmelk]]=\"Ja\",1,0)","v":0},{"$f":"IF(lammering[[#This Row],[geslacht]]=\"O\",1,0)","v":0},{"$f":"IF(lammering[[#This Row],[Speen-datum]]=\"\",\"\",(lammering[[#This Row],[Speen-gewicht]]-lammering[[#This Row],[geboorte-gewicht]])/(lammering[[#This Row],[Speen-datum]]-lammering[[#This Row],[Werp-datum]]))","v":""},{"$f":"IF(lammering[[#This Row],[Verkoop-datum]]=\"\",\"\",(lammering[[#This Row],[Verkoop-gewicht]]-lammering[[#This Row],[Speen-gewicht]])/(lammering[[#This Row],[Verkoop-datum]]-lammering[[#This Row],[Speen-datum]]))","v":""},{"$f":"IF(lammering[[#This Row],[Verkoop-datum]]=\"\",\"\",(lammering[[#This Row],[Verkoop-gewicht]]-lammering[[#This Row],[geboorte-gewicht]])/(lammering[[#This Row],[Verkoop-datum]]-lammering[[#This Row],[Werp-datum]]))","v":""},"","","","","","",{"$f":"IF(lammering[[#This Row],[Verkoop-gewicht]]=\"\",\"\",lammering[[#This Row],[Verkoop-gewicht]]-lammering[[#This Row],[geboorte-gewicht]])","v":""},"",""]
[{"$f":"lammering[[#This Row],[Ooi]]","v":0},0,0,{"$f":"IF(lammering[[#This Row],[Lam-nummer]]=\"\",0,1)","v":0},{"$f":"IF(lammering[[#This Row],[Dood in geboorte]]=\"ja\",1,0)","v":0},{"$f":"IF(lammering[[#This Row],[Ooi]]=\"\",0,IF(Berekeningen!E291=0,1,0))","v":0},{"$f":"IF(D291=0,0,IF(lammering[[#This Row],[Dood in geboorte]]=\"Ja\",0,IF(lammering[[#This Row],[Dood na geboorte]]=\"ja\",0,1)))","v":0},{"$f":"IF(lammering[[#This Row],[Opfok met kunstmelk]]=\"Ja\",1,0)","v":0},{"$f":"IF(lammering[[#This Row],[geslacht]]=\"O\",1,0)","v":0},{"$f":"IF(lammering[[#This Row],[Speen-datum]]=\"\",\"\",(lammering[[#This Row],[Speen-gewicht]]-lammering[[#This Row],[geboorte-gewicht]])/(lammering[[#This Row],[Speen-datum]]-lammering[[#This Row],[Werp-datum]]))","v":""},{"$f":"IF(lammering[[#This Row],[Verkoop-datum]]=\"\",\"\",(lammering[[#This Row],[Verkoop-gewicht]]-lammering[[#This Row],[Speen-gewicht]])/(lammering[[#This Row],[Verkoop-datum]]-lammering[[#This Row],[Speen-datum]]))","v":""},{"$f":"IF(lammering[[#This Row],[Verkoop-datum]]=\"\",\"\",(lammering[[#This Row],[Verkoop-gewicht]]-lammering[[#This Row],[geboorte-gewicht]])/(lammering[[#This Row],[Verkoop-datum]]-lammering[[#This Row],[Werp-datum]]))","v":""},"","","","","","",{"$f":"IF(lammering[[#This Row],[Verkoop-gewicht]]=\"\",\"\",lammering[[#This Row],[Verkoop-gewicht]]-lammering[[#This Row],[geboorte-gewicht]])","v":""},"",""]
[{"$f":"lammering[[#This Row],[Ooi]]","v":0},0,0,{"$f":"IF(lammering[[#This Row],[Lam-nummer]]=\"\",0,1)","v":0},{"$f":"IF(lammering[[#This Row],[Dood in geboorte]]=\"ja\",1,0)","v":0},{"$f":"IF(lammering[[#This Row],[Ooi]]=\"\",0,IF(Berekeningen!E292=0,1,0))","v":0},{"$f":"IF(D292=0,0,IF(lammering[[#This Row],[Dood in geboorte]]=\"Ja\",0,IF(lammering[[#This Row],[Dood na geboorte]]=\"ja\",0,1)))","v":0},{"$f":"IF(lammering[[#This Row],[Opfok met kunstmelk]]=\"Ja\",1,0)","v":0},{"$f":"IF(lammering[[#This Row],[geslacht]]=\"O\",1,0)","v":0},{"$f":"IF(lammering[[#This Row],[Speen-datum]]=\"\",\"\",(lammering[[#This Row],[Speen-gewicht]]-lammering[[#This Row],[geboorte-gewicht]])/(lammering[[#This Row],[Speen-datum]]-lammering[[#This Row],[Werp-datum]]))","v":""},{"$f":"IF(lammering[[#This Row],[Verkoop-datum]]=\"\",\"\",(lammering[[#This Row],[Verkoop-gewicht]]-lammering[[#This Row],[Speen-gewicht]])/(lammering[[#This Row],[Verkoop-datum]]-lammering[[#This Row],[Speen-datum]]))","v":""},{"$f":"IF(lammering[[#This Row],[Verkoop-datum]]=\"\",\"\",(lammering[[#This Row],[Verkoop-gewicht]]-lammering[[#This Row],[geboorte-gewicht]])/(lammering[[#This Row],[Verkoop-datum]]-lammering[[#This Row],[Werp-datum]]))","v":""},"","","","","","",{"$f":"IF(lammering[[#This Row],[Verkoop-gewicht]]=\"\",\"\",lammering[[#This Row],[Verkoop-gewicht]]-lammering[[#This Row],[geboorte-gewicht]])","v":""},"",""]
[{"$f":"lammering[[#This Row],[Ooi]]","v":0},0,0,{"$f":"IF(lammering[[#This Row],[Lam-nummer]]=\"\",0,1)","v":0},{"$f":"IF(lammering[[#This Row],[Dood in geboorte]]=\"ja\",1,0)","v":0},{"$f":"IF(lammering[[#This Row],[Ooi]]=\"\",0,IF(Berekeningen!E293=0,1,0))","v":0},{"$f":"IF(D293=0,0,IF(lammering[[#This Row],[Dood in geboorte]]=\"Ja\",0,IF(lammering[[#This Row],[Dood na geboorte]]=\"ja\",0,1)))","v":0},{"$f":"IF(lammering[[#This Row],[Opfok met kunstmelk]]=\"Ja\",1,0)","v":0},{"$f":"IF(lammering[[#This Row],[geslacht]]=\"O\",1,0)","v":0},{"$f":"IF(lammering[[#This Row],[Speen-datum]]=\"\",\"\",(lammering[[#This Row],[Speen-gewicht]]-lammering[[#This Row],[geboorte-gewicht]])/(lammering[[#This Row],[Speen-datum]]-lammering[[#This Row],[Werp-datum]]))","v":""},{"$f":"IF(lammering[[#This Row],[Verkoop-datum]]=\"\",\"\",(lammering[[#This Row],[Verkoop-gewicht]]-lammering[[#This Row],[Speen-gewicht]])/(lammering[[#This Row],[Verkoop-datum]]-lammering[[#This Row],[Speen-datum]]))","v":""},{"$f":"IF(lammering[[#This Row],[Verkoop-datum]]=\"\",\"\",(lammering[[#This Row],[Verkoop-gewicht]]-lammering[[#This Row],[geboorte-gewicht]])/(lammering[[#This Row],[Verkoop-datum]]-lammering[[#This Row],[Werp-datum]]))","v":""},"","","","","","",{"$f":"IF(lammering[[#This Row],[Verkoop-gewicht]]=\"\",\"\",lammering[[#This Row],[Verkoop-gewicht]]-lammering[[#This Row],[geboorte-gewicht]])","v":""},"",""]
[{"$f":"lammering[[#This Row],[Ooi]]","v":0},0,0,{"$f":"IF(lammering[[#This Row],[Lam-nummer]]=\"\",0,1)","v":0},{"$f":"IF(lammering[[#This Row],[Dood in geboorte]]=\"ja\",1,0)","v":0},{"$f":"IF(lammering[[#This Row],[Ooi]]=\"\",0,IF(Berekeningen!E294=0,1,0))","v":0},{"$f":"IF(D294=0,0,IF(lammering[[#This Row],[Dood in geboorte]]=\"Ja\",0,IF(lammering[[#This Row],[Dood na geboorte]]=\"ja\",0,1)))","v":0},{"$f":"IF(lammering[[#This Row],[Opfok met kunstmelk]]=\"Ja\",1,0)","v":0},{"$f":"IF(lammering[[#This Row],[geslacht]]=\"O\",1,0)","v":0},{"$f":"IF(lammering[[#This Row],[Speen-datum]]=\"\",\"\",(lammering[[#This Row],[Speen-gewicht]]-lammering[[#This Row],[geboorte-gewicht]])/(lammering[[#This Row],[Speen-datum]]-lammering[[#This Row],[Werp-datum]]))","v":""},{"$f":"IF(lammering[[#This Row],[Verkoop-datum]]=\"\",\"\",(lammering[[#This Row],[Verkoop-gewicht]]-lammering[[#This Row],[Speen-gewicht]])/(lammering[[#This Row],[Verkoop-datum]]-lammering[[#This Row],[Speen-datum]]))","v":""},{"$f":"IF(lammering[[#This Row],[Verkoop-datum]]=\"\",\"\",(lammering[[#This Row],[Verkoop-gewicht]]-lammering[[#This Row],[geboorte-gewicht]])/(lammering[[#This Row],[Verkoop-datum]]-lammering[[#This Row],[Werp-datum]]))","v":""},"","","","","","",{"$f":"IF(lammering[[#This Row],[Verkoop-gewicht]]=\"\",\"\",lammering[[#This Row],[Verkoop-gewicht]]-lammering[[#This Row],[geboorte-gewicht]])","v":""},"",""]
[{"$f":"lammering[[#This Row],[Ooi]]","v":0},0,0,{"$f":"IF(lammering[[#This Row],[Lam-nummer]]=\"\",0,1)","v":0},{"$f":"IF(lammering[[#This Row],[Dood in geboorte]]=\"ja\",1,0)","v":0},{"$f":"IF(lammering[[#This Row],[Ooi]]=\"\",0,IF(Berekeningen!E295=0,1,0))","v":0},{"$f":"IF(D295=0,0,IF(lammering[[#This Row],[Dood in geboorte]]=\"Ja\",0,IF(lammering[[#This Row],[Dood na geboorte]]=\"ja\",0,1)))","v":0},{"$f":"IF(lammering[[#This Row],[Opfok met kunstmelk]]=\"Ja\",1,0)","v":0},{"$f":"IF(lammering[[#This Row],[geslacht]]=\"O\",1,0)","v":0},{"$f":"IF(lammering[[#This Row],[Speen-datum]]=\"\",\"\",(lammering[[#This Row],[Speen-gewicht]]-lammering[[#This Row],[geboorte-gewicht]])/(lammering[[#This Row],[Speen-datum]]-lammering[[#This Row],[Werp-datum]]))","v":""},{"$f":"IF(lammering[[#This Row],[Verkoop-datum]]=\"\",\"\",(lammering[[#This Row],[Verkoop-gewicht]]-lammering[[#This Row],[Speen-gewicht]])/(lammering[[#This Row],[Verkoop-datum]]-lammering[[#This Row],[Speen-datum]]))","v":""},{"$f":"IF(lammering[[#This Row],[Verkoop-datum]]=\"\",\"\",(lammering[[#This Row],[Verkoop-gewicht]]-lammering[[#This Row],[geboorte-gewicht]])/(lammering[[#This Row],[Verkoop-datum]]-lammering[[#This Row],[Werp-datum]]))","v":""},"","","","","","",{"$f":"IF(lammering[[#This Row],[Verkoop-gewicht]]=\"\",\"\",lammering[[#This Row],[Verkoop-gewicht]]-lammering[[#This Row],[geboorte-gewicht]])","v":""},"",""]
[{"$f":"lammering[[#This Row],[Ooi]]","v":0},0,0,{"$f":"IF(lammering[[#This Row],[Lam-nummer]]=\"\",0,1)","v":0},{"$f":"IF(lammering[[#This Row],[Dood in geboorte]]=\"ja\",1,0)","v":0},{"$f":"IF(lammering[[#This Row],[Ooi]]=\"\",0,IF(Berekeningen!E296=0,1,0))","v":0},{"$f":"IF(D296=0,0,IF(lammering[[#This Row],[Dood in geboorte]]=\"Ja\",0,IF(lammering[[#This Row],[Dood na geboorte]]=\"ja\",0,1)))","v":0},{"$f":"IF(lammering[[#This Row],[Opfok met kunstmelk]]=\"Ja\",1,0)","v":0},{"$f":"IF(lammering[[#This Row],[geslacht]]=\"O\",1,0)","v":0},{"$f":"IF(lammering[[#This Row],[Speen-datum]]=\"\",\"\",(lammering[[#This Row],[Speen-gewicht]]-lammering[[#This Row],[geboorte-gewicht]])/(lammering[[#This Row],[Speen-datum]]-lammering[[#This Row],[Werp-datum]]))","v":""},{"$f":"IF(lammering[[#This Row],[Verkoop-datum]]=\"\",\"\",(lammering[[#This Row],[Verkoop-gewicht]]-lammering[[#This Row],[Speen-gewicht]])/(lammering[[#This Row],[Verkoop-datum]]-lammering[[#This Row],[Speen-datum]]))","v":""},{"$f":"IF(lammering[[#This Row],[Verkoop-datum]]=\"\",\"\",(lammering[[#This Row],[Verkoop-gewicht]]-lammering[[#This Row],[geboorte-gewicht]])/(lammering[[#This Row],[Verkoop-datum]]-lammering[[#This Row],[Werp-datum]]))","v":""},"","","","","","",{"$f":"IF(lammering[[#This Row],[Verkoop-gewicht]]=\"\",\"\",lammering[[#This Row],[Verkoop-gewicht]]-lammering[[#This Row],[geboorte-gewicht]])","v":""},"",""]
[{"$f":"lammering[[#This Row],[Ooi]]","v":0},0,0,{"$f":"IF(lammering[[#This Row],[Lam-nummer]]=\"\",0,1)","v":0},{"$f":"IF(lammering[[#This Row],[Dood in geboorte]]=\"ja\",1,0)","v":0},{"$f":"IF(lammering[[#This Row],[Ooi]]=\"\",0,IF(Berekeningen!E297=0,1,0))","v":0},{"$f":"IF(D297=0,0,IF(lammering[[#This Row],[Dood in geboorte]]=\"Ja\",0,IF(lammering[[#This Row],[Dood na geboorte]]=\"ja\",0,1)))","v":0},{"$f":"IF(lammering[[#This Row],[Opfok met kunstmelk]]=\"Ja\",1,0)","v":0},{"$f":"IF(lammering[[#This Row],[geslacht]]=\"O\",1,0)","v":0},{"$f":"IF(lammering[[#This Row],[Speen-datum]]=\"\",\"\",(lammering[[#This Row],[Speen-gewicht]]-lammering[[#This Row],[geboorte-gewicht]])/(lammering[[#This Row],[Speen-datum]]-lammering[[#This Row],[Werp-datum]]))","v":""},{"$f":"IF(lammering[[#This Row],[Verkoop-datum]]=\"\",\"\",(lammering[[#This Row],[Verkoop-gewicht]]-lammering[[#This Row],[Speen-gewicht]])/(lammering[[#This Row],[Verkoop-datum]]-lammering[[#This Row],[Speen-datum]]))","v":""},{"$f":"IF(lammering[[#This Row],[Verkoop-datum]]=\"\",\"\",(lammering[[#This Row],[Verkoop-gewicht]]-lammering[[#This Row],[geboorte-gewicht]])/(lammering[[#This Row],[Verkoop-datum]]-lammering[[#This Row],[Werp-datum]]))","v":""},"","","","","","",{"$f":"IF(lammering[[#This Row],[Verkoop-gewicht]]=\"\",\"\",lammering[[#This Row],[Verkoop-gewicht]]-lammering[[#This Row],[geboorte-gewicht]])","v":""},"",""]
[{"$f":"lammering[[#This Row],[Ooi]]","v":0},0,0,{"$f":"IF(lammering[[#This Row],[Lam-nummer]]=\"\",0,1)","v":0},{"$f":"IF(lammering[[#This Row],[Dood in geboorte]]=\"ja\",1,0)","v":0},{"$f":"IF(lammering[[#This Row],[Ooi]]=\"\",0,IF(Berekeningen!E298=0,1,0))","v":0},{"$f":"IF(D298=0,0,IF(lammering[[#This Row],[Dood in geboorte]]=\"Ja\",0,IF(lammering[[#This Row],[Dood na geboorte]]=\"ja\",0,1)))","v":0},{"$f":"IF(lammering[[#This Row],[Opfok met kunstmelk]]=\"Ja\",1,0)","v":0},{"$f":"IF(lammering[[#This Row],[geslacht]]=\"O\",1,0)","v":0},{"$f":"IF(lammering[[#This Row],[Speen-datum]]=\"\",\"\",(lammering[[#This Row],[Speen-gewicht]]-lammering[[#This Row],[geboorte-gewicht]])/(lammering[[#This Row],[Speen-datum]]-lammering[[#This Row],[Werp-datum]]))","v":""},{"$f":"IF(lammering[[#This Row],[Verkoop-datum]]=\"\",\"\",(lammering[[#This Row],[Verkoop-gewicht]]-lammering[[#This Row],[Speen-gewicht]])/(lammering[[#This Row],[Verkoop-datum]]-lammering[[#This Row],[Speen-datum]]))","v":""},{"$f":"IF(lammering[[#This Row],[Verkoop-datum]]=\"\",\"\",(lammering[[#This Row],[Verkoop-gewicht]]-lammering[[#This Row],[geboorte-gewicht]])/(lammering[[#This Row],[Verkoop-datum]]-lammering[[#This Row],[Werp-datum]]))","v":""},"","","","","","",{"$f":"IF(lammering[[#This Row],[Verkoop-gewicht]]=\"\",\"\",lammering[[#This Row],[Verkoop-gewicht]]-lammering[[#This Row],[geboorte-gewicht]])","v":""},"",""]
[{"$f":"lammering[[#This Row],[Ooi]]","v":0},0,0,{"$f":"IF(lammering[[#This Row],[Lam-nummer]]=\"\",0,1)","v":0},{"$f":"IF(lammering[[#This Row],[Dood in geboorte]]=\"ja\",1,0)","v":0},{"$f":"IF(lammering[[#This Row],[Ooi]]=\"\",0,IF(Berekeningen!E299=0,1,0))","v":0},{"$f":"IF(D299=0,0,IF(lammering[[#This Row],[Dood in geboorte]]=\"Ja\",0,IF(lammering[[#This Row],[Dood na geboorte]]=\"ja\",0,1)))","v":0},{"$f":"IF(lammering[[#This Row],[Opfok met kunstmelk]]=\"Ja\",1,0)","v":0},{"$f":"IF(lammering[[#This Row],[geslacht]]=\"O\",1,0)","v":0},{"$f":"IF(lammering[[#This Row],[Speen-datum]]=\"\",\"\",(lammering[[#This Row],[Speen-gewicht]]-lammering[[#This Row],[geboorte-gewicht]])/(lammering[[#This Row],[Speen-datum]]-lammering[[#This Row],[Werp-datum]]))","v":""},{"$f":"IF(lammering[[#This Row],[Verkoop-datum]]=\"\",\"\",(lammering[[#This Row],[Verkoop-gewicht]]-lammering[[#This Row],[Speen-gewicht]])/(lammering[[#This Row],[Verkoop-datum]]-lammering[[#This Row],[Speen-datum]]))","v":""},{"$f":"IF(lammering[[#This Row],[Verkoop-datum]]=\"\",\"\",(lammering[[#This Row],[Verkoop-gewicht]]-lammering[[#This Row],[geboorte-gewicht]])/(lammering[[#This Row],[Verkoop-datum]]-lammering[[#This Row],[Werp-datum]]))","v":""},"","","","","","",{"$f":"IF(lammering[[#This Row],[Verkoop-gewicht]]=\"\",\"\",lammering[[#This Row],[Verkoop-gewicht]]-lammering[[#This Row],[geboorte-gewicht]])","v":""},"",""]
[{"$f":"lammering[[#This Row],[Ooi]]","v":0},0,0,{"$f":"IF(lammering[[#This Row],[Lam-nummer]]=\"\",0,1)","v":0},{"$f":"IF(lammering[[#This Row],[Dood in geboorte]]=\"ja\",1,0)","v":0},{"$f":"IF(lammering[[#This Row],[Ooi]]=\"\",0,IF(Berekeningen!E300=0,1,0))","v":0},{"$f":"IF(D300=0,0,IF(lammering[[#This Row],[Dood in geboorte]]=\"Ja\",0,IF(lammering[[#This Row],[Dood na geboorte]]=\"ja\",0,1)))","v":0},{"$f":"IF(lammering[[#This Row],[Opfok met kunstmelk]]=\"Ja\",1,0)","v":0},{"$f":"IF(lammering[[#This Row],[geslacht]]=\"O\",1,0)","v":0},{"$f":"IF(lammering[[#This Row],[Speen-datum]]=\"\",\"\",(lammering[[#This Row],[Speen-gewicht]]-lammering[[#This Row],[geboorte-gewicht]])/(lammering[[#This Row],[Speen-datum]]-lammering[[#This Row],[Werp-datum]]))","v":""},{"$f":"IF(lammering[[#This Row],[Verkoop-datum]]=\"\",\"\",(lammering[[#This Row],[Verkoop-gewicht]]-lammering[[#This Row],[Speen-gewicht]])/(lammering[[#This Row],[Verkoop-datum]]-lammering[[#This Row],[Speen-datum]]))","v":""},{"$f":"IF(lammering[[#This Row],[Verkoop-datum]]=\"\",\"\",(lammering[[#This Row],[Verkoop-gewicht]]-lammering[[#This Row],[geboorte-gewicht]])/(lammering[[#This Row],[Verkoop-datum]]-lammering[[#This Row],[Werp-datum]]))","v":""},"","","","","","",{"$f":"IF(lammering[[#This Row],[Verkoop-gewicht]]=\"\",\"\",lammering[[#This Row],[Verkoop-gewicht]]-lammering[[#This Row],[geboorte-gewicht]])","v":""},"",""]
[{"$f":"lammering[[#This Row],[Ooi]]","v":0},0,0,{"$f":"IF(lammering[[#This Row],[Lam-nummer]]=\"\",0,1)","v":0},{"$f":"IF(lammering[[#This Row],[Dood in geboorte]]=\"ja\",1,0)","v":0},{"$f":"IF(lammering[[#This Row],[Ooi]]=\"\",0,IF(Berekeningen!E301=0,1,0))","v":0},{"$f":"IF(D301=0,0,IF(lammering[[#This Row],[Dood in geboorte]]=\"Ja\",0,IF(lammering[[#This Row],[Dood na geboorte]]=\"ja\",0,1)))","v":0},{"$f":"IF(lammering[[#This Row],[Opfok met kunstmelk]]=\"Ja\",1,0)","v":0},{"$f":"IF(lammering[[#This Row],[geslacht]]=\"O\",1,0)","v":0},{"$f":"IF(lammering[[#This Row],[Speen-datum]]=\"\",\"\",(lammering[[#This Row],[Speen-gewicht]]-lammering[[#This Row],[geboorte-gewicht]])/(lammering[[#This Row],[Speen-datum]]-lammering[[#This Row],[Werp-datum]]))","v":""},{"$f":"IF(lammering[[#This Row],[Verkoop-datum]]=\"\",\"\",(lammering[[#This Row],[Verkoop-gewicht]]-lammering[[#This Row],[Speen-gewicht]])/(lammering[[#This Row],[Verkoop-datum]]-lammering[[#This Row],[Speen-datum]]))","v":""},{"$f":"IF(lammering[[#This Row],[Verkoop-datum]]=\"\",\"\",(lammering[[#This Row],[Verkoop-gewicht]]-lammering[[#This Row],[geboorte-gewicht]])/(lammering[[#This Row],[Verkoop-datum]]-lammering[[#This Row],[Werp-datum]]))","v":""},"","","","","","",{"$f":"IF(lammering[[#This Row],[Verkoop-gewicht]]=\"\",\"\",lammering[[#This Row],[Verkoop-gewicht]]-lammering[[#This Row],[geboorte-gewicht]])","v":""},"",""]
[{"$f":"lammering[[#This Row],[Ooi]]","v":0},0,0,{"$f":"IF(lammering[[#This Row],[Lam-nummer]]=\"\",0,1)","v":0},{"$f":"IF(lammering[[#This Row],[Dood in geboorte]]=\"ja\",1,0)","v":0},{"$f":"IF(lammering[[#This Row],[Ooi]]=\"\",0,IF(Berekeningen!E302=0,1,0))","v":0},{"$f":"IF(D302=0,0,IF(lammering[[#This Row],[Dood in geboorte]]=\"Ja\",0,IF(lammering[[#This Row],[Dood na geboorte]]=\"ja\",0,1)))","v":0},{"$f":"IF(lammering[[#This Row],[Opfok met kunstmelk]]=\"Ja\",1,0)","v":0},{"$f":"IF(lammering[[#This Row],[geslacht]]=\"O\",1,0)","v":0},{"$f":"IF(lammering[[#This Row],[Speen-datum]]=\"\",\"\",(lammering[[#This Row],[Speen-gewicht]]-lammering[[#This Row],[geboorte-gewicht]])/(lammering[[#This Row],[Speen-datum]]-lammering[[#This Row],[Werp-datum]]))","v":""},{"$f":"IF(lammering[[#This Row],[Verkoop-datum]]=\"\",\"\",(lammering[[#This Row],[Verkoop-gewicht]]-lammering[[#This Row],[Speen-gewicht]])/(lammering[[#This Row],[Verkoop-datum]]-lammering[[#This Row],[Speen-datum]]))","v":""},{"$f":"IF(lammering[[#This Row],[Verkoop-datum]]=\"\",\"\",(lammering[[#This Row],[Verkoop-gewicht]]-lammering[[#This Row],[geboorte-gewicht]])/(lammering[[#This Row],[Verkoop-datum]]-lammering[[#This Row],[Werp-datum]]))","v":""},"","","","","","",{"$f":"IF(lammering[[#This Row],[Verkoop-gewicht]]=\"\",\"\",lammering[[#This Row],[Verkoop-gewicht]]-lammering[[#This Row],[geboorte-gewicht]])","v":""},"",""]
[{"$f":"lammering[[#This Row],[Ooi]]","v":0},0,0,{"$f":"IF(lammering[[#This Row],[Lam-nummer]]=\"\",0,1)","v":0},{"$f":"IF(lammering[[#This Row],[Dood in geboorte]]=\"ja\",1,0)","v":0},{"$f":"IF(lammering[[#This Row],[Ooi]]=\"\",0,IF(Berekeningen!E303=0,1,0))","v":0},{"$f":"IF(D303=0,0,IF(lammering[[#This Row],[Dood in geboorte]]=\"Ja\",0,IF(lammering[[#This Row],[Dood na geboorte]]=\"ja\",0,1)))","v":0},{"$f":"IF(lammering[[#This Row],[Opfok met kunstmelk]]=\"Ja\",1,0)","v":0},{"$f":"IF(lammering[[#This Row],[geslacht]]=\"O\",1,0)","v":0},{"$f":"IF(lammering[[#This Row],[Speen-datum]]=\"\",\"\",(lammering[[#This Row],[Speen-gewicht]]-lammering[[#This Row],[geboorte-gewicht]])/(lammering[[#This Row],[Speen-datum]]-lammering[[#This Row],[Werp-datum]]))","v":""},{"$f":"IF(lammering[[#This Row],[Verkoop-datum]]=\"\",\"\",(lammering[[#This Row],[Verkoop-gewicht]]-lammering[[#This Row],[Speen-gewicht]])/(lammering[[#This Row],[Verkoop-datum]]-lammering[[#This Row],[Speen-datum]]))","v":""},{"$f":"IF(lammering[[#This Row],[Verkoop-datum]]=\"\",\"\",(lammering[[#This Row],[Verkoop-gewicht]]-lammering[[#This Row],[geboorte-gewicht]])/(lammering[[#This Row],[Verkoop-datum]]-lammering[[#This Row],[Werp-datum]]))","v":""},"","","","","","",{"$f":"IF(lammering[[#This Row],[Verkoop-gewicht]]=\"\",\"\",lammering[[#This Row],[Verkoop-gewicht]]-lammering[[#This Row],[geboorte-gewicht]])","v":""},"",""]
[{"$f":"lammering[[#This Row],[Ooi]]","v":0},0,0,{"$f":"IF(lammering[[#This Row],[Lam-nummer]]=\"\",0,1)","v":0},{"$f":"IF(lammering[[#This Row],[Dood in geboorte]]=\"ja\",1,0)","v":0},{"$f":"IF(lammering[[#This Row],[Ooi]]=\"\",0,IF(Berekeningen!E304=0,1,0))","v":0},{"$f":"IF(D304=0,0,IF(lammering[[#This Row],[Dood in geboorte]]=\"Ja\",0,IF(lammering[[#This Row],[Dood na geboorte]]=\"ja\",0,1)))","v":0},{"$f":"IF(lammering[[#This Row],[Opfok met kunstmelk]]=\"Ja\",1,0)","v":0},{"$f":"IF(lammering[[#This Row],[geslacht]]=\"O\",1,0)","v":0},{"$f":"IF(lammering[[#This Row],[Speen-datum]]=\"\",\"\",(lammering[[#This Row],[Speen-gewicht]]-lammering[[#This Row],[geboorte-gewicht]])/(lammering[[#This Row],[Speen-datum]]-lammering[[#This Row],[Werp-datum]]))","v":""},{"$f":"IF(lammering[[#This Row],[Verkoop-datum]]=\"\",\"\",(lammering[[#This Row],[Verkoop-gewicht]]-lammering[[#This Row],[Speen-gewicht]])/(lammering[[#This Row],[Verkoop-datum]]-lammering[[#This Row],[Speen-datum]]))","v":""},{"$f":"IF(lammering[[#This Row],[Verkoop-datum]]=\"\",\"\",(lammering[[#This Row],[Verkoop-gewicht]]-lammering[[#This Row],[geboorte-gewicht]])/(lammering[[#This Row],[Verkoop-datum]]-lammering[[#This Row],[Werp-datum]]))","v":""},"","","","","","",{"$f":"IF(lammering[[#This Row],[Verkoop-gewicht]]=\"\",\"\",lammering[[#This Row],[Verkoop-gewicht]]-lammering[[#This Row],[geboorte-gewicht]])","v":""},"",""]
[{"$f":"lammering[[#This Row],[Ooi]]","v":0},0,0,{"$f":"IF(lammering[[#This Row],[Lam-nummer]]=\"\",0,1)","v":0},{"$f":"IF(lammering[[#This Row],[Dood in geboorte]]=\"ja\",1,0)","v":0},{"$f":"IF(lammering[[#This Row],[Ooi]]=\"\",0,IF(Berekeningen!E305=0,1,0))","v":0},{"$f":"IF(D305=0,0,IF(lammering[[#This Row],[Dood in geboorte]]=\"Ja\",0,IF(lammering[[#This Row],[Dood na geboorte]]=\"ja\",0,1)))","v":0},{"$f":"IF(lammering[[#This Row],[Opfok met kunstmelk]]=\"Ja\",1,0)","v":0},{"$f":"IF(lammering[[#This Row],[geslacht]]=\"O\",1,0)","v":0},{"$f":"IF(lammering[[#This Row],[Speen-datum]]=\"\",\"\",(lammering[[#This Row],[Speen-gewicht]]-lammering[[#This Row],[geboorte-gewicht]])/(lammering[[#This Row],[Speen-datum]]-lammering[[#This Row],[Werp-datum]]))","v":""},{"$f":"IF(lammering[[#This Row],[Verkoop-datum]]=\"\",\"\",(lammering[[#This Row],[Verkoop-gewicht]]-lammering[[#This Row],[Speen-gewicht]])/(lammering[[#This Row],[Verkoop-datum]]-lammering[[#This Row],[Speen-datum]]))","v":""},{"$f":"IF(lammering[[#This Row],[Verkoop-datum]]=\"\",\"\",(lammering[[#This Row],[Verkoop-gewicht]]-lammering[[#This Row],[geboorte-gewicht]])/(lammering[[#This Row],[Verkoop-datum]]-lammering[[#This Row],[Werp-datum]]))","v":""},"","","","","","",{"$f":"IF(lammering[[#This Row],[Verkoop-gewicht]]=\"\",\"\",lammering[[#This Row],[Verkoop-gewicht]]-lammering[[#This Row],[geboorte-gewicht]])","v":""},"",""]
[{"$f":"lammering[[#This Row],[Ooi]]","v":0},0,0,{"$f":"IF(lammering[[#This Row],[Lam-nummer]]=\"\",0,1)","v":0},{"$f":"IF(lammering[[#This Row],[Dood in geboorte]]=\"ja\",1,0)","v":0},{"$f":"IF(lammering[[#This Row],[Ooi]]=\"\",0,IF(Berekeningen!E306=0,1,0))","v":0},{"$f":"IF(D306=0,0,IF(lammering[[#This Row],[Dood in geboorte]]=\"Ja\",0,IF(lammering[[#This Row],[Dood na geboorte]]=\"ja\",0,1)))","v":0},{"$f":"IF(lammering[[#This Row],[Opfok met kunstmelk]]=\"Ja\",1,0)","v":0},{"$f":"IF(lammering[[#This Row],[geslacht]]=\"O\",1,0)","v":0},{"$f":"IF(lammering[[#This Row],[Speen-datum]]=\"\",\"\",(lammering[[#This Row],[Speen-gewicht]]-lammering[[#This Row],[geboorte-gewicht]])/(lammering[[#This Row],[Speen-datum]]-lammering[[#This Row],[Werp-datum]]))","v":""},{"$f":"IF(lammering[[#This Row],[Verkoop-datum]]=\"\",\"\",(lammering[[#This Row],[Verkoop-gewicht]]-lammering[[#This Row],[Speen-gewicht]])/(lammering[[#This Row],[Verkoop-datum]]-lammering[[#This Row],[Speen-datum]]))","v":""},{"$f":"IF(lammering[[#This Row],[Verkoop-datum]]=\"\",\"\",(lammering[[#This Row],[Verkoop-gewicht]]-lammering[[#This Row],[geboorte-gewicht]])/(lammering[[#This Row],[Verkoop-datum]]-lammering[[#This Row],[Werp-datum]]))","v":""},"","","","","","",{"$f":"IF(lammering[[#This Row],[Verkoop-gewicht]]=\"\",\"\",lammering[[#This Row],[Verkoop-gewicht]]-lammering[[#This Row],[geboorte-gewicht]])","v":""},"",""]
[{"$f":"lammering[[#This Row],[Ooi]]","v":0},0,0,{"$f":"IF(lammering[[#This Row],[Lam-nummer]]=\"\",0,1)","v":0},{"$f":"IF(lammering[[#This Row],[Dood in geboorte]]=\"ja\",1,0)","v":0},{"$f":"IF(lammering[[#This Row],[Ooi]]=\"\",0,IF(Berekeningen!E307=0,1,0))","v":0},{"$f":"IF(D307=0,0,IF(lammering[[#This Row],[Dood in geboorte]]=\"Ja\",0,IF(lammering[[#This Row],[Dood na geboorte]]=\"ja\",0,1)))","v":0},{"$f":"IF(lammering[[#This Row],[Opfok met kunstmelk]]=\"Ja\",1,0)","v":0},{"$f":"IF(lammering[[#This Row],[geslacht]]=\"O\",1,0)","v":0},{"$f":"IF(lammering[[#This Row],[Speen-datum]]=\"\",\"\",(lammering[[#This Row],[Speen-gewicht]]-lammering[[#This Row],[geboorte-gewicht]])/(lammering[[#This Row],[Speen-datum]]-lammering[[#This Row],[Werp-datum]]))","v":""},{"$f":"IF(lammering[[#This Row],[Verkoop-datum]]=\"\",\"\",(lammering[[#This Row],[Verkoop-gewicht]]-lammering[[#This Row],[Speen-gewicht]])/(lammering[[#This Row],[Verkoop-datum]]-lammering[[#This Row],[Speen-datum]]))","v":""},{"$f":"IF(lammering[[#This Row],[Verkoop-datum]]=\"\",\"\",(lammering[[#This Row],[Verkoop-gewicht]]-lammering[[#This Row],[geboorte-gewicht]])/(lammering[[#This Row],[Verkoop-datum]]-lammering[[#This Row],[Werp-datum]]))","v":""},"","","","","","",{"$f":"IF(lammering[[#This Row],[Verkoop-gewicht]]=\"\",\"\",lammering[[#This Row],[Verkoop-gewicht]]-lammering[[#This Row],[geboorte-gewicht]])","v":""},"",""]
[{"$f":"lammering[[#This Row],[Ooi]]","v":0},0,0,{"$f":"IF(lammering[[#This Row],[Lam-nummer]]=\"\",0,1)","v":0},{"$f":"IF(lammering[[#This Row],[Dood in geboorte]]=\"ja\",1,0)","v":0},{"$f":"IF(lammering[[#This Row],[Ooi]]=\"\",0,IF(Berekeningen!E308=0,1,0))","v":0},{"$f":"IF(D308=0,0,IF(lammering[[#This Row],[Dood in geboorte]]=\"Ja\",0,IF(lammering[[#This Row],[Dood na geboorte]]=\"ja\",0,1)))","v":0},{"$f":"IF(lammering[[#This Row],[Opfok met kunstmelk]]=\"Ja\",1,0)","v":0},{"$f":"IF(lammering[[#This Row],[geslacht]]=\"O\",1,0)","v":0},{"$f":"IF(lammering[[#This Row],[Speen-datum]]=\"\",\"\",(lammering[[#This Row],[Speen-gewicht]]-lammering[[#This Row],[geboorte-gewicht]])/(lammering[[#This Row],[Speen-datum]]-lammering[[#This Row],[Werp-datum]]))","v":""},{"$f":"IF(lammering[[#This Row],[Verkoop-datum]]=\"\",\"\",(lammering[[#This Row],[Verkoop-gewicht]]-lammering[[#This Row],[Speen-gewicht]])/(lammering[[#This Row],[Verkoop-datum]]-lammering[[#This Row],[Speen-datum]]))","v":""},{"$f":"IF(lammering[[#This Row],[Verkoop-datum]]=\"\",\"\",(lammering[[#This Row],[Verkoop-gewicht]]-lammering[[#This Row],[geboorte-gewicht]])/(lammering[[#This Row],[Verkoop-datum]]-lammering[[#This Row],[Werp-datum]]))","v":""},"","","","","","",{"$f":"IF(lammering[[#This Row],[Verkoop-gewicht]]=\"\",\"\",lammering[[#This Row],[Verkoop-gewicht]]-lammering[[#This Row],[geboorte-gewicht]])","v":""},"",""]
[{"$f":"lammering[[#This Row],[Ooi]]","v":0},0,0,{"$f":"IF(lammering[[#This Row],[Lam-nummer]]=\"\",0,1)","v":0},{"$f":"IF(lammering[[#This Row],[Dood in geboorte]]=\"ja\",1,0)","v":0},{"$f":"IF(lammering[[#This Row],[Ooi]]=\"\",0,IF(Berekeningen!E309=0,1,0))","v":0},{"$f":"IF(D309=0,0,IF(lammering[[#This Row],[Dood in geboorte]]=\"Ja\",0,IF(lammering[[#This Row],[Dood na geboorte]]=\"ja\",0,1)))","v":0},{"$f":"IF(lammering[[#This Row],[Opfok met kunstmelk]]=\"Ja\",1,0)","v":0},{"$f":"IF(lammering[[#This Row],[geslacht]]=\"O\",1,0)","v":0},{"$f":"IF(lammering[[#This Row],[Speen-datum]]=\"\",\"\",(lammering[[#This Row],[Speen-gewicht]]-lammering[[#This Row],[geboorte-gewicht]])/(lammering[[#This Row],[Speen-datum]]-lammering[[#This Row],[Werp-datum]]))","v":""},{"$f":"IF(lammering[[#This Row],[Verkoop-datum]]=\"\",\"\",(lammering[[#This Row],[Verkoop-gewicht]]-lammering[[#This Row],[Speen-gewicht]])/(lammering[[#This Row],[Verkoop-datum]]-lammering[[#This Row],[Speen-datum]]))","v":""},{"$f":"IF(lammering[[#This Row],[Verkoop-datum]]=\"\",\"\",(lammering[[#This Row],[Verkoop-gewicht]]-lammering[[#This Row],[geboorte-gewicht]])/(lammering[[#This Row],[Verkoop-datum]]-lammering[[#This Row],[Werp-datum]]))","v":""},"","","","","","",{"$f":"IF(lammering[[#This Row],[Verkoop-gewicht]]=\"\",\"\",lammering[[#This Row],[Verkoop-gewicht]]-lammering[[#This Row],[geboorte-gewicht]])","v":""},"",""]
[{"$f":"lammering[[#This Row],[Ooi]]","v":0},0,0,{"$f":"IF(lammering[[#This Row],[Lam-nummer]]=\"\",0,1)","v":0},{"$f":"IF(lammering[[#This Row],[Dood in geboorte]]=\"ja\",1,0)","v":0},{"$f":"IF(lammering[[#This Row],[Ooi]]=\"\",0,IF(Berekeningen!E310=0,1,0))","v":0},{"$f":"IF(D310=0,0,IF(lammering[[#This Row],[Dood in geboorte]]=\"Ja\",0,IF(lammering[[#This Row],[Dood na geboorte]]=\"ja\",0,1)))","v":0},{"$f":"IF(lammering[[#This Row],[Opfok met kunstmelk]]=\"Ja\",1,0)","v":0},{"$f":"IF(lammering[[#This Row],[geslacht]]=\"O\",1,0)","v":0},{"$f":"IF(lammering[[#This Row],[Speen-datum]]=\"\",\"\",(lammering[[#This Row],[Speen-gewicht]]-lammering[[#This Row],[geboorte-gewicht]])/(lammering[[#This Row],[Speen-datum]]-lammering[[#This Row],[Werp-datum]]))","v":""},{"$f":"IF(lammering[[#This Row],[Verkoop-datum]]=\"\",\"\",(lammering[[#This Row],[Verkoop-gewicht]]-lammering[[#This Row],[Speen-gewicht]])/(lammering[[#This Row],[Verkoop-datum]]-lammering[[#This Row],[Speen-datum]]))","v":""},{"$f":"IF(lammering[[#This Row],[Verkoop-datum]]=\"\",\"\",(lammering[[#This Row],[Verkoop-gewicht]]-lammering[[#This Row],[geboorte-gewicht]])/(lammering[[#This Row],[Verkoop-datum]]-lammering[[#This Row],[Werp-datum]]))","v":""},"","","","","","",{"$f":"IF(lammering[[#This Row],[Verkoop-gewicht]]=\"\",\"\",lammering[[#This Row],[Verkoop-gewicht]]-lammering[[#This Row],[geboorte-gewicht]])","v":""},"",""]
[{"$f":"lammering[[#This Row],[Ooi]]","v":0},0,0,{"$f":"IF(lammering[[#This Row],[Lam-nummer]]=\"\",0,1)","v":0},{"$f":"IF(lammering[[#This Row],[Dood in geboorte]]=\"ja\",1,0)","v":0},{"$f":"IF(lammering[[#This Row],[Ooi]]=\"\",0,IF(Berekeningen!E311=0,1,0))","v":0},{"$f":"IF(D311=0,0,IF(lammering[[#This Row],[Dood in geboorte]]=\"Ja\",0,IF(lammering[[#This Row],[Dood na geboorte]]=\"ja\",0,1)))","v":0},{"$f":"IF(lammering[[#This Row],[Opfok met kunstmelk]]=\"Ja\",1,0)","v":0},{"$f":"IF(lammering[[#This Row],[geslacht]]=\"O\",1,0)","v":0},{"$f":"IF(lammering[[#This Row],[Speen-datum]]=\"\",\"\",(lammering[[#This Row],[Speen-gewicht]]-lammering[[#This Row],[geboorte-gewicht]])/(lammering[[#This Row],[Speen-datum]]-lammering[[#This Row],[Werp-datum]]))","v":""},{"$f":"IF(lammering[[#This Row],[Verkoop-datum]]=\"\",\"\",(lammering[[#This Row],[Verkoop-gewicht]]-lammering[[#This Row],[Speen-gewicht]])/(lammering[[#This Row],[Verkoop-datum]]-lammering[[#This Row],[Speen-datum]]))","v":""},{"$f":"IF(lammering[[#This Row],[Verkoop-datum]]=\"\",\"\",(lammering[[#This Row],[Verkoop-gewicht]]-lammering[[#This Row],[geboorte-gewicht]])/(lammering[[#This Row],[Verkoop-datum]]-lammering[[#This Row],[Werp-datum]]))","v":""},"","","","","","",{"$f":"IF(lammering[[#This Row],[Verkoop-gewicht]]=\"\",\"\",lammering[[#This Row],[Verkoop-gewicht]]-lammering[[#This Row],[geboorte-gewicht]])","v":""},"",""]
[{"$f":"lammering[[#This Row],[Ooi]]","v":0},0,0,{"$f":"IF(lammering[[#This Row],[Lam-nummer]]=\"\",0,1)","v":0},{"$f":"IF(lammering[[#This Row],[Dood in geboorte]]=\"ja\",1,0)","v":0},{"$f":"IF(lammering[[#This Row],[Ooi]]=\"\",0,IF(Berekeningen!E312=0,1,0))","v":0},{"$f":"IF(D312=0,0,IF(lammering[[#This Row],[Dood in geboorte]]=\"Ja\",0,IF(lammering[[#This Row],[Dood na geboorte]]=\"ja\",0,1)))","v":0},{"$f":"IF(lammering[[#This Row],[Opfok met kunstmelk]]=\"Ja\",1,0)","v":0},{"$f":"IF(lammering[[#This Row],[geslacht]]=\"O\",1,0)","v":0},{"$f":"IF(lammering[[#This Row],[Speen-datum]]=\"\",\"\",(lammering[[#This Row],[Speen-gewicht]]-lammering[[#This Row],[geboorte-gewicht]])/(lammering[[#This Row],[Speen-datum]]-lammering[[#This Row],[Werp-datum]]))","v":""},{"$f":"IF(lammering[[#This Row],[Verkoop-datum]]=\"\",\"\",(lammering[[#This Row],[Verkoop-gewicht]]-lammering[[#This Row],[Speen-gewicht]])/(lammering[[#This Row],[Verkoop-datum]]-lammering[[#This Row],[Speen-datum]]))","v":""},{"$f":"IF(lammering[[#This Row],[Verkoop-datum]]=\"\",\"\",(lammering[[#This Row],[Verkoop-gewicht]]-lammering[[#This Row],[geboorte-gewicht]])/(lammering[[#This Row],[Verkoop-datum]]-lammering[[#This Row],[Werp-datum]]))","v":""},"","","","","","",{"$f":"IF(lammering[[#This Row],[Verkoop-gewicht]]=\"\",\"\",lammering[[#This Row],[Verkoop-gewicht]]-lammering[[#This Row],[geboorte-gewicht]])","v":""},"",""]
[{"$f":"lammering[[#This Row],[Ooi]]","v":0},0,0,{"$f":"IF(lammering[[#This Row],[Lam-nummer]]=\"\",0,1)","v":0},{"$f":"IF(lammering[[#This Row],[Dood in geboorte]]=\"ja\",1,0)","v":0},{"$f":"IF(lammering[[#This Row],[Ooi]]=\"\",0,IF(Berekeningen!E313=0,1,0))","v":0},{"$f":"IF(D313=0,0,IF(lammering[[#This Row],[Dood in geboorte]]=\"Ja\",0,IF(lammering[[#This Row],[Dood na geboorte]]=\"ja\",0,1)))","v":0},{"$f":"IF(lammering[[#This Row],[Opfok met kunstmelk]]=\"Ja\",1,0)","v":0},{"$f":"IF(lammering[[#This Row],[geslacht]]=\"O\",1,0)","v":0},{"$f":"IF(lammering[[#This Row],[Speen-datum]]=\"\",\"\",(lammering[[#This Row],[Speen-gewicht]]-lammering[[#This Row],[geboorte-gewicht]])/(lammering[[#This Row],[Speen-datum]]-lammering[[#This Row],[Werp-datum]]))","v":""},{"$f":"IF(lammering[[#This Row],[Verkoop-datum]]=\"\",\"\",(lammering[[#This Row],[Verkoop-gewicht]]-lammering[[#This Row],[Speen-gewicht]])/(lammering[[#This Row],[Verkoop-datum]]-lammering[[#This Row],[Speen-datum]]))","v":""},{"$f":"IF(lammering[[#This Row],[Verkoop-datum]]=\"\",\"\",(lammering[[#This Row],[Verkoop-gewicht]]-lammering[[#This Row],[geboorte-gewicht]])/(lammering[[#This Row],[Verkoop-datum]]-lammering[[#This Row],[Werp-datum]]))","v":""},"","","","","","",{"$f":"IF(lammering[[#This Row],[Verkoop-gewicht]]=\"\",\"\",lammering[[#This Row],[Verkoop-gewicht]]-lammering[[#This Row],[geboorte-gewicht]])","v":""},"",""]
[{"$f":"lammering[[#This Row],[Ooi]]","v":0},0,0,{"$f":"IF(lammering[[#This Row],[Lam-nummer]]=\"\",0,1)","v":0},{"$f":"IF(lammering[[#This Row],[Dood in geboorte]]=\"ja\",1,0)","v":0},{"$f":"IF(lammering[[#This Row],[Ooi]]=\"\",0,IF(Berekeningen!E314=0,1,0))","v":0},{"$f":"IF(D314=0,0,IF(lammering[[#This Row],[Dood in geboorte]]=\"Ja\",0,IF(lammering[[#This Row],[Dood na geboorte]]=\"ja\",0,1)))","v":0},{"$f":"IF(lammering[[#This Row],[Opfok met kunstmelk]]=\"Ja\",1,0)","v":0},{"$f":"IF(lammering[[#This Row],[geslacht]]=\"O\",1,0)","v":0},{"$f":"IF(lammering[[#This Row],[Speen-datum]]=\"\",\"\",(lammering[[#This Row],[Speen-gewicht]]-lammering[[#This Row],[geboorte-gewicht]])/(lammering[[#This Row],[Speen-datum]]-lammering[[#This Row],[Werp-datum]]))","v":""},{"$f":"IF(lammering[[#This Row],[Verkoop-datum]]=\"\",\"\",(lammering[[#This Row],[Verkoop-gewicht]]-lammering[[#This Row],[Speen-gewicht]])/(lammering[[#This Row],[Verkoop-datum]]-lammering[[#This Row],[Speen-datum]]))","v":""},{"$f":"IF(lammering[[#This Row],[Verkoop-datum]]=\"\",\"\",(lammering[[#This Row],[Verkoop-gewicht]]-lammering[[#This Row],[geboorte-gewicht]])/(lammering[[#This Row],[Verkoop-datum]]-lammering[[#This Row],[Werp-datum]]))","v":""},"","","","","","",{"$f":"IF(lammering[[#This Row],[Verkoop-gewicht]]=\"\",\"\",lammering[[#This Row],[Verkoop-gewicht]]-lammering[[#This Row],[geboorte-gewicht]])","v":""},"",""]
[{"$f":"lammering[[#This Row],[Ooi]]","v":0},0,0,{"$f":"IF(lammering[[#This Row],[Lam-nummer]]=\"\",0,1)","v":0},{"$f":"IF(lammering[[#This Row],[Dood in geboorte]]=\"ja\",1,0)","v":0},{"$f":"IF(lammering[[#This Row],[Ooi]]=\"\",0,IF(Berekeningen!E315=0,1,0))","v":0},{"$f":"IF(D315=0,0,IF(lammering[[#This Row],[Dood in geboorte]]=\"Ja\",0,IF(lammering[[#This Row],[Dood na geboorte]]=\"ja\",0,1)))","v":0},{"$f":"IF(lammering[[#This Row],[Opfok met kunstmelk]]=\"Ja\",1,0)","v":0},{"$f":"IF(lammering[[#This Row],[geslacht]]=\"O\",1,0)","v":0},{"$f":"IF(lammering[[#This Row],[Speen-datum]]=\"\",\"\",(lammering[[#This Row],[Speen-gewicht]]-lammering[[#This Row],[geboorte-gewicht]])/(lammering[[#This Row],[Speen-datum]]-lammering[[#This Row],[Werp-datum]]))","v":""},{"$f":"IF(lammering[[#This Row],[Verkoop-datum]]=\"\",\"\",(lammering[[#This Row],[Verkoop-gewicht]]-lammering[[#This Row],[Speen-gewicht]])/(lammering[[#This Row],[Verkoop-datum]]-lammering[[#This Row],[Speen-datum]]))","v":""},{"$f":"IF(lammering[[#This Row],[Verkoop-datum]]=\"\",\"\",(lammering[[#This Row],[Verkoop-gewicht]]-lammering[[#This Row],[geboorte-gewicht]])/(lammering[[#This Row],[Verkoop-datum]]-lammering[[#This Row],[Werp-datum]]))","v":""},"","","","","","",{"$f":"IF(lammering[[#This Row],[Verkoop-gewicht]]=\"\",\"\",lammering[[#This Row],[Verkoop-gewicht]]-lammering[[#This Row],[geboorte-gewicht]])","v":""},"",""]
[{"$f":"lammering[[#This Row],[Ooi]]","v":0},0,0,{"$f":"IF(lammering[[#This Row],[Lam-nummer]]=\"\",0,1)","v":0},{"$f":"IF(lammering[[#This Row],[Dood in geboorte]]=\"ja\",1,0)","v":0},{"$f":"IF(lammering[[#This Row],[Ooi]]=\"\",0,IF(Berekeningen!E316=0,1,0))","v":0},{"$f":"IF(D316=0,0,IF(lammering[[#This Row],[Dood in geboorte]]=\"Ja\",0,IF(lammering[[#This Row],[Dood na geboorte]]=\"ja\",0,1)))","v":0},{"$f":"IF(lammering[[#This Row],[Opfok met kunstmelk]]=\"Ja\",1,0)","v":0},{"$f":"IF(lammering[[#This Row],[geslacht]]=\"O\",1,0)","v":0},{"$f":"IF(lammering[[#This Row],[Speen-datum]]=\"\",\"\",(lammering[[#This Row],[Speen-gewicht]]-lammering[[#This Row],[geboorte-gewicht]])/(lammering[[#This Row],[Speen-datum]]-lammering[[#This Row],[Werp-datum]]))","v":""},{"$f":"IF(lammering[[#This Row],[Verkoop-datum]]=\"\",\"\",(lammering[[#This Row],[Verkoop-gewicht]]-lammering[[#This Row],[Speen-gewicht]])/(lammering[[#This Row],[Verkoop-datum]]-lammering[[#This Row],[Speen-datum]]))","v":""},{"$f":"IF(lammering[[#This Row],[Verkoop-datum]]=\"\",\"\",(lammering[[#This Row],[Verkoop-gewicht]]-lammering[[#This Row],[geboorte-gewicht]])/(lammering[[#This Row],[Verkoop-datum]]-lammering[[#This Row],[Werp-datum]]))","v":""},"","","","","","",{"$f":"IF(lammering[[#This Row],[Verkoop-gewicht]]=\"\",\"\",lammering[[#This Row],[Verkoop-gewicht]]-lammering[[#This Row],[geboorte-gewicht]])","v":""},"",""]
[{"$f":"lammering[[#This Row],[Ooi]]","v":0},0,0,{"$f":"IF(lammering[[#This Row],[Lam-nummer]]=\"\",0,1)","v":0},{"$f":"IF(lammering[[#This Row],[Dood in geboorte]]=\"ja\",1,0)","v":0},{"$f":"IF(lammering[[#This Row],[Ooi]]=\"\",0,IF(Berekeningen!E317=0,1,0))","v":0},{"$f":"IF(D317=0,0,IF(lammering[[#This Row],[Dood in geboorte]]=\"Ja\",0,IF(lammering[[#This Row],[Dood na geboorte]]=\"ja\",0,1)))","v":0},{"$f":"IF(lammering[[#This Row],[Opfok met kunstmelk]]=\"Ja\",1,0)","v":0},{"$f":"IF(lammering[[#This Row],[geslacht]]=\"O\",1,0)","v":0},{"$f":"IF(lammering[[#This Row],[Speen-datum]]=\"\",\"\",(lammering[[#This Row],[Speen-gewicht]]-lammering[[#This Row],[geboorte-gewicht]])/(lammering[[#This Row],[Speen-datum]]-lammering[[#This Row],[Werp-datum]]))","v":""},{"$f":"IF(lammering[[#This Row],[Verkoop-datum]]=\"\",\"\",(lammering[[#This Row],[Verkoop-gewicht]]-lammering[[#This Row],[Speen-gewicht]])/(lammering[[#This Row],[Verkoop-datum]]-lammering[[#This Row],[Speen-datum]]))","v":""},{"$f":"IF(lammering[[#This Row],[Verkoop-datum]]=\"\",\"\",(lammering[[#This Row],[Verkoop-gewicht]]-lammering[[#This Row],[geboorte-gewicht]])/(lammering[[#This Row],[Verkoop-datum]]-lammering[[#This Row],[Werp-datum]]))","v":""},"","","","","","",{"$f":"IF(lammering[[#This Row],[Verkoop-gewicht]]=\"\",\"\",lammering[[#This Row],[Verkoop-gewicht]]-lammering[[#This Row],[geboorte-gewicht]])","v":""},"",""]
[{"$f":"lammering[[#This Row],[Ooi]]","v":0},0,0,{"$f":"IF(lammering[[#This Row],[Lam-nummer]]=\"\",0,1)","v":0},{"$f":"IF(lammering[[#This Row],[Dood in geboorte]]=\"ja\",1,0)","v":0},{"$f":"IF(lammering[[#This Row],[Ooi]]=\"\",0,IF(Berekeningen!E318=0,1,0))","v":0},{"$f":"IF(D318=0,0,IF(lammering[[#This Row],[Dood in geboorte]]=\"Ja\",0,IF(lammering[[#This Row],[Dood na geboorte]]=\"ja\",0,1)))","v":0},{"$f":"IF(lammering[[#This Row],[Opfok met kunstmelk]]=\"Ja\",1,0)","v":0},{"$f":"IF(lammering[[#This Row],[geslacht]]=\"O\",1,0)","v":0},{"$f":"IF(lammering[[#This Row],[Speen-datum]]=\"\",\"\",(lammering[[#This Row],[Speen-gewicht]]-lammering[[#This Row],[geboorte-gewicht]])/(lammering[[#This Row],[Speen-datum]]-lammering[[#This Row],[Werp-datum]]))","v":""},{"$f":"IF(lammering[[#This Row],[Verkoop-datum]]=\"\",\"\",(lammering[[#This Row],[Verkoop-gewicht]]-lammering[[#This Row],[Speen-gewicht]])/(lammering[[#This Row],[Verkoop-datum]]-lammering[[#This Row],[Speen-datum]]))","v":""},{"$f":"IF(lammering[[#This Row],[Verkoop-datum]]=\"\",\"\",(lammering[[#This Row],[Verkoop-gewicht]]-lammering[[#This Row],[geboorte-gewicht]])/(lammering[[#This Row],[Verkoop-datum]]-lammering[[#This Row],[Werp-datum]]))","v":""},"","","","","","",{"$f":"IF(lammering[[#This Row],[Verkoop-gewicht]]=\"\",\"\",lammering[[#This Row],[Verkoop-gewicht]]-lammering[[#This Row],[geboorte-gewicht]])","v":""},"",""]
[{"$f":"lammering[[#This Row],[Ooi]]","v":0},0,0,{"$f":"IF(lammering[[#This Row],[Lam-nummer]]=\"\",0,1)","v":0},{"$f":"IF(lammering[[#This Row],[Dood in geboorte]]=\"ja\",1,0)","v":0},{"$f":"IF(lammering[[#This Row],[Ooi]]=\"\",0,IF(Berekeningen!E319=0,1,0))","v":0},{"$f":"IF(D319=0,0,IF(lammering[[#This Row],[Dood in geboorte]]=\"Ja\",0,IF(lammering[[#This Row],[Dood na geboorte]]=\"ja\",0,1)))","v":0},{"$f":"IF(lammering[[#This Row],[Opfok met kunstmelk]]=\"Ja\",1,0)","v":0},{"$f":"IF(lammering[[#This Row],[geslacht]]=\"O\",1,0)","v":0},{"$f":"IF(lammering[[#This Row],[Speen-datum]]=\"\",\"\",(lammering[[#This Row],[Speen-gewicht]]-lammering[[#This Row],[geboorte-gewicht]])/(lammering[[#This Row],[Speen-datum]]-lammering[[#This Row],[Werp-datum]]))","v":""},{"$f":"IF(lammering[[#This Row],[Verkoop-datum]]=\"\",\"\",(lammering[[#This Row],[Verkoop-gewicht]]-lammering[[#This Row],[Speen-gewicht]])/(lammering[[#This Row],[Verkoop-datum]]-lammering[[#This Row],[Speen-datum]]))","v":""},{"$f":"IF(lammering[[#This Row],[Verkoop-datum]]=\"\",\"\",(lammering[[#This Row],[Verkoop-gewicht]]-lammering[[#This Row],[geboorte-gewicht]])/(lammering[[#This Row],[Verkoop-datum]]-lammering[[#This Row],[Werp-datum]]))","v":""},"","","","","","",{"$f":"IF(lammering[[#This Row],[Verkoop-gewicht]]=\"\",\"\",lammering[[#This Row],[Verkoop-gewicht]]-lammering[[#This Row],[geboorte-gewicht]])","v":""},"",""]
[{"$f":"lammering[[#This Row],[Ooi]]","v":0},0,0,{"$f":"IF(lammering[[#This Row],[Lam-nummer]]=\"\",0,1)","v":0},{"$f":"IF(lammering[[#This Row],[Dood in geboorte]]=\"ja\",1,0)","v":0},{"$f":"IF(lammering[[#This Row],[Ooi]]=\"\",0,IF(Berekeningen!E320=0,1,0))","v":0},{"$f":"IF(D320=0,0,IF(lammering[[#This Row],[Dood in geboorte]]=\"Ja\",0,IF(lammering[[#This Row],[Dood na geboorte]]=\"ja\",0,1)))","v":0},{"$f":"IF(lammering[[#This Row],[Opfok met kunstmelk]]=\"Ja\",1,0)","v":0},{"$f":"IF(lammering[[#This Row],[geslacht]]=\"O\",1,0)","v":0},{"$f":"IF(lammering[[#This Row],[Speen-datum]]=\"\",\"\",(lammering[[#This Row],[Speen-gewicht]]-lammering[[#This Row],[geboorte-gewicht]])/(lammering[[#This Row],[Speen-datum]]-lammering[[#This Row],[Werp-datum]]))","v":""},{"$f":"IF(lammering[[#This Row],[Verkoop-datum]]=\"\",\"\",(lammering[[#This Row],[Verkoop-gewicht]]-lammering[[#This Row],[Speen-gewicht]])/(lammering[[#This Row],[Verkoop-datum]]-lammering[[#This Row],[Speen-datum]]))","v":""},{"$f":"IF(lammering[[#This Row],[Verkoop-datum]]=\"\",\"\",(lammering[[#This Row],[Verkoop-gewicht]]-lammering[[#This Row],[geboorte-gewicht]])/(lammering[[#This Row],[Verkoop-datum]]-lammering[[#This Row],[Werp-datum]]))","v":""},"","","","","","",{"$f":"IF(lammering[[#This Row],[Verkoop-gewicht]]=\"\",\"\",lammering[[#This Row],[Verkoop-gewicht]]-lammering[[#This Row],[geboorte-gewicht]])","v":""},"",""]
[{"$f":"lammering[[#This Row],[Ooi]]","v":0},0,0,{"$f":"IF(lammering[[#This Row],[Lam-nummer]]=\"\",0,1)","v":0},{"$f":"IF(lammering[[#This Row],[Dood in geboorte]]=\"ja\",1,0)","v":0},{"$f":"IF(lammering[[#This Row],[Ooi]]=\"\",0,IF(Berekeningen!E321=0,1,0))","v":0},{"$f":"IF(D321=0,0,IF(lammering[[#This Row],[Dood in geboorte]]=\"Ja\",0,IF(lammering[[#This Row],[Dood na geboorte]]=\"ja\",0,1)))","v":0},{"$f":"IF(lammering[[#This Row],[Opfok met kunstmelk]]=\"Ja\",1,0)","v":0},{"$f":"IF(lammering[[#This Row],[geslacht]]=\"O\",1,0)","v":0},{"$f":"IF(lammering[[#This Row],[Speen-datum]]=\"\",\"\",(lammering[[#This Row],[Speen-gewicht]]-lammering[[#This Row],[geboorte-gewicht]])/(lammering[[#This Row],[Speen-datum]]-lammering[[#This Row],[Werp-datum]]))","v":""},{"$f":"IF(lammering[[#This Row],[Verkoop-datum]]=\"\",\"\",(lammering[[#This Row],[Verkoop-gewicht]]-lammering[[#This Row],[Speen-gewicht]])/(lammering[[#This Row],[Verkoop-datum]]-lammering[[#This Row],[Speen-datum]]))","v":""},{"$f":"IF(lammering[[#This Row],[Verkoop-datum]]=\"\",\"\",(lammering[[#This Row],[Verkoop-gewicht]]-lammering[[#This Row],[geboorte-gewicht]])/(lammering[[#This Row],[Verkoop-datum]]-lammering[[#This Row],[Werp-datum]]))","v":""},"","","","","","",{"$f":"IF(lammering[[#This Row],[Verkoop-gewicht]]=\"\",\"\",lammering[[#This Row],[Verkoop-gewicht]]-lammering[[#This Row],[geboorte-gewicht]])","v":""},"",""]
[{"$f":"lammering[[#This Row],[Ooi]]","v":0},0,0,{"$f":"IF(lammering[[#This Row],[Lam-nummer]]=\"\",0,1)","v":0},{"$f":"IF(lammering[[#This Row],[Dood in geboorte]]=\"ja\",1,0)","v":0},{"$f":"IF(lammering[[#This Row],[Ooi]]=\"\",0,IF(Berekeningen!E322=0,1,0))","v":0},{"$f":"IF(D322=0,0,IF(lammering[[#This Row],[Dood in geboorte]]=\"Ja\",0,IF(lammering[[#This Row],[Dood na geboorte]]=\"ja\",0,1)))","v":0},{"$f":"IF(lammering[[#This Row],[Opfok met kunstmelk]]=\"Ja\",1,0)","v":0},{"$f":"IF(lammering[[#This Row],[geslacht]]=\"O\",1,0)","v":0},{"$f":"IF(lammering[[#This Row],[Speen-datum]]=\"\",\"\",(lammering[[#This Row],[Speen-gewicht]]-lammering[[#This Row],[geboorte-gewicht]])/(lammering[[#This Row],[Speen-datum]]-lammering[[#This Row],[Werp-datum]]))","v":""},{"$f":"IF(lammering[[#This Row],[Verkoop-datum]]=\"\",\"\",(lammering[[#This Row],[Verkoop-gewicht]]-lammering[[#This Row],[Speen-gewicht]])/(lammering[[#This Row],[Verkoop-datum]]-lammering[[#This Row],[Speen-datum]]))","v":""},{"$f":"IF(lammering[[#This Row],[Verkoop-datum]]=\"\",\"\",(lammering[[#This Row],[Verkoop-gewicht]]-lammering[[#This Row],[geboorte-gewicht]])/(lammering[[#This Row],[Verkoop-datum]]-lammering[[#This Row],[Werp-datum]]))","v":""},"","","","","","",{"$f":"IF(lammering[[#This Row],[Verkoop-gewicht]]=\"\",\"\",lammering[[#This Row],[Verkoop-gewicht]]-lammering[[#This Row],[geboorte-gewicht]])","v":""},"",""]
[{"$f":"lammering[[#This Row],[Ooi]]","v":0},{"$f":"IF(A323=0,0,IF(A323=A322,0,1))","v":0},{"$f":"IF(B323=1,A323,0)","v":0},{"$f":"IF(lammering[[#This Row],[Lam-nummer]]=\"\",0,1)","v":0},{"$f":"IF(lammering[[#This Row],[Dood in geboorte]]=\"ja\",1,0)","v":0},{"$f":"IF(lammering[[#This Row],[Ooi]]=\"\",0,IF(Berekeningen!E323=0,1,0))","v":0},{"$f":"IF(D323=0,0,IF(lammering[[#This Row],[Dood in geboorte]]=\"Ja\",0,IF(lammering[[#This Row],[Dood na geboorte]]=\"ja\",0,1)))","v":0},{"$f":"IF(lammering[[#This Row],[Opfok met kunstmelk]]=\"Ja\",1,0)","v":0},{"$f":"IF(lammering[[#This Row],[geslacht]]=\"O\",1,0)","v":0},{"$f":"IF(lammering[[#This Row],[Speen-datum]]=\"\",\"\",(lammering[[#This Row],[Speen-gewicht]]-lammering[[#This Row],[geboorte-gewicht]])/(lammering[[#This Row],[Speen-datum]]-lammering[[#This Row],[Werp-datum]]))","v":""},{"$f":"IF(lammering[[#This Row],[Verkoop-datum]]=\"\",\"\",(lammering[[#This Row],[Verkoop-gewicht]]-lammering[[#This Row],[Speen-gewicht]])/(lammering[[#This Row],[Verkoop-datum]]-lammering[[#This Row],[Speen-datum]]))","v":""},{"$f":"IF(lammering[[#This Row],[Verkoop-datum]]=\"\",\"\",(lammering[[#This Row],[Verkoop-gewicht]]-lammering[[#This Row],[geboorte-gewicht]])/(lammering[[#This Row],[Verkoop-datum]]-lammering[[#This Row],[Werp-datum]]))","v":""},"","","","","","",{"$f":"IF(lammering[[#This Row],[Verkoop-gewicht]]=\"\",\"\",lammering[[#This Row],[Verkoop-gewicht]]-lammering[[#This Row],[geboorte-gewicht]])","v":""},"",""]
[{"$f":"lammering[[#This Row],[Ooi]]","v":0},0,0,{"$f":"IF(lammering[[#This Row],[Lam-nummer]]=\"\",0,1)","v":0},{"$f":"IF(lammering[[#This Row],[Dood in geboorte]]=\"ja\",1,0)","v":0},{"$f":"IF(lammering[[#This Row],[Ooi]]=\"\",0,IF(Berekeningen!E324=0,1,0))","v":0},{"$f":"IF(D324=0,0,IF(lammering[[#This Row],[Dood in geboorte]]=\"Ja\",0,IF(lammering[[#This Row],[Dood na geboorte]]=\"ja\",0,1)))","v":0},{"$f":"IF(lammering[[#This Row],[Opfok met kunstmelk]]=\"Ja\",1,0)","v":0},{"$f":"IF(lammering[[#This Row],[geslacht]]=\"O\",1,0)","v":0},{"$f":"IF(lammering[[#This Row],[Speen-datum]]=\"\",\"\",(lammering[[#This Row],[Speen-gewicht]]-lammering[[#This Row],[geboorte-gewicht]])/(lammering[[#This Row],[Speen-datum]]-lammering[[#This Row],[Werp-datum]]))","v":""},{"$f":"IF(lammering[[#This Row],[Verkoop-datum]]=\"\",\"\",(lammering[[#This Row],[Verkoop-gewicht]]-lammering[[#This Row],[Speen-gewicht]])/(lammering[[#This Row],[Verkoop-datum]]-lammering[[#This Row],[Speen-datum]]))","v":""},{"$f":"IF(lammering[[#This Row],[Verkoop-datum]]=\"\",\"\",(lammering[[#This Row],[Verkoop-gewicht]]-lammering[[#This Row],[geboorte-gewicht]])/(lammering[[#This Row],[Verkoop-datum]]-lammering[[#This Row],[Werp-datum]]))","v":""},"","","","","","",{"$f":"IF(lammering[[#This Row],[Verkoop-gewicht]]=\"\",\"\",lammering[[#This Row],[Verkoop-gewicht]]-lammering[[#This Row],[geboorte-gewicht]])","v":""},"",""]
[{"$f":"lammering[[#This Row],[Ooi]]","v":0},0,0,{"$f":"IF(lammering[[#This Row],[Lam-nummer]]=\"\",0,1)","v":0},{"$f":"IF(lammering[[#This Row],[Dood in geboorte]]=\"ja\",1,0)","v":0},{"$f":"IF(lammering[[#This Row],[Ooi]]=\"\",0,IF(Berekeningen!E325=0,1,0))","v":0},{"$f":"IF(D325=0,0,IF(lammering[[#This Row],[Dood in geboorte]]=\"Ja\",0,IF(lammering[[#This Row],[Dood na geboorte]]=\"ja\",0,1)))","v":0},{"$f":"IF(lammering[[#This Row],[Opfok met kunstmelk]]=\"Ja\",1,0)","v":0},{"$f":"IF(lammering[[#This Row],[geslacht]]=\"O\",1,0)","v":0},{"$f":"IF(lammering[[#This Row],[Speen-datum]]=\"\",\"\",(lammering[[#This Row],[Speen-gewicht]]-lammering[[#This Row],[geboorte-gewicht]])/(lammering[[#This Row],[Speen-datum]]-lammering[[#This Row],[Werp-datum]]))","v":""},{"$f":"IF(lammering[[#This Row],[Verkoop-datum]]=\"\",\"\",(lammering[[#This Row],[Verkoop-gewicht]]-lammering[[#This Row],[Speen-gewicht]])/(lammering[[#This Row],[Verkoop-datum]]-lammering[[#This Row],[Speen-datum]]))","v":""},{"$f":"IF(lammering[[#This Row],[Verkoop-datum]]=\"\",\"\",(lammering[[#This Row],[Verkoop-gewicht]]-lammering[[#This Row],[geboorte-gewicht]])/(lammering[[#This Row],[Verkoop-datum]]-lammering[[#This Row],[Werp-datum]]))","v":""},"","","","","","",{"$f":"IF(lammering[[#This Row],[Verkoop-gewicht]]=\"\",\"\",lammering[[#This Row],[Verkoop-gewicht]]-lammering[[#This Row],[geboorte-gewicht]])","v":""},"",""]
[{"$f":"lammering[[#This Row],[Ooi]]","v":0},0,0,{"$f":"IF(lammering[[#This Row],[Lam-nummer]]=\"\",0,1)","v":0},{"$f":"IF(lammering[[#This Row],[Dood in geboorte]]=\"ja\",1,0)","v":0},{"$f":"IF(lammering[[#This Row],[Ooi]]=\"\",0,IF(Berekeningen!E326=0,1,0))","v":0},{"$f":"IF(D326=0,0,IF(lammering[[#This Row],[Dood in geboorte]]=\"Ja\",0,IF(lammering[[#This Row],[Dood na geboorte]]=\"ja\",0,1)))","v":0},{"$f":"IF(lammering[[#This Row],[Opfok met kunstmelk]]=\"Ja\",1,0)","v":0},{"$f":"IF(lammering[[#This Row],[geslacht]]=\"O\",1,0)","v":0},{"$f":"IF(lammering[[#This Row],[Speen-datum]]=\"\",\"\",(lammering[[#This Row],[Speen-gewicht]]-lammering[[#This Row],[geboorte-gewicht]])/(lammering[[#This Row],[Speen-datum]]-lammering[[#This Row],[Werp-datum]]))","v":""},{"$f":"IF(lammering[[#This Row],[Verkoop-datum]]=\"\",\"\",(lammering[[#This Row],[Verkoop-gewicht]]-lammering[[#This Row],[Speen-gewicht]])/(lammering[[#This Row],[Verkoop-datum]]-lammering[[#This Row],[Speen-datum]]))","v":""},{"$f":"IF(lammering[[#This Row],[Verkoop-datum]]=\"\",\"\",(lammering[[#This Row],[Verkoop-gewicht]]-lammering[[#This Row],[geboorte-gewicht]])/(lammering[[#This Row],[Verkoop-datum]]-lammering[[#This Row],[Werp-datum]]))","v":""},"","","","","","",{"$f":"IF(lammering[[#This Row],[Verkoop-gewicht]]=\"\",\"\",lammering[[#This Row],[Verkoop-gewicht]]-lammering[[#This Row],[geboorte-gewicht]])","v":""},"",""]
[{"$f":"lammering[[#This Row],[Ooi]]","v":0},0,0,{"$f":"IF(lammering[[#This Row],[Lam-nummer]]=\"\",0,1)","v":0},{"$f":"IF(lammering[[#This Row],[Dood in geboorte]]=\"ja\",1,0)","v":0},{"$f":"IF(lammering[[#This Row],[Ooi]]=\"\",0,IF(Berekeningen!E327=0,1,0))","v":0},{"$f":"IF(D327=0,0,IF(lammering[[#This Row],[Dood in geboorte]]=\"Ja\",0,IF(lammering[[#This Row],[Dood na geboorte]]=\"ja\",0,1)))","v":0},{"$f":"IF(lammering[[#This Row],[Opfok met kunstmelk]]=\"Ja\",1,0)","v":0},{"$f":"IF(lammering[[#This Row],[geslacht]]=\"O\",1,0)","v":0},{"$f":"IF(lammering[[#This Row],[Speen-datum]]=\"\",\"\",(lammering[[#This Row],[Speen-gewicht]]-lammering[[#This Row],[geboorte-gewicht]])/(lammering[[#This Row],[Speen-datum]]-lammering[[#This Row],[Werp-datum]]))","v":""},{"$f":"IF(lammering[[#This Row],[Verkoop-datum]]=\"\",\"\",(lammering[[#This Row],[Verkoop-gewicht]]-lammering[[#This Row],[Speen-gewicht]])/(lammering[[#This Row],[Verkoop-datum]]-lammering[[#This Row],[Speen-datum]]))","v":""},{"$f":"IF(lammering[[#This Row],[Verkoop-datum]]=\"\",\"\",(lammering[[#This Row],[Verkoop-gewicht]]-lammering[[#This Row],[geboorte-gewicht]])/(lammering[[#This Row],[Verkoop-datum]]-lammering[[#This Row],[Werp-datum]]))","v":""},"","","","","","",{"$f":"IF(lammering[[#This Row],[Verkoop-gewicht]]=\"\",\"\",lammering[[#This Row],[Verkoop-gewicht]]-lammering[[#This Row],[geboorte-gewicht]])","v":""},"",""]
[{"$f":"lammering[[#This Row],[Ooi]]","v":0},0,0,{"$f":"IF(lammering[[#This Row],[Lam-nummer]]=\"\",0,1)","v":0},{"$f":"IF(lammering[[#This Row],[Dood in geboorte]]=\"ja\",1,0)","v":0},{"$f":"IF(lammering[[#This Row],[Ooi]]=\"\",0,IF(Berekeningen!E328=0,1,0))","v":0},{"$f":"IF(D328=0,0,IF(lammering[[#This Row],[Dood in geboorte]]=\"Ja\",0,IF(lammering[[#This Row],[Dood na geboorte]]=\"ja\",0,1)))","v":0},{"$f":"IF(lammering[[#This Row],[Opfok met kunstmelk]]=\"Ja\",1,0)","v":0},{"$f":"IF(lammering[[#This Row],[geslacht]]=\"O\",1,0)","v":0},{"$f":"IF(lammering[[#This Row],[Speen-datum]]=\"\",\"\",(lammering[[#This Row],[Speen-gewicht]]-lammering[[#This Row],[geboorte-gewicht]])/(lammering[[#This Row],[Speen-datum]]-lammering[[#This Row],[Werp-datum]]))","v":""},{"$f":"IF(lammering[[#This Row],[Verkoop-datum]]=\"\",\"\",(lammering[[#This Row],[Verkoop-gewicht]]-lammering[[#This Row],[Speen-gewicht]])/(lammering[[#This Row],[Verkoop-datum]]-lammering[[#This Row],[Speen-datum]]))","v":""},{"$f":"IF(lammering[[#This Row],[Verkoop-datum]]=\"\",\"\",(lammering[[#This Row],[Verkoop-gewicht]]-lammering[[#This Row],[geboorte-gewicht]])/(lammering[[#This Row],[Verkoop-datum]]-lammering[[#This Row],[Werp-datum]]))","v":""},"","","","","","",{"$f":"IF(lammering[[#This Row],[Verkoop-gewicht]]=\"\",\"\",lammering[[#This Row],[Verkoop-gewicht]]-lammering[[#This Row],[geboorte-gewicht]])","v":""},"",""]
[{"$f":"lammering[[#This Row],[Ooi]]","v":0},0,0,{"$f":"IF(lammering[[#This Row],[Lam-nummer]]=\"\",0,1)","v":0},{"$f":"IF(lammering[[#This Row],[Dood in geboorte]]=\"ja\",1,0)","v":0},{"$f":"IF(lammering[[#This Row],[Ooi]]=\"\",0,IF(Berekeningen!E329=0,1,0))","v":0},{"$f":"IF(D329=0,0,IF(lammering[[#This Row],[Dood in geboorte]]=\"Ja\",0,IF(lammering[[#This Row],[Dood na geboorte]]=\"ja\",0,1)))","v":0},{"$f":"IF(lammering[[#This Row],[Opfok met kunstmelk]]=\"Ja\",1,0)","v":0},{"$f":"IF(lammering[[#This Row],[geslacht]]=\"O\",1,0)","v":0},{"$f":"IF(lammering[[#This Row],[Speen-datum]]=\"\",\"\",(lammering[[#This Row],[Speen-gewicht]]-lammering[[#This Row],[geboorte-gewicht]])/(lammering[[#This Row],[Speen-datum]]-lammering[[#This Row],[Werp-datum]]))","v":""},{"$f":"IF(lammering[[#This Row],[Verkoop-datum]]=\"\",\"\",(lammering[[#This Row],[Verkoop-gewicht]]-lammering[[#This Row],[Speen-gewicht]])/(lammering[[#This Row],[Verkoop-datum]]-lammering[[#This Row],[Speen-datum]]))","v":""},{"$f":"IF(lammering[[#This Row],[Verkoop-datum]]=\"\",\"\",(lammering[[#This Row],[Verkoop-gewicht]]-lammering[[#This Row],[geboorte-gewicht]])/(lammering[[#This Row],[Verkoop-datum]]-lammering[[#This Row],[Werp-datum]]))","v":""},"","","","","","",{"$f":"IF(lammering[[#This Row],[Verkoop-gewicht]]=\"\",\"\",lammering[[#This Row],[Verkoop-gewicht]]-lammering[[#This Row],[geboorte-gewicht]])","v":""},"",""]
[{"$f":"lammering[[#This Row],[Ooi]]","v":0},0,0,{"$f":"IF(lammering[[#This Row],[Lam-nummer]]=\"\",0,1)","v":0},{"$f":"IF(lammering[[#This Row],[Dood in geboorte]]=\"ja\",1,0)","v":0},{"$f":"IF(lammering[[#This Row],[Ooi]]=\"\",0,IF(Berekeningen!E330=0,1,0))","v":0},{"$f":"IF(D330=0,0,IF(lammering[[#This Row],[Dood in geboorte]]=\"Ja\",0,IF(lammering[[#This Row],[Dood na geboorte]]=\"ja\",0,1)))","v":0},{"$f":"IF(lammering[[#This Row],[Opfok met kunstmelk]]=\"Ja\",1,0)","v":0},{"$f":"IF(lammering[[#This Row],[geslacht]]=\"O\",1,0)","v":0},{"$f":"IF(lammering[[#This Row],[Speen-datum]]=\"\",\"\",(lammering[[#This Row],[Speen-gewicht]]-lammering[[#This Row],[geboorte-gewicht]])/(lammering[[#This Row],[Speen-datum]]-lammering[[#This Row],[Werp-datum]]))","v":""},{"$f":"IF(lammering[[#This Row],[Verkoop-datum]]=\"\",\"\",(lammering[[#This Row],[Verkoop-gewicht]]-lammering[[#This Row],[Speen-gewicht]])/(lammering[[#This Row],[Verkoop-datum]]-lammering[[#This Row],[Speen-datum]]))","v":""},{"$f":"IF(lammering[[#This Row],[Verkoop-datum]]=\"\",\"\",(lammering[[#This Row],[Verkoop-gewicht]]-lammering[[#This Row],[geboorte-gewicht]])/(lammering[[#This Row],[Verkoop-datum]]-lammering[[#This Row],[Werp-datum]]))","v":""},"","","","","","",{"$f":"IF(lammering[[#This Row],[Verkoop-gewicht]]=\"\",\"\",lammering[[#This Row],[Verkoop-gewicht]]-lammering[[#This Row],[geboorte-gewicht]])","v":""},"",""]
[{"$f":"lammering[[#This Row],[Ooi]]","v":0},0,0,{"$f":"IF(lammering[[#This Row],[Lam-nummer]]=\"\",0,1)","v":0},{"$f":"IF(lammering[[#This Row],[Dood in geboorte]]=\"ja\",1,0)","v":0},{"$f":"IF(lammering[[#This Row],[Ooi]]=\"\",0,IF(Berekeningen!E331=0,1,0))","v":0},{"$f":"IF(D331=0,0,IF(lammering[[#This Row],[Dood in geboorte]]=\"Ja\",0,IF(lammering[[#This Row],[Dood na geboorte]]=\"ja\",0,1)))","v":0},{"$f":"IF(lammering[[#This Row],[Opfok met kunstmelk]]=\"Ja\",1,0)","v":0},{"$f":"IF(lammering[[#This Row],[geslacht]]=\"O\",1,0)","v":0},{"$f":"IF(lammering[[#This Row],[Speen-datum]]=\"\",\"\",(lammering[[#This Row],[Speen-gewicht]]-lammering[[#This Row],[geboorte-gewicht]])/(lammering[[#This Row],[Speen-datum]]-lammering[[#This Row],[Werp-datum]]))","v":""},{"$f":"IF(lammering[[#This Row],[Verkoop-datum]]=\"\",\"\",(lammering[[#This Row],[Verkoop-gewicht]]-lammering[[#This Row],[Speen-gewicht]])/(lammering[[#This Row],[Verkoop-datum]]-lammering[[#This Row],[Speen-datum]]))","v":""},{"$f":"IF(lammering[[#This Row],[Verkoop-datum]]=\"\",\"\",(lammering[[#This Row],[Verkoop-gewicht]]-lammering[[#This Row],[geboorte-gewicht]])/(lammering[[#This Row],[Verkoop-datum]]-lammering[[#This Row],[Werp-datum]]))","v":""},"","","","","","",{"$f":"IF(lammering[[#This Row],[Verkoop-gewicht]]=\"\",\"\",lammering[[#This Row],[Verkoop-gewicht]]-lammering[[#This Row],[geboorte-gewicht]])","v":""},"",""]
[{"$f":"lammering[[#This Row],[Ooi]]","v":0},0,0,{"$f":"IF(lammering[[#This Row],[Lam-nummer]]=\"\",0,1)","v":0},{"$f":"IF(lammering[[#This Row],[Dood in geboorte]]=\"ja\",1,0)","v":0},{"$f":"IF(lammering[[#This Row],[Ooi]]=\"\",0,IF(Berekeningen!E332=0,1,0))","v":0},{"$f":"IF(D332=0,0,IF(lammering[[#This Row],[Dood in geboorte]]=\"Ja\",0,IF(lammering[[#This Row],[Dood na geboorte]]=\"ja\",0,1)))","v":0},{"$f":"IF(lammering[[#This Row],[Opfok met kunstmelk]]=\"Ja\",1,0)","v":0},{"$f":"IF(lammering[[#This Row],[geslacht]]=\"O\",1,0)","v":0},{"$f":"IF(lammering[[#This Row],[Speen-datum]]=\"\",\"\",(lammering[[#This Row],[Speen-gewicht]]-lammering[[#This Row],[geboorte-gewicht]])/(lammering[[#This Row],[Speen-datum]]-lammering[[#This Row],[Werp-datum]]))","v":""},{"$f":"IF(lammering[[#This Row],[Verkoop-datum]]=\"\",\"\",(lammering[[#This Row],[Verkoop-gewicht]]-lammering[[#This Row],[Speen-gewicht]])/(lammering[[#This Row],[Verkoop-datum]]-lammering[[#This Row],[Speen-datum]]))","v":""},{"$f":"IF(lammering[[#This Row],[Verkoop-datum]]=\"\",\"\",(lammering[[#This Row],[Verkoop-gewicht]]-lammering[[#This Row],[geboorte-gewicht]])/(lammering[[#This Row],[Verkoop-datum]]-lammering[[#This Row],[Werp-datum]]))","v":""},"","","","","","",{"$f":"IF(lammering[[#This Row],[Verkoop-gewicht]]=\"\",\"\",lammering[[#This Row],[Verkoop-gewicht]]-lammering[[#This Row],[geboorte-gewicht]])","v":""},"",""]
[{"$f":"lammering[[#This Row],[Ooi]]","v":0},0,0,{"$f":"IF(lammering[[#This Row],[Lam-nummer]]=\"\",0,1)","v":0},{"$f":"IF(lammering[[#This Row],[Dood in geboorte]]=\"ja\",1,0)","v":0},{"$f":"IF(lammering[[#This Row],[Ooi]]=\"\",0,IF(Berekeningen!E333=0,1,0))","v":0},{"$f":"IF(D333=0,0,IF(lammering[[#This Row],[Dood in geboorte]]=\"Ja\",0,IF(lammering[[#This Row],[Dood na geboorte]]=\"ja\",0,1)))","v":0},{"$f":"IF(lammering[[#This Row],[Opfok met kunstmelk]]=\"Ja\",1,0)","v":0},{"$f":"IF(lammering[[#This Row],[geslacht]]=\"O\",1,0)","v":0},{"$f":"IF(lammering[[#This Row],[Speen-datum]]=\"\",\"\",(lammering[[#This Row],[Speen-gewicht]]-lammering[[#This Row],[geboorte-gewicht]])/(lammering[[#This Row],[Speen-datum]]-lammering[[#This Row],[Werp-datum]]))","v":""},{"$f":"IF(lammering[[#This Row],[Verkoop-datum]]=\"\",\"\",(lammering[[#This Row],[Verkoop-gewicht]]-lammering[[#This Row],[Speen-gewicht]])/(lammering[[#This Row],[Verkoop-datum]]-lammering[[#This Row],[Speen-datum]]))","v":""},{"$f":"IF(lammering[[#This Row],[Verkoop-datum]]=\"\",\"\",(lammering[[#This Row],[Verkoop-gewicht]]-lammering[[#This Row],[geboorte-gewicht]])/(lammering[[#This Row],[Verkoop-datum]]-lammering[[#This Row],[Werp-datum]]))","v":""},"","","","","","",{"$f":"IF(lammering[[#This Row],[Verkoop-gewicht]]=\"\",\"\",lammering[[#This Row],[Verkoop-gewicht]]-lammering[[#This Row],[geboorte-gewicht]])","v":""},"",""]
[{"$f":"lammering[[#This Row],[Ooi]]","v":0},0,0,{"$f":"IF(lammering[[#This Row],[Lam-nummer]]=\"\",0,1)","v":0},{"$f":"IF(lammering[[#This Row],[Dood in geboorte]]=\"ja\",1,0)","v":0},{"$f":"IF(lammering[[#This Row],[Ooi]]=\"\",0,IF(Berekeningen!E334=0,1,0))","v":0},{"$f":"IF(D334=0,0,IF(lammering[[#This Row],[Dood in geboorte]]=\"Ja\",0,IF(lammering[[#This Row],[Dood na geboorte]]=\"ja\",0,1)))","v":0},{"$f":"IF(lammering[[#This Row],[Opfok met kunstmelk]]=\"Ja\",1,0)","v":0},{"$f":"IF(lammering[[#This Row],[geslacht]]=\"O\",1,0)","v":0},{"$f":"IF(lammering[[#This Row],[Speen-datum]]=\"\",\"\",(lammering[[#This Row],[Speen-gewicht]]-lammering[[#This Row],[geboorte-gewicht]])/(lammering[[#This Row],[Speen-datum]]-lammering[[#This Row],[Werp-datum]]))","v":""},{"$f":"IF(lammering[[#This Row],[Verkoop-datum]]=\"\",\"\",(lammering[[#This Row],[Verkoop-gewicht]]-lammering[[#This Row],[Speen-gewicht]])/(lammering[[#This Row],[Verkoop-datum]]-lammering[[#This Row],[Speen-datum]]))","v":""},{"$f":"IF(lammering[[#This Row],[Verkoop-datum]]=\"\",\"\",(lammering[[#This Row],[Verkoop-gewicht]]-lammering[[#This Row],[geboorte-gewicht]])/(lammering[[#This Row],[Verkoop-datum]]-lammering[[#This Row],[Werp-datum]]))","v":""},"","","","","","",{"$f":"IF(lammering[[#This Row],[Verkoop-gewicht]]=\"\",\"\",lammering[[#This Row],[Verkoop-gewicht]]-lammering[[#This Row],[geboorte-gewicht]])","v":""},"",""]
[{"$f":"lammering[[#This Row],[Ooi]]","v":0},0,0,{"$f":"IF(lammering[[#This Row],[Lam-nummer]]=\"\",0,1)","v":0},{"$f":"IF(lammering[[#This Row],[Dood in geboorte]]=\"ja\",1,0)","v":0},{"$f":"IF(lammering[[#This Row],[Ooi]]=\"\",0,IF(Berekeningen!E335=0,1,0))","v":0},{"$f":"IF(D335=0,0,IF(lammering[[#This Row],[Dood in geboorte]]=\"Ja\",0,IF(lammering[[#This Row],[Dood na geboorte]]=\"ja\",0,1)))","v":0},{"$f":"IF(lammering[[#This Row],[Opfok met kunstmelk]]=\"Ja\",1,0)","v":0},{"$f":"IF(lammering[[#This Row],[geslacht]]=\"O\",1,0)","v":0},{"$f":"IF(lammering[[#This Row],[Speen-datum]]=\"\",\"\",(lammering[[#This Row],[Speen-gewicht]]-lammering[[#This Row],[geboorte-gewicht]])/(lammering[[#This Row],[Speen-datum]]-lammering[[#This Row],[Werp-datum]]))","v":""},{"$f":"IF(lammering[[#This Row],[Verkoop-datum]]=\"\",\"\",(lammering[[#This Row],[Verkoop-gewicht]]-lammering[[#This Row],[Speen-gewicht]])/(lammering[[#This Row],[Verkoop-datum]]-lammering[[#This Row],[Speen-datum]]))","v":""},{"$f":"IF(lammering[[#This Row],[Verkoop-datum]]=\"\",\"\",(lammering[[#This Row],[Verkoop-gewicht]]-lammering[[#This Row],[geboorte-gewicht]])/(lammering[[#This Row],[Verkoop-datum]]-lammering[[#This Row],[Werp-datum]]))","v":""},{"$f":"IF($I335=1,J335,\"\")","v":""},{"$f":"IF($I335=1,K335,\"\")","v":""},{"$f":"IF($I335=1,L335,\"\")","v":""},{"$f":"IF($I335=0,J335,\"\")","v":""},{"$f":"IF($I335=0,K335,\"\")","v":""},{"$f":"IF($I335=0,L335,\"\")","v":""},{"$f":"IF(lammering[[#This Row],[Verkoop-gewicht]]=\"\",\"\",lammering[[#This Row],[Verkoop-gewicht]]-lammering[[#This Row],[geboorte-gewicht]])","v":""},{"$f":"IF(I335=1,S335,\"\")","v":""},{"$f":"IF(I335=0,S335,\"\")","v":""}]
[{"$f":"lammering[[#This Row],[Ooi]]","v":0},0,0,{"$f":"IF(lammering[[#This Row],[Lam-nummer]]=\"\",0,1)","v":0},{"$f":"IF(lammering[[#This Row],[Dood in geboorte]]=\"ja\",1,0)","v":0},{"$f":"IF(lammering[[#This Row],[Ooi]]=\"\",0,IF(Berekeningen!E336=0,1,0))","v":0},{"$f":"IF(D336=0,0,IF(lammering[[#This Row],[Dood in geboorte]]=\"Ja\",0,IF(lammering[[#This Row],[Dood na geboorte]]=\"ja\",0,1)))","v":0},{"$f":"IF(lammering[[#This Row],[Opfok met kunstmelk]]=\"Ja\",1,0)","v":0},{"$f":"IF(lammering[[#This Row],[geslacht]]=\"O\",1,0)","v":0},{"$f":"IF(lammering[[#This Row],[Speen-datum]]=\"\",\"\",(lammering[[#This Row],[Speen-gewicht]]-lammering[[#This Row],[geboorte-gewicht]])/(lammering[[#This Row],[Speen-datum]]-lammering[[#This Row],[Werp-datum]]))","v":""},{"$f":"IF(lammering[[#This Row],[Verkoop-datum]]=\"\",\"\",(lammering[[#This Row],[Verkoop-gewicht]]-lammering[[#This Row],[Speen-gewicht]])/(lammering[[#This Row],[Verkoop-datum]]-lammering[[#This Row],[Speen-datum]]))","v":""},{"$f":"IF(lammering[[#This Row],[Verkoop-datum]]=\"\",\"\",(lammering[[#This Row],[Verkoop-gewicht]]-lammering[[#This Row],[geboorte-gewicht]])/(lammering[[#This Row],[Verkoop-datum]]-lammering[[#This Row],[Werp-datum]]))","v":""},"","","","","","",{"$f":"IF(lammering[[#This Row],[Verkoop-gewicht]]=\"\",\"\",lammering[[#This Row],[Verkoop-gewicht]]-lammering[[#This Row],[geboorte-gewicht]])","v":""},"",""]
[{"$f":"lammering[[#This Row],[Ooi]]","v":0},0,0,{"$f":"IF(lammering[[#This Row],[Lam-nummer]]=\"\",0,1)","v":0},{"$f":"IF(lammering[[#This Row],[Dood in geboorte]]=\"ja\",1,0)","v":0},{"$f":"IF(lammering[[#This Row],[Ooi]]=\"\",0,IF(Berekeningen!E337=0,1,0))","v":0},{"$f":"IF(D337=0,0,IF(lammering[[#This Row],[Dood in geboorte]]=\"Ja\",0,IF(lammering[[#This Row],[Dood na geboorte]]=\"ja\",0,1)))","v":0},{"$f":"IF(lammering[[#This Row],[Opfok met kunstmelk]]=\"Ja\",1,0)","v":0},{"$f":"IF(lammering[[#This Row],[geslacht]]=\"O\",1,0)","v":0},{"$f":"IF(lammering[[#This Row],[Speen-datum]]=\"\",\"\",(lammering[[#This Row],[Speen-gewicht]]-lammering[[#This Row],[geboorte-gewicht]])/(lammering[[#This Row],[Speen-datum]]-lammering[[#This Row],[Werp-datum]]))","v":""},{"$f":"IF(lammering[[#This Row],[Verkoop-datum]]=\"\",\"\",(lammering[[#This Row],[Verkoop-gewicht]]-lammering[[#This Row],[Speen-gewicht]])/(lammering[[#This Row],[Verkoop-datum]]-lammering[[#This Row],[Speen-datum]]))","v":""},{"$f":"IF(lammering[[#This Row],[Verkoop-datum]]=\"\",\"\",(lammering[[#This Row],[Verkoop-gewicht]]-lammering[[#This Row],[geboorte-gewicht]])/(lammering[[#This Row],[Verkoop-datum]]-lammering[[#This Row],[Werp-datum]]))","v":""},"","","","","","",{"$f":"IF(lammering[[#This Row],[Verkoop-gewicht]]=\"\",\"\",lammering[[#This Row],[Verkoop-gewicht]]-lammering[[#This Row],[geboorte-gewicht]])","v":""},"",""]
[{"$f":"lammering[[#This Row],[Ooi]]","v":0},0,0,{"$f":"IF(lammering[[#This Row],[Lam-nummer]]=\"\",0,1)","v":0},{"$f":"IF(lammering[[#This Row],[Dood in geboorte]]=\"ja\",1,0)","v":0},{"$f":"IF(lammering[[#This Row],[Ooi]]=\"\",0,IF(Berekeningen!E338=0,1,0))","v":0},{"$f":"IF(D338=0,0,IF(lammering[[#This Row],[Dood in geboorte]]=\"Ja\",0,IF(lammering[[#This Row],[Dood na geboorte]]=\"ja\",0,1)))","v":0},{"$f":"IF(lammering[[#This Row],[Opfok met kunstmelk]]=\"Ja\",1,0)","v":0},{"$f":"IF(lammering[[#This Row],[geslacht]]=\"O\",1,0)","v":0},{"$f":"IF(lammering[[#This Row],[Speen-datum]]=\"\",\"\",(lammering[[#This Row],[Speen-gewicht]]-lammering[[#This Row],[geboorte-gewicht]])/(lammering[[#This Row],[Speen-datum]]-lammering[[#This Row],[Werp-datum]]))","v":""},{"$f":"IF(lammering[[#This Row],[Verkoop-datum]]=\"\",\"\",(lammering[[#This Row],[Verkoop-gewicht]]-lammering[[#This Row],[Speen-gewicht]])/(lammering[[#This Row],[Verkoop-datum]]-lammering[[#This Row],[Speen-datum]]))","v":""},{"$f":"IF(lammering[[#This Row],[Verkoop-datum]]=\"\",\"\",(lammering[[#This Row],[Verkoop-gewicht]]-lammering[[#This Row],[geboorte-gewicht]])/(lammering[[#This Row],[Verkoop-datum]]-lammering[[#This Row],[Werp-datum]]))","v":""},"","","","","","",{"$f":"IF(lammering[[#This Row],[Verkoop-gewicht]]=\"\",\"\",lammering[[#This Row],[Verkoop-gewicht]]-lammering[[#This Row],[geboorte-gewicht]])","v":""},"",""]
[{"$f":"lammering[[#This Row],[Ooi]]","v":0},0,0,{"$f":"IF(lammering[[#This Row],[Lam-nummer]]=\"\",0,1)","v":0},{"$f":"IF(lammering[[#This Row],[Dood in geboorte]]=\"ja\",1,0)","v":0},{"$f":"IF(lammering[[#This Row],[Ooi]]=\"\",0,IF(Berekeningen!E339=0,1,0))","v":0},{"$f":"IF(D339=0,0,IF(lammering[[#This Row],[Dood in geboorte]]=\"Ja\",0,IF(lammering[[#This Row],[Dood na geboorte]]=\"ja\",0,1)))","v":0},{"$f":"IF(lammering[[#This Row],[Opfok met kunstmelk]]=\"Ja\",1,0)","v":0},{"$f":"IF(lammering[[#This Row],[geslacht]]=\"O\",1,0)","v":0},{"$f":"IF(lammering[[#This Row],[Speen-datum]]=\"\",\"\",(lammering[[#This Row],[Speen-gewicht]]-lammering[[#This Row],[geboorte-gewicht]])/(lammering[[#This Row],[Speen-datum]]-lammering[[#This Row],[Werp-datum]]))","v":""},{"$f":"IF(lammering[[#This Row],[Verkoop-datum]]=\"\",\"\",(lammering[[#This Row],[Verkoop-gewicht]]-lammering[[#This Row],[Speen-gewicht]])/(lammering[[#This Row],[Verkoop-datum]]-lammering[[#This Row],[Speen-datum]]))","v":""},{"$f":"IF(lammering[[#This Row],[Verkoop-datum]]=\"\",\"\",(lammering[[#This Row],[Verkoop-gewicht]]-lammering[[#This Row],[geboorte-gewicht]])/(lammering[[#This Row],[Verkoop-datum]]-lammering[[#This Row],[Werp-datum]]))","v":""},"","","","","","",{"$f":"IF(lammering[[#This Row],[Verkoop-gewicht]]=\"\",\"\",lammering[[#This Row],[Verkoop-gewicht]]-lammering[[#This Row],[geboorte-gewicht]])","v":""},"",""]
[{"$f":"lammering[[#This Row],[Ooi]]","v":0},0,0,{"$f":"IF(lammering[[#This Row],[Lam-nummer]]=\"\",0,1)","v":0},{"$f":"IF(lammering[[#This Row],[Dood in geboorte]]=\"ja\",1,0)","v":0},{"$f":"IF(lammering[[#This Row],[Ooi]]=\"\",0,IF(Berekeningen!E340=0,1,0))","v":0},{"$f":"IF(D340=0,0,IF(lammering[[#This Row],[Dood in geboorte]]=\"Ja\",0,IF(lammering[[#This Row],[Dood na geboorte]]=\"ja\",0,1)))","v":0},{"$f":"IF(lammering[[#This Row],[Opfok met kunstmelk]]=\"Ja\",1,0)","v":0},{"$f":"IF(lammering[[#This Row],[geslacht]]=\"O\",1,0)","v":0},{"$f":"IF(lammering[[#This Row],[Speen-datum]]=\"\",\"\",(lammering[[#This Row],[Speen-gewicht]]-lammering[[#This Row],[geboorte-gewicht]])/(lammering[[#This Row],[Speen-datum]]-lammering[[#This Row],[Werp-datum]]))","v":""},{"$f":"IF(lammering[[#This Row],[Verkoop-datum]]=\"\",\"\",(lammering[[#This Row],[Verkoop-gewicht]]-lammering[[#This Row],[Speen-gewicht]])/(lammering[[#This Row],[Verkoop-datum]]-lammering[[#This Row],[Speen-datum]]))","v":""},{"$f":"IF(lammering[[#This Row],[Verkoop-datum]]=\"\",\"\",(lammering[[#This Row],[Verkoop-gewicht]]-lammering[[#This Row],[geboorte-gewicht]])/(lammering[[#This Row],[Verkoop-datum]]-lammering[[#This Row],[Werp-datum]]))","v":""},"","","","","","",{"$f":"IF(lammering[[#This Row],[Verkoop-gewicht]]=\"\",\"\",lammering[[#This Row],[Verkoop-gewicht]]-lammering[[#This Row],[geboorte-gewicht]])","v":""},"",""]
[{"$f":"lammering[[#This Row],[Ooi]]","v":0},0,0,{"$f":"IF(lammering[[#This Row],[Lam-nummer]]=\"\",0,1)","v":0},{"$f":"IF(lammering[[#This Row],[Dood in geboorte]]=\"ja\",1,0)","v":0},{"$f":"IF(lammering[[#This Row],[Ooi]]=\"\",0,IF(Berekeningen!E341=0,1,0))","v":0},{"$f":"IF(D341=0,0,IF(lammering[[#This Row],[Dood in geboorte]]=\"Ja\",0,IF(lammering[[#This Row],[Dood na geboorte]]=\"ja\",0,1)))","v":0},{"$f":"IF(lammering[[#This Row],[Opfok met kunstmelk]]=\"Ja\",1,0)","v":0},{"$f":"IF(lammering[[#This Row],[geslacht]]=\"O\",1,0)","v":0},{"$f":"IF(lammering[[#This Row],[Speen-datum]]=\"\",\"\",(lammering[[#This Row],[Speen-gewicht]]-lammering[[#This Row],[geboorte-gewicht]])/(lammering[[#This Row],[Speen-datum]]-lammering[[#This Row],[Werp-datum]]))","v":""},{"$f":"IF(lammering[[#This Row],[Verkoop-datum]]=\"\",\"\",(lammering[[#This Row],[Verkoop-gewicht]]-lammering[[#This Row],[Speen-gewicht]])/(lammering[[#This Row],[Verkoop-datum]]-lammering[[#This Row],[Speen-datum]]))","v":""},{"$f":"IF(lammering[[#This Row],[Verkoop-datum]]=\"\",\"\",(lammering[[#This Row],[Verkoop-gewicht]]-lammering[[#This Row],[geboorte-gewicht]])/(lammering[[#This Row],[Verkoop-datum]]-lammering[[#This Row],[Werp-datum]]))","v":""},"","","","","","",{"$f":"IF(lammering[[#This Row],[Verkoop-gewicht]]=\"\",\"\",lammering[[#This Row],[Verkoop-gewicht]]-lammering[[#This Row],[geboorte-gewicht]])","v":""},"",""]
[{"$f":"lammering[[#This Row],[Ooi]]","v":0},0,0,{"$f":"IF(lammering[[#This Row],[Lam-nummer]]=\"\",0,1)","v":0},{"$f":"IF(lammering[[#This Row],[Dood in geboorte]]=\"ja\",1,0)","v":0},{"$f":"IF(lammering[[#This Row],[Ooi]]=\"\",0,IF(Berekeningen!E342=0,1,0))","v":0},{"$f":"IF(D342=0,0,IF(lammering[[#This Row],[Dood in geboorte]]=\"Ja\",0,IF(lammering[[#This Row],[Dood na geboorte]]=\"ja\",0,1)))","v":0},{"$f":"IF(lammering[[#This Row],[Opfok met kunstmelk]]=\"Ja\",1,0)","v":0},{"$f":"IF(lammering[[#This Row],[geslacht]]=\"O\",1,0)","v":0},{"$f":"IF(lammering[[#This Row],[Speen-datum]]=\"\",\"\",(lammering[[#This Row],[Speen-gewicht]]-lammering[[#This Row],[geboorte-gewicht]])/(lammering[[#This Row],[Speen-datum]]-lammering[[#This Row],[Werp-datum]]))","v":""},{"$f":"IF(lammering[[#This Row],[Verkoop-datum]]=\"\",\"\",(lammering[[#This Row],[Verkoop-gewicht]]-lammering[[#This Row],[Speen-gewicht]])/(lammering[[#This Row],[Verkoop-datum]]-lammering[[#This Row],[Speen-datum]]))","v":""},{"$f":"IF(lammering[[#This Row],[Verkoop-datum]]=\"\",\"\",(lammering[[#This Row],[Verkoop-gewicht]]-lammering[[#This Row],[geboorte-gewicht]])/(lammering[[#This Row],[Verkoop-datum]]-lammering[[#This Row],[Werp-datum]]))","v":""},"","","","","","",{"$f":"IF(lammering[[#This Row],[Verkoop-gewicht]]=\"\",\"\",lammering[[#This Row],[Verkoop-gewicht]]-lammering[[#This Row],[geboorte-gewicht]])","v":""},"",""]
[{"$f":"lammering[[#This Row],[Ooi]]","v":0},0,0,{"$f":"IF(lammering[[#This Row],[Lam-nummer]]=\"\",0,1)","v":0},{"$f":"IF(lammering[[#This Row],[Dood in geboorte]]=\"ja\",1,0)","v":0},{"$f":"IF(lammering[[#This Row],[Ooi]]=\"\",0,IF(Berekeningen!E343=0,1,0))","v":0},{"$f":"IF(D343=0,0,IF(lammering[[#This Row],[Dood in geboorte]]=\"Ja\",0,IF(lammering[[#This Row],[Dood na geboorte]]=\"ja\",0,1)))","v":0},{"$f":"IF(lammering[[#This Row],[Opfok met kunstmelk]]=\"Ja\",1,0)","v":0},{"$f":"IF(lammering[[#This Row],[geslacht]]=\"O\",1,0)","v":0},{"$f":"IF(lammering[[#This Row],[Speen-datum]]=\"\",\"\",(lammering[[#This Row],[Speen-gewicht]]-lammering[[#This Row],[geboorte-gewicht]])/(lammering[[#This Row],[Speen-datum]]-lammering[[#This Row],[Werp-datum]]))","v":""},{"$f":"IF(lammering[[#This Row],[Verkoop-datum]]=\"\",\"\",(lammering[[#This Row],[Verkoop-gewicht]]-lammering[[#This Row],[Speen-gewicht]])/(lammering[[#This Row],[Verkoop-datum]]-lammering[[#This Row],[Speen-datum]]))","v":""},{"$f":"IF(lammering[[#This Row],[Verkoop-datum]]=\"\",\"\",(lammering[[#This Row],[Verkoop-gewicht]]-lammering[[#This Row],[geboorte-gewicht]])/(lammering[[#This Row],[Verkoop-datum]]-lammering[[#This Row],[Werp-datum]]))","v":""},"","","","","","",{"$f":"IF(lammering[[#This Row],[Verkoop-gewicht]]=\"\",\"\",lammering[[#This Row],[Verkoop-gewicht]]-lammering[[#This Row],[geboorte-gewicht]])","v":""},"",""]
[{"$f":"lammering[[#This Row],[Ooi]]","v":0},0,0,{"$f":"IF(lammering[[#This Row],[Lam-nummer]]=\"\",0,1)","v":0},{"$f":"IF(lammering[[#This Row],[Dood in geboorte]]=\"ja\",1,0)","v":0},{"$f":"IF(lammering[[#This Row],[Ooi]]=\"\",0,IF(Berekeningen!E344=0,1,0))","v":0},{"$f":"IF(D344=0,0,IF(lammering[[#This Row],[Dood in geboorte]]=\"Ja\",0,IF(lammering[[#This Row],[Dood na geboorte]]=\"ja\",0,1)))","v":0},{"$f":"IF(lammering[[#This Row],[Opfok met kunstmelk]]=\"Ja\",1,0)","v":0},{"$f":"IF(lammering[[#This Row],[geslacht]]=\"O\",1,0)","v":0},{"$f":"IF(lammering[[#This Row],[Speen-datum]]=\"\",\"\",(lammering[[#This Row],[Speen-gewicht]]-lammering[[#This Row],[geboorte-gewicht]])/(lammering[[#This Row],[Speen-datum]]-lammering[[#This Row],[Werp-datum]]))","v":""},{"$f":"IF(lammering[[#This Row],[Verkoop-datum]]=\"\",\"\",(lammering[[#This Row],[Verkoop-gewicht]]-lammering[[#This Row],[Speen-gewicht]])/(lammering[[#This Row],[Verkoop-datum]]-lammering[[#This Row],[Speen-datum]]))","v":""},{"$f":"IF(lammering[[#This Row],[Verkoop-datum]]=\"\",\"\",(lammering[[#This Row],[Verkoop-gewicht]]-lammering[[#This Row],[geboorte-gewicht]])/(lammering[[#This Row],[Verkoop-datum]]-lammering[[#This Row],[Werp-datum]]))","v":""},"","","","","","",{"$f":"IF(lammering[[#This Row],[Verkoop-gewicht]]=\"\",\"\",lammering[[#This Row],[Verkoop-gewicht]]-lammering[[#This Row],[geboorte-gewicht]])","v":""},"",""]
[{"$f":"lammering[[#This Row],[Ooi]]","v":0},0,0,{"$f":"IF(lammering[[#This Row],[Lam-nummer]]=\"\",0,1)","v":0},{"$f":"IF(lammering[[#This Row],[Dood in geboorte]]=\"ja\",1,0)","v":0},{"$f":"IF(lammering[[#This Row],[Ooi]]=\"\",0,IF(Berekeningen!E345=0,1,0))","v":0},{"$f":"IF(D345=0,0,IF(lammering[[#This Row],[Dood in geboorte]]=\"Ja\",0,IF(lammering[[#This Row],[Dood na geboorte]]=\"ja\",0,1)))","v":0},{"$f":"IF(lammering[[#This Row],[Opfok met kunstmelk]]=\"Ja\",1,0)","v":0},{"$f":"IF(lammering[[#This Row],[geslacht]]=\"O\",1,0)","v":0},{"$f":"IF(lammering[[#This Row],[Speen-datum]]=\"\",\"\",(lammering[[#This Row],[Speen-gewicht]]-lammering[[#This Row],[geboorte-gewicht]])/(lammering[[#This Row],[Speen-datum]]-lammering[[#This Row],[Werp-datum]]))","v":""},{"$f":"IF(lammering[[#This Row],[Verkoop-datum]]=\"\",\"\",(lammering[[#This Row],[Verkoop-gewicht]]-lammering[[#This Row],[Speen-gewicht]])/(lammering[[#This Row],[Verkoop-datum]]-lammering[[#This Row],[Speen-datum]]))","v":""},{"$f":"IF(lammering[[#This Row],[Verkoop-datum]]=\"\",\"\",(lammering[[#This Row],[Verkoop-gewicht]]-lammering[[#This Row],[geboorte-gewicht]])/(lammering[[#This Row],[Verkoop-datum]]-lammering[[#This Row],[Werp-datum]]))","v":""},"","","","","","",{"$f":"IF(lammering[[#This Row],[Verkoop-gewicht]]=\"\",\"\",lammering[[#This Row],[Verkoop-gewicht]]-lammering[[#This Row],[geboorte-gewicht]])","v":""},"",""]
[{"$f":"lammering[[#This Row],[Ooi]]","v":0},0,0,{"$f":"IF(lammering[[#This Row],[Lam-nummer]]=\"\",0,1)","v":0},{"$f":"IF(lammering[[#This Row],[Dood in geboorte]]=\"ja\",1,0)","v":0},{"$f":"IF(lammering[[#This Row],[Ooi]]=\"\",0,IF(Berekeningen!E346=0,1,0))","v":0},{"$f":"IF(D346=0,0,IF(lammering[[#This Row],[Dood in geboorte]]=\"Ja\",0,IF(lammering[[#This Row],[Dood na geboorte]]=\"ja\",0,1)))","v":0},{"$f":"IF(lammering[[#This Row],[Opfok met kunstmelk]]=\"Ja\",1,0)","v":0},{"$f":"IF(lammering[[#This Row],[geslacht]]=\"O\",1,0)","v":0},{"$f":"IF(lammering[[#This Row],[Speen-datum]]=\"\",\"\",(lammering[[#This Row],[Speen-gewicht]]-lammering[[#This Row],[geboorte-gewicht]])/(lammering[[#This Row],[Speen-datum]]-lammering[[#This Row],[Werp-datum]]))","v":""},{"$f":"IF(lammering[[#This Row],[Verkoop-datum]]=\"\",\"\",(lammering[[#This Row],[Verkoop-gewicht]]-lammering[[#This Row],[Speen-gewicht]])/(lammering[[#This Row],[Verkoop-datum]]-lammering[[#This Row],[Speen-datum]]))","v":""},{"$f":"IF(lammering[[#This Row],[Verkoop-datum]]=\"\",\"\",(lammering[[#This Row],[Verkoop-gewicht]]-lammering[[#This Row],[geboorte-gewicht]])/(lammering[[#This Row],[Verkoop-datum]]-lammering[[#This Row],[Werp-datum]]))","v":""},"","","","","","",{"$f":"IF(lammering[[#This Row],[Verkoop-gewicht]]=\"\",\"\",lammering[[#This Row],[Verkoop-gewicht]]-lammering[[#This Row],[geboorte-gewicht]])","v":""},"",""]
[{"$f":"lammering[[#This Row],[Ooi]]","v":0},0,0,{"$f":"IF(lammering[[#This Row],[Lam-nummer]]=\"\",0,1)","v":0},{"$f":"IF(lammering[[#This Row],[Dood in geboorte]]=\"ja\",1,0)","v":0},{"$f":"IF(lammering[[#This Row],[Ooi]]=\"\",0,IF(Berekeningen!E347=0,1,0))","v":0},{"$f":"IF(D347=0,0,IF(lammering[[#This Row],[Dood in geboorte]]=\"Ja\",0,IF(lammering[[#This Row],[Dood na geboorte]]=\"ja\",0,1)))","v":0},{"$f":"IF(lammering[[#This Row],[Opfok met kunstmelk]]=\"Ja\",1,0)","v":0},{"$f":"IF(lammering[[#This Row],[geslacht]]=\"O\",1,0)","v":0},{"$f":"IF(lammering[[#This Row],[Speen-datum]]=\"\",\"\",(lammering[[#This Row],[Speen-gewicht]]-lammering[[#This Row],[geboorte-gewicht]])/(lammering[[#This Row],[Speen-datum]]-lammering[[#This Row],[Werp-datum]]))","v":""},{"$f":"IF(lammering[[#This Row],[Verkoop-datum]]=\"\",\"\",(lammering[[#This Row],[Verkoop-gewicht]]-lammering[[#This Row],[Speen-gewicht]])/(lammering[[#This Row],[Verkoop-datum]]-lammering[[#This Row],[Speen-datum]]))","v":""},{"$f":"IF(lammering[[#This Row],[Verkoop-datum]]=\"\",\"\",(lammering[[#This Row],[Verkoop-gewicht]]-lammering[[#This Row],[geboorte-gewicht]])/(lammering[[#This Row],[Verkoop-datum]]-lammering[[#This Row],[Werp-datum]]))","v":""},"","","","","","",{"$f":"IF(lammering[[#This Row],[Verkoop-gewicht]]=\"\",\"\",lammering[[#This Row],[Verkoop-gewicht]]-lammering[[#This Row],[geboorte-gewicht]])","v":""},"",""]
[{"$f":"lammering[[#This Row],[Ooi]]","v":0},0,0,{"$f":"IF(lammering[[#This Row],[Lam-nummer]]=\"\",0,1)","v":0},{"$f":"IF(lammering[[#This Row],[Dood in geboorte]]=\"ja\",1,0)","v":0},{"$f":"IF(lammering[[#This Row],[Ooi]]=\"\",0,IF(Berekeningen!E348=0,1,0))","v":0},{"$f":"IF(D348=0,0,IF(lammering[[#This Row],[Dood in geboorte]]=\"Ja\",0,IF(lammering[[#This Row],[Dood na geboorte]]=\"ja\",0,1)))","v":0},{"$f":"IF(lammering[[#This Row],[Opfok met kunstmelk]]=\"Ja\",1,0)","v":0},{"$f":"IF(lammering[[#This Row],[geslacht]]=\"O\",1,0)","v":0},{"$f":"IF(lammering[[#This Row],[Speen-datum]]=\"\",\"\",(lammering[[#This Row],[Speen-gewicht]]-lammering[[#This Row],[geboorte-gewicht]])/(lammering[[#This Row],[Speen-datum]]-lammering[[#This Row],[Werp-datum]]))","v":""},{"$f":"IF(lammering[[#This Row],[Verkoop-datum]]=\"\",\"\",(lammering[[#This Row],[Verkoop-gewicht]]-lammering[[#This Row],[Speen-gewicht]])/(lammering[[#This Row],[Verkoop-datum]]-lammering[[#This Row],[Speen-datum]]))","v":""},{"$f":"IF(lammering[[#This Row],[Verkoop-datum]]=\"\",\"\",(lammering[[#This Row],[Verkoop-gewicht]]-lammering[[#This Row],[geboorte-gewicht]])/(lammering[[#This Row],[Verkoop-datum]]-lammering[[#This Row],[Werp-datum]]))","v":""},"","","","","","",{"$f":"IF(lammering[[#This Row],[Verkoop-gewicht]]=\"\",\"\",lammering[[#This Row],[Verkoop-gewicht]]-lammering[[#This Row],[geboorte-gewicht]])","v":""},"",""]
[{"$f":"lammering[[#This Row],[Ooi]]","v":0},0,0,{"$f":"IF(lammering[[#This Row],[Lam-nummer]]=\"\",0,1)","v":0},{"$f":"IF(lammering[[#This Row],[Dood in geboorte]]=\"ja\",1,0)","v":0},{"$f":"IF(lammering[[#This Row],[Ooi]]=\"\",0,IF(Berekeningen!E349=0,1,0))","v":0},{"$f":"IF(D349=0,0,IF(lammering[[#This Row],[Dood in geboorte]]=\"Ja\",0,IF(lammering[[#This Row],[Dood na geboorte]]=\"ja\",0,1)))","v":0},{"$f":"IF(lammering[[#This Row],[Opfok met kunstmelk]]=\"Ja\",1,0)","v":0},{"$f":"IF(lammering[[#This Row],[geslacht]]=\"O\",1,0)","v":0},{"$f":"IF(lammering[[#This Row],[Speen-datum]]=\"\",\"\",(lammering[[#This Row],[Speen-gewicht]]-lammering[[#This Row],[geboorte-gewicht]])/(lammering[[#This Row],[Speen-datum]]-lammering[[#This Row],[Werp-datum]]))","v":""},{"$f":"IF(lammering[[#This Row],[Verkoop-datum]]=\"\",\"\",(lammering[[#This Row],[Verkoop-gewicht]]-lammering[[#This Row],[Speen-gewicht]])/(lammering[[#This Row],[Verkoop-datum]]-lammering[[#This Row],[Speen-datum]]))","v":""},{"$f":"IF(lammering[[#This Row],[Verkoop-datum]]=\"\",\"\",(lammering[[#This Row],[Verkoop-gewicht]]-lammering[[#This Row],[geboorte-gewicht]])/(lammering[[#This Row],[Verkoop-datum]]-lammering[[#This Row],[Werp-datum]]))","v":""},"","","","","","",{"$f":"IF(lammering[[#This Row],[Verkoop-gewicht]]=\"\",\"\",lammering[[#This Row],[Verkoop-gewicht]]-lammering[[#This Row],[geboorte-gewicht]])","v":""},"",""]
[{"$f":"lammering[[#This Row],[Ooi]]","v":0},0,0,{"$f":"IF(lammering[[#This Row],[Lam-nummer]]=\"\",0,1)","v":0},{"$f":"IF(lammering[[#This Row],[Dood in geboorte]]=\"ja\",1,0)","v":0},{"$f":"IF(lammering[[#This Row],[Ooi]]=\"\",0,IF(Berekeningen!E350=0,1,0))","v":0},{"$f":"IF(D350=0,0,IF(lammering[[#This Row],[Dood in geboorte]]=\"Ja\",0,IF(lammering[[#This Row],[Dood na geboorte]]=\"ja\",0,1)))","v":0},{"$f":"IF(lammering[[#This Row],[Opfok met kunstmelk]]=\"Ja\",1,0)","v":0},{"$f":"IF(lammering[[#This Row],[geslacht]]=\"O\",1,0)","v":0},{"$f":"IF(lammering[[#This Row],[Speen-datum]]=\"\",\"\",(lammering[[#This Row],[Speen-gewicht]]-lammering[[#This Row],[geboorte-gewicht]])/(lammering[[#This Row],[Speen-datum]]-lammering[[#This Row],[Werp-datum]]))","v":""},{"$f":"IF(lammering[[#This Row],[Verkoop-datum]]=\"\",\"\",(lammering[[#This Row],[Verkoop-gewicht]]-lammering[[#This Row],[Speen-gewicht]])/(lammering[[#This Row],[Verkoop-datum]]-lammering[[#This Row],[Speen-datum]]))","v":""},{"$f":"IF(lammering[[#This Row],[Verkoop-datum]]=\"\",\"\",(lammering[[#This Row],[Verkoop-gewicht]]-lammering[[#This Row],[geboorte-gewicht]])/(lammering[[#This Row],[Verkoop-datum]]-lammering[[#This Row],[Werp-datum]]))","v":""},"","","","","","",{"$f":"IF(lammering[[#This Row],[Verkoop-gewicht]]=\"\",\"\",lammering[[#This Row],[Verkoop-gewicht]]-lammering[[#This Row],[geboorte-gewicht]])","v":""},"",""]
[{"$f":"lammering[[#This Row],[Ooi]]","v":0},0,0,{"$f":"IF(lammering[[#This Row],[Lam-nummer]]=\"\",0,1)","v":0},{"$f":"IF(lammering[[#This Row],[Dood in geboorte]]=\"ja\",1,0)","v":0},{"$f":"IF(lammering[[#This Row],[Ooi]]=\"\",0,IF(Berekeningen!E351=0,1,0))","v":0},{"$f":"IF(D351=0,0,IF(lammering[[#This Row],[Dood in geboorte]]=\"Ja\",0,IF(lammering[[#This Row],[Dood na geboorte]]=\"ja\",0,1)))","v":0},{"$f":"IF(lammering[[#This Row],[Opfok met kunstmelk]]=\"Ja\",1,0)","v":0},{"$f":"IF(lammering[[#This Row],[geslacht]]=\"O\",1,0)","v":0},{"$f":"IF(lammering[[#This Row],[Speen-datum]]=\"\",\"\",(lammering[[#This Row],[Speen-gewicht]]-lammering[[#This Row],[geboorte-gewicht]])/(lammering[[#This Row],[Speen-datum]]-lammering[[#This Row],[Werp-datum]]))","v":""},{"$f":"IF(lammering[[#This Row],[Verkoop-datum]]=\"\",\"\",(lammering[[#This Row],[Verkoop-gewicht]]-lammering[[#This Row],[Speen-gewicht]])/(lammering[[#This Row],[Verkoop-datum]]-lammering[[#This Row],[Speen-datum]]))","v":""},{"$f":"IF(lammering[[#This Row],[Verkoop-datum]]=\"\",\"\",(lammering[[#This Row],[Verkoop-gewicht]]-lammering[[#This Row],[geboorte-gewicht]])/(lammering[[#This Row],[Verkoop-datum]]-lammering[[#This Row],[Werp-datum]]))","v":""},"","","","","","",{"$f":"IF(lammering[[#This Row],[Verkoop-gewicht]]=\"\",\"\",lammering[[#This Row],[Verkoop-gewicht]]-lammering[[#This Row],[geboorte-gewicht]])","v":""},"",""]
[{"$f":"lammering[[#This Row],[Ooi]]","v":0},0,0,{"$f":"IF(lammering[[#This Row],[Lam-nummer]]=\"\",0,1)","v":0},{"$f":"IF(lammering[[#This Row],[Dood in geboorte]]=\"ja\",1,0)","v":0},{"$f":"IF(lammering[[#This Row],[Ooi]]=\"\",0,IF(Berekeningen!E352=0,1,0))","v":0},{"$f":"IF(D352=0,0,IF(lammering[[#This Row],[Dood in geboorte]]=\"Ja\",0,IF(lammering[[#This Row],[Dood na geboorte]]=\"ja\",0,1)))","v":0},{"$f":"IF(lammering[[#This Row],[Opfok met kunstmelk]]=\"Ja\",1,0)","v":0},{"$f":"IF(lammering[[#This Row],[geslacht]]=\"O\",1,0)","v":0},{"$f":"IF(lammering[[#This Row],[Speen-datum]]=\"\",\"\",(lammering[[#This Row],[Speen-gewicht]]-lammering[[#This Row],[geboorte-gewicht]])/(lammering[[#This Row],[Speen-datum]]-lammering[[#This Row],[Werp-datum]]))","v":""},{"$f":"IF(lammering[[#This Row],[Verkoop-datum]]=\"\",\"\",(lammering[[#This Row],[Verkoop-gewicht]]-lammering[[#This Row],[Speen-gewicht]])/(lammering[[#This Row],[Verkoop-datum]]-lammering[[#This Row],[Speen-datum]]))","v":""},{"$f":"IF(lammering[[#This Row],[Verkoop-datum]]=\"\",\"\",(lammering[[#This Row],[Verkoop-gewicht]]-lammering[[#This Row],[geboorte-gewicht]])/(lammering[[#This Row],[Verkoop-datum]]-lammering[[#This Row],[Werp-datum]]))","v":""},"","","","","","",{"$f":"IF(lammering[[#This Row],[Verkoop-gewicht]]=\"\",\"\",lammering[[#This Row],[Verkoop-gewicht]]-lammering[[#This Row],[geboorte-gewicht]])","v":""},"",""]
[{"$f":"lammering[[#This Row],[Ooi]]","v":0},0,0,{"$f":"IF(lammering[[#This Row],[Lam-nummer]]=\"\",0,1)","v":0},{"$f":"IF(lammering[[#This Row],[Dood in geboorte]]=\"ja\",1,0)","v":0},{"$f":"IF(lammering[[#This Row],[Ooi]]=\"\",0,IF(Berekeningen!E353=0,1,0))","v":0},{"$f":"IF(D353=0,0,IF(lammering[[#This Row],[Dood in geboorte]]=\"Ja\",0,IF(lammering[[#This Row],[Dood na geboorte]]=\"ja\",0,1)))","v":0},{"$f":"IF(lammering[[#This Row],[Opfok met kunstmelk]]=\"Ja\",1,0)","v":0},{"$f":"IF(lammering[[#This Row],[geslacht]]=\"O\",1,0)","v":0},{"$f":"IF(lammering[[#This Row],[Speen-datum]]=\"\",\"\",(lammering[[#This Row],[Speen-gewicht]]-lammering[[#This Row],[geboorte-gewicht]])/(lammering[[#This Row],[Speen-datum]]-lammering[[#This Row],[Werp-datum]]))","v":""},{"$f":"IF(lammering[[#This Row],[Verkoop-datum]]=\"\",\"\",(lammering[[#This Row],[Verkoop-gewicht]]-lammering[[#This Row],[Speen-gewicht]])/(lammering[[#This Row],[Verkoop-datum]]-lammering[[#This Row],[Speen-datum]]))","v":""},{"$f":"IF(lammering[[#This Row],[Verkoop-datum]]=\"\",\"\",(lammering[[#This Row],[Verkoop-gewicht]]-lammering[[#This Row],[geboorte-gewicht]])/(lammering[[#This Row],[Verkoop-datum]]-lammering[[#This Row],[Werp-datum]]))","v":""},"","","","","","",{"$f":"IF(lammering[[#This Row],[Verkoop-gewicht]]=\"\",\"\",lammering[[#This Row],[Verkoop-gewicht]]-lammering[[#This Row],[geboorte-gewicht]])","v":""},"",""]
[{"$f":"lammering[[#This Row],[Ooi]]","v":0},0,0,{"$f":"IF(lammering[[#This Row],[Lam-nummer]]=\"\",0,1)","v":0},{"$f":"IF(lammering[[#This Row],[Dood in geboorte]]=\"ja\",1,0)","v":0},{"$f":"IF(lammering[[#This Row],[Ooi]]=\"\",0,IF(Berekeningen!E354=0,1,0))","v":0},{"$f":"IF(D354=0,0,IF(lammering[[#This Row],[Dood in geboorte]]=\"Ja\",0,IF(lammering[[#This Row],[Dood na geboorte]]=\"ja\",0,1)))","v":0},{"$f":"IF(lammering[[#This Row],[Opfok met kunstmelk]]=\"Ja\",1,0)","v":0},{"$f":"IF(lammering[[#This Row],[geslacht]]=\"O\",1,0)","v":0},{"$f":"IF(lammering[[#This Row],[Speen-datum]]=\"\",\"\",(lammering[[#This Row],[Speen-gewicht]]-lammering[[#This Row],[geboorte-gewicht]])/(lammering[[#This Row],[Speen-datum]]-lammering[[#This Row],[Werp-datum]]))","v":""},{"$f":"IF(lammering[[#This Row],[Verkoop-datum]]=\"\",\"\",(lammering[[#This Row],[Verkoop-gewicht]]-lammering[[#This Row],[Speen-gewicht]])/(lammering[[#This Row],[Verkoop-datum]]-lammering[[#This Row],[Speen-datum]]))","v":""},{"$f":"IF(lammering[[#This Row],[Verkoop-datum]]=\"\",\"\",(lammering[[#This Row],[Verkoop-gewicht]]-lammering[[#This Row],[geboorte-gewicht]])/(lammering[[#This Row],[Verkoop-datum]]-lammering[[#This Row],[Werp-datum]]))","v":""},"","","","","","",{"$f":"IF(lammering[[#This Row],[Verkoop-gewicht]]=\"\",\"\",lammering[[#This Row],[Verkoop-gewicht]]-lammering[[#This Row],[geboorte-gewicht]])","v":""},"",""]
[{"$f":"lammering[[#This Row],[Ooi]]","v":0},0,0,{"$f":"IF(lammering[[#This Row],[Lam-nummer]]=\"\",0,1)","v":0},{"$f":"IF(lammering[[#This Row],[Dood in geboorte]]=\"ja\",1,0)","v":0},{"$f":"IF(lammering[[#This Row],[Ooi]]=\"\",0,IF(Berekeningen!E355=0,1,0))","v":0},{"$f":"IF(D355=0,0,IF(lammering[[#This Row],[Dood in geboorte]]=\"Ja\",0,IF(lammering[[#This Row],[Dood na geboorte]]=\"ja\",0,1)))","v":0},{"$f":"IF(lammering[[#This Row],[Opfok met kunstmelk]]=\"Ja\",1,0)","v":0},{"$f":"IF(lammering[[#This Row],[geslacht]]=\"O\",1,0)","v":0},{"$f":"IF(lammering[[#This Row],[Speen-datum]]=\"\",\"\",(lammering[[#This Row],[Speen-gewicht]]-lammering[[#This Row],[geboorte-gewicht]])/(lammering[[#This Row],[Speen-datum]]-lammering[[#This Row],[Werp-datum]]))","v":""},{"$f":"IF(lammering[[#This Row],[Verkoop-datum]]=\"\",\"\",(lammering[[#This Row],[Verkoop-gewicht]]-lammering[[#This Row],[Speen-gewicht]])/(lammering[[#This Row],[Verkoop-datum]]-lammering[[#This Row],[Speen-datum]]))","v":""},{"$f":"IF(lammering[[#This Row],[Verkoop-datum]]=\"\",\"\",(lammering[[#This Row],[Verkoop-gewicht]]-lammering[[#This Row],[geboorte-gewicht]])/(lammering[[#This Row],[Verkoop-datum]]-lammering[[#This Row],[Werp-datum]]))","v":""},"","","","","","",{"$f":"IF(lammering[[#This Row],[Verkoop-gewicht]]=\"\",\"\",lammering[[#This Row],[Verkoop-gewicht]]-lammering[[#This Row],[geboorte-gewicht]])","v":""},"",""]
[{"$f":"lammering[[#This Row],[Ooi]]","v":0},0,0,{"$f":"IF(lammering[[#This Row],[Lam-nummer]]=\"\",0,1)","v":0},{"$f":"IF(lammering[[#This Row],[Dood in geboorte]]=\"ja\",1,0)","v":0},{"$f":"IF(lammering[[#This Row],[Ooi]]=\"\",0,IF(Berekeningen!E356=0,1,0))","v":0},{"$f":"IF(D356=0,0,IF(lammering[[#This Row],[Dood in geboorte]]=\"Ja\",0,IF(lammering[[#This Row],[Dood na geboorte]]=\"ja\",0,1)))","v":0},{"$f":"IF(lammering[[#This Row],[Opfok met kunstmelk]]=\"Ja\",1,0)","v":0},{"$f":"IF(lammering[[#This Row],[geslacht]]=\"O\",1,0)","v":0},{"$f":"IF(lammering[[#This Row],[Speen-datum]]=\"\",\"\",(lammering[[#This Row],[Speen-gewicht]]-lammering[[#This Row],[geboorte-gewicht]])/(lammering[[#This Row],[Speen-datum]]-lammering[[#This Row],[Werp-datum]]))","v":""},{"$f":"IF(lammering[[#This Row],[Verkoop-datum]]=\"\",\"\",(lammering[[#This Row],[Verkoop-gewicht]]-lammering[[#This Row],[Speen-gewicht]])/(lammering[[#This Row],[Verkoop-datum]]-lammering[[#This Row],[Speen-datum]]))","v":""},{"$f":"IF(lammering[[#This Row],[Verkoop-datum]]=\"\",\"\",(lammering[[#This Row],[Verkoop-gewicht]]-lammering[[#This Row],[geboorte-gewicht]])/(lammering[[#This Row],[Verkoop-datum]]-lammering[[#This Row],[Werp-datum]]))","v":""},"","","","","","",{"$f":"IF(lammering[[#This Row],[Verkoop-gewicht]]=\"\",\"\",lammering[[#This Row],[Verkoop-gewicht]]-lammering[[#This Row],[geboorte-gewicht]])","v":""},"",""]
[{"$f":"lammering[[#This Row],[Ooi]]","v":0},0,0,{"$f":"IF(lammering[[#This Row],[Lam-nummer]]=\"\",0,1)","v":0},{"$f":"IF(lammering[[#This Row],[Dood in geboorte]]=\"ja\",1,0)","v":0},{"$f":"IF(lammering[[#This Row],[Ooi]]=\"\",0,IF(Berekeningen!E357=0,1,0))","v":0},{"$f":"IF(D357=0,0,IF(lammering[[#This Row],[Dood in geboorte]]=\"Ja\",0,IF(lammering[[#This Row],[Dood na geboorte]]=\"ja\",0,1)))","v":0},{"$f":"IF(lammering[[#This Row],[Opfok met kunstmelk]]=\"Ja\",1,0)","v":0},{"$f":"IF(lammering[[#This Row],[geslacht]]=\"O\",1,0)","v":0},{"$f":"IF(lammering[[#This Row],[Speen-datum]]=\"\",\"\",(lammering[[#This Row],[Speen-gewicht]]-lammering[[#This Row],[geboorte-gewicht]])/(lammering[[#This Row],[Speen-datum]]-lammering[[#This Row],[Werp-datum]]))","v":""},{"$f":"IF(lammering[[#This Row],[Verkoop-datum]]=\"\",\"\",(lammering[[#This Row],[Verkoop-gewicht]]-lammering[[#This Row],[Speen-gewicht]])/(lammering[[#This Row],[Verkoop-datum]]-lammering[[#This Row],[Speen-datum]]))","v":""},{"$f":"IF(lammering[[#This Row],[Verkoop-datum]]=\"\",\"\",(lammering[[#This Row],[Verkoop-gewicht]]-lammering[[#This Row],[geboorte-gewicht]])/(lammering[[#This Row],[Verkoop-datum]]-lammering[[#This Row],[Werp-datum]]))","v":""},"","","","","","",{"$f":"IF(lammering[[#This Row],[Verkoop-gewicht]]=\"\",\"\",lammering[[#This Row],[Verkoop-gewicht]]-lammering[[#This Row],[geboorte-gewicht]])","v":""},"",""]
[{"$f":"lammering[[#This Row],[Ooi]]","v":0},0,0,{"$f":"IF(lammering[[#This Row],[Lam-nummer]]=\"\",0,1)","v":0},{"$f":"IF(lammering[[#This Row],[Dood in geboorte]]=\"ja\",1,0)","v":0},{"$f":"IF(lammering[[#This Row],[Ooi]]=\"\",0,IF(Berekeningen!E358=0,1,0))","v":0},{"$f":"IF(D358=0,0,IF(lammering[[#This Row],[Dood in geboorte]]=\"Ja\",0,IF(lammering[[#This Row],[Dood na geboorte]]=\"ja\",0,1)))","v":0},{"$f":"IF(lammering[[#This Row],[Opfok met kunstmelk]]=\"Ja\",1,0)","v":0},{"$f":"IF(lammering[[#This Row],[geslacht]]=\"O\",1,0)","v":0},{"$f":"IF(lammering[[#This Row],[Speen-datum]]=\"\",\"\",(lammering[[#This Row],[Speen-gewicht]]-lammering[[#This Row],[geboorte-gewicht]])/(lammering[[#This Row],[Speen-datum]]-lammering[[#This Row],[Werp-datum]]))","v":""},{"$f":"IF(lammering[[#This Row],[Verkoop-datum]]=\"\",\"\",(lammering[[#This Row],[Verkoop-gewicht]]-lammering[[#This Row],[Speen-gewicht]])/(lammering[[#This Row],[Verkoop-datum]]-lammering[[#This Row],[Speen-datum]]))","v":""},{"$f":"IF(lammering[[#This Row],[Verkoop-datum]]=\"\",\"\",(lammering[[#This Row],[Verkoop-gewicht]]-lammering[[#This Row],[geboorte-gewicht]])/(lammering[[#This Row],[Verkoop-datum]]-lammering[[#This Row],[Werp-datum]]))","v":""},"","","","","","",{"$f":"IF(lammering[[#This Row],[Verkoop-gewicht]]=\"\",\"\",lammering[[#This Row],[Verkoop-gewicht]]-lammering[[#This Row],[geboorte-gewicht]])","v":""},"",""]
[{"$f":"lammering[[#This Row],[Ooi]]","v":0},0,0,{"$f":"IF(lammering[[#This Row],[Lam-nummer]]=\"\",0,1)","v":0},{"$f":"IF(lammering[[#This Row],[Dood in geboorte]]=\"ja\",1,0)","v":0},{"$f":"IF(lammering[[#This Row],[Ooi]]=\"\",0,IF(Berekeningen!E359=0,1,0))","v":0},{"$f":"IF(D359=0,0,IF(lammering[[#This Row],[Dood in geboorte]]=\"Ja\",0,IF(lammering[[#This Row],[Dood na geboorte]]=\"ja\",0,1)))","v":0},{"$f":"IF(lammering[[#This Row],[Opfok met kunstmelk]]=\"Ja\",1,0)","v":0},{"$f":"IF(lammering[[#This Row],[geslacht]]=\"O\",1,0)","v":0},{"$f":"IF(lammering[[#This Row],[Speen-datum]]=\"\",\"\",(lammering[[#This Row],[Speen-gewicht]]-lammering[[#This Row],[geboorte-gewicht]])/(lammering[[#This Row],[Speen-datum]]-lammering[[#This Row],[Werp-datum]]))","v":""},{"$f":"IF(lammering[[#This Row],[Verkoop-datum]]=\"\",\"\",(lammering[[#This Row],[Verkoop-gewicht]]-lammering[[#This Row],[Speen-gewicht]])/(lammering[[#This Row],[Verkoop-datum]]-lammering[[#This Row],[Speen-datum]]))","v":""},{"$f":"IF(lammering[[#This Row],[Verkoop-datum]]=\"\",\"\",(lammering[[#This Row],[Verkoop-gewicht]]-lammering[[#This Row],[geboorte-gewicht]])/(lammering[[#This Row],[Verkoop-datum]]-lammering[[#This Row],[Werp-datum]]))","v":""},"","","","","","",{"$f":"IF(lammering[[#This Row],[Verkoop-gewicht]]=\"\",\"\",lammering[[#This Row],[Verkoop-gewicht]]-lammering[[#This Row],[geboorte-gewicht]])","v":""},"",""]
[{"$f":"lammering[[#This Row],[Ooi]]","v":0},0,0,{"$f":"IF(lammering[[#This Row],[Lam-nummer]]=\"\",0,1)","v":0},{"$f":"IF(lammering[[#This Row],[Dood in geboorte]]=\"ja\",1,0)","v":0},{"$f":"IF(lammering[[#This Row],[Ooi]]=\"\",0,IF(Berekeningen!E360=0,1,0))","v":0},{"$f":"IF(D360=0,0,IF(lammering[[#This Row],[Dood in geboorte]]=\"Ja\",0,IF(lammering[[#This Row],[Dood na geboorte]]=\"ja\",0,1)))","v":0},{"$f":"IF(lammering[[#This Row],[Opfok met kunstmelk]]=\"Ja\",1,0)","v":0},{"$f":"IF(lammering[[#This Row],[geslacht]]=\"O\",1,0)","v":0},{"$f":"IF(lammering[[#This Row],[Speen-datum]]=\"\",\"\",(lammering[[#This Row],[Speen-gewicht]]-lammering[[#This Row],[geboorte-gewicht]])/(lammering[[#This Row],[Speen-datum]]-lammering[[#This Row],[Werp-datum]]))","v":""},{"$f":"IF(lammering[[#This Row],[Verkoop-datum]]=\"\",\"\",(lammering[[#This Row],[Verkoop-gewicht]]-lammering[[#This Row],[Speen-gewicht]])/(lammering[[#This Row],[Verkoop-datum]]-lammering[[#This Row],[Speen-datum]]))","v":""},{"$f":"IF(lammering[[#This Row],[Verkoop-datum]]=\"\",\"\",(lammering[[#This Row],[Verkoop-gewicht]]-lammering[[#This Row],[geboorte-gewicht]])/(lammering[[#This Row],[Verkoop-datum]]-lammering[[#This Row],[Werp-datum]]))","v":""},"","","","","","",{"$f":"IF(lammering[[#This Row],[Verkoop-gewicht]]=\"\",\"\",lammering[[#This Row],[Verkoop-gewicht]]-lammering[[#This Row],[geboorte-gewicht]])","v":""},"",""]
[{"$f":"lammering[[#This Row],[Ooi]]","v":0},0,0,{"$f":"IF(lammering[[#This Row],[Lam-nummer]]=\"\",0,1)","v":0},{"$f":"IF(lammering[[#This Row],[Dood in geboorte]]=\"ja\",1,0)","v":0},{"$f":"IF(lammering[[#This Row],[Ooi]]=\"\",0,IF(Berekeningen!E361=0,1,0))","v":0},{"$f":"IF(D361=0,0,IF(lammering[[#This Row],[Dood in geboorte]]=\"Ja\",0,IF(lammering[[#This Row],[Dood na geboorte]]=\"ja\",0,1)))","v":0},{"$f":"IF(lammering[[#This Row],[Opfok met kunstmelk]]=\"Ja\",1,0)","v":0},{"$f":"IF(lammering[[#This Row],[geslacht]]=\"O\",1,0)","v":0},{"$f":"IF(lammering[[#This Row],[Speen-datum]]=\"\",\"\",(lammering[[#This Row],[Speen-gewicht]]-lammering[[#This Row],[geboorte-gewicht]])/(lammering[[#This Row],[Speen-datum]]-lammering[[#This Row],[Werp-datum]]))","v":""},{"$f":"IF(lammering[[#This Row],[Verkoop-datum]]=\"\",\"\",(lammering[[#This Row],[Verkoop-gewicht]]-lammering[[#This Row],[Speen-gewicht]])/(lammering[[#This Row],[Verkoop-datum]]-lammering[[#This Row],[Speen-datum]]))","v":""},{"$f":"IF(lammering[[#This Row],[Verkoop-datum]]=\"\",\"\",(lammering[[#This Row],[Verkoop-gewicht]]-lammering[[#This Row],[geboorte-gewicht]])/(lammering[[#This Row],[Verkoop-datum]]-lammering[[#This Row],[Werp-datum]]))","v":""},"","","","","","",{"$f":"IF(lammering[[#This Row],[Verkoop-gewicht]]=\"\",\"\",lammering[[#This Row],[Verkoop-gewicht]]-lammering[[#This Row],[geboorte-gewicht]])","v":""},"",""]
[{"$f":"lammering[[#This Row],[Ooi]]","v":0},0,0,{"$f":"IF(lammering[[#This Row],[Lam-nummer]]=\"\",0,1)","v":0},{"$f":"IF(lammering[[#This Row],[Dood in geboorte]]=\"ja\",1,0)","v":0},{"$f":"IF(lammering[[#This Row],[Ooi]]=\"\",0,IF(Berekeningen!E362=0,1,0))","v":0},{"$f":"IF(D362=0,0,IF(lammering[[#This Row],[Dood in geboorte]]=\"Ja\",0,IF(lammering[[#This Row],[Dood na geboorte]]=\"ja\",0,1)))","v":0},{"$f":"IF(lammering[[#This Row],[Opfok met kunstmelk]]=\"Ja\",1,0)","v":0},{"$f":"IF(lammering[[#This Row],[geslacht]]=\"O\",1,0)","v":0},{"$f":"IF(lammering[[#This Row],[Speen-datum]]=\"\",\"\",(lammering[[#This Row],[Speen-gewicht]]-lammering[[#This Row],[geboorte-gewicht]])/(lammering[[#This Row],[Speen-datum]]-lammering[[#This Row],[Werp-datum]]))","v":""},{"$f":"IF(lammering[[#This Row],[Verkoop-datum]]=\"\",\"\",(lammering[[#This Row],[Verkoop-gewicht]]-lammering[[#This Row],[Speen-gewicht]])/(lammering[[#This Row],[Verkoop-datum]]-lammering[[#This Row],[Speen-datum]]))","v":""},{"$f":"IF(lammering[[#This Row],[Verkoop-datum]]=\"\",\"\",(lammering[[#This Row],[Verkoop-gewicht]]-lammering[[#This Row],[geboorte-gewicht]])/(lammering[[#This Row],[Verkoop-datum]]-lammering[[#This Row],[Werp-datum]]))","v":""},"","","","","","",{"$f":"IF(lammering[[#This Row],[Verkoop-gewicht]]=\"\",\"\",lammering[[#This Row],[Verkoop-gewicht]]-lammering[[#This Row],[geboorte-gewicht]])","v":""},"",""]
[{"$f":"lammering[[#This Row],[Ooi]]","v":0},0,0,{"$f":"IF(lammering[[#This Row],[Lam-nummer]]=\"\",0,1)","v":0},{"$f":"IF(lammering[[#This Row],[Dood in geboorte]]=\"ja\",1,0)","v":0},{"$f":"IF(lammering[[#This Row],[Ooi]]=\"\",0,IF(Berekeningen!E363=0,1,0))","v":0},{"$f":"IF(D363=0,0,IF(lammering[[#This Row],[Dood in geboorte]]=\"Ja\",0,IF(lammering[[#This Row],[Dood na geboorte]]=\"ja\",0,1)))","v":0},{"$f":"IF(lammering[[#This Row],[Opfok met kunstmelk]]=\"Ja\",1,0)","v":0},{"$f":"IF(lammering[[#This Row],[geslacht]]=\"O\",1,0)","v":0},{"$f":"IF(lammering[[#This Row],[Speen-datum]]=\"\",\"\",(lammering[[#This Row],[Speen-gewicht]]-lammering[[#This Row],[geboorte-gewicht]])/(lammering[[#This Row],[Speen-datum]]-lammering[[#This Row],[Werp-datum]]))","v":""},{"$f":"IF(lammering[[#This Row],[Verkoop-datum]]=\"\",\"\",(lammering[[#This Row],[Verkoop-gewicht]]-lammering[[#This Row],[Speen-gewicht]])/(lammering[[#This Row],[Verkoop-datum]]-lammering[[#This Row],[Speen-datum]]))","v":""},{"$f":"IF(lammering[[#This Row],[Verkoop-datum]]=\"\",\"\",(lammering[[#This Row],[Verkoop-gewicht]]-lammering[[#This Row],[geboorte-gewicht]])/(lammering[[#This Row],[Verkoop-datum]]-lammering[[#This Row],[Werp-datum]]))","v":""},"","","","","","",{"$f":"IF(lammering[[#This Row],[Verkoop-gewicht]]=\"\",\"\",lammering[[#This Row],[Verkoop-gewicht]]-lammering[[#This Row],[geboorte-gewicht]])","v":""},"",""]
[{"$f":"lammering[[#This Row],[Ooi]]","v":0},0,0,{"$f":"IF(lammering[[#This Row],[Lam-nummer]]=\"\",0,1)","v":0},{"$f":"IF(lammering[[#This Row],[Dood in geboorte]]=\"ja\",1,0)","v":0},{"$f":"IF(lammering[[#This Row],[Ooi]]=\"\",0,IF(Berekeningen!E364=0,1,0))","v":0},{"$f":"IF(D364=0,0,IF(lammering[[#This Row],[Dood in geboorte]]=\"Ja\",0,IF(lammering[[#This Row],[Dood na geboorte]]=\"ja\",0,1)))","v":0},{"$f":"IF(lammering[[#This Row],[Opfok met kunstmelk]]=\"Ja\",1,0)","v":0},{"$f":"IF(lammering[[#This Row],[geslacht]]=\"O\",1,0)","v":0},{"$f":"IF(lammering[[#This Row],[Speen-datum]]=\"\",\"\",(lammering[[#This Row],[Speen-gewicht]]-lammering[[#This Row],[geboorte-gewicht]])/(lammering[[#This Row],[Speen-datum]]-lammering[[#This Row],[Werp-datum]]))","v":""},{"$f":"IF(lammering[[#This Row],[Verkoop-datum]]=\"\",\"\",(lammering[[#This Row],[Verkoop-gewicht]]-lammering[[#This Row],[Speen-gewicht]])/(lammering[[#This Row],[Verkoop-datum]]-lammering[[#This Row],[Speen-datum]]))","v":""},{"$f":"IF(lammering[[#This Row],[Verkoop-datum]]=\"\",\"\",(lammering[[#This Row],[Verkoop-gewicht]]-lammering[[#This Row],[geboorte-gewicht]])/(lammering[[#This Row],[Verkoop-datum]]-lammering[[#This Row],[Werp-datum]]))","v":""},"","","","","","",{"$f":"IF(lammering[[#This Row],[Verkoop-gewicht]]=\"\",\"\",lammering[[#This Row],[Verkoop-gewicht]]-lammering[[#This Row],[geboorte-gewicht]])","v":""},"",""]
[{"$f":"lammering[[#This Row],[Ooi]]","v":0},0,0,{"$f":"IF(lammering[[#This Row],[Lam-nummer]]=\"\",0,1)","v":0},{"$f":"IF(lammering[[#This Row],[Dood in geboorte]]=\"ja\",1,0)","v":0},{"$f":"IF(lammering[[#This Row],[Ooi]]=\"\",0,IF(Berekeningen!E365=0,1,0))","v":0},{"$f":"IF(D365=0,0,IF(lammering[[#This Row],[Dood in geboorte]]=\"Ja\",0,IF(lammering[[#This Row],[Dood na geboorte]]=\"ja\",0,1)))","v":0},{"$f":"IF(lammering[[#This Row],[Opfok met kunstmelk]]=\"Ja\",1,0)","v":0},{"$f":"IF(lammering[[#This Row],[geslacht]]=\"O\",1,0)","v":0},{"$f":"IF(lammering[[#This Row],[Speen-datum]]=\"\",\"\",(lammering[[#This Row],[Speen-gewicht]]-lammering[[#This Row],[geboorte-gewicht]])/(lammering[[#This Row],[Speen-datum]]-lammering[[#This Row],[Werp-datum]]))","v":""},{"$f":"IF(lammering[[#This Row],[Verkoop-datum]]=\"\",\"\",(lammering[[#This Row],[Verkoop-gewicht]]-lammering[[#This Row],[Speen-gewicht]])/(lammering[[#This Row],[Verkoop-datum]]-lammering[[#This Row],[Speen-datum]]))","v":""},{"$f":"IF(lammering[[#This Row],[Verkoop-datum]]=\"\",\"\",(lammering[[#This Row],[Verkoop-gewicht]]-lammering[[#This Row],[geboorte-gewicht]])/(lammering[[#This Row],[Verkoop-datum]]-lammering[[#This Row],[Werp-datum]]))","v":""},"","","","","","",{"$f":"IF(lammering[[#This Row],[Verkoop-gewicht]]=\"\",\"\",lammering[[#This Row],[Verkoop-gewicht]]-lammering[[#This Row],[geboorte-gewicht]])","v":""},"",""]
[{"$f":"lammering[[#This Row],[Ooi]]","v":0},0,0,{"$f":"IF(lammering[[#This Row],[Lam-nummer]]=\"\",0,1)","v":0},{"$f":"IF(lammering[[#This Row],[Dood in geboorte]]=\"ja\",1,0)","v":0},{"$f":"IF(lammering[[#This Row],[Ooi]]=\"\",0,IF(Berekeningen!E366=0,1,0))","v":0},{"$f":"IF(D366=0,0,IF(lammering[[#This Row],[Dood in geboorte]]=\"Ja\",0,IF(lammering[[#This Row],[Dood na geboorte]]=\"ja\",0,1)))","v":0},{"$f":"IF(lammering[[#This Row],[Opfok met kunstmelk]]=\"Ja\",1,0)","v":0},{"$f":"IF(lammering[[#This Row],[geslacht]]=\"O\",1,0)","v":0},{"$f":"IF(lammering[[#This Row],[Speen-datum]]=\"\",\"\",(lammering[[#This Row],[Speen-gewicht]]-lammering[[#This Row],[geboorte-gewicht]])/(lammering[[#This Row],[Speen-datum]]-lammering[[#This Row],[Werp-datum]]))","v":""},{"$f":"IF(lammering[[#This Row],[Verkoop-datum]]=\"\",\"\",(lammering[[#This Row],[Verkoop-gewicht]]-lammering[[#This Row],[Speen-gewicht]])/(lammering[[#This Row],[Verkoop-datum]]-lammering[[#This Row],[Speen-datum]]))","v":""},{"$f":"IF(lammering[[#This Row],[Verkoop-datum]]=\"\",\"\",(lammering[[#This Row],[Verkoop-gewicht]]-lammering[[#This Row],[geboorte-gewicht]])/(lammering[[#This Row],[Verkoop-datum]]-lammering[[#This Row],[Werp-datum]]))","v":""},"","","","","","",{"$f":"IF(lammering[[#This Row],[Verkoop-gewicht]]=\"\",\"\",lammering[[#This Row],[Verkoop-gewicht]]-lammering[[#This Row],[geboorte-gewicht]])","v":""},"",""]
[{"$f":"lammering[[#This Row],[Ooi]]","v":0},0,0,{"$f":"IF(lammering[[#This Row],[Lam-nummer]]=\"\",0,1)","v":0},{"$f":"IF(lammering[[#This Row],[Dood in geboorte]]=\"ja\",1,0)","v":0},{"$f":"IF(lammering[[#This Row],[Ooi]]=\"\",0,IF(Berekeningen!E367=0,1,0))","v":0},{"$f":"IF(D367=0,0,IF(lammering[[#This Row],[Dood in geboorte]]=\"Ja\",0,IF(lammering[[#This Row],[Dood na geboorte]]=\"ja\",0,1)))","v":0},{"$f":"IF(lammering[[#This Row],[Opfok met kunstmelk]]=\"Ja\",1,0)","v":0},{"$f":"IF(lammering[[#This Row],[geslacht]]=\"O\",1,0)","v":0},{"$f":"IF(lammering[[#This Row],[Speen-datum]]=\"\",\"\",(lammering[[#This Row],[Speen-gewicht]]-lammering[[#This Row],[geboorte-gewicht]])/(lammering[[#This Row],[Speen-datum]]-lammering[[#This Row],[Werp-datum]]))","v":""},{"$f":"IF(lammering[[#This Row],[Verkoop-datum]]=\"\",\"\",(lammering[[#This Row],[Verkoop-gewicht]]-lammering[[#This Row],[Speen-gewicht]])/(lammering[[#This Row],[Verkoop-datum]]-lammering[[#This Row],[Speen-datum]]))","v":""},{"$f":"IF(lammering[[#This Row],[Verkoop-datum]]=\"\",\"\",(lammering[[#This Row],[Verkoop-gewicht]]-lammering[[#This Row],[geboorte-gewicht]])/(lammering[[#This Row],[Verkoop-datum]]-lammering[[#This Row],[Werp-datum]]))","v":""},"","","","","","",{"$f":"IF(lammering[[#This Row],[Verkoop-gewicht]]=\"\",\"\",lammering[[#This Row],[Verkoop-gewicht]]-lammering[[#This Row],[geboorte-gewicht]])","v":""},"",""]
[{"$f":"lammering[[#This Row],[Ooi]]","v":0},0,0,{"$f":"IF(lammering[[#This Row],[Lam-nummer]]=\"\",0,1)","v":0},{"$f":"IF(lammering[[#This Row],[Dood in geboorte]]=\"ja\",1,0)","v":0},{"$f":"IF(lammering[[#This Row],[Ooi]]=\"\",0,IF(Berekeningen!E368=0,1,0))","v":0},{"$f":"IF(D368=0,0,IF(lammering[[#This Row],[Dood in geboorte]]=\"Ja\",0,IF(lammering[[#This Row],[Dood na geboorte]]=\"ja\",0,1)))","v":0},{"$f":"IF(lammering[[#This Row],[Opfok met kunstmelk]]=\"Ja\",1,0)","v":0},{"$f":"IF(lammering[[#This Row],[geslacht]]=\"O\",1,0)","v":0},{"$f":"IF(lammering[[#This Row],[Speen-datum]]=\"\",\"\",(lammering[[#This Row],[Speen-gewicht]]-lammering[[#This Row],[geboorte-gewicht]])/(lammering[[#This Row],[Speen-datum]]-lammering[[#This Row],[Werp-datum]]))","v":""},{"$f":"IF(lammering[[#This Row],[Verkoop-datum]]=\"\",\"\",(lammering[[#This Row],[Verkoop-gewicht]]-lammering[[#This Row],[Speen-gewicht]])/(lammering[[#This Row],[Verkoop-datum]]-lammering[[#This Row],[Speen-datum]]))","v":""},{"$f":"IF(lammering[[#This Row],[Verkoop-datum]]=\"\",\"\",(lammering[[#This Row],[Verkoop-gewicht]]-lammering[[#This Row],[geboorte-gewicht]])/(lammering[[#This Row],[Verkoop-datum]]-lammering[[#This Row],[Werp-datum]]))","v":""},"","","","","","",{"$f":"IF(lammering[[#This Row],[Verkoop-gewicht]]=\"\",\"\",lammering[[#This Row],[Verkoop-gewicht]]-lammering[[#This Row],[geboorte-gewicht]])","v":""},"",""]
[{"$f":"lammering[[#This Row],[Ooi]]","v":0},0,0,{"$f":"IF(lammering[[#This Row],[Lam-nummer]]=\"\",0,1)","v":0},{"$f":"IF(lammering[[#This Row],[Dood in geboorte]]=\"ja\",1,0)","v":0},{"$f":"IF(lammering[[#This Row],[Ooi]]=\"\",0,IF(Berekeningen!E369=0,1,0))","v":0},{"$f":"IF(D369=0,0,IF(lammering[[#This Row],[Dood in geboorte]]=\"Ja\",0,IF(lammering[[#This Row],[Dood na geboorte]]=\"ja\",0,1)))","v":0},{"$f":"IF(lammering[[#This Row],[Opfok met kunstmelk]]=\"Ja\",1,0)","v":0},{"$f":"IF(lammering[[#This Row],[geslacht]]=\"O\",1,0)","v":0},{"$f":"IF(lammering[[#This Row],[Speen-datum]]=\"\",\"\",(lammering[[#This Row],[Speen-gewicht]]-lammering[[#This Row],[geboorte-gewicht]])/(lammering[[#This Row],[Speen-datum]]-lammering[[#This Row],[Werp-datum]]))","v":""},{"$f":"IF(lammering[[#This Row],[Verkoop-datum]]=\"\",\"\",(lammering[[#This Row],[Verkoop-gewicht]]-lammering[[#This Row],[Speen-gewicht]])/(lammering[[#This Row],[Verkoop-datum]]-lammering[[#This Row],[Speen-datum]]))","v":""},{"$f":"IF(lammering[[#This Row],[Verkoop-datum]]=\"\",\"\",(lammering[[#This Row],[Verkoop-gewicht]]-lammering[[#This Row],[geboorte-gewicht]])/(lammering[[#This Row],[Verkoop-datum]]-lammering[[#This Row],[Werp-datum]]))","v":""},"","","","","","",{"$f":"IF(lammering[[#This Row],[Verkoop-gewicht]]=\"\",\"\",lammering[[#This Row],[Verkoop-gewicht]]-lammering[[#This Row],[geboorte-gewicht]])","v":""},"",""]
[{"$f":"lammering[[#This Row],[Ooi]]","v":0},0,0,{"$f":"IF(lammering[[#This Row],[Lam-nummer]]=\"\",0,1)","v":0},{"$f":"IF(lammering[[#This Row],[Dood in geboorte]]=\"ja\",1,0)","v":0},{"$f":"IF(lammering[[#This Row],[Ooi]]=\"\",0,IF(Berekeningen!E370=0,1,0))","v":0},{"$f":"IF(D370=0,0,IF(lammering[[#This Row],[Dood in geboorte]]=\"Ja\",0,IF(lammering[[#This Row],[Dood na geboorte]]=\"ja\",0,1)))","v":0},{"$f":"IF(lammering[[#This Row],[Opfok met kunstmelk]]=\"Ja\",1,0)","v":0},{"$f":"IF(lammering[[#This Row],[geslacht]]=\"O\",1,0)","v":0},{"$f":"IF(lammering[[#This Row],[Speen-datum]]=\"\",\"\",(lammering[[#This Row],[Speen-gewicht]]-lammering[[#This Row],[geboorte-gewicht]])/(lammering[[#This Row],[Speen-datum]]-lammering[[#This Row],[Werp-datum]]))","v":""},{"$f":"IF(lammering[[#This Row],[Verkoop-datum]]=\"\",\"\",(lammering[[#This Row],[Verkoop-gewicht]]-lammering[[#This Row],[Speen-gewicht]])/(lammering[[#This Row],[Verkoop-datum]]-lammering[[#This Row],[Speen-datum]]))","v":""},{"$f":"IF(lammering[[#This Row],[Verkoop-datum]]=\"\",\"\",(lammering[[#This Row],[Verkoop-gewicht]]-lammering[[#This Row],[geboorte-gewicht]])/(lammering[[#This Row],[Verkoop-datum]]-lammering[[#This Row],[Werp-datum]]))","v":""},"","","","","","",{"$f":"IF(lammering[[#This Row],[Verkoop-gewicht]]=\"\",\"\",lammering[[#This Row],[Verkoop-gewicht]]-lammering[[#This Row],[geboorte-gewicht]])","v":""},"",""]
[{"$f":"lammering[[#This Row],[Ooi]]","v":0},0,0,{"$f":"IF(lammering[[#This Row],[Lam-nummer]]=\"\",0,1)","v":0},{"$f":"IF(lammering[[#This Row],[Dood in geboorte]]=\"ja\",1,0)","v":0},{"$f":"IF(lammering[[#This Row],[Ooi]]=\"\",0,IF(Berekeningen!E371=0,1,0))","v":0},{"$f":"IF(D371=0,0,IF(lammering[[#This Row],[Dood in geboorte]]=\"Ja\",0,IF(lammering[[#This Row],[Dood na geboorte]]=\"ja\",0,1)))","v":0},{"$f":"IF(lammering[[#This Row],[Opfok met kunstmelk]]=\"Ja\",1,0)","v":0},{"$f":"IF(lammering[[#This Row],[geslacht]]=\"O\",1,0)","v":0},{"$f":"IF(lammering[[#This Row],[Speen-datum]]=\"\",\"\",(lammering[[#This Row],[Speen-gewicht]]-lammering[[#This Row],[geboorte-gewicht]])/(lammering[[#This Row],[Speen-datum]]-lammering[[#This Row],[Werp-datum]]))","v":""},{"$f":"IF(lammering[[#This Row],[Verkoop-datum]]=\"\",\"\",(lammering[[#This Row],[Verkoop-gewicht]]-lammering[[#This Row],[Speen-gewicht]])/(lammering[[#This Row],[Verkoop-datum]]-lammering[[#This Row],[Speen-datum]]))","v":""},{"$f":"IF(lammering[[#This Row],[Verkoop-datum]]=\"\",\"\",(lammering[[#This Row],[Verkoop-gewicht]]-lammering[[#This Row],[geboorte-gewicht]])/(lammering[[#This Row],[Verkoop-datum]]-lammering[[#This Row],[Werp-datum]]))","v":""},"","","","","","",{"$f":"IF(lammering[[#This Row],[Verkoop-gewicht]]=\"\",\"\",lammering[[#This Row],[Verkoop-gewicht]]-lammering[[#This Row],[geboorte-gewicht]])","v":""},"",""]
[{"$f":"lammering[[#This Row],[Ooi]]","v":0},0,0,{"$f":"IF(lammering[[#This Row],[Lam-nummer]]=\"\",0,1)","v":0},{"$f":"IF(lammering[[#This Row],[Dood in geboorte]]=\"ja\",1,0)","v":0},{"$f":"IF(lammering[[#This Row],[Ooi]]=\"\",0,IF(Berekeningen!E372=0,1,0))","v":0},{"$f":"IF(D372=0,0,IF(lammering[[#This Row],[Dood in geboorte]]=\"Ja\",0,IF(lammering[[#This Row],[Dood na geboorte]]=\"ja\",0,1)))","v":0},{"$f":"IF(lammering[[#This Row],[Opfok met kunstmelk]]=\"Ja\",1,0)","v":0},{"$f":"IF(lammering[[#This Row],[geslacht]]=\"O\",1,0)","v":0},{"$f":"IF(lammering[[#This Row],[Speen-datum]]=\"\",\"\",(lammering[[#This Row],[Speen-gewicht]]-lammering[[#This Row],[geboorte-gewicht]])/(lammering[[#This Row],[Speen-datum]]-lammering[[#This Row],[Werp-datum]]))","v":""},{"$f":"IF(lammering[[#This Row],[Verkoop-datum]]=\"\",\"\",(lammering[[#This Row],[Verkoop-gewicht]]-lammering[[#This Row],[Speen-gewicht]])/(lammering[[#This Row],[Verkoop-datum]]-lammering[[#This Row],[Speen-datum]]))","v":""},{"$f":"IF(lammering[[#This Row],[Verkoop-datum]]=\"\",\"\",(lammering[[#This Row],[Verkoop-gewicht]]-lammering[[#This Row],[geboorte-gewicht]])/(lammering[[#This Row],[Verkoop-datum]]-lammering[[#This Row],[Werp-datum]]))","v":""},"","","","","","",{"$f":"IF(lammering[[#This Row],[Verkoop-gewicht]]=\"\",\"\",lammering[[#This Row],[Verkoop-gewicht]]-lammering[[#This Row],[geboorte-gewicht]])","v":""},"",""]
[{"$f":"lammering[[#This Row],[Ooi]]","v":0},0,0,{"$f":"IF(lammering[[#This Row],[Lam-nummer]]=\"\",0,1)","v":0},{"$f":"IF(lammering[[#This Row],[Dood in geboorte]]=\"ja\",1,0)","v":0},{"$f":"IF(lammering[[#This Row],[Ooi]]=\"\",0,IF(Berekeningen!E373=0,1,0))","v":0},{"$f":"IF(D373=0,0,IF(lammering[[#This Row],[Dood in geboorte]]=\"Ja\",0,IF(lammering[[#This Row],[Dood na geboorte]]=\"ja\",0,1)))","v":0},{"$f":"IF(lammering[[#This Row],[Opfok met kunstmelk]]=\"Ja\",1,0)","v":0},{"$f":"IF(lammering[[#This Row],[geslacht]]=\"O\",1,0)","v":0},{"$f":"IF(lammering[[#This Row],[Speen-datum]]=\"\",\"\",(lammering[[#This Row],[Speen-gewicht]]-lammering[[#This Row],[geboorte-gewicht]])/(lammering[[#This Row],[Speen-datum]]-lammering[[#This Row],[Werp-datum]]))","v":""},{"$f":"IF(lammering[[#This Row],[Verkoop-datum]]=\"\",\"\",(lammering[[#This Row],[Verkoop-gewicht]]-lammering[[#This Row],[Speen-gewicht]])/(lammering[[#This Row],[Verkoop-datum]]-lammering[[#This Row],[Speen-datum]]))","v":""},{"$f":"IF(lammering[[#This Row],[Verkoop-datum]]=\"\",\"\",(lammering[[#This Row],[Verkoop-gewicht]]-lammering[[#This Row],[geboorte-gewicht]])/(lammering[[#This Row],[Verkoop-datum]]-lammering[[#This Row],[Werp-datum]]))","v":""},"","","","","","",{"$f":"IF(lammering[[#This Row],[Verkoop-gewicht]]=\"\",\"\",lammering[[#This Row],[Verkoop-gewicht]]-lammering[[#This Row],[geboorte-gewicht]])","v":""},"",""]
[{"$f":"lammering[[#This Row],[Ooi]]","v":0},0,0,{"$f":"IF(lammering[[#This Row],[Lam-nummer]]=\"\",0,1)","v":0},{"$f":"IF(lammering[[#This Row],[Dood in geboorte]]=\"ja\",1,0)","v":0},{"$f":"IF(lammering[[#This Row],[Ooi]]=\"\",0,IF(Berekeningen!E374=0,1,0))","v":0},{"$f":"IF(D374=0,0,IF(lammering[[#This Row],[Dood in geboorte]]=\"Ja\",0,IF(lammering[[#This Row],[Dood na geboorte]]=\"ja\",0,1)))","v":0},{"$f":"IF(lammering[[#This Row],[Opfok met kunstmelk]]=\"Ja\",1,0)","v":0},{"$f":"IF(lammering[[#This Row],[geslacht]]=\"O\",1,0)","v":0},{"$f":"IF(lammering[[#This Row],[Speen-datum]]=\"\",\"\",(lammering[[#This Row],[Speen-gewicht]]-lammering[[#This Row],[geboorte-gewicht]])/(lammering[[#This Row],[Speen-datum]]-lammering[[#This Row],[Werp-datum]]))","v":""},{"$f":"IF(lammering[[#This Row],[Verkoop-datum]]=\"\",\"\",(lammering[[#This Row],[Verkoop-gewicht]]-lammering[[#This Row],[Speen-gewicht]])/(lammering[[#This Row],[Verkoop-datum]]-lammering[[#This Row],[Speen-datum]]))","v":""},{"$f":"IF(lammering[[#This Row],[Verkoop-datum]]=\"\",\"\",(lammering[[#This Row],[Verkoop-gewicht]]-lammering[[#This Row],[geboorte-gewicht]])/(lammering[[#This Row],[Verkoop-datum]]-lammering[[#This Row],[Werp-datum]]))","v":""},"","","","","","",{"$f":"IF(lammering[[#This Row],[Verkoop-gewicht]]=\"\",\"\",lammering[[#This Row],[Verkoop-gewicht]]-lammering[[#This Row],[geboorte-gewicht]])","v":""},"",""]
[{"$f":"lammering[[#This Row],[Ooi]]","v":0},0,0,{"$f":"IF(lammering[[#This Row],[Lam-nummer]]=\"\",0,1)","v":0},{"$f":"IF(lammering[[#This Row],[Dood in geboorte]]=\"ja\",1,0)","v":0},{"$f":"IF(lammering[[#This Row],[Ooi]]=\"\",0,IF(Berekeningen!E375=0,1,0))","v":0},{"$f":"IF(D375=0,0,IF(lammering[[#This Row],[Dood in geboorte]]=\"Ja\",0,IF(lammering[[#This Row],[Dood na geboorte]]=\"ja\",0,1)))","v":0},{"$f":"IF(lammering[[#This Row],[Opfok met kunstmelk]]=\"Ja\",1,0)","v":0},{"$f":"IF(lammering[[#This Row],[geslacht]]=\"O\",1,0)","v":0},{"$f":"IF(lammering[[#This Row],[Speen-datum]]=\"\",\"\",(lammering[[#This Row],[Speen-gewicht]]-lammering[[#This Row],[geboorte-gewicht]])/(lammering[[#This Row],[Speen-datum]]-lammering[[#This Row],[Werp-datum]]))","v":""},{"$f":"IF(lammering[[#This Row],[Verkoop-datum]]=\"\",\"\",(lammering[[#This Row],[Verkoop-gewicht]]-lammering[[#This Row],[Speen-gewicht]])/(lammering[[#This Row],[Verkoop-datum]]-lammering[[#This Row],[Speen-datum]]))","v":""},{"$f":"IF(lammering[[#This Row],[Verkoop-datum]]=\"\",\"\",(lammering[[#This Row],[Verkoop-gewicht]]-lammering[[#This Row],[geboorte-gewicht]])/(lammering[[#This Row],[Verkoop-datum]]-lammering[[#This Row],[Werp-datum]]))","v":""},"","","","","","",{"$f":"IF(lammering[[#This Row],[Verkoop-gewicht]]=\"\",\"\",lammering[[#This Row],[Verkoop-gewicht]]-lammering[[#This Row],[geboorte-gewicht]])","v":""},"",""]
[{"$f":"lammering[[#This Row],[Ooi]]","v":0},0,0,{"$f":"IF(lammering[[#This Row],[Lam-nummer]]=\"\",0,1)","v":0},{"$f":"IF(lammering[[#This Row],[Dood in geboorte]]=\"ja\",1,0)","v":0},{"$f":"IF(lammering[[#This Row],[Ooi]]=\"\",0,IF(Berekeningen!E376=0,1,0))","v":0},{"$f":"IF(D376=0,0,IF(lammering[[#This Row],[Dood in geboorte]]=\"Ja\",0,IF(lammering[[#This Row],[Dood na geboorte]]=\"ja\",0,1)))","v":0},{"$f":"IF(lammering[[#This Row],[Opfok met kunstmelk]]=\"Ja\",1,0)","v":0},{"$f":"IF(lammering[[#This Row],[geslacht]]=\"O\",1,0)","v":0},{"$f":"IF(lammering[[#This Row],[Speen-datum]]=\"\",\"\",(lammering[[#This Row],[Speen-gewicht]]-lammering[[#This Row],[geboorte-gewicht]])/(lammering[[#This Row],[Speen-datum]]-lammering[[#This Row],[Werp-datum]]))","v":""},{"$f":"IF(lammering[[#This Row],[Verkoop-datum]]=\"\",\"\",(lammering[[#This Row],[Verkoop-gewicht]]-lammering[[#This Row],[Speen-gewicht]])/(lammering[[#This Row],[Verkoop-datum]]-lammering[[#This Row],[Speen-datum]]))","v":""},{"$f":"IF(lammering[[#This Row],[Verkoop-datum]]=\"\",\"\",(lammering[[#This Row],[Verkoop-gewicht]]-lammering[[#This Row],[geboorte-gewicht]])/(lammering[[#This Row],[Verkoop-datum]]-lammering[[#This Row],[Werp-datum]]))","v":""},"","","","","","",{"$f":"IF(lammering[[#This Row],[Verkoop-gewicht]]=\"\",\"\",lammering[[#This Row],[Verkoop-gewicht]]-lammering[[#This Row],[geboorte-gewicht]])","v":""},"",""]
[{"$f":"lammering[[#This Row],[Ooi]]","v":0},0,0,{"$f":"IF(lammering[[#This Row],[Lam-nummer]]=\"\",0,1)","v":0},{"$f":"IF(lammering[[#This Row],[Dood in geboorte]]=\"ja\",1,0)","v":0},{"$f":"IF(lammering[[#This Row],[Ooi]]=\"\",0,IF(Berekeningen!E377=0,1,0))","v":0},{"$f":"IF(D377=0,0,IF(lammering[[#This Row],[Dood in geboorte]]=\"Ja\",0,IF(lammering[[#This Row],[Dood na geboorte]]=\"ja\",0,1)))","v":0},{"$f":"IF(lammering[[#This Row],[Opfok met kunstmelk]]=\"Ja\",1,0)","v":0},{"$f":"IF(lammering[[#This Row],[geslacht]]=\"O\",1,0)","v":0},{"$f":"IF(lammering[[#This Row],[Speen-datum]]=\"\",\"\",(lammering[[#This Row],[Speen-gewicht]]-lammering[[#This Row],[geboorte-gewicht]])/(lammering[[#This Row],[Speen-datum]]-lammering[[#This Row],[Werp-datum]]))","v":""},{"$f":"IF(lammering[[#This Row],[Verkoop-datum]]=\"\",\"\",(lammering[[#This Row],[Verkoop-gewicht]]-lammering[[#This Row],[Speen-gewicht]])/(lammering[[#This Row],[Verkoop-datum]]-lammering[[#This Row],[Speen-datum]]))","v":""},{"$f":"IF(lammering[[#This Row],[Verkoop-datum]]=\"\",\"\",(lammering[[#This Row],[Verkoop-gewicht]]-lammering[[#This Row],[geboorte-gewicht]])/(lammering[[#This Row],[Verkoop-datum]]-lammering[[#This Row],[Werp-datum]]))","v":""},"","","","","","",{"$f":"IF(lammering[[#This Row],[Verkoop-gewicht]]=\"\",\"\",lammering[[#This Row],[Verkoop-gewicht]]-lammering[[#This Row],[geboorte-gewicht]])","v":""},"",""]
[{"$f":"lammering[[#This Row],[Ooi]]","v":0},0,0,{"$f":"IF(lammering[[#This Row],[Lam-nummer]]=\"\",0,1)","v":0},{"$f":"IF(lammering[[#This Row],[Dood in geboorte]]=\"ja\",1,0)","v":0},{"$f":"IF(lammering[[#This Row],[Ooi]]=\"\",0,IF(Berekeningen!E378=0,1,0))","v":0},{"$f":"IF(D378=0,0,IF(lammering[[#This Row],[Dood in geboorte]]=\"Ja\",0,IF(lammering[[#This Row],[Dood na geboorte]]=\"ja\",0,1)))","v":0},{"$f":"IF(lammering[[#This Row],[Opfok met kunstmelk]]=\"Ja\",1,0)","v":0},{"$f":"IF(lammering[[#This Row],[geslacht]]=\"O\",1,0)","v":0},{"$f":"IF(lammering[[#This Row],[Speen-datum]]=\"\",\"\",(lammering[[#This Row],[Speen-gewicht]]-lammering[[#This Row],[geboorte-gewicht]])/(lammering[[#This Row],[Speen-datum]]-lammering[[#This Row],[Werp-datum]]))","v":""},{"$f":"IF(lammering[[#This Row],[Verkoop-datum]]=\"\",\"\",(lammering[[#This Row],[Verkoop-gewicht]]-lammering[[#This Row],[Speen-gewicht]])/(lammering[[#This Row],[Verkoop-datum]]-lammering[[#This Row],[Speen-datum]]))","v":""},{"$f":"IF(lammering[[#This Row],[Verkoop-datum]]=\"\",\"\",(lammering[[#This Row],[Verkoop-gewicht]]-lammering[[#This Row],[geboorte-gewicht]])/(lammering[[#This Row],[Verkoop-datum]]-lammering[[#This Row],[Werp-datum]]))","v":""},"","","","","","",{"$f":"IF(lammering[[#This Row],[Verkoop-gewicht]]=\"\",\"\",lammering[[#This Row],[Verkoop-gewicht]]-lammering[[#This Row],[geboorte-gewicht]])","v":""},"",""]
[{"$f":"lammering[[#This Row],[Ooi]]","v":0},0,0,{"$f":"IF(lammering[[#This Row],[Lam-nummer]]=\"\",0,1)","v":0},{"$f":"IF(lammering[[#This Row],[Dood in geboorte]]=\"ja\",1,0)","v":0},{"$f":"IF(lammering[[#This Row],[Ooi]]=\"\",0,IF(Berekeningen!E379=0,1,0))","v":0},{"$f":"IF(D379=0,0,IF(lammering[[#This Row],[Dood in geboorte]]=\"Ja\",0,IF(lammering[[#This Row],[Dood na geboorte]]=\"ja\",0,1)))","v":0},{"$f":"IF(lammering[[#This Row],[Opfok met kunstmelk]]=\"Ja\",1,0)","v":0},{"$f":"IF(lammering[[#This Row],[geslacht]]=\"O\",1,0)","v":0},{"$f":"IF(lammering[[#This Row],[Speen-datum]]=\"\",\"\",(lammering[[#This Row],[Speen-gewicht]]-lammering[[#This Row],[geboorte-gewicht]])/(lammering[[#This Row],[Speen-datum]]-lammering[[#This Row],[Werp-datum]]))","v":""},{"$f":"IF(lammering[[#This Row],[Verkoop-datum]]=\"\",\"\",(lammering[[#This Row],[Verkoop-gewicht]]-lammering[[#This Row],[Speen-gewicht]])/(lammering[[#This Row],[Verkoop-datum]]-lammering[[#This Row],[Speen-datum]]))","v":""},{"$f":"IF(lammering[[#This Row],[Verkoop-datum]]=\"\",\"\",(lammering[[#This Row],[Verkoop-gewicht]]-lammering[[#This Row],[geboorte-gewicht]])/(lammering[[#This Row],[Verkoop-datum]]-lammering[[#This Row],[Werp-datum]]))","v":""},"","","","","","",{"$f":"IF(lammering[[#This Row],[Verkoop-gewicht]]=\"\",\"\",lammering[[#This Row],[Verkoop-gewicht]]-lammering[[#This Row],[geboorte-gewicht]])","v":""},"",""]
[{"$f":"lammering[[#This Row],[Ooi]]","v":0},0,0,{"$f":"IF(lammering[[#This Row],[Lam-nummer]]=\"\",0,1)","v":0},{"$f":"IF(lammering[[#This Row],[Dood in geboorte]]=\"ja\",1,0)","v":0},{"$f":"IF(lammering[[#This Row],[Ooi]]=\"\",0,IF(Berekeningen!E380=0,1,0))","v":0},{"$f":"IF(D380=0,0,IF(lammering[[#This Row],[Dood in geboorte]]=\"Ja\",0,IF(lammering[[#This Row],[Dood na geboorte]]=\"ja\",0,1)))","v":0},{"$f":"IF(lammering[[#This Row],[Opfok met kunstmelk]]=\"Ja\",1,0)","v":0},{"$f":"IF(lammering[[#This Row],[geslacht]]=\"O\",1,0)","v":0},{"$f":"IF(lammering[[#This Row],[Speen-datum]]=\"\",\"\",(lammering[[#This Row],[Speen-gewicht]]-lammering[[#This Row],[geboorte-gewicht]])/(lammering[[#This Row],[Speen-datum]]-lammering[[#This Row],[Werp-datum]]))","v":""},{"$f":"IF(lammering[[#This Row],[Verkoop-datum]]=\"\",\"\",(lammering[[#This Row],[Verkoop-gewicht]]-lammering[[#This Row],[Speen-gewicht]])/(lammering[[#This Row],[Verkoop-datum]]-lammering[[#This Row],[Speen-datum]]))","v":""},{"$f":"IF(lammering[[#This Row],[Verkoop-datum]]=\"\",\"\",(lammering[[#This Row],[Verkoop-gewicht]]-lammering[[#This Row],[geboorte-gewicht]])/(lammering[[#This Row],[Verkoop-datum]]-lammering[[#This Row],[Werp-datum]]))","v":""},"","","","","","",{"$f":"IF(lammering[[#This Row],[Verkoop-gewicht]]=\"\",\"\",lammering[[#This Row],[Verkoop-gewicht]]-lammering[[#This Row],[geboorte-gewicht]])","v":""},"",""]
[{"$f":"lammering[[#This Row],[Ooi]]","v":0},0,0,{"$f":"IF(lammering[[#This Row],[Lam-nummer]]=\"\",0,1)","v":0},{"$f":"IF(lammering[[#This Row],[Dood in geboorte]]=\"ja\",1,0)","v":0},{"$f":"IF(lammering[[#This Row],[Ooi]]=\"\",0,IF(Berekeningen!E381=0,1,0))","v":0},{"$f":"IF(D381=0,0,IF(lammering[[#This Row],[Dood in geboorte]]=\"Ja\",0,IF(lammering[[#This Row],[Dood na geboorte]]=\"ja\",0,1)))","v":0},{"$f":"IF(lammering[[#This Row],[Opfok met kunstmelk]]=\"Ja\",1,0)","v":0},{"$f":"IF(lammering[[#This Row],[geslacht]]=\"O\",1,0)","v":0},{"$f":"IF(lammering[[#This Row],[Speen-datum]]=\"\",\"\",(lammering[[#This Row],[Speen-gewicht]]-lammering[[#This Row],[geboorte-gewicht]])/(lammering[[#This Row],[Speen-datum]]-lammering[[#This Row],[Werp-datum]]))","v":""},{"$f":"IF(lammering[[#This Row],[Verkoop-datum]]=\"\",\"\",(lammering[[#This Row],[Verkoop-gewicht]]-lammering[[#This Row],[Speen-gewicht]])/(lammering[[#This Row],[Verkoop-datum]]-lammering[[#This Row],[Speen-datum]]))","v":""},{"$f":"IF(lammering[[#This Row],[Verkoop-datum]]=\"\",\"\",(lammering[[#This Row],[Verkoop-gewicht]]-lammering[[#This Row],[geboorte-gewicht]])/(lammering[[#This Row],[Verkoop-datum]]-lammering[[#This Row],[Werp-datum]]))","v":""},"","","","","","",{"$f":"IF(lammering[[#This Row],[Verkoop-gewicht]]=\"\",\"\",lammering[[#This Row],[Verkoop-gewicht]]-lammering[[#This Row],[geboorte-gewicht]])","v":""},"",""]
[{"$f":"lammering[[#This Row],[Ooi]]","v":0},0,0,{"$f":"IF(lammering[[#This Row],[Lam-nummer]]=\"\",0,1)","v":0},{"$f":"IF(lammering[[#This Row],[Dood in geboorte]]=\"ja\",1,0)","v":0},{"$f":"IF(lammering[[#This Row],[Ooi]]=\"\",0,IF(Berekeningen!E382=0,1,0))","v":0},{"$f":"IF(D382=0,0,IF(lammering[[#This Row],[Dood in geboorte]]=\"Ja\",0,IF(lammering[[#This Row],[Dood na geboorte]]=\"ja\",0,1)))","v":0},{"$f":"IF(lammering[[#This Row],[Opfok met kunstmelk]]=\"Ja\",1,0)","v":0},{"$f":"IF(lammering[[#This Row],[geslacht]]=\"O\",1,0)","v":0},{"$f":"IF(lammering[[#This Row],[Speen-datum]]=\"\",\"\",(lammering[[#This Row],[Speen-gewicht]]-lammering[[#This Row],[geboorte-gewicht]])/(lammering[[#This Row],[Speen-datum]]-lammering[[#This Row],[Werp-datum]]))","v":""},{"$f":"IF(lammering[[#This Row],[Verkoop-datum]]=\"\",\"\",(lammering[[#This Row],[Verkoop-gewicht]]-lammering[[#This Row],[Speen-gewicht]])/(lammering[[#This Row],[Verkoop-datum]]-lammering[[#This Row],[Speen-datum]]))","v":""},{"$f":"IF(lammering[[#This Row],[Verkoop-datum]]=\"\",\"\",(lammering[[#This Row],[Verkoop-gewicht]]-lammering[[#This Row],[geboorte-gewicht]])/(lammering[[#This Row],[Verkoop-datum]]-lammering[[#This Row],[Werp-datum]]))","v":""},"","","","","","",{"$f":"IF(lammering[[#This Row],[Verkoop-gewicht]]=\"\",\"\",lammering[[#This Row],[Verkoop-gewicht]]-lammering[[#This Row],[geboorte-gewicht]])","v":""},"",""]
[{"$f":"lammering[[#This Row],[Ooi]]","v":0},0,0,{"$f":"IF(lammering[[#This Row],[Lam-nummer]]=\"\",0,1)","v":0},{"$f":"IF(lammering[[#This Row],[Dood in geboorte]]=\"ja\",1,0)","v":0},{"$f":"IF(lammering[[#This Row],[Ooi]]=\"\",0,IF(Berekeningen!E383=0,1,0))","v":0},{"$f":"IF(D383=0,0,IF(lammering[[#This Row],[Dood in geboorte]]=\"Ja\",0,IF(lammering[[#This Row],[Dood na geboorte]]=\"ja\",0,1)))","v":0},{"$f":"IF(lammering[[#This Row],[Opfok met kunstmelk]]=\"Ja\",1,0)","v":0},{"$f":"IF(lammering[[#This Row],[geslacht]]=\"O\",1,0)","v":0},{"$f":"IF(lammering[[#This Row],[Speen-datum]]=\"\",\"\",(lammering[[#This Row],[Speen-gewicht]]-lammering[[#This Row],[geboorte-gewicht]])/(lammering[[#This Row],[Speen-datum]]-lammering[[#This Row],[Werp-datum]]))","v":""},{"$f":"IF(lammering[[#This Row],[Verkoop-datum]]=\"\",\"\",(lammering[[#This Row],[Verkoop-gewicht]]-lammering[[#This Row],[Speen-gewicht]])/(lammering[[#This Row],[Verkoop-datum]]-lammering[[#This Row],[Speen-datum]]))","v":""},{"$f":"IF(lammering[[#This Row],[Verkoop-datum]]=\"\",\"\",(lammering[[#This Row],[Verkoop-gewicht]]-lammering[[#This Row],[geboorte-gewicht]])/(lammering[[#This Row],[Verkoop-datum]]-lammering[[#This Row],[Werp-datum]]))","v":""},"","","","","","",{"$f":"IF(lammering[[#This Row],[Verkoop-gewicht]]=\"\",\"\",lammering[[#This Row],[Verkoop-gewicht]]-lammering[[#This Row],[geboorte-gewicht]])","v":""},"",""]
[{"$f":"lammering[[#This Row],[Ooi]]","v":0},0,0,{"$f":"IF(lammering[[#This Row],[Lam-nummer]]=\"\",0,1)","v":0},{"$f":"IF(lammering[[#This Row],[Dood in geboorte]]=\"ja\",1,0)","v":0},{"$f":"IF(lammering[[#This Row],[Ooi]]=\"\",0,IF(Berekeningen!E384=0,1,0))","v":0},{"$f":"IF(D384=0,0,IF(lammering[[#This Row],[Dood in geboorte]]=\"Ja\",0,IF(lammering[[#This Row],[Dood na geboorte]]=\"ja\",0,1)))","v":0},{"$f":"IF(lammering[[#This Row],[Opfok met kunstmelk]]=\"Ja\",1,0)","v":0},{"$f":"IF(lammering[[#This Row],[geslacht]]=\"O\",1,0)","v":0},{"$f":"IF(lammering[[#This Row],[Speen-datum]]=\"\",\"\",(lammering[[#This Row],[Speen-gewicht]]-lammering[[#This Row],[geboorte-gewicht]])/(lammering[[#This Row],[Speen-datum]]-lammering[[#This Row],[Werp-datum]]))","v":""},{"$f":"IF(lammering[[#This Row],[Verkoop-datum]]=\"\",\"\",(lammering[[#This Row],[Verkoop-gewicht]]-lammering[[#This Row],[Speen-gewicht]])/(lammering[[#This Row],[Verkoop-datum]]-lammering[[#This Row],[Speen-datum]]))","v":""},{"$f":"IF(lammering[[#This Row],[Verkoop-datum]]=\"\",\"\",(lammering[[#This Row],[Verkoop-gewicht]]-lammering[[#This Row],[geboorte-gewicht]])/(lammering[[#This Row],[Verkoop-datum]]-lammering[[#This Row],[Werp-datum]]))","v":""},"","","","","","",{"$f":"IF(lammering[[#This Row],[Verkoop-gewicht]]=\"\",\"\",lammering[[#This Row],[Verkoop-gewicht]]-lammering[[#This Row],[geboorte-gewicht]])","v":""},"",""]
[{"$f":"lammering[[#This Row],[Ooi]]","v":0},0,0,{"$f":"IF(lammering[[#This Row],[Lam-nummer]]=\"\",0,1)","v":0},{"$f":"IF(lammering[[#This Row],[Dood in geboorte]]=\"ja\",1,0)","v":0},{"$f":"IF(lammering[[#This Row],[Ooi]]=\"\",0,IF(Berekeningen!E385=0,1,0))","v":0},{"$f":"IF(D385=0,0,IF(lammering[[#This Row],[Dood in geboorte]]=\"Ja\",0,IF(lammering[[#This Row],[Dood na geboorte]]=\"ja\",0,1)))","v":0},{"$f":"IF(lammering[[#This Row],[Opfok met kunstmelk]]=\"Ja\",1,0)","v":0},{"$f":"IF(lammering[[#This Row],[geslacht]]=\"O\",1,0)","v":0},{"$f":"IF(lammering[[#This Row],[Speen-datum]]=\"\",\"\",(lammering[[#This Row],[Speen-gewicht]]-lammering[[#This Row],[geboorte-gewicht]])/(lammering[[#This Row],[Speen-datum]]-lammering[[#This Row],[Werp-datum]]))","v":""},{"$f":"IF(lammering[[#This Row],[Verkoop-datum]]=\"\",\"\",(lammering[[#This Row],[Verkoop-gewicht]]-lammering[[#This Row],[Speen-gewicht]])/(lammering[[#This Row],[Verkoop-datum]]-lammering[[#This Row],[Speen-datum]]))","v":""},{"$f":"IF(lammering[[#This Row],[Verkoop-datum]]=\"\",\"\",(lammering[[#This Row],[Verkoop-gewicht]]-lammering[[#This Row],[geboorte-gewicht]])/(lammering[[#This Row],[Verkoop-datum]]-lammering[[#This Row],[Werp-datum]]))","v":""},"","","","","","",{"$f":"IF(lammering[[#This Row],[Verkoop-gewicht]]=\"\",\"\",lammering[[#This Row],[Verkoop-gewicht]]-lammering[[#This Row],[geboorte-gewicht]])","v":""},"",""]
[{"$f":"lammering[[#This Row],[Ooi]]","v":0},0,0,{"$f":"IF(lammering[[#This Row],[Lam-nummer]]=\"\",0,1)","v":0},{"$f":"IF(lammering[[#This Row],[Dood in geboorte]]=\"ja\",1,0)","v":0},{"$f":"IF(lammering[[#This Row],[Ooi]]=\"\",0,IF(Berekeningen!E386=0,1,0))","v":0},{"$f":"IF(D386=0,0,IF(lammering[[#This Row],[Dood in geboorte]]=\"Ja\",0,IF(lammering[[#This Row],[Dood na geboorte]]=\"ja\",0,1)))","v":0},{"$f":"IF(lammering[[#This Row],[Opfok met kunstmelk]]=\"Ja\",1,0)","v":0},{"$f":"IF(lammering[[#This Row],[geslacht]]=\"O\",1,0)","v":0},{"$f":"IF(lammering[[#This Row],[Speen-datum]]=\"\",\"\",(lammering[[#This Row],[Speen-gewicht]]-lammering[[#This Row],[geboorte-gewicht]])/(lammering[[#This Row],[Speen-datum]]-lammering[[#This Row],[Werp-datum]]))","v":""},{"$f":"IF(lammering[[#This Row],[Verkoop-datum]]=\"\",\"\",(lammering[[#This Row],[Verkoop-gewicht]]-lammering[[#This Row],[Speen-gewicht]])/(lammering[[#This Row],[Verkoop-datum]]-lammering[[#This Row],[Speen-datum]]))","v":""},{"$f":"IF(lammering[[#This Row],[Verkoop-datum]]=\"\",\"\",(lammering[[#This Row],[Verkoop-gewicht]]-lammering[[#This Row],[geboorte-gewicht]])/(lammering[[#This Row],[Verkoop-datum]]-lammering[[#This Row],[Werp-datum]]))","v":""},"","","","","","",{"$f":"IF(lammering[[#This Row],[Verkoop-gewicht]]=\"\",\"\",lammering[[#This Row],[Verkoop-gewicht]]-lammering[[#This Row],[geboorte-gewicht]])","v":""},"",""]
[{"$f":"lammering[[#This Row],[Ooi]]","v":0},{"$f":"IF(A387=0,0,IF(A387=A386,0,1))","v":0},{"$f":"IF(B387=1,A387,0)","v":0},{"$f":"IF(lammering[[#This Row],[Lam-nummer]]=\"\",0,1)","v":0},{"$f":"IF(lammering[[#This Row],[Dood in geboorte]]=\"ja\",1,0)","v":0},{"$f":"IF(lammering[[#This Row],[Ooi]]=\"\",0,IF(Berekeningen!E387=0,1,0))","v":0},{"$f":"IF(D387=0,0,IF(lammering[[#This Row],[Dood in geboorte]]=\"Ja\",0,IF(lammering[[#This Row],[Dood na geboorte]]=\"ja\",0,1)))","v":0},{"$f":"IF(lammering[[#This Row],[Opfok met kunstmelk]]=\"Ja\",1,0)","v":0},{"$f":"IF(lammering[[#This Row],[geslacht]]=\"O\",1,0)","v":0},{"$f":"IF(lammering[[#This Row],[Speen-datum]]=\"\",\"\",(lammering[[#This Row],[Speen-gewicht]]-lammering[[#This Row],[geboorte-gewicht]])/(lammering[[#This Row],[Speen-datum]]-lammering[[#This Row],[Werp-datum]]))","v":""},{"$f":"IF(lammering[[#This Row],[Verkoop-datum]]=\"\",\"\",(lammering[[#This Row],[Verkoop-gewicht]]-lammering[[#This Row],[Speen-gewicht]])/(lammering[[#This Row],[Verkoop-datum]]-lammering[[#This Row],[Speen-datum]]))","v":""},{"$f":"IF(lammering[[#This Row],[Verkoop-datum]]=\"\",\"\",(lammering[[#This Row],[Verkoop-gewicht]]-lammering[[#This Row],[geboorte-gewicht]])/(lammering[[#This Row],[Verkoop-datum]]-lammering[[#This Row],[Werp-datum]]))","v":""},"","","","","","",{"$f":"IF(lammering[[#This Row],[Verkoop-gewicht]]=\"\",\"\",lammering[[#This Row],[Verkoop-gewicht]]-lammering[[#This Row],[geboorte-gewicht]])","v":""},"",""]
[{"$f":"lammering[[#This Row],[Ooi]]","v":0},0,0,{"$f":"IF(lammering[[#This Row],[Lam-nummer]]=\"\",0,1)","v":0},{"$f":"IF(lammering[[#This Row],[Dood in geboorte]]=\"ja\",1,0)","v":0},{"$f":"IF(lammering[[#This Row],[Ooi]]=\"\",0,IF(Berekeningen!E388=0,1,0))","v":0},{"$f":"IF(D388=0,0,IF(lammering[[#This Row],[Dood in geboorte]]=\"Ja\",0,IF(lammering[[#This Row],[Dood na geboorte]]=\"ja\",0,1)))","v":0},{"$f":"IF(lammering[[#This Row],[Opfok met kunstmelk]]=\"Ja\",1,0)","v":0},{"$f":"IF(lammering[[#This Row],[geslacht]]=\"O\",1,0)","v":0},{"$f":"IF(lammering[[#This Row],[Speen-datum]]=\"\",\"\",(lammering[[#This Row],[Speen-gewicht]]-lammering[[#This Row],[geboorte-gewicht]])/(lammering[[#This Row],[Speen-datum]]-lammering[[#This Row],[Werp-datum]]))","v":""},{"$f":"IF(lammering[[#This Row],[Verkoop-datum]]=\"\",\"\",(lammering[[#This Row],[Verkoop-gewicht]]-lammering[[#This Row],[Speen-gewicht]])/(lammering[[#This Row],[Verkoop-datum]]-lammering[[#This Row],[Speen-datum]]))","v":""},{"$f":"IF(lammering[[#This Row],[Verkoop-datum]]=\"\",\"\",(lammering[[#This Row],[Verkoop-gewicht]]-lammering[[#This Row],[geboorte-gewicht]])/(lammering[[#This Row],[Verkoop-datum]]-lammering[[#This Row],[Werp-datum]]))","v":""},"","","","","","",{"$f":"IF(lammering[[#This Row],[Verkoop-gewicht]]=\"\",\"\",lammering[[#This Row],[Verkoop-gewicht]]-lammering[[#This Row],[geboorte-gewicht]])","v":""},"",""]
[{"$f":"lammering[[#This Row],[Ooi]]","v":0},0,0,{"$f":"IF(lammering[[#This Row],[Lam-nummer]]=\"\",0,1)","v":0},{"$f":"IF(lammering[[#This Row],[Dood in geboorte]]=\"ja\",1,0)","v":0},{"$f":"IF(lammering[[#This Row],[Ooi]]=\"\",0,IF(Berekeningen!E389=0,1,0))","v":0},{"$f":"IF(D389=0,0,IF(lammering[[#This Row],[Dood in geboorte]]=\"Ja\",0,IF(lammering[[#This Row],[Dood na geboorte]]=\"ja\",0,1)))","v":0},{"$f":"IF(lammering[[#This Row],[Opfok met kunstmelk]]=\"Ja\",1,0)","v":0},{"$f":"IF(lammering[[#This Row],[geslacht]]=\"O\",1,0)","v":0},{"$f":"IF(lammering[[#This Row],[Speen-datum]]=\"\",\"\",(lammering[[#This Row],[Speen-gewicht]]-lammering[[#This Row],[geboorte-gewicht]])/(lammering[[#This Row],[Speen-datum]]-lammering[[#This Row],[Werp-datum]]))","v":""},{"$f":"IF(lammering[[#This Row],[Verkoop-datum]]=\"\",\"\",(lammering[[#This Row],[Verkoop-gewicht]]-lammering[[#This Row],[Speen-gewicht]])/(lammering[[#This Row],[Verkoop-datum]]-lammering[[#This Row],[Speen-datum]]))","v":""},{"$f":"IF(lammering[[#This Row],[Verkoop-datum]]=\"\",\"\",(lammering[[#This Row],[Verkoop-gewicht]]-lammering[[#This Row],[geboorte-gewicht]])/(lammering[[#This Row],[Verkoop-datum]]-lammering[[#This Row],[Werp-datum]]))","v":""},"","","","","","",{"$f":"IF(lammering[[#This Row],[Verkoop-gewicht]]=\"\",\"\",lammering[[#This Row],[Verkoop-gewicht]]-lammering[[#This Row],[geboorte-gewicht]])","v":""},"",""]
[{"$f":"lammering[[#This Row],[Ooi]]","v":0},0,0,{"$f":"IF(lammering[[#This Row],[Lam-nummer]]=\"\",0,1)","v":0},{"$f":"IF(lammering[[#This Row],[Dood in geboorte]]=\"ja\",1,0)","v":0},{"$f":"IF(lammering[[#This Row],[Ooi]]=\"\",0,IF(Berekeningen!E390=0,1,0))","v":0},{"$f":"IF(D390=0,0,IF(lammering[[#This Row],[Dood in geboorte]]=\"Ja\",0,IF(lammering[[#This Row],[Dood na geboorte]]=\"ja\",0,1)))","v":0},{"$f":"IF(lammering[[#This Row],[Opfok met kunstmelk]]=\"Ja\",1,0)","v":0},{"$f":"IF(lammering[[#This Row],[geslacht]]=\"O\",1,0)","v":0},{"$f":"IF(lammering[[#This Row],[Speen-datum]]=\"\",\"\",(lammering[[#This Row],[Speen-gewicht]]-lammering[[#This Row],[geboorte-gewicht]])/(lammering[[#This Row],[Speen-datum]]-lammering[[#This Row],[Werp-datum]]))","v":""},{"$f":"IF(lammering[[#This Row],[Verkoop-datum]]=\"\",\"\",(lammering[[#This Row],[Verkoop-gewicht]]-lammering[[#This Row],[Speen-gewicht]])/(lammering[[#This Row],[Verkoop-datum]]-lammering[[#This Row],[Speen-datum]]))","v":""},{"$f":"IF(lammering[[#This Row],[Verkoop-datum]]=\"\",\"\",(lammering[[#This Row],[Verkoop-gewicht]]-lammering[[#This Row],[geboorte-gewicht]])/(lammering[[#This Row],[Verkoop-datum]]-lammering[[#This Row],[Werp-datum]]))","v":""},"","","","","","",{"$f":"IF(lammering[[#This Row],[Verkoop-gewicht]]=\"\",\"\",lammering[[#This Row],[Verkoop-gewicht]]-lammering[[#This Row],[geboorte-gewicht]])","v":""},"",""]
[{"$f":"lammering[[#This Row],[Ooi]]","v":0},0,0,{"$f":"IF(lammering[[#This Row],[Lam-nummer]]=\"\",0,1)","v":0},{"$f":"IF(lammering[[#This Row],[Dood in geboorte]]=\"ja\",1,0)","v":0},{"$f":"IF(lammering[[#This Row],[Ooi]]=\"\",0,IF(Berekeningen!E391=0,1,0))","v":0},{"$f":"IF(D391=0,0,IF(lammering[[#This Row],[Dood in geboorte]]=\"Ja\",0,IF(lammering[[#This Row],[Dood na geboorte]]=\"ja\",0,1)))","v":0},{"$f":"IF(lammering[[#This Row],[Opfok met kunstmelk]]=\"Ja\",1,0)","v":0},{"$f":"IF(lammering[[#This Row],[geslacht]]=\"O\",1,0)","v":0},{"$f":"IF(lammering[[#This Row],[Speen-datum]]=\"\",\"\",(lammering[[#This Row],[Speen-gewicht]]-lammering[[#This Row],[geboorte-gewicht]])/(lammering[[#This Row],[Speen-datum]]-lammering[[#This Row],[Werp-datum]]))","v":""},{"$f":"IF(lammering[[#This Row],[Verkoop-datum]]=\"\",\"\",(lammering[[#This Row],[Verkoop-gewicht]]-lammering[[#This Row],[Speen-gewicht]])/(lammering[[#This Row],[Verkoop-datum]]-lammering[[#This Row],[Speen-datum]]))","v":""},{"$f":"IF(lammering[[#This Row],[Verkoop-datum]]=\"\",\"\",(lammering[[#This Row],[Verkoop-gewicht]]-lammering[[#This Row],[geboorte-gewicht]])/(lammering[[#This Row],[Verkoop-datum]]-lammering[[#This Row],[Werp-datum]]))","v":""},"","","","","","",{"$f":"IF(lammering[[#This Row],[Verkoop-gewicht]]=\"\",\"\",lammering[[#This Row],[Verkoop-gewicht]]-lammering[[#This Row],[geboorte-gewicht]])","v":""},"",""]
[{"$f":"lammering[[#This Row],[Ooi]]","v":0},0,0,{"$f":"IF(lammering[[#This Row],[Lam-nummer]]=\"\",0,1)","v":0},{"$f":"IF(lammering[[#This Row],[Dood in geboorte]]=\"ja\",1,0)","v":0},{"$f":"IF(lammering[[#This Row],[Ooi]]=\"\",0,IF(Berekeningen!E392=0,1,0))","v":0},{"$f":"IF(D392=0,0,IF(lammering[[#This Row],[Dood in geboorte]]=\"Ja\",0,IF(lammering[[#This Row],[Dood na geboorte]]=\"ja\",0,1)))","v":0},{"$f":"IF(lammering[[#This Row],[Opfok met kunstmelk]]=\"Ja\",1,0)","v":0},{"$f":"IF(lammering[[#This Row],[geslacht]]=\"O\",1,0)","v":0},{"$f":"IF(lammering[[#This Row],[Speen-datum]]=\"\",\"\",(lammering[[#This Row],[Speen-gewicht]]-lammering[[#This Row],[geboorte-gewicht]])/(lammering[[#This Row],[Speen-datum]]-lammering[[#This Row],[Werp-datum]]))","v":""},{"$f":"IF(lammering[[#This Row],[Verkoop-datum]]=\"\",\"\",(lammering[[#This Row],[Verkoop-gewicht]]-lammering[[#This Row],[Speen-gewicht]])/(lammering[[#This Row],[Verkoop-datum]]-lammering[[#This Row],[Speen-datum]]))","v":""},{"$f":"IF(lammering[[#This Row],[Verkoop-datum]]=\"\",\"\",(lammering[[#This Row],[Verkoop-gewicht]]-lammering[[#This Row],[geboorte-gewicht]])/(lammering[[#This Row],[Verkoop-datum]]-lammering[[#This Row],[Werp-datum]]))","v":""},"","","","","","",{"$f":"IF(lammering[[#This Row],[Verkoop-gewicht]]=\"\",\"\",lammering[[#This Row],[Verkoop-gewicht]]-lammering[[#This Row],[geboorte-gewicht]])","v":""},"",""]
[{"$f":"lammering[[#This Row],[Ooi]]","v":0},0,0,{"$f":"IF(lammering[[#This Row],[Lam-nummer]]=\"\",0,1)","v":0},{"$f":"IF(lammering[[#This Row],[Dood in geboorte]]=\"ja\",1,0)","v":0},{"$f":"IF(lammering[[#This Row],[Ooi]]=\"\",0,IF(Berekeningen!E393=0,1,0))","v":0},{"$f":"IF(D393=0,0,IF(lammering[[#This Row],[Dood in geboorte]]=\"Ja\",0,IF(lammering[[#This Row],[Dood na geboorte]]=\"ja\",0,1)))","v":0},{"$f":"IF(lammering[[#This Row],[Opfok met kunstmelk]]=\"Ja\",1,0)","v":0},{"$f":"IF(lammering[[#This Row],[geslacht]]=\"O\",1,0)","v":0},{"$f":"IF(lammering[[#This Row],[Speen-datum]]=\"\",\"\",(lammering[[#This Row],[Speen-gewicht]]-lammering[[#This Row],[geboorte-gewicht]])/(lammering[[#This Row],[Speen-datum]]-lammering[[#This Row],[Werp-datum]]))","v":""},{"$f":"IF(lammering[[#This Row],[Verkoop-datum]]=\"\",\"\",(lammering[[#This Row],[Verkoop-gewicht]]-lammering[[#This Row],[Speen-gewicht]])/(lammering[[#This Row],[Verkoop-datum]]-lammering[[#This Row],[Speen-datum]]))","v":""},{"$f":"IF(lammering[[#This Row],[Verkoop-datum]]=\"\",\"\",(lammering[[#This Row],[Verkoop-gewicht]]-lammering[[#This Row],[geboorte-gewicht]])/(lammering[[#This Row],[Verkoop-datum]]-lammering[[#This Row],[Werp-datum]]))","v":""},"","","","","","",{"$f":"IF(lammering[[#This Row],[Verkoop-gewicht]]=\"\",\"\",lammering[[#This Row],[Verkoop-gewicht]]-lammering[[#This Row],[geboorte-gewicht]])","v":""},"",""]
[{"$f":"lammering[[#This Row],[Ooi]]","v":0},0,0,{"$f":"IF(lammering[[#This Row],[Lam-nummer]]=\"\",0,1)","v":0},{"$f":"IF(lammering[[#This Row],[Dood in geboorte]]=\"ja\",1,0)","v":0},{"$f":"IF(lammering[[#This Row],[Ooi]]=\"\",0,IF(Berekeningen!E394=0,1,0))","v":0},{"$f":"IF(D394=0,0,IF(lammering[[#This Row],[Dood in geboorte]]=\"Ja\",0,IF(lammering[[#This Row],[Dood na geboorte]]=\"ja\",0,1)))","v":0},{"$f":"IF(lammering[[#This Row],[Opfok met kunstmelk]]=\"Ja\",1,0)","v":0},{"$f":"IF(lammering[[#This Row],[geslacht]]=\"O\",1,0)","v":0},{"$f":"IF(lammering[[#This Row],[Speen-datum]]=\"\",\"\",(lammering[[#This Row],[Speen-gewicht]]-lammering[[#This Row],[geboorte-gewicht]])/(lammering[[#This Row],[Speen-datum]]-lammering[[#This Row],[Werp-datum]]))","v":""},{"$f":"IF(lammering[[#This Row],[Verkoop-datum]]=\"\",\"\",(lammering[[#This Row],[Verkoop-gewicht]]-lammering[[#This Row],[Speen-gewicht]])/(lammering[[#This Row],[Verkoop-datum]]-lammering[[#This Row],[Speen-datum]]))","v":""},{"$f":"IF(lammering[[#This Row],[Verkoop-datum]]=\"\",\"\",(lammering[[#This Row],[Verkoop-gewicht]]-lammering[[#This Row],[geboorte-gewicht]])/(lammering[[#This Row],[Verkoop-datum]]-lammering[[#This Row],[Werp-datum]]))","v":""},"","","","","","",{"$f":"IF(lammering[[#This Row],[Verkoop-gewicht]]=\"\",\"\",lammering[[#This Row],[Verkoop-gewicht]]-lammering[[#This Row],[geboorte-gewicht]])","v":""},"",""]
[{"$f":"lammering[[#This Row],[Ooi]]","v":0},0,0,{"$f":"IF(lammering[[#This Row],[Lam-nummer]]=\"\",0,1)","v":0},{"$f":"IF(lammering[[#This Row],[Dood in geboorte]]=\"ja\",1,0)","v":0},{"$f":"IF(lammering[[#This Row],[Ooi]]=\"\",0,IF(Berekeningen!E395=0,1,0))","v":0},{"$f":"IF(D395=0,0,IF(lammering[[#This Row],[Dood in geboorte]]=\"Ja\",0,IF(lammering[[#This Row],[Dood na geboorte]]=\"ja\",0,1)))","v":0},{"$f":"IF(lammering[[#This Row],[Opfok met kunstmelk]]=\"Ja\",1,0)","v":0},{"$f":"IF(lammering[[#This Row],[geslacht]]=\"O\",1,0)","v":0},{"$f":"IF(lammering[[#This Row],[Speen-datum]]=\"\",\"\",(lammering[[#This Row],[Speen-gewicht]]-lammering[[#This Row],[geboorte-gewicht]])/(lammering[[#This Row],[Speen-datum]]-lammering[[#This Row],[Werp-datum]]))","v":""},{"$f":"IF(lammering[[#This Row],[Verkoop-datum]]=\"\",\"\",(lammering[[#This Row],[Verkoop-gewicht]]-lammering[[#This Row],[Speen-gewicht]])/(lammering[[#This Row],[Verkoop-datum]]-lammering[[#This Row],[Speen-datum]]))","v":""},{"$f":"IF(lammering[[#This Row],[Verkoop-datum]]=\"\",\"\",(lammering[[#This Row],[Verkoop-gewicht]]-lammering[[#This Row],[geboorte-gewicht]])/(lammering[[#This Row],[Verkoop-datum]]-lammering[[#This Row],[Werp-datum]]))","v":""},"","","","","","",{"$f":"IF(lammering[[#This Row],[Verkoop-gewicht]]=\"\",\"\",lammering[[#This Row],[Verkoop-gewicht]]-lammering[[#This Row],[geboorte-gewicht]])","v":""},"",""]
[{"$f":"lammering[[#This Row],[Ooi]]","v":0},0,0,{"$f":"IF(lammering[[#This Row],[Lam-nummer]]=\"\",0,1)","v":0},{"$f":"IF(lammering[[#This Row],[Dood in geboorte]]=\"ja\",1,0)","v":0},{"$f":"IF(lammering[[#This Row],[Ooi]]=\"\",0,IF(Berekeningen!E396=0,1,0))","v":0},{"$f":"IF(D396=0,0,IF(lammering[[#This Row],[Dood in geboorte]]=\"Ja\",0,IF(lammering[[#This Row],[Dood na geboorte]]=\"ja\",0,1)))","v":0},{"$f":"IF(lammering[[#This Row],[Opfok met kunstmelk]]=\"Ja\",1,0)","v":0},{"$f":"IF(lammering[[#This Row],[geslacht]]=\"O\",1,0)","v":0},{"$f":"IF(lammering[[#This Row],[Speen-datum]]=\"\",\"\",(lammering[[#This Row],[Speen-gewicht]]-lammering[[#This Row],[geboorte-gewicht]])/(lammering[[#This Row],[Speen-datum]]-lammering[[#This Row],[Werp-datum]]))","v":""},{"$f":"IF(lammering[[#This Row],[Verkoop-datum]]=\"\",\"\",(lammering[[#This Row],[Verkoop-gewicht]]-lammering[[#This Row],[Speen-gewicht]])/(lammering[[#This Row],[Verkoop-datum]]-lammering[[#This Row],[Speen-datum]]))","v":""},{"$f":"IF(lammering[[#This Row],[Verkoop-datum]]=\"\",\"\",(lammering[[#This Row],[Verkoop-gewicht]]-lammering[[#This Row],[geboorte-gewicht]])/(lammering[[#This Row],[Verkoop-datum]]-lammering[[#This Row],[Werp-datum]]))","v":""},"","","","","","",{"$f":"IF(lammering[[#This Row],[Verkoop-gewicht]]=\"\",\"\",lammering[[#This Row],[Verkoop-gewicht]]-lammering[[#This Row],[geboorte-gewicht]])","v":""},"",""]
[{"$f":"lammering[[#This Row],[Ooi]]","v":0},0,0,{"$f":"IF(lammering[[#This Row],[Lam-nummer]]=\"\",0,1)","v":0},{"$f":"IF(lammering[[#This Row],[Dood in geboorte]]=\"ja\",1,0)","v":0},{"$f":"IF(lammering[[#This Row],[Ooi]]=\"\",0,IF(Berekeningen!E397=0,1,0))","v":0},{"$f":"IF(D397=0,0,IF(lammering[[#This Row],[Dood in geboorte]]=\"Ja\",0,IF(lammering[[#This Row],[Dood na geboorte]]=\"ja\",0,1)))","v":0},{"$f":"IF(lammering[[#This Row],[Opfok met kunstmelk]]=\"Ja\",1,0)","v":0},{"$f":"IF(lammering[[#This Row],[geslacht]]=\"O\",1,0)","v":0},{"$f":"IF(lammering[[#This Row],[Speen-datum]]=\"\",\"\",(lammering[[#This Row],[Speen-gewicht]]-lammering[[#This Row],[geboorte-gewicht]])/(lammering[[#This Row],[Speen-datum]]-lammering[[#This Row],[Werp-datum]]))","v":""},{"$f":"IF(lammering[[#This Row],[Verkoop-datum]]=\"\",\"\",(lammering[[#This Row],[Verkoop-gewicht]]-lammering[[#This Row],[Speen-gewicht]])/(lammering[[#This Row],[Verkoop-datum]]-lammering[[#This Row],[Speen-datum]]))","v":""},{"$f":"IF(lammering[[#This Row],[Verkoop-datum]]=\"\",\"\",(lammering[[#This Row],[Verkoop-gewicht]]-lammering[[#This Row],[geboorte-gewicht]])/(lammering[[#This Row],[Verkoop-datum]]-lammering[[#This Row],[Werp-datum]]))","v":""},"","","","","","",{"$f":"IF(lammering[[#This Row],[Verkoop-gewicht]]=\"\",\"\",lammering[[#This Row],[Verkoop-gewicht]]-lammering[[#This Row],[geboorte-gewicht]])","v":""},"",""]
[{"$f":"lammering[[#This Row],[Ooi]]","v":0},0,0,{"$f":"IF(lammering[[#This Row],[Lam-nummer]]=\"\",0,1)","v":0},{"$f":"IF(lammering[[#This Row],[Dood in geboorte]]=\"ja\",1,0)","v":0},{"$f":"IF(lammering[[#This Row],[Ooi]]=\"\",0,IF(Berekeningen!E398=0,1,0))","v":0},{"$f":"IF(D398=0,0,IF(lammering[[#This Row],[Dood in geboorte]]=\"Ja\",0,IF(lammering[[#This Row],[Dood na geboorte]]=\"ja\",0,1)))","v":0},{"$f":"IF(lammering[[#This Row],[Opfok met kunstmelk]]=\"Ja\",1,0)","v":0},{"$f":"IF(lammering[[#This Row],[geslacht]]=\"O\",1,0)","v":0},{"$f":"IF(lammering[[#This Row],[Speen-datum]]=\"\",\"\",(lammering[[#This Row],[Speen-gewicht]]-lammering[[#This Row],[geboorte-gewicht]])/(lammering[[#This Row],[Speen-datum]]-lammering[[#This Row],[Werp-datum]]))","v":""},{"$f":"IF(lammering[[#This Row],[Verkoop-datum]]=\"\",\"\",(lammering[[#This Row],[Verkoop-gewicht]]-lammering[[#This Row],[Speen-gewicht]])/(lammering[[#This Row],[Verkoop-datum]]-lammering[[#This Row],[Speen-datum]]))","v":""},{"$f":"IF(lammering[[#This Row],[Verkoop-datum]]=\"\",\"\",(lammering[[#This Row],[Verkoop-gewicht]]-lammering[[#This Row],[geboorte-gewicht]])/(lammering[[#This Row],[Verkoop-datum]]-lammering[[#This Row],[Werp-datum]]))","v":""},"","","","","","",{"$f":"IF(lammering[[#This Row],[Verkoop-gewicht]]=\"\",\"\",lammering[[#This Row],[Verkoop-gewicht]]-lammering[[#This Row],[geboorte-gewicht]])","v":""},"",""]
[{"$f":"lammering[[#This Row],[Ooi]]","v":0},0,0,{"$f":"IF(lammering[[#This Row],[Lam-nummer]]=\"\",0,1)","v":0},{"$f":"IF(lammering[[#This Row],[Dood in geboorte]]=\"ja\",1,0)","v":0},{"$f":"IF(lammering[[#This Row],[Ooi]]=\"\",0,IF(Berekeningen!E399=0,1,0))","v":0},{"$f":"IF(D399=0,0,IF(lammering[[#This Row],[Dood in geboorte]]=\"Ja\",0,IF(lammering[[#This Row],[Dood na geboorte]]=\"ja\",0,1)))","v":0},{"$f":"IF(lammering[[#This Row],[Opfok met kunstmelk]]=\"Ja\",1,0)","v":0},{"$f":"IF(lammering[[#This Row],[geslacht]]=\"O\",1,0)","v":0},{"$f":"IF(lammering[[#This Row],[Speen-datum]]=\"\",\"\",(lammering[[#This Row],[Speen-gewicht]]-lammering[[#This Row],[geboorte-gewicht]])/(lammering[[#This Row],[Speen-datum]]-lammering[[#This Row],[Werp-datum]]))","v":""},{"$f":"IF(lammering[[#This Row],[Verkoop-datum]]=\"\",\"\",(lammering[[#This Row],[Verkoop-gewicht]]-lammering[[#This Row],[Speen-gewicht]])/(lammering[[#This Row],[Verkoop-datum]]-lammering[[#This Row],[Speen-datum]]))","v":""},{"$f":"IF(lammering[[#This Row],[Verkoop-datum]]=\"\",\"\",(lammering[[#This Row],[Verkoop-gewicht]]-lammering[[#This Row],[geboorte-gewicht]])/(lammering[[#This Row],[Verkoop-datum]]-lammering[[#This Row],[Werp-datum]]))","v":""},{"$f":"IF($I399=1,J399,\"\")","v":""},{"$f":"IF($I399=1,K399,\"\")","v":""},{"$f":"IF($I399=1,L399,\"\")","v":""},{"$f":"IF($I399=0,J399,\"\")","v":""},{"$f":"IF($I399=0,K399,\"\")","v":""},{"$f":"IF($I399=0,L399,\"\")","v":""},{"$f":"IF(lammering[[#This Row],[Verkoop-gewicht]]=\"\",\"\",lammering[[#This Row],[Verkoop-gewicht]]-lammering[[#This Row],[geboorte-gewicht]])","v":""},{"$f":"IF(I399=1,S399,\"\")","v":""},{"$f":"IF(I399=0,S399,\"\")","v":""}]
[{"$f":"lammering[[#This Row],[Ooi]]","v":0},0,0,{"$f":"IF(lammering[[#This Row],[Lam-nummer]]=\"\",0,1)","v":0},{"$f":"IF(lammering[[#This Row],[Dood in geboorte]]=\"ja\",1,0)","v":0},{"$f":"IF(lammering[[#This Row],[Ooi]]=\"\",0,IF(Berekeningen!E400=0,1,0))","v":0},{"$f":"IF(D400=0,0,IF(lammering[[#This Row],[Dood in geboorte]]=\"Ja\",0,IF(lammering[[#This Row],[Dood na geboorte]]=\"ja\",0,1)))","v":0},{"$f":"IF(lammering[[#This Row],[Opfok met kunstmelk]]=\"Ja\",1,0)","v":0},{"$f":"IF(lammering[[#This Row],[geslacht]]=\"O\",1,0)","v":0},{"$f":"IF(lammering[[#This Row],[Speen-datum]]=\"\",\"\",(lammering[[#This Row],[Speen-gewicht]]-lammering[[#This Row],[geboorte-gewicht]])/(lammering[[#This Row],[Speen-datum]]-lammering[[#This Row],[Werp-datum]]))","v":""},{"$f":"IF(lammering[[#This Row],[Verkoop-datum]]=\"\",\"\",(lammering[[#This Row],[Verkoop-gewicht]]-lammering[[#This Row],[Speen-gewicht]])/(lammering[[#This Row],[Verkoop-datum]]-lammering[[#This Row],[Speen-datum]]))","v":""},{"$f":"IF(lammering[[#This Row],[Verkoop-datum]]=\"\",\"\",(lammering[[#This Row],[Verkoop-gewicht]]-lammering[[#This Row],[geboorte-gewicht]])/(lammering[[#This Row],[Verkoop-datum]]-lammering[[#This Row],[Werp-datum]]))","v":""},"","","","","","",{"$f":"IF(lammering[[#This Row],[Verkoop-gewicht]]=\"\",\"\",lammering[[#This Row],[Verkoop-gewicht]]-lammering[[#This Row],[geboorte-gewicht]])","v":""},"",""]
[{"$f":"lammering[[#This Row],[Ooi]]","v":0},0,0,{"$f":"IF(lammering[[#This Row],[Lam-nummer]]=\"\",0,1)","v":0},{"$f":"IF(lammering[[#This Row],[Dood in geboorte]]=\"ja\",1,0)","v":0},{"$f":"IF(lammering[[#This Row],[Ooi]]=\"\",0,IF(Berekeningen!E401=0,1,0))","v":0},{"$f":"IF(D401=0,0,IF(lammering[[#This Row],[Dood in geboorte]]=\"Ja\",0,IF(lammering[[#This Row],[Dood na geboorte]]=\"ja\",0,1)))","v":0},{"$f":"IF(lammering[[#This Row],[Opfok met kunstmelk]]=\"Ja\",1,0)","v":0},{"$f":"IF(lammering[[#This Row],[geslacht]]=\"O\",1,0)","v":0},{"$f":"IF(lammering[[#This Row],[Speen-datum]]=\"\",\"\",(lammering[[#This Row],[Speen-gewicht]]-lammering[[#This Row],[geboorte-gewicht]])/(lammering[[#This Row],[Speen-datum]]-lammering[[#This Row],[Werp-datum]]))","v":""},{"$f":"IF(lammering[[#This Row],[Verkoop-datum]]=\"\",\"\",(lammering[[#This Row],[Verkoop-gewicht]]-lammering[[#This Row],[Speen-gewicht]])/(lammering[[#This Row],[Verkoop-datum]]-lammering[[#This Row],[Speen-datum]]))","v":""},{"$f":"IF(lammering[[#This Row],[Verkoop-datum]]=\"\",\"\",(lammering[[#This Row],[Verkoop-gewicht]]-lammering[[#This Row],[geboorte-gewicht]])/(lammering[[#This Row],[Verkoop-datum]]-lammering[[#This Row],[Werp-datum]]))","v":""},"","","","","","",{"$f":"IF(lammering[[#This Row],[Verkoop-gewicht]]=\"\",\"\",lammering[[#This Row],[Verkoop-gewicht]]-lammering[[#This Row],[geboorte-gewicht]])","v":""},"",""]
[{"$f":"lammering[[#This Row],[Ooi]]","v":0},0,0,{"$f":"IF(lammering[[#This Row],[Lam-nummer]]=\"\",0,1)","v":0},{"$f":"IF(lammering[[#This Row],[Dood in geboorte]]=\"ja\",1,0)","v":0},{"$f":"IF(lammering[[#This Row],[Ooi]]=\"\",0,IF(Berekeningen!E402=0,1,0))","v":0},{"$f":"IF(D402=0,0,IF(lammering[[#This Row],[Dood in geboorte]]=\"Ja\",0,IF(lammering[[#This Row],[Dood na geboorte]]=\"ja\",0,1)))","v":0},{"$f":"IF(lammering[[#This Row],[Opfok met kunstmelk]]=\"Ja\",1,0)","v":0},{"$f":"IF(lammering[[#This Row],[geslacht]]=\"O\",1,0)","v":0},{"$f":"IF(lammering[[#This Row],[Speen-datum]]=\"\",\"\",(lammering[[#This Row],[Speen-gewicht]]-lammering[[#This Row],[geboorte-gewicht]])/(lammering[[#This Row],[Speen-datum]]-lammering[[#This Row],[Werp-datum]]))","v":""},{"$f":"IF(lammering[[#This Row],[Verkoop-datum]]=\"\",\"\",(lammering[[#This Row],[Verkoop-gewicht]]-lammering[[#This Row],[Speen-gewicht]])/(lammering[[#This Row],[Verkoop-datum]]-lammering[[#This Row],[Speen-datum]]))","v":""},{"$f":"IF(lammering[[#This Row],[Verkoop-datum]]=\"\",\"\",(lammering[[#This Row],[Verkoop-gewicht]]-lammering[[#This Row],[geboorte-gewicht]])/(lammering[[#This Row],[Verkoop-datum]]-lammering[[#This Row],[Werp-datum]]))","v":""},"","","","","","",{"$f":"IF(lammering[[#This Row],[Verkoop-gewicht]]=\"\",\"\",lammering[[#This Row],[Verkoop-gewicht]]-lammering[[#This Row],[geboorte-gewicht]])","v":""},"",""]
[{"$f":"lammering[[#This Row],[Ooi]]","v":0},0,0,{"$f":"IF(lammering[[#This Row],[Lam-nummer]]=\"\",0,1)","v":0},{"$f":"IF(lammering[[#This Row],[Dood in geboorte]]=\"ja\",1,0)","v":0},{"$f":"IF(lammering[[#This Row],[Ooi]]=\"\",0,IF(Berekeningen!E403=0,1,0))","v":0},{"$f":"IF(D403=0,0,IF(lammering[[#This Row],[Dood in geboorte]]=\"Ja\",0,IF(lammering[[#This Row],[Dood na geboorte]]=\"ja\",0,1)))","v":0},{"$f":"IF(lammering[[#This Row],[Opfok met kunstmelk]]=\"Ja\",1,0)","v":0},{"$f":"IF(lammering[[#This Row],[geslacht]]=\"O\",1,0)","v":0},{"$f":"IF(lammering[[#This Row],[Speen-datum]]=\"\",\"\",(lammering[[#This Row],[Speen-gewicht]]-lammering[[#This Row],[geboorte-gewicht]])/(lammering[[#This Row],[Speen-datum]]-lammering[[#This Row],[Werp-datum]]))","v":""},{"$f":"IF(lammering[[#This Row],[Verkoop-datum]]=\"\",\"\",(lammering[[#This Row],[Verkoop-gewicht]]-lammering[[#This Row],[Speen-gewicht]])/(lammering[[#This Row],[Verkoop-datum]]-lammering[[#This Row],[Speen-datum]]))","v":""},{"$f":"IF(lammering[[#This Row],[Verkoop-datum]]=\"\",\"\",(lammering[[#This Row],[Verkoop-gewicht]]-lammering[[#This Row],[geboorte-gewicht]])/(lammering[[#This Row],[Verkoop-datum]]-lammering[[#This Row],[Werp-datum]]))","v":""},"","","","","","",{"$f":"IF(lammering[[#This Row],[Verkoop-gewicht]]=\"\",\"\",lammering[[#This Row],[Verkoop-gewicht]]-lammering[[#This Row],[geboorte-gewicht]])","v":""},"",""]
[{"$f":"lammering[[#This Row],[Ooi]]","v":0},0,0,{"$f":"IF(lammering[[#This Row],[Lam-nummer]]=\"\",0,1)","v":0},{"$f":"IF(lammering[[#This Row],[Dood in geboorte]]=\"ja\",1,0)","v":0},{"$f":"IF(lammering[[#This Row],[Ooi]]=\"\",0,IF(Berekeningen!E404=0,1,0))","v":0},{"$f":"IF(D404=0,0,IF(lammering[[#This Row],[Dood in geboorte]]=\"Ja\",0,IF(lammering[[#This Row],[Dood na geboorte]]=\"ja\",0,1)))","v":0},{"$f":"IF(lammering[[#This Row],[Opfok met kunstmelk]]=\"Ja\",1,0)","v":0},{"$f":"IF(lammering[[#This Row],[geslacht]]=\"O\",1,0)","v":0},{"$f":"IF(lammering[[#This Row],[Speen-datum]]=\"\",\"\",(lammering[[#This Row],[Speen-gewicht]]-lammering[[#This Row],[geboorte-gewicht]])/(lammering[[#This Row],[Speen-datum]]-lammering[[#This Row],[Werp-datum]]))","v":""},{"$f":"IF(lammering[[#This Row],[Verkoop-datum]]=\"\",\"\",(lammering[[#This Row],[Verkoop-gewicht]]-lammering[[#This Row],[Speen-gewicht]])/(lammering[[#This Row],[Verkoop-datum]]-lammering[[#This Row],[Speen-datum]]))","v":""},{"$f":"IF(lammering[[#This Row],[Verkoop-datum]]=\"\",\"\",(lammering[[#This Row],[Verkoop-gewicht]]-lammering[[#This Row],[geboorte-gewicht]])/(lammering[[#This Row],[Verkoop-datum]]-lammering[[#This Row],[Werp-datum]]))","v":""},"","","","","","",{"$f":"IF(lammering[[#This Row],[Verkoop-gewicht]]=\"\",\"\",lammering[[#This Row],[Verkoop-gewicht]]-lammering[[#This Row],[geboorte-gewicht]])","v":""},"",""]
[{"$f":"lammering[[#This Row],[Ooi]]","v":0},0,0,{"$f":"IF(lammering[[#This Row],[Lam-nummer]]=\"\",0,1)","v":0},{"$f":"IF(lammering[[#This Row],[Dood in geboorte]]=\"ja\",1,0)","v":0},{"$f":"IF(lammering[[#This Row],[Ooi]]=\"\",0,IF(Berekeningen!E405=0,1,0))","v":0},{"$f":"IF(D405=0,0,IF(lammering[[#This Row],[Dood in geboorte]]=\"Ja\",0,IF(lammering[[#This Row],[Dood na geboorte]]=\"ja\",0,1)))","v":0},{"$f":"IF(lammering[[#This Row],[Opfok met kunstmelk]]=\"Ja\",1,0)","v":0},{"$f":"IF(lammering[[#This Row],[geslacht]]=\"O\",1,0)","v":0},{"$f":"IF(lammering[[#This Row],[Speen-datum]]=\"\",\"\",(lammering[[#This Row],[Speen-gewicht]]-lammering[[#This Row],[geboorte-gewicht]])/(lammering[[#This Row],[Speen-datum]]-lammering[[#This Row],[Werp-datum]]))","v":""},{"$f":"IF(lammering[[#This Row],[Verkoop-datum]]=\"\",\"\",(lammering[[#This Row],[Verkoop-gewicht]]-lammering[[#This Row],[Speen-gewicht]])/(lammering[[#This Row],[Verkoop-datum]]-lammering[[#This Row],[Speen-datum]]))","v":""},{"$f":"IF(lammering[[#This Row],[Verkoop-datum]]=\"\",\"\",(lammering[[#This Row],[Verkoop-gewicht]]-lammering[[#This Row],[geboorte-gewicht]])/(lammering[[#This Row],[Verkoop-datum]]-lammering[[#This Row],[Werp-datum]]))","v":""},"","","","","","",{"$f":"IF(lammering[[#This Row],[Verkoop-gewicht]]=\"\",\"\",lammering[[#This Row],[Verkoop-gewicht]]-lammering[[#This Row],[geboorte-gewicht]])","v":""},"",""]
[{"$f":"lammering[[#This Row],[Ooi]]","v":0},0,0,{"$f":"IF(lammering[[#This Row],[Lam-nummer]]=\"\",0,1)","v":0},{"$f":"IF(lammering[[#This Row],[Dood in geboorte]]=\"ja\",1,0)","v":0},{"$f":"IF(lammering[[#This Row],[Ooi]]=\"\",0,IF(Berekeningen!E406=0,1,0))","v":0},{"$f":"IF(D406=0,0,IF(lammering[[#This Row],[Dood in geboorte]]=\"Ja\",0,IF(lammering[[#This Row],[Dood na geboorte]]=\"ja\",0,1)))","v":0},{"$f":"IF(lammering[[#This Row],[Opfok met kunstmelk]]=\"Ja\",1,0)","v":0},{"$f":"IF(lammering[[#This Row],[geslacht]]=\"O\",1,0)","v":0},{"$f":"IF(lammering[[#This Row],[Speen-datum]]=\"\",\"\",(lammering[[#This Row],[Speen-gewicht]]-lammering[[#This Row],[geboorte-gewicht]])/(lammering[[#This Row],[Speen-datum]]-lammering[[#This Row],[Werp-datum]]))","v":""},{"$f":"IF(lammering[[#This Row],[Verkoop-datum]]=\"\",\"\",(lammering[[#This Row],[Verkoop-gewicht]]-lammering[[#This Row],[Speen-gewicht]])/(lammering[[#This Row],[Verkoop-datum]]-lammering[[#This Row],[Speen-datum]]))","v":""},{"$f":"IF(lammering[[#This Row],[Verkoop-datum]]=\"\",\"\",(lammering[[#This Row],[Verkoop-gewicht]]-lammering[[#This Row],[geboorte-gewicht]])/(lammering[[#This Row],[Verkoop-datum]]-lammering[[#This Row],[Werp-datum]]))","v":""},"","","","","","",{"$f":"IF(lammering[[#This Row],[Verkoop-gewicht]]=\"\",\"\",lammering[[#This Row],[Verkoop-gewicht]]-lammering[[#This Row],[geboorte-gewicht]])","v":""},"",""]
[{"$f":"lammering[[#This Row],[Ooi]]","v":0},0,0,{"$f":"IF(lammering[[#This Row],[Lam-nummer]]=\"\",0,1)","v":0},{"$f":"IF(lammering[[#This Row],[Dood in geboorte]]=\"ja\",1,0)","v":0},{"$f":"IF(lammering[[#This Row],[Ooi]]=\"\",0,IF(Berekeningen!E407=0,1,0))","v":0},{"$f":"IF(D407=0,0,IF(lammering[[#This Row],[Dood in geboorte]]=\"Ja\",0,IF(lammering[[#This Row],[Dood na geboorte]]=\"ja\",0,1)))","v":0},{"$f":"IF(lammering[[#This Row],[Opfok met kunstmelk]]=\"Ja\",1,0)","v":0},{"$f":"IF(lammering[[#This Row],[geslacht]]=\"O\",1,0)","v":0},{"$f":"IF(lammering[[#This Row],[Speen-datum]]=\"\",\"\",(lammering[[#This Row],[Speen-gewicht]]-lammering[[#This Row],[geboorte-gewicht]])/(lammering[[#This Row],[Speen-datum]]-lammering[[#This Row],[Werp-datum]]))","v":""},{"$f":"IF(lammering[[#This Row],[Verkoop-datum]]=\"\",\"\",(lammering[[#This Row],[Verkoop-gewicht]]-lammering[[#This Row],[Speen-gewicht]])/(lammering[[#This Row],[Verkoop-datum]]-lammering[[#This Row],[Speen-datum]]))","v":""},{"$f":"IF(lammering[[#This Row],[Verkoop-datum]]=\"\",\"\",(lammering[[#This Row],[Verkoop-gewicht]]-lammering[[#This Row],[geboorte-gewicht]])/(lammering[[#This Row],[Verkoop-datum]]-lammering[[#This Row],[Werp-datum]]))","v":""},"","","","","","",{"$f":"IF(lammering[[#This Row],[Verkoop-gewicht]]=\"\",\"\",lammering[[#This Row],[Verkoop-gewicht]]-lammering[[#This Row],[geboorte-gewicht]])","v":""},"",""]
[{"$f":"lammering[[#This Row],[Ooi]]","v":0},0,0,{"$f":"IF(lammering[[#This Row],[Lam-nummer]]=\"\",0,1)","v":0},{"$f":"IF(lammering[[#This Row],[Dood in geboorte]]=\"ja\",1,0)","v":0},{"$f":"IF(lammering[[#This Row],[Ooi]]=\"\",0,IF(Berekeningen!E408=0,1,0))","v":0},{"$f":"IF(D408=0,0,IF(lammering[[#This Row],[Dood in geboorte]]=\"Ja\",0,IF(lammering[[#This Row],[Dood na geboorte]]=\"ja\",0,1)))","v":0},{"$f":"IF(lammering[[#This Row],[Opfok met kunstmelk]]=\"Ja\",1,0)","v":0},{"$f":"IF(lammering[[#This Row],[geslacht]]=\"O\",1,0)","v":0},{"$f":"IF(lammering[[#This Row],[Speen-datum]]=\"\",\"\",(lammering[[#This Row],[Speen-gewicht]]-lammering[[#This Row],[geboorte-gewicht]])/(lammering[[#This Row],[Speen-datum]]-lammering[[#This Row],[Werp-datum]]))","v":""},{"$f":"IF(lammering[[#This Row],[Verkoop-datum]]=\"\",\"\",(lammering[[#This Row],[Verkoop-gewicht]]-lammering[[#This Row],[Speen-gewicht]])/(lammering[[#This Row],[Verkoop-datum]]-lammering[[#This Row],[Speen-datum]]))","v":""},{"$f":"IF(lammering[[#This Row],[Verkoop-datum]]=\"\",\"\",(lammering[[#This Row],[Verkoop-gewicht]]-lammering[[#This Row],[geboorte-gewicht]])/(lammering[[#This Row],[Verkoop-datum]]-lammering[[#This Row],[Werp-datum]]))","v":""},"","","","","","",{"$f":"IF(lammering[[#This Row],[Verkoop-gewicht]]=\"\",\"\",lammering[[#This Row],[Verkoop-gewicht]]-lammering[[#This Row],[geboorte-gewicht]])","v":""},"",""]
[{"$f":"lammering[[#This Row],[Ooi]]","v":0},0,0,{"$f":"IF(lammering[[#This Row],[Lam-nummer]]=\"\",0,1)","v":0},{"$f":"IF(lammering[[#This Row],[Dood in geboorte]]=\"ja\",1,0)","v":0},{"$f":"IF(lammering[[#This Row],[Ooi]]=\"\",0,IF(Berekeningen!E409=0,1,0))","v":0},{"$f":"IF(D409=0,0,IF(lammering[[#This Row],[Dood in geboorte]]=\"Ja\",0,IF(lammering[[#This Row],[Dood na geboorte]]=\"ja\",0,1)))","v":0},{"$f":"IF(lammering[[#This Row],[Opfok met kunstmelk]]=\"Ja\",1,0)","v":0},{"$f":"IF(lammering[[#This Row],[geslacht]]=\"O\",1,0)","v":0},{"$f":"IF(lammering[[#This Row],[Speen-datum]]=\"\",\"\",(lammering[[#This Row],[Speen-gewicht]]-lammering[[#This Row],[geboorte-gewicht]])/(lammering[[#This Row],[Speen-datum]]-lammering[[#This Row],[Werp-datum]]))","v":""},{"$f":"IF(lammering[[#This Row],[Verkoop-datum]]=\"\",\"\",(lammering[[#This Row],[Verkoop-gewicht]]-lammering[[#This Row],[Speen-gewicht]])/(lammering[[#This Row],[Verkoop-datum]]-lammering[[#This Row],[Speen-datum]]))","v":""},{"$f":"IF(lammering[[#This Row],[Verkoop-datum]]=\"\",\"\",(lammering[[#This Row],[Verkoop-gewicht]]-lammering[[#This Row],[geboorte-gewicht]])/(lammering[[#This Row],[Verkoop-datum]]-lammering[[#This Row],[Werp-datum]]))","v":""},"","","","","","",{"$f":"IF(lammering[[#This Row],[Verkoop-gewicht]]=\"\",\"\",lammering[[#This Row],[Verkoop-gewicht]]-lammering[[#This Row],[geboorte-gewicht]])","v":""},"",""]
[{"$f":"lammering[[#This Row],[Ooi]]","v":0},0,0,{"$f":"IF(lammering[[#This Row],[Lam-nummer]]=\"\",0,1)","v":0},{"$f":"IF(lammering[[#This Row],[Dood in geboorte]]=\"ja\",1,0)","v":0},{"$f":"IF(lammering[[#This Row],[Ooi]]=\"\",0,IF(Berekeningen!E410=0,1,0))","v":0},{"$f":"IF(D410=0,0,IF(lammering[[#This Row],[Dood in geboorte]]=\"Ja\",0,IF(lammering[[#This Row],[Dood na geboorte]]=\"ja\",0,1)))","v":0},{"$f":"IF(lammering[[#This Row],[Opfok met kunstmelk]]=\"Ja\",1,0)","v":0},{"$f":"IF(lammering[[#This Row],[geslacht]]=\"O\",1,0)","v":0},{"$f":"IF(lammering[[#This Row],[Speen-datum]]=\"\",\"\",(lammering[[#This Row],[Speen-gewicht]]-lammering[[#This Row],[geboorte-gewicht]])/(lammering[[#This Row],[Speen-datum]]-lammering[[#This Row],[Werp-datum]]))","v":""},{"$f":"IF(lammering[[#This Row],[Verkoop-datum]]=\"\",\"\",(lammering[[#This Row],[Verkoop-gewicht]]-lammering[[#This Row],[Speen-gewicht]])/(lammering[[#This Row],[Verkoop-datum]]-lammering[[#This Row],[Speen-datum]]))","v":""},{"$f":"IF(lammering[[#This Row],[Verkoop-datum]]=\"\",\"\",(lammering[[#This Row],[Verkoop-gewicht]]-lammering[[#This Row],[geboorte-gewicht]])/(lammering[[#This Row],[Verkoop-datum]]-lammering[[#This Row],[Werp-datum]]))","v":""},"","","","","","",{"$f":"IF(lammering[[#This Row],[Verkoop-gewicht]]=\"\",\"\",lammering[[#This Row],[Verkoop-gewicht]]-lammering[[#This Row],[geboorte-gewicht]])","v":""},"",""]
[{"$f":"lammering[[#This Row],[Ooi]]","v":0},0,0,{"$f":"IF(lammering[[#This Row],[Lam-nummer]]=\"\",0,1)","v":0},{"$f":"IF(lammering[[#This Row],[Dood in geboorte]]=\"ja\",1,0)","v":0},{"$f":"IF(lammering[[#This Row],[Ooi]]=\"\",0,IF(Berekeningen!E411=0,1,0))","v":0},{"$f":"IF(D411=0,0,IF(lammering[[#This Row],[Dood in geboorte]]=\"Ja\",0,IF(lammering[[#This Row],[Dood na geboorte]]=\"ja\",0,1)))","v":0},{"$f":"IF(lammering[[#This Row],[Opfok met kunstmelk]]=\"Ja\",1,0)","v":0},{"$f":"IF(lammering[[#This Row],[geslacht]]=\"O\",1,0)","v":0},{"$f":"IF(lammering[[#This Row],[Speen-datum]]=\"\",\"\",(lammering[[#This Row],[Speen-gewicht]]-lammering[[#This Row],[geboorte-gewicht]])/(lammering[[#This Row],[Speen-datum]]-lammering[[#This Row],[Werp-datum]]))","v":""},{"$f":"IF(lammering[[#This Row],[Verkoop-datum]]=\"\",\"\",(lammering[[#This Row],[Verkoop-gewicht]]-lammering[[#This Row],[Speen-gewicht]])/(lammering[[#This Row],[Verkoop-datum]]-lammering[[#This Row],[Speen-datum]]))","v":""},{"$f":"IF(lammering[[#This Row],[Verkoop-datum]]=\"\",\"\",(lammering[[#This Row],[Verkoop-gewicht]]-lammering[[#This Row],[geboorte-gewicht]])/(lammering[[#This Row],[Verkoop-datum]]-lammering[[#This Row],[Werp-datum]]))","v":""},"","","","","","",{"$f":"IF(lammering[[#This Row],[Verkoop-gewicht]]=\"\",\"\",lammering[[#This Row],[Verkoop-gewicht]]-lammering[[#This Row],[geboorte-gewicht]])","v":""},"",""]
[{"$f":"lammering[[#This Row],[Ooi]]","v":0},0,0,{"$f":"IF(lammering[[#This Row],[Lam-nummer]]=\"\",0,1)","v":0},{"$f":"IF(lammering[[#This Row],[Dood in geboorte]]=\"ja\",1,0)","v":0},{"$f":"IF(lammering[[#This Row],[Ooi]]=\"\",0,IF(Berekeningen!E412=0,1,0))","v":0},{"$f":"IF(D412=0,0,IF(lammering[[#This Row],[Dood in geboorte]]=\"Ja\",0,IF(lammering[[#This Row],[Dood na geboorte]]=\"ja\",0,1)))","v":0},{"$f":"IF(lammering[[#This Row],[Opfok met kunstmelk]]=\"Ja\",1,0)","v":0},{"$f":"IF(lammering[[#This Row],[geslacht]]=\"O\",1,0)","v":0},{"$f":"IF(lammering[[#This Row],[Speen-datum]]=\"\",\"\",(lammering[[#This Row],[Speen-gewicht]]-lammering[[#This Row],[geboorte-gewicht]])/(lammering[[#This Row],[Speen-datum]]-lammering[[#This Row],[Werp-datum]]))","v":""},{"$f":"IF(lammering[[#This Row],[Verkoop-datum]]=\"\",\"\",(lammering[[#This Row],[Verkoop-gewicht]]-lammering[[#This Row],[Speen-gewicht]])/(lammering[[#This Row],[Verkoop-datum]]-lammering[[#This Row],[Speen-datum]]))","v":""},{"$f":"IF(lammering[[#This Row],[Verkoop-datum]]=\"\",\"\",(lammering[[#This Row],[Verkoop-gewicht]]-lammering[[#This Row],[geboorte-gewicht]])/(lammering[[#This Row],[Verkoop-datum]]-lammering[[#This Row],[Werp-datum]]))","v":""},"","","","","","",{"$f":"IF(lammering[[#This Row],[Verkoop-gewicht]]=\"\",\"\",lammering[[#This Row],[Verkoop-gewicht]]-lammering[[#This Row],[geboorte-gewicht]])","v":""},"",""]
[{"$f":"lammering[[#This Row],[Ooi]]","v":0},0,0,{"$f":"IF(lammering[[#This Row],[Lam-nummer]]=\"\",0,1)","v":0},{"$f":"IF(lammering[[#This Row],[Dood in geboorte]]=\"ja\",1,0)","v":0},{"$f":"IF(lammering[[#This Row],[Ooi]]=\"\",0,IF(Berekeningen!E413=0,1,0))","v":0},{"$f":"IF(D413=0,0,IF(lammering[[#This Row],[Dood in geboorte]]=\"Ja\",0,IF(lammering[[#This Row],[Dood na geboorte]]=\"ja\",0,1)))","v":0},{"$f":"IF(lammering[[#This Row],[Opfok met kunstmelk]]=\"Ja\",1,0)","v":0},{"$f":"IF(lammering[[#This Row],[geslacht]]=\"O\",1,0)","v":0},{"$f":"IF(lammering[[#This Row],[Speen-datum]]=\"\",\"\",(lammering[[#This Row],[Speen-gewicht]]-lammering[[#This Row],[geboorte-gewicht]])/(lammering[[#This Row],[Speen-datum]]-lammering[[#This Row],[Werp-datum]]))","v":""},{"$f":"IF(lammering[[#This Row],[Verkoop-datum]]=\"\",\"\",(lammering[[#This Row],[Verkoop-gewicht]]-lammering[[#This Row],[Speen-gewicht]])/(lammering[[#This Row],[Verkoop-datum]]-lammering[[#This Row],[Speen-datum]]))","v":""},{"$f":"IF(lammering[[#This Row],[Verkoop-datum]]=\"\",\"\",(lammering[[#This Row],[Verkoop-gewicht]]-lammering[[#This Row],[geboorte-gewicht]])/(lammering[[#This Row],[Verkoop-datum]]-lammering[[#This Row],[Werp-datum]]))","v":""},"","","","","","",{"$f":"IF(lammering[[#This Row],[Verkoop-gewicht]]=\"\",\"\",lammering[[#This Row],[Verkoop-gewicht]]-lammering[[#This Row],[geboorte-gewicht]])","v":""},"",""]
[{"$f":"lammering[[#This Row],[Ooi]]","v":0},0,0,{"$f":"IF(lammering[[#This Row],[Lam-nummer]]=\"\",0,1)","v":0},{"$f":"IF(lammering[[#This Row],[Dood in geboorte]]=\"ja\",1,0)","v":0},{"$f":"IF(lammering[[#This Row],[Ooi]]=\"\",0,IF(Berekeningen!E414=0,1,0))","v":0},{"$f":"IF(D414=0,0,IF(lammering[[#This Row],[Dood in geboorte]]=\"Ja\",0,IF(lammering[[#This Row],[Dood na geboorte]]=\"ja\",0,1)))","v":0},{"$f":"IF(lammering[[#This Row],[Opfok met kunstmelk]]=\"Ja\",1,0)","v":0},{"$f":"IF(lammering[[#This Row],[geslacht]]=\"O\",1,0)","v":0},{"$f":"IF(lammering[[#This Row],[Speen-datum]]=\"\",\"\",(lammering[[#This Row],[Speen-gewicht]]-lammering[[#This Row],[geboorte-gewicht]])/(lammering[[#This Row],[Speen-datum]]-lammering[[#This Row],[Werp-datum]]))","v":""},{"$f":"IF(lammering[[#This Row],[Verkoop-datum]]=\"\",\"\",(lammering[[#This Row],[Verkoop-gewicht]]-lammering[[#This Row],[Speen-gewicht]])/(lammering[[#This Row],[Verkoop-datum]]-lammering[[#This Row],[Speen-datum]]))","v":""},{"$f":"IF(lammering[[#This Row],[Verkoop-datum]]=\"\",\"\",(lammering[[#This Row],[Verkoop-gewicht]]-lammering[[#This Row],[geboorte-gewicht]])/(lammering[[#This Row],[Verkoop-datum]]-lammering[[#This Row],[Werp-datum]]))","v":""},"","","","","","",{"$f":"IF(lammering[[#This Row],[Verkoop-gewicht]]=\"\",\"\",lammering[[#This Row],[Verkoop-gewicht]]-lammering[[#This Row],[geboorte-gewicht]])","v":""},"",""]
[{"$f":"lammering[[#This Row],[Ooi]]","v":0},0,0,{"$f":"IF(lammering[[#This Row],[Lam-nummer]]=\"\",0,1)","v":0},{"$f":"IF(lammering[[#This Row],[Dood in geboorte]]=\"ja\",1,0)","v":0},{"$f":"IF(lammering[[#This Row],[Ooi]]=\"\",0,IF(Berekeningen!E415=0,1,0))","v":0},{"$f":"IF(D415=0,0,IF(lammering[[#This Row],[Dood in geboorte]]=\"Ja\",0,IF(lammering[[#This Row],[Dood na geboorte]]=\"ja\",0,1)))","v":0},{"$f":"IF(lammering[[#This Row],[Opfok met kunstmelk]]=\"Ja\",1,0)","v":0},{"$f":"IF(lammering[[#This Row],[geslacht]]=\"O\",1,0)","v":0},{"$f":"IF(lammering[[#This Row],[Speen-datum]]=\"\",\"\",(lammering[[#This Row],[Speen-gewicht]]-lammering[[#This Row],[geboorte-gewicht]])/(lammering[[#This Row],[Speen-datum]]-lammering[[#This Row],[Werp-datum]]))","v":""},{"$f":"IF(lammering[[#This Row],[Verkoop-datum]]=\"\",\"\",(lammering[[#This Row],[Verkoop-gewicht]]-lammering[[#This Row],[Speen-gewicht]])/(lammering[[#This Row],[Verkoop-datum]]-lammering[[#This Row],[Speen-datum]]))","v":""},{"$f":"IF(lammering[[#This Row],[Verkoop-datum]]=\"\",\"\",(lammering[[#This Row],[Verkoop-gewicht]]-lammering[[#This Row],[geboorte-gewicht]])/(lammering[[#This Row],[Verkoop-datum]]-lammering[[#This Row],[Werp-datum]]))","v":""},"","","","","","",{"$f":"IF(lammering[[#This Row],[Verkoop-gewicht]]=\"\",\"\",lammering[[#This Row],[Verkoop-gewicht]]-lammering[[#This Row],[geboorte-gewicht]])","v":""},"",""]
[{"$f":"lammering[[#This Row],[Ooi]]","v":0},0,0,{"$f":"IF(lammering[[#This Row],[Lam-nummer]]=\"\",0,1)","v":0},{"$f":"IF(lammering[[#This Row],[Dood in geboorte]]=\"ja\",1,0)","v":0},{"$f":"IF(lammering[[#This Row],[Ooi]]=\"\",0,IF(Berekeningen!E416=0,1,0))","v":0},{"$f":"IF(D416=0,0,IF(lammering[[#This Row],[Dood in geboorte]]=\"Ja\",0,IF(lammering[[#This Row],[Dood na geboorte]]=\"ja\",0,1)))","v":0},{"$f":"IF(lammering[[#This Row],[Opfok met kunstmelk]]=\"Ja\",1,0)","v":0},{"$f":"IF(lammering[[#This Row],[geslacht]]=\"O\",1,0)","v":0},{"$f":"IF(lammering[[#This Row],[Speen-datum]]=\"\",\"\",(lammering[[#This Row],[Speen-gewicht]]-lammering[[#This Row],[geboorte-gewicht]])/(lammering[[#This Row],[Speen-datum]]-lammering[[#This Row],[Werp-datum]]))","v":""},{"$f":"IF(lammering[[#This Row],[Verkoop-datum]]=\"\",\"\",(lammering[[#This Row],[Verkoop-gewicht]]-lammering[[#This Row],[Speen-gewicht]])/(lammering[[#This Row],[Verkoop-datum]]-lammering[[#This Row],[Speen-datum]]))","v":""},{"$f":"IF(lammering[[#This Row],[Verkoop-datum]]=\"\",\"\",(lammering[[#This Row],[Verkoop-gewicht]]-lammering[[#This Row],[geboorte-gewicht]])/(lammering[[#This Row],[Verkoop-datum]]-lammering[[#This Row],[Werp-datum]]))","v":""},"","","","","","",{"$f":"IF(lammering[[#This Row],[Verkoop-gewicht]]=\"\",\"\",lammering[[#This Row],[Verkoop-gewicht]]-lammering[[#This Row],[geboorte-gewicht]])","v":""},"",""]
[{"$f":"lammering[[#This Row],[Ooi]]","v":0},0,0,{"$f":"IF(lammering[[#This Row],[Lam-nummer]]=\"\",0,1)","v":0},{"$f":"IF(lammering[[#This Row],[Dood in geboorte]]=\"ja\",1,0)","v":0},{"$f":"IF(lammering[[#This Row],[Ooi]]=\"\",0,IF(Berekeningen!E417=0,1,0))","v":0},{"$f":"IF(D417=0,0,IF(lammering[[#This Row],[Dood in geboorte]]=\"Ja\",0,IF(lammering[[#This Row],[Dood na geboorte]]=\"ja\",0,1)))","v":0},{"$f":"IF(lammering[[#This Row],[Opfok met kunstmelk]]=\"Ja\",1,0)","v":0},{"$f":"IF(lammering[[#This Row],[geslacht]]=\"O\",1,0)","v":0},{"$f":"IF(lammering[[#This Row],[Speen-datum]]=\"\",\"\",(lammering[[#This Row],[Speen-gewicht]]-lammering[[#This Row],[geboorte-gewicht]])/(lammering[[#This Row],[Speen-datum]]-lammering[[#This Row],[Werp-datum]]))","v":""},{"$f":"IF(lammering[[#This Row],[Verkoop-datum]]=\"\",\"\",(lammering[[#This Row],[Verkoop-gewicht]]-lammering[[#This Row],[Speen-gewicht]])/(lammering[[#This Row],[Verkoop-datum]]-lammering[[#This Row],[Speen-datum]]))","v":""},{"$f":"IF(lammering[[#This Row],[Verkoop-datum]]=\"\",\"\",(lammering[[#This Row],[Verkoop-gewicht]]-lammering[[#This Row],[geboorte-gewicht]])/(lammering[[#This Row],[Verkoop-datum]]-lammering[[#This Row],[Werp-datum]]))","v":""},"","","","","","",{"$f":"IF(lammering[[#This Row],[Verkoop-gewicht]]=\"\",\"\",lammering[[#This Row],[Verkoop-gewicht]]-lammering[[#This Row],[geboorte-gewicht]])","v":""},"",""]
[{"$f":"lammering[[#This Row],[Ooi]]","v":0},0,0,{"$f":"IF(lammering[[#This Row],[Lam-nummer]]=\"\",0,1)","v":0},{"$f":"IF(lammering[[#This Row],[Dood in geboorte]]=\"ja\",1,0)","v":0},{"$f":"IF(lammering[[#This Row],[Ooi]]=\"\",0,IF(Berekeningen!E418=0,1,0))","v":0},{"$f":"IF(D418=0,0,IF(lammering[[#This Row],[Dood in geboorte]]=\"Ja\",0,IF(lammering[[#This Row],[Dood na geboorte]]=\"ja\",0,1)))","v":0},{"$f":"IF(lammering[[#This Row],[Opfok met kunstmelk]]=\"Ja\",1,0)","v":0},{"$f":"IF(lammering[[#This Row],[geslacht]]=\"O\",1,0)","v":0},{"$f":"IF(lammering[[#This Row],[Speen-datum]]=\"\",\"\",(lammering[[#This Row],[Speen-gewicht]]-lammering[[#This Row],[geboorte-gewicht]])/(lammering[[#This Row],[Speen-datum]]-lammering[[#This Row],[Werp-datum]]))","v":""},{"$f":"IF(lammering[[#This Row],[Verkoop-datum]]=\"\",\"\",(lammering[[#This Row],[Verkoop-gewicht]]-lammering[[#This Row],[Speen-gewicht]])/(lammering[[#This Row],[Verkoop-datum]]-lammering[[#This Row],[Speen-datum]]))","v":""},{"$f":"IF(lammering[[#This Row],[Verkoop-datum]]=\"\",\"\",(lammering[[#This Row],[Verkoop-gewicht]]-lammering[[#This Row],[geboorte-gewicht]])/(lammering[[#This Row],[Verkoop-datum]]-lammering[[#This Row],[Werp-datum]]))","v":""},"","","","","","",{"$f":"IF(lammering[[#This Row],[Verkoop-gewicht]]=\"\",\"\",lammering[[#This Row],[Verkoop-gewicht]]-lammering[[#This Row],[geboorte-gewicht]])","v":""},"",""]
[{"$f":"lammering[[#This Row],[Ooi]]","v":0},0,0,{"$f":"IF(lammering[[#This Row],[Lam-nummer]]=\"\",0,1)","v":0},{"$f":"IF(lammering[[#This Row],[Dood in geboorte]]=\"ja\",1,0)","v":0},{"$f":"IF(lammering[[#This Row],[Ooi]]=\"\",0,IF(Berekeningen!E419=0,1,0))","v":0},{"$f":"IF(D419=0,0,IF(lammering[[#This Row],[Dood in geboorte]]=\"Ja\",0,IF(lammering[[#This Row],[Dood na geboorte]]=\"ja\",0,1)))","v":0},{"$f":"IF(lammering[[#This Row],[Opfok met kunstmelk]]=\"Ja\",1,0)","v":0},{"$f":"IF(lammering[[#This Row],[geslacht]]=\"O\",1,0)","v":0},{"$f":"IF(lammering[[#This Row],[Speen-datum]]=\"\",\"\",(lammering[[#This Row],[Speen-gewicht]]-lammering[[#This Row],[geboorte-gewicht]])/(lammering[[#This Row],[Speen-datum]]-lammering[[#This Row],[Werp-datum]]))","v":""},{"$f":"IF(lammering[[#This Row],[Verkoop-datum]]=\"\",\"\",(lammering[[#This Row],[Verkoop-gewicht]]-lammering[[#This Row],[Speen-gewicht]])/(lammering[[#This Row],[Verkoop-datum]]-lammering[[#This Row],[Speen-datum]]))","v":""},{"$f":"IF(lammering[[#This Row],[Verkoop-datum]]=\"\",\"\",(lammering[[#This Row],[Verkoop-gewicht]]-lammering[[#This Row],[geboorte-gewicht]])/(lammering[[#This Row],[Verkoop-datum]]-lammering[[#This Row],[Werp-datum]]))","v":""},"","","","","","",{"$f":"IF(lammering[[#This Row],[Verkoop-gewicht]]=\"\",\"\",lammering[[#This Row],[Verkoop-gewicht]]-lammering[[#This Row],[geboorte-gewicht]])","v":""},"",""]
[{"$f":"lammering[[#This Row],[Ooi]]","v":0},0,0,{"$f":"IF(lammering[[#This Row],[Lam-nummer]]=\"\",0,1)","v":0},{"$f":"IF(lammering[[#This Row],[Dood in geboorte]]=\"ja\",1,0)","v":0},{"$f":"IF(lammering[[#This Row],[Ooi]]=\"\",0,IF(Berekeningen!E420=0,1,0))","v":0},{"$f":"IF(D420=0,0,IF(lammering[[#This Row],[Dood in geboorte]]=\"Ja\",0,IF(lammering[[#This Row],[Dood na geboorte]]=\"ja\",0,1)))","v":0},{"$f":"IF(lammering[[#This Row],[Opfok met kunstmelk]]=\"Ja\",1,0)","v":0},{"$f":"IF(lammering[[#This Row],[geslacht]]=\"O\",1,0)","v":0},{"$f":"IF(lammering[[#This Row],[Speen-datum]]=\"\",\"\",(lammering[[#This Row],[Speen-gewicht]]-lammering[[#This Row],[geboorte-gewicht]])/(lammering[[#This Row],[Speen-datum]]-lammering[[#This Row],[Werp-datum]]))","v":""},{"$f":"IF(lammering[[#This Row],[Verkoop-datum]]=\"\",\"\",(lammering[[#This Row],[Verkoop-gewicht]]-lammering[[#This Row],[Speen-gewicht]])/(lammering[[#This Row],[Verkoop-datum]]-lammering[[#This Row],[Speen-datum]]))","v":""},{"$f":"IF(lammering[[#This Row],[Verkoop-datum]]=\"\",\"\",(lammering[[#This Row],[Verkoop-gewicht]]-lammering[[#This Row],[geboorte-gewicht]])/(lammering[[#This Row],[Verkoop-datum]]-lammering[[#This Row],[Werp-datum]]))","v":""},"","","","","","",{"$f":"IF(lammering[[#This Row],[Verkoop-gewicht]]=\"\",\"\",lammering[[#This Row],[Verkoop-gewicht]]-lammering[[#This Row],[geboorte-gewicht]])","v":""},"",""]
[{"$f":"lammering[[#This Row],[Ooi]]","v":0},0,0,{"$f":"IF(lammering[[#This Row],[Lam-nummer]]=\"\",0,1)","v":0},{"$f":"IF(lammering[[#This Row],[Dood in geboorte]]=\"ja\",1,0)","v":0},{"$f":"IF(lammering[[#This Row],[Ooi]]=\"\",0,IF(Berekeningen!E421=0,1,0))","v":0},{"$f":"IF(D421=0,0,IF(lammering[[#This Row],[Dood in geboorte]]=\"Ja\",0,IF(lammering[[#This Row],[Dood na geboorte]]=\"ja\",0,1)))","v":0},{"$f":"IF(lammering[[#This Row],[Opfok met kunstmelk]]=\"Ja\",1,0)","v":0},{"$f":"IF(lammering[[#This Row],[geslacht]]=\"O\",1,0)","v":0},{"$f":"IF(lammering[[#This Row],[Speen-datum]]=\"\",\"\",(lammering[[#This Row],[Speen-gewicht]]-lammering[[#This Row],[geboorte-gewicht]])/(lammering[[#This Row],[Speen-datum]]-lammering[[#This Row],[Werp-datum]]))","v":""},{"$f":"IF(lammering[[#This Row],[Verkoop-datum]]=\"\",\"\",(lammering[[#This Row],[Verkoop-gewicht]]-lammering[[#This Row],[Speen-gewicht]])/(lammering[[#This Row],[Verkoop-datum]]-lammering[[#This Row],[Speen-datum]]))","v":""},{"$f":"IF(lammering[[#This Row],[Verkoop-datum]]=\"\",\"\",(lammering[[#This Row],[Verkoop-gewicht]]-lammering[[#This Row],[geboorte-gewicht]])/(lammering[[#This Row],[Verkoop-datum]]-lammering[[#This Row],[Werp-datum]]))","v":""},"","","","","","",{"$f":"IF(lammering[[#This Row],[Verkoop-gewicht]]=\"\",\"\",lammering[[#This Row],[Verkoop-gewicht]]-lammering[[#This Row],[geboorte-gewicht]])","v":""},"",""]
[{"$f":"lammering[[#This Row],[Ooi]]","v":0},0,0,{"$f":"IF(lammering[[#This Row],[Lam-nummer]]=\"\",0,1)","v":0},{"$f":"IF(lammering[[#This Row],[Dood in geboorte]]=\"ja\",1,0)","v":0},{"$f":"IF(lammering[[#This Row],[Ooi]]=\"\",0,IF(Berekeningen!E422=0,1,0))","v":0},{"$f":"IF(D422=0,0,IF(lammering[[#This Row],[Dood in geboorte]]=\"Ja\",0,IF(lammering[[#This Row],[Dood na geboorte]]=\"ja\",0,1)))","v":0},{"$f":"IF(lammering[[#This Row],[Opfok met kunstmelk]]=\"Ja\",1,0)","v":0},{"$f":"IF(lammering[[#This Row],[geslacht]]=\"O\",1,0)","v":0},{"$f":"IF(lammering[[#This Row],[Speen-datum]]=\"\",\"\",(lammering[[#This Row],[Speen-gewicht]]-lammering[[#This Row],[geboorte-gewicht]])/(lammering[[#This Row],[Speen-datum]]-lammering[[#This Row],[Werp-datum]]))","v":""},{"$f":"IF(lammering[[#This Row],[Verkoop-datum]]=\"\",\"\",(lammering[[#This Row],[Verkoop-gewicht]]-lammering[[#This Row],[Speen-gewicht]])/(lammering[[#This Row],[Verkoop-datum]]-lammering[[#This Row],[Speen-datum]]))","v":""},{"$f":"IF(lammering[[#This Row],[Verkoop-datum]]=\"\",\"\",(lammering[[#This Row],[Verkoop-gewicht]]-lammering[[#This Row],[geboorte-gewicht]])/(lammering[[#This Row],[Verkoop-datum]]-lammering[[#This Row],[Werp-datum]]))","v":""},"","","","","","",{"$f":"IF(lammering[[#This Row],[Verkoop-gewicht]]=\"\",\"\",lammering[[#This Row],[Verkoop-gewicht]]-lammering[[#This Row],[geboorte-gewicht]])","v":""},"",""]
[{"$f":"lammering[[#This Row],[Ooi]]","v":0},0,0,{"$f":"IF(lammering[[#This Row],[Lam-nummer]]=\"\",0,1)","v":0},{"$f":"IF(lammering[[#This Row],[Dood in geboorte]]=\"ja\",1,0)","v":0},{"$f":"IF(lammering[[#This Row],[Ooi]]=\"\",0,IF(Berekeningen!E423=0,1,0))","v":0},{"$f":"IF(D423=0,0,IF(lammering[[#This Row],[Dood in geboorte]]=\"Ja\",0,IF(lammering[[#This Row],[Dood na geboorte]]=\"ja\",0,1)))","v":0},{"$f":"IF(lammering[[#This Row],[Opfok met kunstmelk]]=\"Ja\",1,0)","v":0},{"$f":"IF(lammering[[#This Row],[geslacht]]=\"O\",1,0)","v":0},{"$f":"IF(lammering[[#This Row],[Speen-datum]]=\"\",\"\",(lammering[[#This Row],[Speen-gewicht]]-lammering[[#This Row],[geboorte-gewicht]])/(lammering[[#This Row],[Speen-datum]]-lammering[[#This Row],[Werp-datum]]))","v":""},{"$f":"IF(lammering[[#This Row],[Verkoop-datum]]=\"\",\"\",(lammering[[#This Row],[Verkoop-gewicht]]-lammering[[#This Row],[Speen-gewicht]])/(lammering[[#This Row],[Verkoop-datum]]-lammering[[#This Row],[Speen-datum]]))","v":""},{"$f":"IF(lammering[[#This Row],[Verkoop-datum]]=\"\",\"\",(lammering[[#This Row],[Verkoop-gewicht]]-lammering[[#This Row],[geboorte-gewicht]])/(lammering[[#This Row],[Verkoop-datum]]-lammering[[#This Row],[Werp-datum]]))","v":""},"","","","","","",{"$f":"IF(lammering[[#This Row],[Verkoop-gewicht]]=\"\",\"\",lammering[[#This Row],[Verkoop-gewicht]]-lammering[[#This Row],[geboorte-gewicht]])","v":""},"",""]
[{"$f":"lammering[[#This Row],[Ooi]]","v":0},0,0,{"$f":"IF(lammering[[#This Row],[Lam-nummer]]=\"\",0,1)","v":0},{"$f":"IF(lammering[[#This Row],[Dood in geboorte]]=\"ja\",1,0)","v":0},{"$f":"IF(lammering[[#This Row],[Ooi]]=\"\",0,IF(Berekeningen!E424=0,1,0))","v":0},{"$f":"IF(D424=0,0,IF(lammering[[#This Row],[Dood in geboorte]]=\"Ja\",0,IF(lammering[[#This Row],[Dood na geboorte]]=\"ja\",0,1)))","v":0},{"$f":"IF(lammering[[#This Row],[Opfok met kunstmelk]]=\"Ja\",1,0)","v":0},{"$f":"IF(lammering[[#This Row],[geslacht]]=\"O\",1,0)","v":0},{"$f":"IF(lammering[[#This Row],[Speen-datum]]=\"\",\"\",(lammering[[#This Row],[Speen-gewicht]]-lammering[[#This Row],[geboorte-gewicht]])/(lammering[[#This Row],[Speen-datum]]-lammering[[#This Row],[Werp-datum]]))","v":""},{"$f":"IF(lammering[[#This Row],[Verkoop-datum]]=\"\",\"\",(lammering[[#This Row],[Verkoop-gewicht]]-lammering[[#This Row],[Speen-gewicht]])/(lammering[[#This Row],[Verkoop-datum]]-lammering[[#This Row],[Speen-datum]]))","v":""},{"$f":"IF(lammering[[#This Row],[Verkoop-datum]]=\"\",\"\",(lammering[[#This Row],[Verkoop-gewicht]]-lammering[[#This Row],[geboorte-gewicht]])/(lammering[[#This Row],[Verkoop-datum]]-lammering[[#This Row],[Werp-datum]]))","v":""},"","","","","","",{"$f":"IF(lammering[[#This Row],[Verkoop-gewicht]]=\"\",\"\",lammering[[#This Row],[Verkoop-gewicht]]-lammering[[#This Row],[geboorte-gewicht]])","v":""},"",""]
[{"$f":"lammering[[#This Row],[Ooi]]","v":0},0,0,{"$f":"IF(lammering[[#This Row],[Lam-nummer]]=\"\",0,1)","v":0},{"$f":"IF(lammering[[#This Row],[Dood in geboorte]]=\"ja\",1,0)","v":0},{"$f":"IF(lammering[[#This Row],[Ooi]]=\"\",0,IF(Berekeningen!E425=0,1,0))","v":0},{"$f":"IF(D425=0,0,IF(lammering[[#This Row],[Dood in geboorte]]=\"Ja\",0,IF(lammering[[#This Row],[Dood na geboorte]]=\"ja\",0,1)))","v":0},{"$f":"IF(lammering[[#This Row],[Opfok met kunstmelk]]=\"Ja\",1,0)","v":0},{"$f":"IF(lammering[[#This Row],[geslacht]]=\"O\",1,0)","v":0},{"$f":"IF(lammering[[#This Row],[Speen-datum]]=\"\",\"\",(lammering[[#This Row],[Speen-gewicht]]-lammering[[#This Row],[geboorte-gewicht]])/(lammering[[#This Row],[Speen-datum]]-lammering[[#This Row],[Werp-datum]]))","v":""},{"$f":"IF(lammering[[#This Row],[Verkoop-datum]]=\"\",\"\",(lammering[[#This Row],[Verkoop-gewicht]]-lammering[[#This Row],[Speen-gewicht]])/(lammering[[#This Row],[Verkoop-datum]]-lammering[[#This Row],[Speen-datum]]))","v":""},{"$f":"IF(lammering[[#This Row],[Verkoop-datum]]=\"\",\"\",(lammering[[#This Row],[Verkoop-gewicht]]-lammering[[#This Row],[geboorte-gewicht]])/(lammering[[#This Row],[Verkoop-datum]]-lammering[[#This Row],[Werp-datum]]))","v":""},"","","","","","",{"$f":"IF(lammering[[#This Row],[Verkoop-gewicht]]=\"\",\"\",lammering[[#This Row],[Verkoop-gewicht]]-lammering[[#This Row],[geboorte-gewicht]])","v":""},"",""]
[{"$f":"lammering[[#This Row],[Ooi]]","v":0},0,0,{"$f":"IF(lammering[[#This Row],[Lam-nummer]]=\"\",0,1)","v":0},{"$f":"IF(lammering[[#This Row],[Dood in geboorte]]=\"ja\",1,0)","v":0},{"$f":"IF(lammering[[#This Row],[Ooi]]=\"\",0,IF(Berekeningen!E426=0,1,0))","v":0},{"$f":"IF(D426=0,0,IF(lammering[[#This Row],[Dood in geboorte]]=\"Ja\",0,IF(lammering[[#This Row],[Dood na geboorte]]=\"ja\",0,1)))","v":0},{"$f":"IF(lammering[[#This Row],[Opfok met kunstmelk]]=\"Ja\",1,0)","v":0},{"$f":"IF(lammering[[#This Row],[geslacht]]=\"O\",1,0)","v":0},{"$f":"IF(lammering[[#This Row],[Speen-datum]]=\"\",\"\",(lammering[[#This Row],[Speen-gewicht]]-lammering[[#This Row],[geboorte-gewicht]])/(lammering[[#This Row],[Speen-datum]]-lammering[[#This Row],[Werp-datum]]))","v":""},{"$f":"IF(lammering[[#This Row],[Verkoop-datum]]=\"\",\"\",(lammering[[#This Row],[Verkoop-gewicht]]-lammering[[#This Row],[Speen-gewicht]])/(lammering[[#This Row],[Verkoop-datum]]-lammering[[#This Row],[Speen-datum]]))","v":""},{"$f":"IF(lammering[[#This Row],[Verkoop-datum]]=\"\",\"\",(lammering[[#This Row],[Verkoop-gewicht]]-lammering[[#This Row],[geboorte-gewicht]])/(lammering[[#This Row],[Verkoop-datum]]-lammering[[#This Row],[Werp-datum]]))","v":""},"","","","","","",{"$f":"IF(lammering[[#This Row],[Verkoop-gewicht]]=\"\",\"\",lammering[[#This Row],[Verkoop-gewicht]]-lammering[[#This Row],[geboorte-gewicht]])","v":""},"",""]
[{"$f":"lammering[[#This Row],[Ooi]]","v":0},0,0,{"$f":"IF(lammering[[#This Row],[Lam-nummer]]=\"\",0,1)","v":0},{"$f":"IF(lammering[[#This Row],[Dood in geboorte]]=\"ja\",1,0)","v":0},{"$f":"IF(lammering[[#This Row],[Ooi]]=\"\",0,IF(Berekeningen!E427=0,1,0))","v":0},{"$f":"IF(D427=0,0,IF(lammering[[#This Row],[Dood in geboorte]]=\"Ja\",0,IF(lammering[[#This Row],[Dood na geboorte]]=\"ja\",0,1)))","v":0},{"$f":"IF(lammering[[#This Row],[Opfok met kunstmelk]]=\"Ja\",1,0)","v":0},{"$f":"IF(lammering[[#This Row],[geslacht]]=\"O\",1,0)","v":0},{"$f":"IF(lammering[[#This Row],[Speen-datum]]=\"\",\"\",(lammering[[#This Row],[Speen-gewicht]]-lammering[[#This Row],[geboorte-gewicht]])/(lammering[[#This Row],[Speen-datum]]-lammering[[#This Row],[Werp-datum]]))","v":""},{"$f":"IF(lammering[[#This Row],[Verkoop-datum]]=\"\",\"\",(lammering[[#This Row],[Verkoop-gewicht]]-lammering[[#This Row],[Speen-gewicht]])/(lammering[[#This Row],[Verkoop-datum]]-lammering[[#This Row],[Speen-datum]]))","v":""},{"$f":"IF(lammering[[#This Row],[Verkoop-datum]]=\"\",\"\",(lammering[[#This Row],[Verkoop-gewicht]]-lammering[[#This Row],[geboorte-gewicht]])/(lammering[[#This Row],[Verkoop-datum]]-lammering[[#This Row],[Werp-datum]]))","v":""},"","","","","","",{"$f":"IF(lammering[[#This Row],[Verkoop-gewicht]]=\"\",\"\",lammering[[#This Row],[Verkoop-gewicht]]-lammering[[#This Row],[geboorte-gewicht]])","v":""},"",""]
[{"$f":"lammering[[#This Row],[Ooi]]","v":0},0,0,{"$f":"IF(lammering[[#This Row],[Lam-nummer]]=\"\",0,1)","v":0},{"$f":"IF(lammering[[#This Row],[Dood in geboorte]]=\"ja\",1,0)","v":0},{"$f":"IF(lammering[[#This Row],[Ooi]]=\"\",0,IF(Berekeningen!E428=0,1,0))","v":0},{"$f":"IF(D428=0,0,IF(lammering[[#This Row],[Dood in geboorte]]=\"Ja\",0,IF(lammering[[#This Row],[Dood na geboorte]]=\"ja\",0,1)))","v":0},{"$f":"IF(lammering[[#This Row],[Opfok met kunstmelk]]=\"Ja\",1,0)","v":0},{"$f":"IF(lammering[[#This Row],[geslacht]]=\"O\",1,0)","v":0},{"$f":"IF(lammering[[#This Row],[Speen-datum]]=\"\",\"\",(lammering[[#This Row],[Speen-gewicht]]-lammering[[#This Row],[geboorte-gewicht]])/(lammering[[#This Row],[Speen-datum]]-lammering[[#This Row],[Werp-datum]]))","v":""},{"$f":"IF(lammering[[#This Row],[Verkoop-datum]]=\"\",\"\",(lammering[[#This Row],[Verkoop-gewicht]]-lammering[[#This Row],[Speen-gewicht]])/(lammering[[#This Row],[Verkoop-datum]]-lammering[[#This Row],[Speen-datum]]))","v":""},{"$f":"IF(lammering[[#This Row],[Verkoop-datum]]=\"\",\"\",(lammering[[#This Row],[Verkoop-gewicht]]-lammering[[#This Row],[geboorte-gewicht]])/(lammering[[#This Row],[Verkoop-datum]]-lammering[[#This Row],[Werp-datum]]))","v":""},"","","","","","",{"$f":"IF(lammering[[#This Row],[Verkoop-gewicht]]=\"\",\"\",lammering[[#This Row],[Verkoop-gewicht]]-lammering[[#This Row],[geboorte-gewicht]])","v":""},"",""]
[{"$f":"lammering[[#This Row],[Ooi]]","v":0},0,0,{"$f":"IF(lammering[[#This Row],[Lam-nummer]]=\"\",0,1)","v":0},{"$f":"IF(lammering[[#This Row],[Dood in geboorte]]=\"ja\",1,0)","v":0},{"$f":"IF(lammering[[#This Row],[Ooi]]=\"\",0,IF(Berekeningen!E429=0,1,0))","v":0},{"$f":"IF(D429=0,0,IF(lammering[[#This Row],[Dood in geboorte]]=\"Ja\",0,IF(lammering[[#This Row],[Dood na geboorte]]=\"ja\",0,1)))","v":0},{"$f":"IF(lammering[[#This Row],[Opfok met kunstmelk]]=\"Ja\",1,0)","v":0},{"$f":"IF(lammering[[#This Row],[geslacht]]=\"O\",1,0)","v":0},{"$f":"IF(lammering[[#This Row],[Speen-datum]]=\"\",\"\",(lammering[[#This Row],[Speen-gewicht]]-lammering[[#This Row],[geboorte-gewicht]])/(lammering[[#This Row],[Speen-datum]]-lammering[[#This Row],[Werp-datum]]))","v":""},{"$f":"IF(lammering[[#This Row],[Verkoop-datum]]=\"\",\"\",(lammering[[#This Row],[Verkoop-gewicht]]-lammering[[#This Row],[Speen-gewicht]])/(lammering[[#This Row],[Verkoop-datum]]-lammering[[#This Row],[Speen-datum]]))","v":""},{"$f":"IF(lammering[[#This Row],[Verkoop-datum]]=\"\",\"\",(lammering[[#This Row],[Verkoop-gewicht]]-lammering[[#This Row],[geboorte-gewicht]])/(lammering[[#This Row],[Verkoop-datum]]-lammering[[#This Row],[Werp-datum]]))","v":""},"","","","","","",{"$f":"IF(lammering[[#This Row],[Verkoop-gewicht]]=\"\",\"\",lammering[[#This Row],[Verkoop-gewicht]]-lammering[[#This Row],[geboorte-gewicht]])","v":""},"",""]
[{"$f":"lammering[[#This Row],[Ooi]]","v":0},0,0,{"$f":"IF(lammering[[#This Row],[Lam-nummer]]=\"\",0,1)","v":0},{"$f":"IF(lammering[[#This Row],[Dood in geboorte]]=\"ja\",1,0)","v":0},{"$f":"IF(lammering[[#This Row],[Ooi]]=\"\",0,IF(Berekeningen!E430=0,1,0))","v":0},{"$f":"IF(D430=0,0,IF(lammering[[#This Row],[Dood in geboorte]]=\"Ja\",0,IF(lammering[[#This Row],[Dood na geboorte]]=\"ja\",0,1)))","v":0},{"$f":"IF(lammering[[#This Row],[Opfok met kunstmelk]]=\"Ja\",1,0)","v":0},{"$f":"IF(lammering[[#This Row],[geslacht]]=\"O\",1,0)","v":0},{"$f":"IF(lammering[[#This Row],[Speen-datum]]=\"\",\"\",(lammering[[#This Row],[Speen-gewicht]]-lammering[[#This Row],[geboorte-gewicht]])/(lammering[[#This Row],[Speen-datum]]-lammering[[#This Row],[Werp-datum]]))","v":""},{"$f":"IF(lammering[[#This Row],[Verkoop-datum]]=\"\",\"\",(lammering[[#This Row],[Verkoop-gewicht]]-lammering[[#This Row],[Speen-gewicht]])/(lammering[[#This Row],[Verkoop-datum]]-lammering[[#This Row],[Speen-datum]]))","v":""},{"$f":"IF(lammering[[#This Row],[Verkoop-datum]]=\"\",\"\",(lammering[[#This Row],[Verkoop-gewicht]]-lammering[[#This Row],[geboorte-gewicht]])/(lammering[[#This Row],[Verkoop-datum]]-lammering[[#This Row],[Werp-datum]]))","v":""},"","","","","","",{"$f":"IF(lammering[[#This Row],[Verkoop-gewicht]]=\"\",\"\",lammering[[#This Row],[Verkoop-gewicht]]-lammering[[#This Row],[geboorte-gewicht]])","v":""},"",""]
[{"$f":"lammering[[#This Row],[Ooi]]","v":0},0,0,{"$f":"IF(lammering[[#This Row],[Lam-nummer]]=\"\",0,1)","v":0},{"$f":"IF(lammering[[#This Row],[Dood in geboorte]]=\"ja\",1,0)","v":0},{"$f":"IF(lammering[[#This Row],[Ooi]]=\"\",0,IF(Berekeningen!E431=0,1,0))","v":0},{"$f":"IF(D431=0,0,IF(lammering[[#This Row],[Dood in geboorte]]=\"Ja\",0,IF(lammering[[#This Row],[Dood na geboorte]]=\"ja\",0,1)))","v":0},{"$f":"IF(lammering[[#This Row],[Opfok met kunstmelk]]=\"Ja\",1,0)","v":0},{"$f":"IF(lammering[[#This Row],[geslacht]]=\"O\",1,0)","v":0},{"$f":"IF(lammering[[#This Row],[Speen-datum]]=\"\",\"\",(lammering[[#This Row],[Speen-gewicht]]-lammering[[#This Row],[geboorte-gewicht]])/(lammering[[#This Row],[Speen-datum]]-lammering[[#This Row],[Werp-datum]]))","v":""},{"$f":"IF(lammering[[#This Row],[Verkoop-datum]]=\"\",\"\",(lammering[[#This Row],[Verkoop-gewicht]]-lammering[[#This Row],[Speen-gewicht]])/(lammering[[#This Row],[Verkoop-datum]]-lammering[[#This Row],[Speen-datum]]))","v":""},{"$f":"IF(lammering[[#This Row],[Verkoop-datum]]=\"\",\"\",(lammering[[#This Row],[Verkoop-gewicht]]-lammering[[#This Row],[geboorte-gewicht]])/(lammering[[#This Row],[Verkoop-datum]]-lammering[[#This Row],[Werp-datum]]))","v":""},"","","","","","",{"$f":"IF(lammering[[#This Row],[Verkoop-gewicht]]=\"\",\"\",lammering[[#This Row],[Verkoop-gewicht]]-lammering[[#This Row],[geboorte-gewicht]])","v":""},"",""]
[{"$f":"lammering[[#This Row],[Ooi]]","v":0},0,0,{"$f":"IF(lammering[[#This Row],[Lam-nummer]]=\"\",0,1)","v":0},{"$f":"IF(lammering[[#This Row],[Dood in geboorte]]=\"ja\",1,0)","v":0},{"$f":"IF(lammering[[#This Row],[Ooi]]=\"\",0,IF(Berekeningen!E432=0,1,0))","v":0},{"$f":"IF(D432=0,0,IF(lammering[[#This Row],[Dood in geboorte]]=\"Ja\",0,IF(lammering[[#This Row],[Dood na geboorte]]=\"ja\",0,1)))","v":0},{"$f":"IF(lammering[[#This Row],[Opfok met kunstmelk]]=\"Ja\",1,0)","v":0},{"$f":"IF(lammering[[#This Row],[geslacht]]=\"O\",1,0)","v":0},{"$f":"IF(lammering[[#This Row],[Speen-datum]]=\"\",\"\",(lammering[[#This Row],[Speen-gewicht]]-lammering[[#This Row],[geboorte-gewicht]])/(lammering[[#This Row],[Speen-datum]]-lammering[[#This Row],[Werp-datum]]))","v":""},{"$f":"IF(lammering[[#This Row],[Verkoop-datum]]=\"\",\"\",(lammering[[#This Row],[Verkoop-gewicht]]-lammering[[#This Row],[Speen-gewicht]])/(lammering[[#This Row],[Verkoop-datum]]-lammering[[#This Row],[Speen-datum]]))","v":""},{"$f":"IF(lammering[[#This Row],[Verkoop-datum]]=\"\",\"\",(lammering[[#This Row],[Verkoop-gewicht]]-lammering[[#This Row],[geboorte-gewicht]])/(lammering[[#This Row],[Verkoop-datum]]-lammering[[#This Row],[Werp-datum]]))","v":""},"","","","","","",{"$f":"IF(lammering[[#This Row],[Verkoop-gewicht]]=\"\",\"\",lammering[[#This Row],[Verkoop-gewicht]]-lammering[[#This Row],[geboorte-gewicht]])","v":""},"",""]
[{"$f":"lammering[[#This Row],[Ooi]]","v":0},0,0,{"$f":"IF(lammering[[#This Row],[Lam-nummer]]=\"\",0,1)","v":0},{"$f":"IF(lammering[[#This Row],[Dood in geboorte]]=\"ja\",1,0)","v":0},{"$f":"IF(lammering[[#This Row],[Ooi]]=\"\",0,IF(Berekeningen!E433=0,1,0))","v":0},{"$f":"IF(D433=0,0,IF(lammering[[#This Row],[Dood in geboorte]]=\"Ja\",0,IF(lammering[[#This Row],[Dood na geboorte]]=\"ja\",0,1)))","v":0},{"$f":"IF(lammering[[#This Row],[Opfok met kunstmelk]]=\"Ja\",1,0)","v":0},{"$f":"IF(lammering[[#This Row],[geslacht]]=\"O\",1,0)","v":0},{"$f":"IF(lammering[[#This Row],[Speen-datum]]=\"\",\"\",(lammering[[#This Row],[Speen-gewicht]]-lammering[[#This Row],[geboorte-gewicht]])/(lammering[[#This Row],[Speen-datum]]-lammering[[#This Row],[Werp-datum]]))","v":""},{"$f":"IF(lammering[[#This Row],[Verkoop-datum]]=\"\",\"\",(lammering[[#This Row],[Verkoop-gewicht]]-lammering[[#This Row],[Speen-gewicht]])/(lammering[[#This Row],[Verkoop-datum]]-lammering[[#This Row],[Speen-datum]]))","v":""},{"$f":"IF(lammering[[#This Row],[Verkoop-datum]]=\"\",\"\",(lammering[[#This Row],[Verkoop-gewicht]]-lammering[[#This Row],[geboorte-gewicht]])/(lammering[[#This Row],[Verkoop-datum]]-lammering[[#This Row],[Werp-datum]]))","v":""},"","","","","","",{"$f":"IF(lammering[[#This Row],[Verkoop-gewicht]]=\"\",\"\",lammering[[#This Row],[Verkoop-gewicht]]-lammering[[#This Row],[geboorte-gewicht]])","v":""},"",""]
[{"$f":"lammering[[#This Row],[Ooi]]","v":0},0,0,{"$f":"IF(lammering[[#This Row],[Lam-nummer]]=\"\",0,1)","v":0},{"$f":"IF(lammering[[#This Row],[Dood in geboorte]]=\"ja\",1,0)","v":0},{"$f":"IF(lammering[[#This Row],[Ooi]]=\"\",0,IF(Berekeningen!E434=0,1,0))","v":0},{"$f":"IF(D434=0,0,IF(lammering[[#This Row],[Dood in geboorte]]=\"Ja\",0,IF(lammering[[#This Row],[Dood na geboorte]]=\"ja\",0,1)))","v":0},{"$f":"IF(lammering[[#This Row],[Opfok met kunstmelk]]=\"Ja\",1,0)","v":0},{"$f":"IF(lammering[[#This Row],[geslacht]]=\"O\",1,0)","v":0},{"$f":"IF(lammering[[#This Row],[Speen-datum]]=\"\",\"\",(lammering[[#This Row],[Speen-gewicht]]-lammering[[#This Row],[geboorte-gewicht]])/(lammering[[#This Row],[Speen-datum]]-lammering[[#This Row],[Werp-datum]]))","v":""},{"$f":"IF(lammering[[#This Row],[Verkoop-datum]]=\"\",\"\",(lammering[[#This Row],[Verkoop-gewicht]]-lammering[[#This Row],[Speen-gewicht]])/(lammering[[#This Row],[Verkoop-datum]]-lammering[[#This Row],[Speen-datum]]))","v":""},{"$f":"IF(lammering[[#This Row],[Verkoop-datum]]=\"\",\"\",(lammering[[#This Row],[Verkoop-gewicht]]-lammering[[#This Row],[geboorte-gewicht]])/(lammering[[#This Row],[Verkoop-datum]]-lammering[[#This Row],[Werp-datum]]))","v":""},"","","","","","",{"$f":"IF(lammering[[#This Row],[Verkoop-gewicht]]=\"\",\"\",lammering[[#This Row],[Verkoop-gewicht]]-lammering[[#This Row],[geboorte-gewicht]])","v":""},"",""]
[{"$f":"lammering[[#This Row],[Ooi]]","v":0},0,0,{"$f":"IF(lammering[[#This Row],[Lam-nummer]]=\"\",0,1)","v":0},{"$f":"IF(lammering[[#This Row],[Dood in geboorte]]=\"ja\",1,0)","v":0},{"$f":"IF(lammering[[#This Row],[Ooi]]=\"\",0,IF(Berekeningen!E435=0,1,0))","v":0},{"$f":"IF(D435=0,0,IF(lammering[[#This Row],[Dood in geboorte]]=\"Ja\",0,IF(lammering[[#This Row],[Dood na geboorte]]=\"ja\",0,1)))","v":0},{"$f":"IF(lammering[[#This Row],[Opfok met kunstmelk]]=\"Ja\",1,0)","v":0},{"$f":"IF(lammering[[#This Row],[geslacht]]=\"O\",1,0)","v":0},{"$f":"IF(lammering[[#This Row],[Speen-datum]]=\"\",\"\",(lammering[[#This Row],[Speen-gewicht]]-lammering[[#This Row],[geboorte-gewicht]])/(lammering[[#This Row],[Speen-datum]]-lammering[[#This Row],[Werp-datum]]))","v":""},{"$f":"IF(lammering[[#This Row],[Verkoop-datum]]=\"\",\"\",(lammering[[#This Row],[Verkoop-gewicht]]-lammering[[#This Row],[Speen-gewicht]])/(lammering[[#This Row],[Verkoop-datum]]-lammering[[#This Row],[Speen-datum]]))","v":""},{"$f":"IF(lammering[[#This Row],[Verkoop-datum]]=\"\",\"\",(lammering[[#This Row],[Verkoop-gewicht]]-lammering[[#This Row],[geboorte-gewicht]])/(lammering[[#This Row],[Verkoop-datum]]-lammering[[#This Row],[Werp-datum]]))","v":""},"","","","","","",{"$f":"IF(lammering[[#This Row],[Verkoop-gewicht]]=\"\",\"\",lammering[[#This Row],[Verkoop-gewicht]]-lammering[[#This Row],[geboorte-gewicht]])","v":""},"",""]
[{"$f":"lammering[[#This Row],[Ooi]]","v":0},0,0,{"$f":"IF(lammering[[#This Row],[Lam-nummer]]=\"\",0,1)","v":0},{"$f":"IF(lammering[[#This Row],[Dood in geboorte]]=\"ja\",1,0)","v":0},{"$f":"IF(lammering[[#This Row],[Ooi]]=\"\",0,IF(Berekeningen!E436=0,1,0))","v":0},{"$f":"IF(D436=0,0,IF(lammering[[#This Row],[Dood in geboorte]]=\"Ja\",0,IF(lammering[[#This Row],[Dood na geboorte]]=\"ja\",0,1)))","v":0},{"$f":"IF(lammering[[#This Row],[Opfok met kunstmelk]]=\"Ja\",1,0)","v":0},{"$f":"IF(lammering[[#This Row],[geslacht]]=\"O\",1,0)","v":0},{"$f":"IF(lammering[[#This Row],[Speen-datum]]=\"\",\"\",(lammering[[#This Row],[Speen-gewicht]]-lammering[[#This Row],[geboorte-gewicht]])/(lammering[[#This Row],[Speen-datum]]-lammering[[#This Row],[Werp-datum]]))","v":""},{"$f":"IF(lammering[[#This Row],[Verkoop-datum]]=\"\",\"\",(lammering[[#This Row],[Verkoop-gewicht]]-lammering[[#This Row],[Speen-gewicht]])/(lammering[[#This Row],[Verkoop-datum]]-lammering[[#This Row],[Speen-datum]]))","v":""},{"$f":"IF(lammering[[#This Row],[Verkoop-datum]]=\"\",\"\",(lammering[[#This Row],[Verkoop-gewicht]]-lammering[[#This Row],[geboorte-gewicht]])/(lammering[[#This Row],[Verkoop-datum]]-lammering[[#This Row],[Werp-datum]]))","v":""},"","","","","","",{"$f":"IF(lammering[[#This Row],[Verkoop-gewicht]]=\"\",\"\",lammering[[#This Row],[Verkoop-gewicht]]-lammering[[#This Row],[geboorte-gewicht]])","v":""},"",""]
[{"$f":"lammering[[#This Row],[Ooi]]","v":0},0,0,{"$f":"IF(lammering[[#This Row],[Lam-nummer]]=\"\",0,1)","v":0},{"$f":"IF(lammering[[#This Row],[Dood in geboorte]]=\"ja\",1,0)","v":0},{"$f":"IF(lammering[[#This Row],[Ooi]]=\"\",0,IF(Berekeningen!E437=0,1,0))","v":0},{"$f":"IF(D437=0,0,IF(lammering[[#This Row],[Dood in geboorte]]=\"Ja\",0,IF(lammering[[#This Row],[Dood na geboorte]]=\"ja\",0,1)))","v":0},{"$f":"IF(lammering[[#This Row],[Opfok met kunstmelk]]=\"Ja\",1,0)","v":0},{"$f":"IF(lammering[[#This Row],[geslacht]]=\"O\",1,0)","v":0},{"$f":"IF(lammering[[#This Row],[Speen-datum]]=\"\",\"\",(lammering[[#This Row],[Speen-gewicht]]-lammering[[#This Row],[geboorte-gewicht]])/(lammering[[#This Row],[Speen-datum]]-lammering[[#This Row],[Werp-datum]]))","v":""},{"$f":"IF(lammering[[#This Row],[Verkoop-datum]]=\"\",\"\",(lammering[[#This Row],[Verkoop-gewicht]]-lammering[[#This Row],[Speen-gewicht]])/(lammering[[#This Row],[Verkoop-datum]]-lammering[[#This Row],[Speen-datum]]))","v":""},{"$f":"IF(lammering[[#This Row],[Verkoop-datum]]=\"\",\"\",(lammering[[#This Row],[Verkoop-gewicht]]-lammering[[#This Row],[geboorte-gewicht]])/(lammering[[#This Row],[Verkoop-datum]]-lammering[[#This Row],[Werp-datum]]))","v":""},"","","","","","",{"$f":"IF(lammering[[#This Row],[Verkoop-gewicht]]=\"\",\"\",lammering[[#This Row],[Verkoop-gewicht]]-lammering[[#This Row],[geboorte-gewicht]])","v":""},"",""]
[{"$f":"lammering[[#This Row],[Ooi]]","v":0},0,0,{"$f":"IF(lammering[[#This Row],[Lam-nummer]]=\"\",0,1)","v":0},{"$f":"IF(lammering[[#This Row],[Dood in geboorte]]=\"ja\",1,0)","v":0},{"$f":"IF(lammering[[#This Row],[Ooi]]=\"\",0,IF(Berekeningen!E438=0,1,0))","v":0},{"$f":"IF(D438=0,0,IF(lammering[[#This Row],[Dood in geboorte]]=\"Ja\",0,IF(lammering[[#This Row],[Dood na geboorte]]=\"ja\",0,1)))","v":0},{"$f":"IF(lammering[[#This Row],[Opfok met kunstmelk]]=\"Ja\",1,0)","v":0},{"$f":"IF(lammering[[#This Row],[geslacht]]=\"O\",1,0)","v":0},{"$f":"IF(lammering[[#This Row],[Speen-datum]]=\"\",\"\",(lammering[[#This Row],[Speen-gewicht]]-lammering[[#This Row],[geboorte-gewicht]])/(lammering[[#This Row],[Speen-datum]]-lammering[[#This Row],[Werp-datum]]))","v":""},{"$f":"IF(lammering[[#This Row],[Verkoop-datum]]=\"\",\"\",(lammering[[#This Row],[Verkoop-gewicht]]-lammering[[#This Row],[Speen-gewicht]])/(lammering[[#This Row],[Verkoop-datum]]-lammering[[#This Row],[Speen-datum]]))","v":""},{"$f":"IF(lammering[[#This Row],[Verkoop-datum]]=\"\",\"\",(lammering[[#This Row],[Verkoop-gewicht]]-lammering[[#This Row],[geboorte-gewicht]])/(lammering[[#This Row],[Verkoop-datum]]-lammering[[#This Row],[Werp-datum]]))","v":""},"","","","","","",{"$f":"IF(lammering[[#This Row],[Verkoop-gewicht]]=\"\",\"\",lammering[[#This Row],[Verkoop-gewicht]]-lammering[[#This Row],[geboorte-gewicht]])","v":""},"",""]
[{"$f":"lammering[[#This Row],[Ooi]]","v":0},0,0,{"$f":"IF(lammering[[#This Row],[Lam-nummer]]=\"\",0,1)","v":0},{"$f":"IF(lammering[[#This Row],[Dood in geboorte]]=\"ja\",1,0)","v":0},{"$f":"IF(lammering[[#This Row],[Ooi]]=\"\",0,IF(Berekeningen!E439=0,1,0))","v":0},{"$f":"IF(D439=0,0,IF(lammering[[#This Row],[Dood in geboorte]]=\"Ja\",0,IF(lammering[[#This Row],[Dood na geboorte]]=\"ja\",0,1)))","v":0},{"$f":"IF(lammering[[#This Row],[Opfok met kunstmelk]]=\"Ja\",1,0)","v":0},{"$f":"IF(lammering[[#This Row],[geslacht]]=\"O\",1,0)","v":0},{"$f":"IF(lammering[[#This Row],[Speen-datum]]=\"\",\"\",(lammering[[#This Row],[Speen-gewicht]]-lammering[[#This Row],[geboorte-gewicht]])/(lammering[[#This Row],[Speen-datum]]-lammering[[#This Row],[Werp-datum]]))","v":""},{"$f":"IF(lammering[[#This Row],[Verkoop-datum]]=\"\",\"\",(lammering[[#This Row],[Verkoop-gewicht]]-lammering[[#This Row],[Speen-gewicht]])/(lammering[[#This Row],[Verkoop-datum]]-lammering[[#This Row],[Speen-datum]]))","v":""},{"$f":"IF(lammering[[#This Row],[Verkoop-datum]]=\"\",\"\",(lammering[[#This Row],[Verkoop-gewicht]]-lammering[[#This Row],[geboorte-gewicht]])/(lammering[[#This Row],[Verkoop-datum]]-lammering[[#This Row],[Werp-datum]]))","v":""},"","","","","","",{"$f":"IF(lammering[[#This Row],[Verkoop-gewicht]]=\"\",\"\",lammering[[#This Row],[Verkoop-gewicht]]-lammering[[#This Row],[geboorte-gewicht]])","v":""},"",""]
[{"$f":"lammering[[#This Row],[Ooi]]","v":0},0,0,{"$f":"IF(lammering[[#This Row],[Lam-nummer]]=\"\",0,1)","v":0},{"$f":"IF(lammering[[#This Row],[Dood in geboorte]]=\"ja\",1,0)","v":0},{"$f":"IF(lammering[[#This Row],[Ooi]]=\"\",0,IF(Berekeningen!E440=0,1,0))","v":0},{"$f":"IF(D440=0,0,IF(lammering[[#This Row],[Dood in geboorte]]=\"Ja\",0,IF(lammering[[#This Row],[Dood na geboorte]]=\"ja\",0,1)))","v":0},{"$f":"IF(lammering[[#This Row],[Opfok met kunstmelk]]=\"Ja\",1,0)","v":0},{"$f":"IF(lammering[[#This Row],[geslacht]]=\"O\",1,0)","v":0},{"$f":"IF(lammering[[#This Row],[Speen-datum]]=\"\",\"\",(lammering[[#This Row],[Speen-gewicht]]-lammering[[#This Row],[geboorte-gewicht]])/(lammering[[#This Row],[Speen-datum]]-lammering[[#This Row],[Werp-datum]]))","v":""},{"$f":"IF(lammering[[#This Row],[Verkoop-datum]]=\"\",\"\",(lammering[[#This Row],[Verkoop-gewicht]]-lammering[[#This Row],[Speen-gewicht]])/(lammering[[#This Row],[Verkoop-datum]]-lammering[[#This Row],[Speen-datum]]))","v":""},{"$f":"IF(lammering[[#This Row],[Verkoop-datum]]=\"\",\"\",(lammering[[#This Row],[Verkoop-gewicht]]-lammering[[#This Row],[geboorte-gewicht]])/(lammering[[#This Row],[Verkoop-datum]]-lammering[[#This Row],[Werp-datum]]))","v":""},"","","","","","",{"$f":"IF(lammering[[#This Row],[Verkoop-gewicht]]=\"\",\"\",lammering[[#This Row],[Verkoop-gewicht]]-lammering[[#This Row],[geboorte-gewicht]])","v":""},"",""]
[{"$f":"lammering[[#This Row],[Ooi]]","v":0},0,0,{"$f":"IF(lammering[[#This Row],[Lam-nummer]]=\"\",0,1)","v":0},{"$f":"IF(lammering[[#This Row],[Dood in geboorte]]=\"ja\",1,0)","v":0},{"$f":"IF(lammering[[#This Row],[Ooi]]=\"\",0,IF(Berekeningen!E441=0,1,0))","v":0},{"$f":"IF(D441=0,0,IF(lammering[[#This Row],[Dood in geboorte]]=\"Ja\",0,IF(lammering[[#This Row],[Dood na geboorte]]=\"ja\",0,1)))","v":0},{"$f":"IF(lammering[[#This Row],[Opfok met kunstmelk]]=\"Ja\",1,0)","v":0},{"$f":"IF(lammering[[#This Row],[geslacht]]=\"O\",1,0)","v":0},{"$f":"IF(lammering[[#This Row],[Speen-datum]]=\"\",\"\",(lammering[[#This Row],[Speen-gewicht]]-lammering[[#This Row],[geboorte-gewicht]])/(lammering[[#This Row],[Speen-datum]]-lammering[[#This Row],[Werp-datum]]))","v":""},{"$f":"IF(lammering[[#This Row],[Verkoop-datum]]=\"\",\"\",(lammering[[#This Row],[Verkoop-gewicht]]-lammering[[#This Row],[Speen-gewicht]])/(lammering[[#This Row],[Verkoop-datum]]-lammering[[#This Row],[Speen-datum]]))","v":""},{"$f":"IF(lammering[[#This Row],[Verkoop-datum]]=\"\",\"\",(lammering[[#This Row],[Verkoop-gewicht]]-lammering[[#This Row],[geboorte-gewicht]])/(lammering[[#This Row],[Verkoop-datum]]-lammering[[#This Row],[Werp-datum]]))","v":""},"","","","","","",{"$f":"IF(lammering[[#This Row],[Verkoop-gewicht]]=\"\",\"\",lammering[[#This Row],[Verkoop-gewicht]]-lammering[[#This Row],[geboorte-gewicht]])","v":""},"",""]
[{"$f":"lammering[[#This Row],[Ooi]]","v":0},0,0,{"$f":"IF(lammering[[#This Row],[Lam-nummer]]=\"\",0,1)","v":0},{"$f":"IF(lammering[[#This Row],[Dood in geboorte]]=\"ja\",1,0)","v":0},{"$f":"IF(lammering[[#This Row],[Ooi]]=\"\",0,IF(Berekeningen!E442=0,1,0))","v":0},{"$f":"IF(D442=0,0,IF(lammering[[#This Row],[Dood in geboorte]]=\"Ja\",0,IF(lammering[[#This Row],[Dood na geboorte]]=\"ja\",0,1)))","v":0},{"$f":"IF(lammering[[#This Row],[Opfok met kunstmelk]]=\"Ja\",1,0)","v":0},{"$f":"IF(lammering[[#This Row],[geslacht]]=\"O\",1,0)","v":0},{"$f":"IF(lammering[[#This Row],[Speen-datum]]=\"\",\"\",(lammering[[#This Row],[Speen-gewicht]]-lammering[[#This Row],[geboorte-gewicht]])/(lammering[[#This Row],[Speen-datum]]-lammering[[#This Row],[Werp-datum]]))","v":""},{"$f":"IF(lammering[[#This Row],[Verkoop-datum]]=\"\",\"\",(lammering[[#This Row],[Verkoop-gewicht]]-lammering[[#This Row],[Speen-gewicht]])/(lammering[[#This Row],[Verkoop-datum]]-lammering[[#This Row],[Speen-datum]]))","v":""},{"$f":"IF(lammering[[#This Row],[Verkoop-datum]]=\"\",\"\",(lammering[[#This Row],[Verkoop-gewicht]]-lammering[[#This Row],[geboorte-gewicht]])/(lammering[[#This Row],[Verkoop-datum]]-lammering[[#This Row],[Werp-datum]]))","v":""},"","","","","","",{"$f":"IF(lammering[[#This Row],[Verkoop-gewicht]]=\"\",\"\",lammering[[#This Row],[Verkoop-gewicht]]-lammering[[#This Row],[geboorte-gewicht]])","v":""},"",""]
[{"$f":"lammering[[#This Row],[Ooi]]","v":0},0,0,{"$f":"IF(lammering[[#This Row],[Lam-nummer]]=\"\",0,1)","v":0},{"$f":"IF(lammering[[#This Row],[Dood in geboorte]]=\"ja\",1,0)","v":0},{"$f":"IF(lammering[[#This Row],[Ooi]]=\"\",0,IF(Berekeningen!E443=0,1,0))","v":0},{"$f":"IF(D443=0,0,IF(lammering[[#This Row],[Dood in geboorte]]=\"Ja\",0,IF(lammering[[#This Row],[Dood na geboorte]]=\"ja\",0,1)))","v":0},{"$f":"IF(lammering[[#This Row],[Opfok met kunstmelk]]=\"Ja\",1,0)","v":0},{"$f":"IF(lammering[[#This Row],[geslacht]]=\"O\",1,0)","v":0},{"$f":"IF(lammering[[#This Row],[Speen-datum]]=\"\",\"\",(lammering[[#This Row],[Speen-gewicht]]-lammering[[#This Row],[geboorte-gewicht]])/(lammering[[#This Row],[Speen-datum]]-lammering[[#This Row],[Werp-datum]]))","v":""},{"$f":"IF(lammering[[#This Row],[Verkoop-datum]]=\"\",\"\",(lammering[[#This Row],[Verkoop-gewicht]]-lammering[[#This Row],[Speen-gewicht]])/(lammering[[#This Row],[Verkoop-datum]]-lammering[[#This Row],[Speen-datum]]))","v":""},{"$f":"IF(lammering[[#This Row],[Verkoop-datum]]=\"\",\"\",(lammering[[#This Row],[Verkoop-gewicht]]-lammering[[#This Row],[geboorte-gewicht]])/(lammering[[#This Row],[Verkoop-datum]]-lammering[[#This Row],[Werp-datum]]))","v":""},"","","","","","",{"$f":"IF(lammering[[#This Row],[Verkoop-gewicht]]=\"\",\"\",lammering[[#This Row],[Verkoop-gewicht]]-lammering[[#This Row],[geboorte-gewicht]])","v":""},"",""]
[{"$f":"lammering[[#This Row],[Ooi]]","v":0},0,0,{"$f":"IF(lammering[[#This Row],[Lam-nummer]]=\"\",0,1)","v":0},{"$f":"IF(lammering[[#This Row],[Dood in geboorte]]=\"ja\",1,0)","v":0},{"$f":"IF(lammering[[#This Row],[Ooi]]=\"\",0,IF(Berekeningen!E444=0,1,0))","v":0},{"$f":"IF(D444=0,0,IF(lammering[[#This Row],[Dood in geboorte]]=\"Ja\",0,IF(lammering[[#This Row],[Dood na geboorte]]=\"ja\",0,1)))","v":0},{"$f":"IF(lammering[[#This Row],[Opfok met kunstmelk]]=\"Ja\",1,0)","v":0},{"$f":"IF(lammering[[#This Row],[geslacht]]=\"O\",1,0)","v":0},{"$f":"IF(lammering[[#This Row],[Speen-datum]]=\"\",\"\",(lammering[[#This Row],[Speen-gewicht]]-lammering[[#This Row],[geboorte-gewicht]])/(lammering[[#This Row],[Speen-datum]]-lammering[[#This Row],[Werp-datum]]))","v":""},{"$f":"IF(lammering[[#This Row],[Verkoop-datum]]=\"\",\"\",(lammering[[#This Row],[Verkoop-gewicht]]-lammering[[#This Row],[Speen-gewicht]])/(lammering[[#This Row],[Verkoop-datum]]-lammering[[#This Row],[Speen-datum]]))","v":""},{"$f":"IF(lammering[[#This Row],[Verkoop-datum]]=\"\",\"\",(lammering[[#This Row],[Verkoop-gewicht]]-lammering[[#This Row],[geboorte-gewicht]])/(lammering[[#This Row],[Verkoop-datum]]-lammering[[#This Row],[Werp-datum]]))","v":""},"","","","","","",{"$f":"IF(lammering[[#This Row],[Verkoop-gewicht]]=\"\",\"\",lammering[[#This Row],[Verkoop-gewicht]]-lammering[[#This Row],[geboorte-gewicht]])","v":""},"",""]
[{"$f":"lammering[[#This Row],[Ooi]]","v":0},0,0,{"$f":"IF(lammering[[#This Row],[Lam-nummer]]=\"\",0,1)","v":0},{"$f":"IF(lammering[[#This Row],[Dood in geboorte]]=\"ja\",1,0)","v":0},{"$f":"IF(lammering[[#This Row],[Ooi]]=\"\",0,IF(Berekeningen!E445=0,1,0))","v":0},{"$f":"IF(D445=0,0,IF(lammering[[#This Row],[Dood in geboorte]]=\"Ja\",0,IF(lammering[[#This Row],[Dood na geboorte]]=\"ja\",0,1)))","v":0},{"$f":"IF(lammering[[#This Row],[Opfok met kunstmelk]]=\"Ja\",1,0)","v":0},{"$f":"IF(lammering[[#This Row],[geslacht]]=\"O\",1,0)","v":0},{"$f":"IF(lammering[[#This Row],[Speen-datum]]=\"\",\"\",(lammering[[#This Row],[Speen-gewicht]]-lammering[[#This Row],[geboorte-gewicht]])/(lammering[[#This Row],[Speen-datum]]-lammering[[#This Row],[Werp-datum]]))","v":""},{"$f":"IF(lammering[[#This Row],[Verkoop-datum]]=\"\",\"\",(lammering[[#This Row],[Verkoop-gewicht]]-lammering[[#This Row],[Speen-gewicht]])/(lammering[[#This Row],[Verkoop-datum]]-lammering[[#This Row],[Speen-datum]]))","v":""},{"$f":"IF(lammering[[#This Row],[Verkoop-datum]]=\"\",\"\",(lammering[[#This Row],[Verkoop-gewicht]]-lammering[[#This Row],[geboorte-gewicht]])/(lammering[[#This Row],[Verkoop-datum]]-lammering[[#This Row],[Werp-datum]]))","v":""},"","","","","","",{"$f":"IF(lammering[[#This Row],[Verkoop-gewicht]]=\"\",\"\",lammering[[#This Row],[Verkoop-gewicht]]-lammering[[#This Row],[geboorte-gewicht]])","v":""},"",""]
[{"$f":"lammering[[#This Row],[Ooi]]","v":0},0,0,{"$f":"IF(lammering[[#This Row],[Lam-nummer]]=\"\",0,1)","v":0},{"$f":"IF(lammering[[#This Row],[Dood in geboorte]]=\"ja\",1,0)","v":0},{"$f":"IF(lammering[[#This Row],[Ooi]]=\"\",0,IF(Berekeningen!E446=0,1,0))","v":0},{"$f":"IF(D446=0,0,IF(lammering[[#This Row],[Dood in geboorte]]=\"Ja\",0,IF(lammering[[#This Row],[Dood na geboorte]]=\"ja\",0,1)))","v":0},{"$f":"IF(lammering[[#This Row],[Opfok met kunstmelk]]=\"Ja\",1,0)","v":0},{"$f":"IF(lammering[[#This Row],[geslacht]]=\"O\",1,0)","v":0},{"$f":"IF(lammering[[#This Row],[Speen-datum]]=\"\",\"\",(lammering[[#This Row],[Speen-gewicht]]-lammering[[#This Row],[geboorte-gewicht]])/(lammering[[#This Row],[Speen-datum]]-lammering[[#This Row],[Werp-datum]]))","v":""},{"$f":"IF(lammering[[#This Row],[Verkoop-datum]]=\"\",\"\",(lammering[[#This Row],[Verkoop-gewicht]]-lammering[[#This Row],[Speen-gewicht]])/(lammering[[#This Row],[Verkoop-datum]]-lammering[[#This Row],[Speen-datum]]))","v":""},{"$f":"IF(lammering[[#This Row],[Verkoop-datum]]=\"\",\"\",(lammering[[#This Row],[Verkoop-gewicht]]-lammering[[#This Row],[geboorte-gewicht]])/(lammering[[#This Row],[Verkoop-datum]]-lammering[[#This Row],[Werp-datum]]))","v":""},"","","","","","",{"$f":"IF(lammering[[#This Row],[Verkoop-gewicht]]=\"\",\"\",lammering[[#This Row],[Verkoop-gewicht]]-lammering[[#This Row],[geboorte-gewicht]])","v":""},"",""]
[{"$f":"lammering[[#This Row],[Ooi]]","v":0},0,0,{"$f":"IF(lammering[[#This Row],[Lam-nummer]]=\"\",0,1)","v":0},{"$f":"IF(lammering[[#This Row],[Dood in geboorte]]=\"ja\",1,0)","v":0},{"$f":"IF(lammering[[#This Row],[Ooi]]=\"\",0,IF(Berekeningen!E447=0,1,0))","v":0},{"$f":"IF(D447=0,0,IF(lammering[[#This Row],[Dood in geboorte]]=\"Ja\",0,IF(lammering[[#This Row],[Dood na geboorte]]=\"ja\",0,1)))","v":0},{"$f":"IF(lammering[[#This Row],[Opfok met kunstmelk]]=\"Ja\",1,0)","v":0},{"$f":"IF(lammering[[#This Row],[geslacht]]=\"O\",1,0)","v":0},{"$f":"IF(lammering[[#This Row],[Speen-datum]]=\"\",\"\",(lammering[[#This Row],[Speen-gewicht]]-lammering[[#This Row],[geboorte-gewicht]])/(lammering[[#This Row],[Speen-datum]]-lammering[[#This Row],[Werp-datum]]))","v":""},{"$f":"IF(lammering[[#This Row],[Verkoop-datum]]=\"\",\"\",(lammering[[#This Row],[Verkoop-gewicht]]-lammering[[#This Row],[Speen-gewicht]])/(lammering[[#This Row],[Verkoop-datum]]-lammering[[#This Row],[Speen-datum]]))","v":""},{"$f":"IF(lammering[[#This Row],[Verkoop-datum]]=\"\",\"\",(lammering[[#This Row],[Verkoop-gewicht]]-lammering[[#This Row],[geboorte-gewicht]])/(lammering[[#This Row],[Verkoop-datum]]-lammering[[#This Row],[Werp-datum]]))","v":""},"","","","","","",{"$f":"IF(lammering[[#This Row],[Verkoop-gewicht]]=\"\",\"\",lammering[[#This Row],[Verkoop-gewicht]]-lammering[[#This Row],[geboorte-gewicht]])","v":""},"",""]
[{"$f":"lammering[[#This Row],[Ooi]]","v":0},0,0,{"$f":"IF(lammering[[#This Row],[Lam-nummer]]=\"\",0,1)","v":0},{"$f":"IF(lammering[[#This Row],[Dood in geboorte]]=\"ja\",1,0)","v":0},{"$f":"IF(lammering[[#This Row],[Ooi]]=\"\",0,IF(Berekeningen!E448=0,1,0))","v":0},{"$f":"IF(D448=0,0,IF(lammering[[#This Row],[Dood in geboorte]]=\"Ja\",0,IF(lammering[[#This Row],[Dood na geboorte]]=\"ja\",0,1)))","v":0},{"$f":"IF(lammering[[#This Row],[Opfok met kunstmelk]]=\"Ja\",1,0)","v":0},{"$f":"IF(lammering[[#This Row],[geslacht]]=\"O\",1,0)","v":0},{"$f":"IF(lammering[[#This Row],[Speen-datum]]=\"\",\"\",(lammering[[#This Row],[Speen-gewicht]]-lammering[[#This Row],[geboorte-gewicht]])/(lammering[[#This Row],[Speen-datum]]-lammering[[#This Row],[Werp-datum]]))","v":""},{"$f":"IF(lammering[[#This Row],[Verkoop-datum]]=\"\",\"\",(lammering[[#This Row],[Verkoop-gewicht]]-lammering[[#This Row],[Speen-gewicht]])/(lammering[[#This Row],[Verkoop-datum]]-lammering[[#This Row],[Speen-datum]]))","v":""},{"$f":"IF(lammering[[#This Row],[Verkoop-datum]]=\"\",\"\",(lammering[[#This Row],[Verkoop-gewicht]]-lammering[[#This Row],[geboorte-gewicht]])/(lammering[[#This Row],[Verkoop-datum]]-lammering[[#This Row],[Werp-datum]]))","v":""},"","","","","","",{"$f":"IF(lammering[[#This Row],[Verkoop-gewicht]]=\"\",\"\",lammering[[#This Row],[Verkoop-gewicht]]-lammering[[#This Row],[geboorte-gewicht]])","v":""},"",""]
[{"$f":"lammering[[#This Row],[Ooi]]","v":0},0,0,{"$f":"IF(lammering[[#This Row],[Lam-nummer]]=\"\",0,1)","v":0},{"$f":"IF(lammering[[#This Row],[Dood in geboorte]]=\"ja\",1,0)","v":0},{"$f":"IF(lammering[[#This Row],[Ooi]]=\"\",0,IF(Berekeningen!E449=0,1,0))","v":0},{"$f":"IF(D449=0,0,IF(lammering[[#This Row],[Dood in geboorte]]=\"Ja\",0,IF(lammering[[#This Row],[Dood na geboorte]]=\"ja\",0,1)))","v":0},{"$f":"IF(lammering[[#This Row],[Opfok met kunstmelk]]=\"Ja\",1,0)","v":0},{"$f":"IF(lammering[[#This Row],[geslacht]]=\"O\",1,0)","v":0},{"$f":"IF(lammering[[#This Row],[Speen-datum]]=\"\",\"\",(lammering[[#This Row],[Speen-gewicht]]-lammering[[#This Row],[geboorte-gewicht]])/(lammering[[#This Row],[Speen-datum]]-lammering[[#This Row],[Werp-datum]]))","v":""},{"$f":"IF(lammering[[#This Row],[Verkoop-datum]]=\"\",\"\",(lammering[[#This Row],[Verkoop-gewicht]]-lammering[[#This Row],[Speen-gewicht]])/(lammering[[#This Row],[Verkoop-datum]]-lammering[[#This Row],[Speen-datum]]))","v":""},{"$f":"IF(lammering[[#This Row],[Verkoop-datum]]=\"\",\"\",(lammering[[#This Row],[Verkoop-gewicht]]-lammering[[#This Row],[geboorte-gewicht]])/(lammering[[#This Row],[Verkoop-datum]]-lammering[[#This Row],[Werp-datum]]))","v":""},"","","","","","",{"$f":"IF(lammering[[#This Row],[Verkoop-gewicht]]=\"\",\"\",lammering[[#This Row],[Verkoop-gewicht]]-lammering[[#This Row],[geboorte-gewicht]])","v":""},"",""]
[{"$f":"lammering[[#This Row],[Ooi]]","v":0},0,0,{"$f":"IF(lammering[[#This Row],[Lam-nummer]]=\"\",0,1)","v":0},{"$f":"IF(lammering[[#This Row],[Dood in geboorte]]=\"ja\",1,0)","v":0},{"$f":"IF(lammering[[#This Row],[Ooi]]=\"\",0,IF(Berekeningen!E450=0,1,0))","v":0},{"$f":"IF(D450=0,0,IF(lammering[[#This Row],[Dood in geboorte]]=\"Ja\",0,IF(lammering[[#This Row],[Dood na geboorte]]=\"ja\",0,1)))","v":0},{"$f":"IF(lammering[[#This Row],[Opfok met kunstmelk]]=\"Ja\",1,0)","v":0},{"$f":"IF(lammering[[#This Row],[geslacht]]=\"O\",1,0)","v":0},{"$f":"IF(lammering[[#This Row],[Speen-datum]]=\"\",\"\",(lammering[[#This Row],[Speen-gewicht]]-lammering[[#This Row],[geboorte-gewicht]])/(lammering[[#This Row],[Speen-datum]]-lammering[[#This Row],[Werp-datum]]))","v":""},{"$f":"IF(lammering[[#This Row],[Verkoop-datum]]=\"\",\"\",(lammering[[#This Row],[Verkoop-gewicht]]-lammering[[#This Row],[Speen-gewicht]])/(lammering[[#This Row],[Verkoop-datum]]-lammering[[#This Row],[Speen-datum]]))","v":""},{"$f":"IF(lammering[[#This Row],[Verkoop-datum]]=\"\",\"\",(lammering[[#This Row],[Verkoop-gewicht]]-lammering[[#This Row],[geboorte-gewicht]])/(lammering[[#This Row],[Verkoop-datum]]-lammering[[#This Row],[Werp-datum]]))","v":""},"","","","","","",{"$f":"IF(lammering[[#This Row],[Verkoop-gewicht]]=\"\",\"\",lammering[[#This Row],[Verkoop-gewicht]]-lammering[[#This Row],[geboorte-gewicht]])","v":""},"",""]
[{"$f":"lammering[[#This Row],[Ooi]]","v":0},{"$f":"IF(A451=0,0,IF(A451=A450,0,1))","v":0},{"$f":"IF(B451=1,A451,0)","v":0},{"$f":"IF(lammering[[#This Row],[Lam-nummer]]=\"\",0,1)","v":0},{"$f":"IF(lammering[[#This Row],[Dood in geboorte]]=\"ja\",1,0)","v":0},{"$f":"IF(lammering[[#This Row],[Ooi]]=\"\",0,IF(Berekeningen!E451=0,1,0))","v":0},{"$f":"IF(D451=0,0,IF(lammering[[#This Row],[Dood in geboorte]]=\"Ja\",0,IF(lammering[[#This Row],[Dood na geboorte]]=\"ja\",0,1)))","v":0},{"$f":"IF(lammering[[#This Row],[Opfok met kunstmelk]]=\"Ja\",1,0)","v":0},{"$f":"IF(lammering[[#This Row],[geslacht]]=\"O\",1,0)","v":0},{"$f":"IF(lammering[[#This Row],[Speen-datum]]=\"\",\"\",(lammering[[#This Row],[Speen-gewicht]]-lammering[[#This Row],[geboorte-gewicht]])/(lammering[[#This Row],[Speen-datum]]-lammering[[#This Row],[Werp-datum]]))","v":""},{"$f":"IF(lammering[[#This Row],[Verkoop-datum]]=\"\",\"\",(lammering[[#This Row],[Verkoop-gewicht]]-lammering[[#This Row],[Speen-gewicht]])/(lammering[[#This Row],[Verkoop-datum]]-lammering[[#This Row],[Speen-datum]]))","v":""},{"$f":"IF(lammering[[#This Row],[Verkoop-datum]]=\"\",\"\",(lammering[[#This Row],[Verkoop-gewicht]]-lammering[[#This Row],[geboorte-gewicht]])/(lammering[[#This Row],[Verkoop-datum]]-lammering[[#This Row],[Werp-datum]]))","v":""},"","","","","","",{"$f":"IF(lammering[[#This Row],[Verkoop-gewicht]]=\"\",\"\",lammering[[#This Row],[Verkoop-gewicht]]-lammering[[#This Row],[geboorte-gewicht]])","v":""},"",""]
[{"$f":"lammering[[#This Row],[Ooi]]","v":0},0,0,{"$f":"IF(lammering[[#This Row],[Lam-nummer]]=\"\",0,1)","v":0},{"$f":"IF(lammering[[#This Row],[Dood in geboorte]]=\"ja\",1,0)","v":0},{"$f":"IF(lammering[[#This Row],[Ooi]]=\"\",0,IF(Berekeningen!E452=0,1,0))","v":0},{"$f":"IF(D452=0,0,IF(lammering[[#This Row],[Dood in geboorte]]=\"Ja\",0,IF(lammering[[#This Row],[Dood na geboorte]]=\"ja\",0,1)))","v":0},{"$f":"IF(lammering[[#This Row],[Opfok met kunstmelk]]=\"Ja\",1,0)","v":0},{"$f":"IF(lammering[[#This Row],[geslacht]]=\"O\",1,0)","v":0},{"$f":"IF(lammering[[#This Row],[Speen-datum]]=\"\",\"\",(lammering[[#This Row],[Speen-gewicht]]-lammering[[#This Row],[geboorte-gewicht]])/(lammering[[#This Row],[Speen-datum]]-lammering[[#This Row],[Werp-datum]]))","v":""},{"$f":"IF(lammering[[#This Row],[Verkoop-datum]]=\"\",\"\",(lammering[[#This Row],[Verkoop-gewicht]]-lammering[[#This Row],[Speen-gewicht]])/(lammering[[#This Row],[Verkoop-datum]]-lammering[[#This Row],[Speen-datum]]))","v":""},{"$f":"IF(lammering[[#This Row],[Verkoop-datum]]=\"\",\"\",(lammering[[#This Row],[Verkoop-gewicht]]-lammering[[#This Row],[geboorte-gewicht]])/(lammering[[#This Row],[Verkoop-datum]]-lammering[[#This Row],[Werp-datum]]))","v":""},"","","","","","",{"$f":"IF(lammering[[#This Row],[Verkoop-gewicht]]=\"\",\"\",lammering[[#This Row],[Verkoop-gewicht]]-lammering[[#This Row],[geboorte-gewicht]])","v":""},"",""]
[{"$f":"lammering[[#This Row],[Ooi]]","v":0},0,0,{"$f":"IF(lammering[[#This Row],[Lam-nummer]]=\"\",0,1)","v":0},{"$f":"IF(lammering[[#This Row],[Dood in geboorte]]=\"ja\",1,0)","v":0},{"$f":"IF(lammering[[#This Row],[Ooi]]=\"\",0,IF(Berekeningen!E453=0,1,0))","v":0},{"$f":"IF(D453=0,0,IF(lammering[[#This Row],[Dood in geboorte]]=\"Ja\",0,IF(lammering[[#This Row],[Dood na geboorte]]=\"ja\",0,1)))","v":0},{"$f":"IF(lammering[[#This Row],[Opfok met kunstmelk]]=\"Ja\",1,0)","v":0},{"$f":"IF(lammering[[#This Row],[geslacht]]=\"O\",1,0)","v":0},{"$f":"IF(lammering[[#This Row],[Speen-datum]]=\"\",\"\",(lammering[[#This Row],[Speen-gewicht]]-lammering[[#This Row],[geboorte-gewicht]])/(lammering[[#This Row],[Speen-datum]]-lammering[[#This Row],[Werp-datum]]))","v":""},{"$f":"IF(lammering[[#This Row],[Verkoop-datum]]=\"\",\"\",(lammering[[#This Row],[Verkoop-gewicht]]-lammering[[#This Row],[Speen-gewicht]])/(lammering[[#This Row],[Verkoop-datum]]-lammering[[#This Row],[Speen-datum]]))","v":""},{"$f":"IF(lammering[[#This Row],[Verkoop-datum]]=\"\",\"\",(lammering[[#This Row],[Verkoop-gewicht]]-lammering[[#This Row],[geboorte-gewicht]])/(lammering[[#This Row],[Verkoop-datum]]-lammering[[#This Row],[Werp-datum]]))","v":""},"","","","","","",{"$f":"IF(lammering[[#This Row],[Verkoop-gewicht]]=\"\",\"\",lammering[[#This Row],[Verkoop-gewicht]]-lammering[[#This Row],[geboorte-gewicht]])","v":""},"",""]
[{"$f":"lammering[[#This Row],[Ooi]]","v":0},0,0,{"$f":"IF(lammering[[#This Row],[Lam-nummer]]=\"\",0,1)","v":0},{"$f":"IF(lammering[[#This Row],[Dood in geboorte]]=\"ja\",1,0)","v":0},{"$f":"IF(lammering[[#This Row],[Ooi]]=\"\",0,IF(Berekeningen!E454=0,1,0))","v":0},{"$f":"IF(D454=0,0,IF(lammering[[#This Row],[Dood in geboorte]]=\"Ja\",0,IF(lammering[[#This Row],[Dood na geboorte]]=\"ja\",0,1)))","v":0},{"$f":"IF(lammering[[#This Row],[Opfok met kunstmelk]]=\"Ja\",1,0)","v":0},{"$f":"IF(lammering[[#This Row],[geslacht]]=\"O\",1,0)","v":0},{"$f":"IF(lammering[[#This Row],[Speen-datum]]=\"\",\"\",(lammering[[#This Row],[Speen-gewicht]]-lammering[[#This Row],[geboorte-gewicht]])/(lammering[[#This Row],[Speen-datum]]-lammering[[#This Row],[Werp-datum]]))","v":""},{"$f":"IF(lammering[[#This Row],[Verkoop-datum]]=\"\",\"\",(lammering[[#This Row],[Verkoop-gewicht]]-lammering[[#This Row],[Speen-gewicht]])/(lammering[[#This Row],[Verkoop-datum]]-lammering[[#This Row],[Speen-datum]]))","v":""},{"$f":"IF(lammering[[#This Row],[Verkoop-datum]]=\"\",\"\",(lammering[[#This Row],[Verkoop-gewicht]]-lammering[[#This Row],[geboorte-gewicht]])/(lammering[[#This Row],[Verkoop-datum]]-lammering[[#This Row],[Werp-datum]]))","v":""},"","","","","","",{"$f":"IF(lammering[[#This Row],[Verkoop-gewicht]]=\"\",\"\",lammering[[#This Row],[Verkoop-gewicht]]-lammering[[#This Row],[geboorte-gewicht]])","v":""},"",""]
[{"$f":"lammering[[#This Row],[Ooi]]","v":0},0,0,{"$f":"IF(lammering[[#This Row],[Lam-nummer]]=\"\",0,1)","v":0},{"$f":"IF(lammering[[#This Row],[Dood in geboorte]]=\"ja\",1,0)","v":0},{"$f":"IF(lammering[[#This Row],[Ooi]]=\"\",0,IF(Berekeningen!E455=0,1,0))","v":0},{"$f":"IF(D455=0,0,IF(lammering[[#This Row],[Dood in geboorte]]=\"Ja\",0,IF(lammering[[#This Row],[Dood na geboorte]]=\"ja\",0,1)))","v":0},{"$f":"IF(lammering[[#This Row],[Opfok met kunstmelk]]=\"Ja\",1,0)","v":0},{"$f":"IF(lammering[[#This Row],[geslacht]]=\"O\",1,0)","v":0},{"$f":"IF(lammering[[#This Row],[Speen-datum]]=\"\",\"\",(lammering[[#This Row],[Speen-gewicht]]-lammering[[#This Row],[geboorte-gewicht]])/(lammering[[#This Row],[Speen-datum]]-lammering[[#This Row],[Werp-datum]]))","v":""},{"$f":"IF(lammering[[#This Row],[Verkoop-datum]]=\"\",\"\",(lammering[[#This Row],[Verkoop-gewicht]]-lammering[[#This Row],[Speen-gewicht]])/(lammering[[#This Row],[Verkoop-datum]]-lammering[[#This Row],[Speen-datum]]))","v":""},{"$f":"IF(lammering[[#This Row],[Verkoop-datum]]=\"\",\"\",(lammering[[#This Row],[Verkoop-gewicht]]-lammering[[#This Row],[geboorte-gewicht]])/(lammering[[#This Row],[Verkoop-datum]]-lammering[[#This Row],[Werp-datum]]))","v":""},"","","","","","",{"$f":"IF(lammering[[#This Row],[Verkoop-gewicht]]=\"\",\"\",lammering[[#This Row],[Verkoop-gewicht]]-lammering[[#This Row],[geboorte-gewicht]])","v":""},"",""]
[{"$f":"lammering[[#This Row],[Ooi]]","v":0},0,0,{"$f":"IF(lammering[[#This Row],[Lam-nummer]]=\"\",0,1)","v":0},{"$f":"IF(lammering[[#This Row],[Dood in geboorte]]=\"ja\",1,0)","v":0},{"$f":"IF(lammering[[#This Row],[Ooi]]=\"\",0,IF(Berekeningen!E456=0,1,0))","v":0},{"$f":"IF(D456=0,0,IF(lammering[[#This Row],[Dood in geboorte]]=\"Ja\",0,IF(lammering[[#This Row],[Dood na geboorte]]=\"ja\",0,1)))","v":0},{"$f":"IF(lammering[[#This Row],[Opfok met kunstmelk]]=\"Ja\",1,0)","v":0},{"$f":"IF(lammering[[#This Row],[geslacht]]=\"O\",1,0)","v":0},{"$f":"IF(lammering[[#This Row],[Speen-datum]]=\"\",\"\",(lammering[[#This Row],[Speen-gewicht]]-lammering[[#This Row],[geboorte-gewicht]])/(lammering[[#This Row],[Speen-datum]]-lammering[[#This Row],[Werp-datum]]))","v":""},{"$f":"IF(lammering[[#This Row],[Verkoop-datum]]=\"\",\"\",(lammering[[#This Row],[Verkoop-gewicht]]-lammering[[#This Row],[Speen-gewicht]])/(lammering[[#This Row],[Verkoop-datum]]-lammering[[#This Row],[Speen-datum]]))","v":""},{"$f":"IF(lammering[[#This Row],[Verkoop-datum]]=\"\",\"\",(lammering[[#This Row],[Verkoop-gewicht]]-lammering[[#This Row],[geboorte-gewicht]])/(lammering[[#This Row],[Verkoop-datum]]-lammering[[#This Row],[Werp-datum]]))","v":""},"","","","","","",{"$f":"IF(lammering[[#This Row],[Verkoop-gewicht]]=\"\",\"\",lammering[[#This Row],[Verkoop-gewicht]]-lammering[[#This Row],[geboorte-gewicht]])","v":""},"",""]
[{"$f":"lammering[[#This Row],[Ooi]]","v":0},0,0,{"$f":"IF(lammering[[#This Row],[Lam-nummer]]=\"\",0,1)","v":0},{"$f":"IF(lammering[[#This Row],[Dood in geboorte]]=\"ja\",1,0)","v":0},{"$f":"IF(lammering[[#This Row],[Ooi]]=\"\",0,IF(Berekeningen!E457=0,1,0))","v":0},{"$f":"IF(D457=0,0,IF(lammering[[#This Row],[Dood in geboorte]]=\"Ja\",0,IF(lammering[[#This Row],[Dood na geboorte]]=\"ja\",0,1)))","v":0},{"$f":"IF(lammering[[#This Row],[Opfok met kunstmelk]]=\"Ja\",1,0)","v":0},{"$f":"IF(lammering[[#This Row],[geslacht]]=\"O\",1,0)","v":0},{"$f":"IF(lammering[[#This Row],[Speen-datum]]=\"\",\"\",(lammering[[#This Row],[Speen-gewicht]]-lammering[[#This Row],[geboorte-gewicht]])/(lammering[[#This Row],[Speen-datum]]-lammering[[#This Row],[Werp-datum]]))","v":""},{"$f":"IF(lammering[[#This Row],[Verkoop-datum]]=\"\",\"\",(lammering[[#This Row],[Verkoop-gewicht]]-lammering[[#This Row],[Speen-gewicht]])/(lammering[[#This Row],[Verkoop-datum]]-lammering[[#This Row],[Speen-datum]]))","v":""},{"$f":"IF(lammering[[#This Row],[Verkoop-datum]]=\"\",\"\",(lammering[[#This Row],[Verkoop-gewicht]]-lammering[[#This Row],[geboorte-gewicht]])/(lammering[[#This Row],[Verkoop-datum]]-lammering[[#This Row],[Werp-datum]]))","v":""},"","","","","","",{"$f":"IF(lammering[[#This Row],[Verkoop-gewicht]]=\"\",\"\",lammering[[#This Row],[Verkoop-gewicht]]-lammering[[#This Row],[geboorte-gewicht]])","v":""},"",""]
[{"$f":"lammering[[#This Row],[Ooi]]","v":0},0,0,{"$f":"IF(lammering[[#This Row],[Lam-nummer]]=\"\",0,1)","v":0},{"$f":"IF(lammering[[#This Row],[Dood in geboorte]]=\"ja\",1,0)","v":0},{"$f":"IF(lammering[[#This Row],[Ooi]]=\"\",0,IF(Berekeningen!E458=0,1,0))","v":0},{"$f":"IF(D458=0,0,IF(lammering[[#This Row],[Dood in geboorte]]=\"Ja\",0,IF(lammering[[#This Row],[Dood na geboorte]]=\"ja\",0,1)))","v":0},{"$f":"IF(lammering[[#This Row],[Opfok met kunstmelk]]=\"Ja\",1,0)","v":0},{"$f":"IF(lammering[[#This Row],[geslacht]]=\"O\",1,0)","v":0},{"$f":"IF(lammering[[#This Row],[Speen-datum]]=\"\",\"\",(lammering[[#This Row],[Speen-gewicht]]-lammering[[#This Row],[geboorte-gewicht]])/(lammering[[#This Row],[Speen-datum]]-lammering[[#This Row],[Werp-datum]]))","v":""},{"$f":"IF(lammering[[#This Row],[Verkoop-datum]]=\"\",\"\",(lammering[[#This Row],[Verkoop-gewicht]]-lammering[[#This Row],[Speen-gewicht]])/(lammering[[#This Row],[Verkoop-datum]]-lammering[[#This Row],[Speen-datum]]))","v":""},{"$f":"IF(lammering[[#This Row],[Verkoop-datum]]=\"\",\"\",(lammering[[#This Row],[Verkoop-gewicht]]-lammering[[#This Row],[geboorte-gewicht]])/(lammering[[#This Row],[Verkoop-datum]]-lammering[[#This Row],[Werp-datum]]))","v":""},"","","","","","",{"$f":"IF(lammering[[#This Row],[Verkoop-gewicht]]=\"\",\"\",lammering[[#This Row],[Verkoop-gewicht]]-lammering[[#This Row],[geboorte-gewicht]])","v":""},"",""]
[{"$f":"lammering[[#This Row],[Ooi]]","v":0},0,0,{"$f":"IF(lammering[[#This Row],[Lam-nummer]]=\"\",0,1)","v":0},{"$f":"IF(lammering[[#This Row],[Dood in geboorte]]=\"ja\",1,0)","v":0},{"$f":"IF(lammering[[#This Row],[Ooi]]=\"\",0,IF(Berekeningen!E459=0,1,0))","v":0},{"$f":"IF(D459=0,0,IF(lammering[[#This Row],[Dood in geboorte]]=\"Ja\",0,IF(lammering[[#This Row],[Dood na geboorte]]=\"ja\",0,1)))","v":0},{"$f":"IF(lammering[[#This Row],[Opfok met kunstmelk]]=\"Ja\",1,0)","v":0},{"$f":"IF(lammering[[#This Row],[geslacht]]=\"O\",1,0)","v":0},{"$f":"IF(lammering[[#This Row],[Speen-datum]]=\"\",\"\",(lammering[[#This Row],[Speen-gewicht]]-lammering[[#This Row],[geboorte-gewicht]])/(lammering[[#This Row],[Speen-datum]]-lammering[[#This Row],[Werp-datum]]))","v":""},{"$f":"IF(lammering[[#This Row],[Verkoop-datum]]=\"\",\"\",(lammering[[#This Row],[Verkoop-gewicht]]-lammering[[#This Row],[Speen-gewicht]])/(lammering[[#This Row],[Verkoop-datum]]-lammering[[#This Row],[Speen-datum]]))","v":""},{"$f":"IF(lammering[[#This Row],[Verkoop-datum]]=\"\",\"\",(lammering[[#This Row],[Verkoop-gewicht]]-lammering[[#This Row],[geboorte-gewicht]])/(lammering[[#This Row],[Verkoop-datum]]-lammering[[#This Row],[Werp-datum]]))","v":""},"","","","","","",{"$f":"IF(lammering[[#This Row],[Verkoop-gewicht]]=\"\",\"\",lammering[[#This Row],[Verkoop-gewicht]]-lammering[[#This Row],[geboorte-gewicht]])","v":""},"",""]
[{"$f":"lammering[[#This Row],[Ooi]]","v":0},0,0,{"$f":"IF(lammering[[#This Row],[Lam-nummer]]=\"\",0,1)","v":0},{"$f":"IF(lammering[[#This Row],[Dood in geboorte]]=\"ja\",1,0)","v":0},{"$f":"IF(lammering[[#This Row],[Ooi]]=\"\",0,IF(Berekeningen!E460=0,1,0))","v":0},{"$f":"IF(D460=0,0,IF(lammering[[#This Row],[Dood in geboorte]]=\"Ja\",0,IF(lammering[[#This Row],[Dood na geboorte]]=\"ja\",0,1)))","v":0},{"$f":"IF(lammering[[#This Row],[Opfok met kunstmelk]]=\"Ja\",1,0)","v":0},{"$f":"IF(lammering[[#This Row],[geslacht]]=\"O\",1,0)","v":0},{"$f":"IF(lammering[[#This Row],[Speen-datum]]=\"\",\"\",(lammering[[#This Row],[Speen-gewicht]]-lammering[[#This Row],[geboorte-gewicht]])/(lammering[[#This Row],[Speen-datum]]-lammering[[#This Row],[Werp-datum]]))","v":""},{"$f":"IF(lammering[[#This Row],[Verkoop-datum]]=\"\",\"\",(lammering[[#This Row],[Verkoop-gewicht]]-lammering[[#This Row],[Speen-gewicht]])/(lammering[[#This Row],[Verkoop-datum]]-lammering[[#This Row],[Speen-datum]]))","v":""},{"$f":"IF(lammering[[#This Row],[Verkoop-datum]]=\"\",\"\",(lammering[[#This Row],[Verkoop-gewicht]]-lammering[[#This Row],[geboorte-gewicht]])/(lammering[[#This Row],[Verkoop-datum]]-lammering[[#This Row],[Werp-datum]]))","v":""},"","","","","","",{"$f":"IF(lammering[[#This Row],[Verkoop-gewicht]]=\"\",\"\",lammering[[#This Row],[Verkoop-gewicht]]-lammering[[#This Row],[geboorte-gewicht]])","v":""},"",""]
[{"$f":"lammering[[#This Row],[Ooi]]","v":0},0,0,{"$f":"IF(lammering[[#This Row],[Lam-nummer]]=\"\",0,1)","v":0},{"$f":"IF(lammering[[#This Row],[Dood in geboorte]]=\"ja\",1,0)","v":0},{"$f":"IF(lammering[[#This Row],[Ooi]]=\"\",0,IF(Berekeningen!E461=0,1,0))","v":0},{"$f":"IF(D461=0,0,IF(lammering[[#This Row],[Dood in geboorte]]=\"Ja\",0,IF(lammering[[#This Row],[Dood na geboorte]]=\"ja\",0,1)))","v":0},{"$f":"IF(lammering[[#This Row],[Opfok met kunstmelk]]=\"Ja\",1,0)","v":0},{"$f":"IF(lammering[[#This Row],[geslacht]]=\"O\",1,0)","v":0},{"$f":"IF(lammering[[#This Row],[Speen-datum]]=\"\",\"\",(lammering[[#This Row],[Speen-gewicht]]-lammering[[#This Row],[geboorte-gewicht]])/(lammering[[#This Row],[Speen-datum]]-lammering[[#This Row],[Werp-datum]]))","v":""},{"$f":"IF(lammering[[#This Row],[Verkoop-datum]]=\"\",\"\",(lammering[[#This Row],[Verkoop-gewicht]]-lammering[[#This Row],[Speen-gewicht]])/(lammering[[#This Row],[Verkoop-datum]]-lammering[[#This Row],[Speen-datum]]))","v":""},{"$f":"IF(lammering[[#This Row],[Verkoop-datum]]=\"\",\"\",(lammering[[#This Row],[Verkoop-gewicht]]-lammering[[#This Row],[geboorte-gewicht]])/(lammering[[#This Row],[Verkoop-datum]]-lammering[[#This Row],[Werp-datum]]))","v":""},"","","","","","",{"$f":"IF(lammering[[#This Row],[Verkoop-gewicht]]=\"\",\"\",lammering[[#This Row],[Verkoop-gewicht]]-lammering[[#This Row],[geboorte-gewicht]])","v":""},"",""]
[{"$f":"lammering[[#This Row],[Ooi]]","v":0},0,0,{"$f":"IF(lammering[[#This Row],[Lam-nummer]]=\"\",0,1)","v":0},{"$f":"IF(lammering[[#This Row],[Dood in geboorte]]=\"ja\",1,0)","v":0},{"$f":"IF(lammering[[#This Row],[Ooi]]=\"\",0,IF(Berekeningen!E462=0,1,0))","v":0},{"$f":"IF(D462=0,0,IF(lammering[[#This Row],[Dood in geboorte]]=\"Ja\",0,IF(lammering[[#This Row],[Dood na geboorte]]=\"ja\",0,1)))","v":0},{"$f":"IF(lammering[[#This Row],[Opfok met kunstmelk]]=\"Ja\",1,0)","v":0},{"$f":"IF(lammering[[#This Row],[geslacht]]=\"O\",1,0)","v":0},{"$f":"IF(lammering[[#This Row],[Speen-datum]]=\"\",\"\",(lammering[[#This Row],[Speen-gewicht]]-lammering[[#This Row],[geboorte-gewicht]])/(lammering[[#This Row],[Speen-datum]]-lammering[[#This Row],[Werp-datum]]))","v":""},{"$f":"IF(lammering[[#This Row],[Verkoop-datum]]=\"\",\"\",(lammering[[#This Row],[Verkoop-gewicht]]-lammering[[#This Row],[Speen-gewicht]])/(lammering[[#This Row],[Verkoop-datum]]-lammering[[#This Row],[Speen-datum]]))","v":""},{"$f":"IF(lammering[[#This Row],[Verkoop-datum]]=\"\",\"\",(lammering[[#This Row],[Verkoop-gewicht]]-lammering[[#This Row],[geboorte-gewicht]])/(lammering[[#This Row],[Verkoop-datum]]-lammering[[#This Row],[Werp-datum]]))","v":""},"","","","","","",{"$f":"IF(lammering[[#This Row],[Verkoop-gewicht]]=\"\",\"\",lammering[[#This Row],[Verkoop-gewicht]]-lammering[[#This Row],[geboorte-gewicht]])","v":""},"",""]
[{"$f":"lammering[[#This Row],[Ooi]]","v":0},0,0,{"$f":"IF(lammering[[#This Row],[Lam-nummer]]=\"\",0,1)","v":0},{"$f":"IF(lammering[[#This Row],[Dood in geboorte]]=\"ja\",1,0)","v":0},{"$f":"IF(lammering[[#This Row],[Ooi]]=\"\",0,IF(Berekeningen!E463=0,1,0))","v":0},{"$f":"IF(D463=0,0,IF(lammering[[#This Row],[Dood in geboorte]]=\"Ja\",0,IF(lammering[[#This Row],[Dood na geboorte]]=\"ja\",0,1)))","v":0},{"$f":"IF(lammering[[#This Row],[Opfok met kunstmelk]]=\"Ja\",1,0)","v":0},{"$f":"IF(lammering[[#This Row],[geslacht]]=\"O\",1,0)","v":0},{"$f":"IF(lammering[[#This Row],[Speen-datum]]=\"\",\"\",(lammering[[#This Row],[Speen-gewicht]]-lammering[[#This Row],[geboorte-gewicht]])/(lammering[[#This Row],[Speen-datum]]-lammering[[#This Row],[Werp-datum]]))","v":""},{"$f":"IF(lammering[[#This Row],[Verkoop-datum]]=\"\",\"\",(lammering[[#This Row],[Verkoop-gewicht]]-lammering[[#This Row],[Speen-gewicht]])/(lammering[[#This Row],[Verkoop-datum]]-lammering[[#This Row],[Speen-datum]]))","v":""},{"$f":"IF(lammering[[#This Row],[Verkoop-datum]]=\"\",\"\",(lammering[[#This Row],[Verkoop-gewicht]]-lammering[[#This Row],[geboorte-gewicht]])/(lammering[[#This Row],[Verkoop-datum]]-lammering[[#This Row],[Werp-datum]]))","v":""},{"$f":"IF($I463=1,J463,\"\")","v":""},{"$f":"IF($I463=1,K463,\"\")","v":""},{"$f":"IF($I463=1,L463,\"\")","v":""},{"$f":"IF($I463=0,J463,\"\")","v":""},{"$f":"IF($I463=0,K463,\"\")","v":""},{"$f":"IF($I463=0,L463,\"\")","v":""},{"$f":"IF(lammering[[#This Row],[Verkoop-gewicht]]=\"\",\"\",lammering[[#This Row],[Verkoop-gewicht]]-lammering[[#This Row],[geboorte-gewicht]])","v":""},{"$f":"IF(I463=1,S463,\"\")","v":""},{"$f":"IF(I463=0,S463,\"\")","v":""}]
[{"$f":"lammering[[#This Row],[Ooi]]","v":0},0,0,{"$f":"IF(lammering[[#This Row],[Lam-nummer]]=\"\",0,1)","v":0},{"$f":"IF(lammering[[#This Row],[Dood in geboorte]]=\"ja\",1,0)","v":0},{"$f":"IF(lammering[[#This Row],[Ooi]]=\"\",0,IF(Berekeningen!E464=0,1,0))","v":0},{"$f":"IF(D464=0,0,IF(lammering[[#This Row],[Dood in geboorte]]=\"Ja\",0,IF(lammering[[#This Row],[Dood na geboorte]]=\"ja\",0,1)))","v":0},{"$f":"IF(lammering[[#This Row],[Opfok met kunstmelk]]=\"Ja\",1,0)","v":0},{"$f":"IF(lammering[[#This Row],[geslacht]]=\"O\",1,0)","v":0},{"$f":"IF(lammering[[#This Row],[Speen-datum]]=\"\",\"\",(lammering[[#This Row],[Speen-gewicht]]-lammering[[#This Row],[geboorte-gewicht]])/(lammering[[#This Row],[Speen-datum]]-lammering[[#This Row],[Werp-datum]]))","v":""},{"$f":"IF(lammering[[#This Row],[Verkoop-datum]]=\"\",\"\",(lammering[[#This Row],[Verkoop-gewicht]]-lammering[[#This Row],[Speen-gewicht]])/(lammering[[#This Row],[Verkoop-datum]]-lammering[[#This Row],[Speen-datum]]))","v":""},{"$f":"IF(lammering[[#This Row],[Verkoop-datum]]=\"\",\"\",(lammering[[#This Row],[Verkoop-gewicht]]-lammering[[#This Row],[geboorte-gewicht]])/(lammering[[#This Row],[Verkoop-datum]]-lammering[[#This Row],[Werp-datum]]))","v":""},"","","","","","",{"$f":"IF(lammering[[#This Row],[Verkoop-gewicht]]=\"\",\"\",lammering[[#This Row],[Verkoop-gewicht]]-lammering[[#This Row],[geboorte-gewicht]])","v":""},"",""]
[{"$f":"lammering[[#This Row],[Ooi]]","v":0},0,0,{"$f":"IF(lammering[[#This Row],[Lam-nummer]]=\"\",0,1)","v":0},{"$f":"IF(lammering[[#This Row],[Dood in geboorte]]=\"ja\",1,0)","v":0},{"$f":"IF(lammering[[#This Row],[Ooi]]=\"\",0,IF(Berekeningen!E465=0,1,0))","v":0},{"$f":"IF(D465=0,0,IF(lammering[[#This Row],[Dood in geboorte]]=\"Ja\",0,IF(lammering[[#This Row],[Dood na geboorte]]=\"ja\",0,1)))","v":0},{"$f":"IF(lammering[[#This Row],[Opfok met kunstmelk]]=\"Ja\",1,0)","v":0},{"$f":"IF(lammering[[#This Row],[geslacht]]=\"O\",1,0)","v":0},{"$f":"IF(lammering[[#This Row],[Speen-datum]]=\"\",\"\",(lammering[[#This Row],[Speen-gewicht]]-lammering[[#This Row],[geboorte-gewicht]])/(lammering[[#This Row],[Speen-datum]]-lammering[[#This Row],[Werp-datum]]))","v":""},{"$f":"IF(lammering[[#This Row],[Verkoop-datum]]=\"\",\"\",(lammering[[#This Row],[Verkoop-gewicht]]-lammering[[#This Row],[Speen-gewicht]])/(lammering[[#This Row],[Verkoop-datum]]-lammering[[#This Row],[Speen-datum]]))","v":""},{"$f":"IF(lammering[[#This Row],[Verkoop-datum]]=\"\",\"\",(lammering[[#This Row],[Verkoop-gewicht]]-lammering[[#This Row],[geboorte-gewicht]])/(lammering[[#This Row],[Verkoop-datum]]-lammering[[#This Row],[Werp-datum]]))","v":""},"","","","","","",{"$f":"IF(lammering[[#This Row],[Verkoop-gewicht]]=\"\",\"\",lammering[[#This Row],[Verkoop-gewicht]]-lammering[[#This Row],[geboorte-gewicht]])","v":""},"",""]
[{"$f":"lammering[[#This Row],[Ooi]]","v":0},0,0,{"$f":"IF(lammering[[#This Row],[Lam-nummer]]=\"\",0,1)","v":0},{"$f":"IF(lammering[[#This Row],[Dood in geboorte]]=\"ja\",1,0)","v":0},{"$f":"IF(lammering[[#This Row],[Ooi]]=\"\",0,IF(Berekeningen!E466=0,1,0))","v":0},{"$f":"IF(D466=0,0,IF(lammering[[#This Row],[Dood in geboorte]]=\"Ja\",0,IF(lammering[[#This Row],[Dood na geboorte]]=\"ja\",0,1)))","v":0},{"$f":"IF(lammering[[#This Row],[Opfok met kunstmelk]]=\"Ja\",1,0)","v":0},{"$f":"IF(lammering[[#This Row],[geslacht]]=\"O\",1,0)","v":0},{"$f":"IF(lammering[[#This Row],[Speen-datum]]=\"\",\"\",(lammering[[#This Row],[Speen-gewicht]]-lammering[[#This Row],[geboorte-gewicht]])/(lammering[[#This Row],[Speen-datum]]-lammering[[#This Row],[Werp-datum]]))","v":""},{"$f":"IF(lammering[[#This Row],[Verkoop-datum]]=\"\",\"\",(lammering[[#This Row],[Verkoop-gewicht]]-lammering[[#This Row],[Speen-gewicht]])/(lammering[[#This Row],[Verkoop-datum]]-lammering[[#This Row],[Speen-datum]]))","v":""},{"$f":"IF(lammering[[#This Row],[Verkoop-datum]]=\"\",\"\",(lammering[[#This Row],[Verkoop-gewicht]]-lammering[[#This Row],[geboorte-gewicht]])/(lammering[[#This Row],[Verkoop-datum]]-lammering[[#This Row],[Werp-datum]]))","v":""},"","","","","","",{"$f":"IF(lammering[[#This Row],[Verkoop-gewicht]]=\"\",\"\",lammering[[#This Row],[Verkoop-gewicht]]-lammering[[#This Row],[geboorte-gewicht]])","v":""},"",""]
[{"$f":"lammering[[#This Row],[Ooi]]","v":0},0,0,{"$f":"IF(lammering[[#This Row],[Lam-nummer]]=\"\",0,1)","v":0},{"$f":"IF(lammering[[#This Row],[Dood in geboorte]]=\"ja\",1,0)","v":0},{"$f":"IF(lammering[[#This Row],[Ooi]]=\"\",0,IF(Berekeningen!E467=0,1,0))","v":0},{"$f":"IF(D467=0,0,IF(lammering[[#This Row],[Dood in geboorte]]=\"Ja\",0,IF(lammering[[#This Row],[Dood na geboorte]]=\"ja\",0,1)))","v":0},{"$f":"IF(lammering[[#This Row],[Opfok met kunstmelk]]=\"Ja\",1,0)","v":0},{"$f":"IF(lammering[[#This Row],[geslacht]]=\"O\",1,0)","v":0},{"$f":"IF(lammering[[#This Row],[Speen-datum]]=\"\",\"\",(lammering[[#This Row],[Speen-gewicht]]-lammering[[#This Row],[geboorte-gewicht]])/(lammering[[#This Row],[Speen-datum]]-lammering[[#This Row],[Werp-datum]]))","v":""},{"$f":"IF(lammering[[#This Row],[Verkoop-datum]]=\"\",\"\",(lammering[[#This Row],[Verkoop-gewicht]]-lammering[[#This Row],[Speen-gewicht]])/(lammering[[#This Row],[Verkoop-datum]]-lammering[[#This Row],[Speen-datum]]))","v":""},{"$f":"IF(lammering[[#This Row],[Verkoop-datum]]=\"\",\"\",(lammering[[#This Row],[Verkoop-gewicht]]-lammering[[#This Row],[geboorte-gewicht]])/(lammering[[#This Row],[Verkoop-datum]]-lammering[[#This Row],[Werp-datum]]))","v":""},"","","","","","",{"$f":"IF(lammering[[#This Row],[Verkoop-gewicht]]=\"\",\"\",lammering[[#This Row],[Verkoop-gewicht]]-lammering[[#This Row],[geboorte-gewicht]])","v":""},"",""]
[{"$f":"lammering[[#This Row],[Ooi]]","v":0},0,0,{"$f":"IF(lammering[[#This Row],[Lam-nummer]]=\"\",0,1)","v":0},{"$f":"IF(lammering[[#This Row],[Dood in geboorte]]=\"ja\",1,0)","v":0},{"$f":"IF(lammering[[#This Row],[Ooi]]=\"\",0,IF(Berekeningen!E468=0,1,0))","v":0},{"$f":"IF(D468=0,0,IF(lammering[[#This Row],[Dood in geboorte]]=\"Ja\",0,IF(lammering[[#This Row],[Dood na geboorte]]=\"ja\",0,1)))","v":0},{"$f":"IF(lammering[[#This Row],[Opfok met kunstmelk]]=\"Ja\",1,0)","v":0},{"$f":"IF(lammering[[#This Row],[geslacht]]=\"O\",1,0)","v":0},{"$f":"IF(lammering[[#This Row],[Speen-datum]]=\"\",\"\",(lammering[[#This Row],[Speen-gewicht]]-lammering[[#This Row],[geboorte-gewicht]])/(lammering[[#This Row],[Speen-datum]]-lammering[[#This Row],[Werp-datum]]))","v":""},{"$f":"IF(lammering[[#This Row],[Verkoop-datum]]=\"\",\"\",(lammering[[#This Row],[Verkoop-gewicht]]-lammering[[#This Row],[Speen-gewicht]])/(lammering[[#This Row],[Verkoop-datum]]-lammering[[#This Row],[Speen-datum]]))","v":""},{"$f":"IF(lammering[[#This Row],[Verkoop-datum]]=\"\",\"\",(lammering[[#This Row],[Verkoop-gewicht]]-lammering[[#This Row],[geboorte-gewicht]])/(lammering[[#This Row],[Verkoop-datum]]-lammering[[#This Row],[Werp-datum]]))","v":""},"","","","","","",{"$f":"IF(lammering[[#This Row],[Verkoop-gewicht]]=\"\",\"\",lammering[[#This Row],[Verkoop-gewicht]]-lammering[[#This Row],[geboorte-gewicht]])","v":""},"",""]
[{"$f":"lammering[[#This Row],[Ooi]]","v":0},0,0,{"$f":"IF(lammering[[#This Row],[Lam-nummer]]=\"\",0,1)","v":0},{"$f":"IF(lammering[[#This Row],[Dood in geboorte]]=\"ja\",1,0)","v":0},{"$f":"IF(lammering[[#This Row],[Ooi]]=\"\",0,IF(Berekeningen!E469=0,1,0))","v":0},{"$f":"IF(D469=0,0,IF(lammering[[#This Row],[Dood in geboorte]]=\"Ja\",0,IF(lammering[[#This Row],[Dood na geboorte]]=\"ja\",0,1)))","v":0},{"$f":"IF(lammering[[#This Row],[Opfok met kunstmelk]]=\"Ja\",1,0)","v":0},{"$f":"IF(lammering[[#This Row],[geslacht]]=\"O\",1,0)","v":0},{"$f":"IF(lammering[[#This Row],[Speen-datum]]=\"\",\"\",(lammering[[#This Row],[Speen-gewicht]]-lammering[[#This Row],[geboorte-gewicht]])/(lammering[[#This Row],[Speen-datum]]-lammering[[#This Row],[Werp-datum]]))","v":""},{"$f":"IF(lammering[[#This Row],[Verkoop-datum]]=\"\",\"\",(lammering[[#This Row],[Verkoop-gewicht]]-lammering[[#This Row],[Speen-gewicht]])/(lammering[[#This Row],[Verkoop-datum]]-lammering[[#This Row],[Speen-datum]]))","v":""},{"$f":"IF(lammering[[#This Row],[Verkoop-datum]]=\"\",\"\",(lammering[[#This Row],[Verkoop-gewicht]]-lammering[[#This Row],[geboorte-gewicht]])/(lammering[[#This Row],[Verkoop-datum]]-lammering[[#This Row],[Werp-datum]]))","v":""},"","","","","","",{"$f":"IF(lammering[[#This Row],[Verkoop-gewicht]]=\"\",\"\",lammering[[#This Row],[Verkoop-gewicht]]-lammering[[#This Row],[geboorte-gewicht]])","v":""},"",""]
[{"$f":"lammering[[#This Row],[Ooi]]","v":0},0,0,{"$f":"IF(lammering[[#This Row],[Lam-nummer]]=\"\",0,1)","v":0},{"$f":"IF(lammering[[#This Row],[Dood in geboorte]]=\"ja\",1,0)","v":0},{"$f":"IF(lammering[[#This Row],[Ooi]]=\"\",0,IF(Berekeningen!E470=0,1,0))","v":0},{"$f":"IF(D470=0,0,IF(lammering[[#This Row],[Dood in geboorte]]=\"Ja\",0,IF(lammering[[#This Row],[Dood na geboorte]]=\"ja\",0,1)))","v":0},{"$f":"IF(lammering[[#This Row],[Opfok met kunstmelk]]=\"Ja\",1,0)","v":0},{"$f":"IF(lammering[[#This Row],[geslacht]]=\"O\",1,0)","v":0},{"$f":"IF(lammering[[#This Row],[Speen-datum]]=\"\",\"\",(lammering[[#This Row],[Speen-gewicht]]-lammering[[#This Row],[geboorte-gewicht]])/(lammering[[#This Row],[Speen-datum]]-lammering[[#This Row],[Werp-datum]]))","v":""},{"$f":"IF(lammering[[#This Row],[Verkoop-datum]]=\"\",\"\",(lammering[[#This Row],[Verkoop-gewicht]]-lammering[[#This Row],[Speen-gewicht]])/(lammering[[#This Row],[Verkoop-datum]]-lammering[[#This Row],[Speen-datum]]))","v":""},{"$f":"IF(lammering[[#This Row],[Verkoop-datum]]=\"\",\"\",(lammering[[#This Row],[Verkoop-gewicht]]-lammering[[#This Row],[geboorte-gewicht]])/(lammering[[#This Row],[Verkoop-datum]]-lammering[[#This Row],[Werp-datum]]))","v":""},"","","","","","",{"$f":"IF(lammering[[#This Row],[Verkoop-gewicht]]=\"\",\"\",lammering[[#This Row],[Verkoop-gewicht]]-lammering[[#This Row],[geboorte-gewicht]])","v":""},"",""]
[{"$f":"lammering[[#This Row],[Ooi]]","v":0},0,0,{"$f":"IF(lammering[[#This Row],[Lam-nummer]]=\"\",0,1)","v":0},{"$f":"IF(lammering[[#This Row],[Dood in geboorte]]=\"ja\",1,0)","v":0},{"$f":"IF(lammering[[#This Row],[Ooi]]=\"\",0,IF(Berekeningen!E471=0,1,0))","v":0},{"$f":"IF(D471=0,0,IF(lammering[[#This Row],[Dood in geboorte]]=\"Ja\",0,IF(lammering[[#This Row],[Dood na geboorte]]=\"ja\",0,1)))","v":0},{"$f":"IF(lammering[[#This Row],[Opfok met kunstmelk]]=\"Ja\",1,0)","v":0},{"$f":"IF(lammering[[#This Row],[geslacht]]=\"O\",1,0)","v":0},{"$f":"IF(lammering[[#This Row],[Speen-datum]]=\"\",\"\",(lammering[[#This Row],[Speen-gewicht]]-lammering[[#This Row],[geboorte-gewicht]])/(lammering[[#This Row],[Speen-datum]]-lammering[[#This Row],[Werp-datum]]))","v":""},{"$f":"IF(lammering[[#This Row],[Verkoop-datum]]=\"\",\"\",(lammering[[#This Row],[Verkoop-gewicht]]-lammering[[#This Row],[Speen-gewicht]])/(lammering[[#This Row],[Verkoop-datum]]-lammering[[#This Row],[Speen-datum]]))","v":""},{"$f":"IF(lammering[[#This Row],[Verkoop-datum]]=\"\",\"\",(lammering[[#This Row],[Verkoop-gewicht]]-lammering[[#This Row],[geboorte-gewicht]])/(lammering[[#This Row],[Verkoop-datum]]-lammering[[#This Row],[Werp-datum]]))","v":""},"","","","","","",{"$f":"IF(lammering[[#This Row],[Verkoop-gewicht]]=\"\",\"\",lammering[[#This Row],[Verkoop-gewicht]]-lammering[[#This Row],[geboorte-gewicht]])","v":""},"",""]
[{"$f":"lammering[[#This Row],[Ooi]]","v":0},0,0,{"$f":"IF(lammering[[#This Row],[Lam-nummer]]=\"\",0,1)","v":0},{"$f":"IF(lammering[[#This Row],[Dood in geboorte]]=\"ja\",1,0)","v":0},{"$f":"IF(lammering[[#This Row],[Ooi]]=\"\",0,IF(Berekeningen!E472=0,1,0))","v":0},{"$f":"IF(D472=0,0,IF(lammering[[#This Row],[Dood in geboorte]]=\"Ja\",0,IF(lammering[[#This Row],[Dood na geboorte]]=\"ja\",0,1)))","v":0},{"$f":"IF(lammering[[#This Row],[Opfok met kunstmelk]]=\"Ja\",1,0)","v":0},{"$f":"IF(lammering[[#This Row],[geslacht]]=\"O\",1,0)","v":0},{"$f":"IF(lammering[[#This Row],[Speen-datum]]=\"\",\"\",(lammering[[#This Row],[Speen-gewicht]]-lammering[[#This Row],[geboorte-gewicht]])/(lammering[[#This Row],[Speen-datum]]-lammering[[#This Row],[Werp-datum]]))","v":""},{"$f":"IF(lammering[[#This Row],[Verkoop-datum]]=\"\",\"\",(lammering[[#This Row],[Verkoop-gewicht]]-lammering[[#This Row],[Speen-gewicht]])/(lammering[[#This Row],[Verkoop-datum]]-lammering[[#This Row],[Speen-datum]]))","v":""},{"$f":"IF(lammering[[#This Row],[Verkoop-datum]]=\"\",\"\",(lammering[[#This Row],[Verkoop-gewicht]]-lammering[[#This Row],[geboorte-gewicht]])/(lammering[[#This Row],[Verkoop-datum]]-lammering[[#This Row],[Werp-datum]]))","v":""},"","","","","","",{"$f":"IF(lammering[[#This Row],[Verkoop-gewicht]]=\"\",\"\",lammering[[#This Row],[Verkoop-gewicht]]-lammering[[#This Row],[geboorte-gewicht]])","v":""},"",""]
[{"$f":"lammering[[#This Row],[Ooi]]","v":0},0,0,{"$f":"IF(lammering[[#This Row],[Lam-nummer]]=\"\",0,1)","v":0},{"$f":"IF(lammering[[#This Row],[Dood in geboorte]]=\"ja\",1,0)","v":0},{"$f":"IF(lammering[[#This Row],[Ooi]]=\"\",0,IF(Berekeningen!E473=0,1,0))","v":0},{"$f":"IF(D473=0,0,IF(lammering[[#This Row],[Dood in geboorte]]=\"Ja\",0,IF(lammering[[#This Row],[Dood na geboorte]]=\"ja\",0,1)))","v":0},{"$f":"IF(lammering[[#This Row],[Opfok met kunstmelk]]=\"Ja\",1,0)","v":0},{"$f":"IF(lammering[[#This Row],[geslacht]]=\"O\",1,0)","v":0},{"$f":"IF(lammering[[#This Row],[Speen-datum]]=\"\",\"\",(lammering[[#This Row],[Speen-gewicht]]-lammering[[#This Row],[geboorte-gewicht]])/(lammering[[#This Row],[Speen-datum]]-lammering[[#This Row],[Werp-datum]]))","v":""},{"$f":"IF(lammering[[#This Row],[Verkoop-datum]]=\"\",\"\",(lammering[[#This Row],[Verkoop-gewicht]]-lammering[[#This Row],[Speen-gewicht]])/(lammering[[#This Row],[Verkoop-datum]]-lammering[[#This Row],[Speen-datum]]))","v":""},{"$f":"IF(lammering[[#This Row],[Verkoop-datum]]=\"\",\"\",(lammering[[#This Row],[Verkoop-gewicht]]-lammering[[#This Row],[geboorte-gewicht]])/(lammering[[#This Row],[Verkoop-datum]]-lammering[[#This Row],[Werp-datum]]))","v":""},"","","","","","",{"$f":"IF(lammering[[#This Row],[Verkoop-gewicht]]=\"\",\"\",lammering[[#This Row],[Verkoop-gewicht]]-lammering[[#This Row],[geboorte-gewicht]])","v":""},"",""]
[{"$f":"lammering[[#This Row],[Ooi]]","v":0},0,0,{"$f":"IF(lammering[[#This Row],[Lam-nummer]]=\"\",0,1)","v":0},{"$f":"IF(lammering[[#This Row],[Dood in geboorte]]=\"ja\",1,0)","v":0},{"$f":"IF(lammering[[#This Row],[Ooi]]=\"\",0,IF(Berekeningen!E474=0,1,0))","v":0},{"$f":"IF(D474=0,0,IF(lammering[[#This Row],[Dood in geboorte]]=\"Ja\",0,IF(lammering[[#This Row],[Dood na geboorte]]=\"ja\",0,1)))","v":0},{"$f":"IF(lammering[[#This Row],[Opfok met kunstmelk]]=\"Ja\",1,0)","v":0},{"$f":"IF(lammering[[#This Row],[geslacht]]=\"O\",1,0)","v":0},{"$f":"IF(lammering[[#This Row],[Speen-datum]]=\"\",\"\",(lammering[[#This Row],[Speen-gewicht]]-lammering[[#This Row],[geboorte-gewicht]])/(lammering[[#This Row],[Speen-datum]]-lammering[[#This Row],[Werp-datum]]))","v":""},{"$f":"IF(lammering[[#This Row],[Verkoop-datum]]=\"\",\"\",(lammering[[#This Row],[Verkoop-gewicht]]-lammering[[#This Row],[Speen-gewicht]])/(lammering[[#This Row],[Verkoop-datum]]-lammering[[#This Row],[Speen-datum]]))","v":""},{"$f":"IF(lammering[[#This Row],[Verkoop-datum]]=\"\",\"\",(lammering[[#This Row],[Verkoop-gewicht]]-lammering[[#This Row],[geboorte-gewicht]])/(lammering[[#This Row],[Verkoop-datum]]-lammering[[#This Row],[Werp-datum]]))","v":""},"","","","","","",{"$f":"IF(lammering[[#This Row],[Verkoop-gewicht]]=\"\",\"\",lammering[[#This Row],[Verkoop-gewicht]]-lammering[[#This Row],[geboorte-gewicht]])","v":""},"",""]
[{"$f":"lammering[[#This Row],[Ooi]]","v":0},0,0,{"$f":"IF(lammering[[#This Row],[Lam-nummer]]=\"\",0,1)","v":0},{"$f":"IF(lammering[[#This Row],[Dood in geboorte]]=\"ja\",1,0)","v":0},{"$f":"IF(lammering[[#This Row],[Ooi]]=\"\",0,IF(Berekeningen!E475=0,1,0))","v":0},{"$f":"IF(D475=0,0,IF(lammering[[#This Row],[Dood in geboorte]]=\"Ja\",0,IF(lammering[[#This Row],[Dood na geboorte]]=\"ja\",0,1)))","v":0},{"$f":"IF(lammering[[#This Row],[Opfok met kunstmelk]]=\"Ja\",1,0)","v":0},{"$f":"IF(lammering[[#This Row],[geslacht]]=\"O\",1,0)","v":0},{"$f":"IF(lammering[[#This Row],[Speen-datum]]=\"\",\"\",(lammering[[#This Row],[Speen-gewicht]]-lammering[[#This Row],[geboorte-gewicht]])/(lammering[[#This Row],[Speen-datum]]-lammering[[#This Row],[Werp-datum]]))","v":""},{"$f":"IF(lammering[[#This Row],[Verkoop-datum]]=\"\",\"\",(lammering[[#This Row],[Verkoop-gewicht]]-lammering[[#This Row],[Speen-gewicht]])/(lammering[[#This Row],[Verkoop-datum]]-lammering[[#This Row],[Speen-datum]]))","v":""},{"$f":"IF(lammering[[#This Row],[Verkoop-datum]]=\"\",\"\",(lammering[[#This Row],[Verkoop-gewicht]]-lammering[[#This Row],[geboorte-gewicht]])/(lammering[[#This Row],[Verkoop-datum]]-lammering[[#This Row],[Werp-datum]]))","v":""},"","","","","","",{"$f":"IF(lammering[[#This Row],[Verkoop-gewicht]]=\"\",\"\",lammering[[#This Row],[Verkoop-gewicht]]-lammering[[#This Row],[geboorte-gewicht]])","v":""},"",""]
[{"$f":"lammering[[#This Row],[Ooi]]","v":0},0,0,{"$f":"IF(lammering[[#This Row],[Lam-nummer]]=\"\",0,1)","v":0},{"$f":"IF(lammering[[#This Row],[Dood in geboorte]]=\"ja\",1,0)","v":0},{"$f":"IF(lammering[[#This Row],[Ooi]]=\"\",0,IF(Berekeningen!E476=0,1,0))","v":0},{"$f":"IF(D476=0,0,IF(lammering[[#This Row],[Dood in geboorte]]=\"Ja\",0,IF(lammering[[#This Row],[Dood na geboorte]]=\"ja\",0,1)))","v":0},{"$f":"IF(lammering[[#This Row],[Opfok met kunstmelk]]=\"Ja\",1,0)","v":0},{"$f":"IF(lammering[[#This Row],[geslacht]]=\"O\",1,0)","v":0},{"$f":"IF(lammering[[#This Row],[Speen-datum]]=\"\",\"\",(lammering[[#This Row],[Speen-gewicht]]-lammering[[#This Row],[geboorte-gewicht]])/(lammering[[#This Row],[Speen-datum]]-lammering[[#This Row],[Werp-datum]]))","v":""},{"$f":"IF(lammering[[#This Row],[Verkoop-datum]]=\"\",\"\",(lammering[[#This Row],[Verkoop-gewicht]]-lammering[[#This Row],[Speen-gewicht]])/(lammering[[#This Row],[Verkoop-datum]]-lammering[[#This Row],[Speen-datum]]))","v":""},{"$f":"IF(lammering[[#This Row],[Verkoop-datum]]=\"\",\"\",(lammering[[#This Row],[Verkoop-gewicht]]-lammering[[#This Row],[geboorte-gewicht]])/(lammering[[#This Row],[Verkoop-datum]]-lammering[[#This Row],[Werp-datum]]))","v":""},"","","","","","",{"$f":"IF(lammering[[#This Row],[Verkoop-gewicht]]=\"\",\"\",lammering[[#This Row],[Verkoop-gewicht]]-lammering[[#This Row],[geboorte-gewicht]])","v":""},"",""]
[{"$f":"lammering[[#This Row],[Ooi]]","v":0},0,0,{"$f":"IF(lammering[[#This Row],[Lam-nummer]]=\"\",0,1)","v":0},{"$f":"IF(lammering[[#This Row],[Dood in geboorte]]=\"ja\",1,0)","v":0},{"$f":"IF(lammering[[#This Row],[Ooi]]=\"\",0,IF(Berekeningen!E477=0,1,0))","v":0},{"$f":"IF(D477=0,0,IF(lammering[[#This Row],[Dood in geboorte]]=\"Ja\",0,IF(lammering[[#This Row],[Dood na geboorte]]=\"ja\",0,1)))","v":0},{"$f":"IF(lammering[[#This Row],[Opfok met kunstmelk]]=\"Ja\",1,0)","v":0},{"$f":"IF(lammering[[#This Row],[geslacht]]=\"O\",1,0)","v":0},{"$f":"IF(lammering[[#This Row],[Speen-datum]]=\"\",\"\",(lammering[[#This Row],[Speen-gewicht]]-lammering[[#This Row],[geboorte-gewicht]])/(lammering[[#This Row],[Speen-datum]]-lammering[[#This Row],[Werp-datum]]))","v":""},{"$f":"IF(lammering[[#This Row],[Verkoop-datum]]=\"\",\"\",(lammering[[#This Row],[Verkoop-gewicht]]-lammering[[#This Row],[Speen-gewicht]])/(lammering[[#This Row],[Verkoop-datum]]-lammering[[#This Row],[Speen-datum]]))","v":""},{"$f":"IF(lammering[[#This Row],[Verkoop-datum]]=\"\",\"\",(lammering[[#This Row],[Verkoop-gewicht]]-lammering[[#This Row],[geboorte-gewicht]])/(lammering[[#This Row],[Verkoop-datum]]-lammering[[#This Row],[Werp-datum]]))","v":""},"","","","","","",{"$f":"IF(lammering[[#This Row],[Verkoop-gewicht]]=\"\",\"\",lammering[[#This Row],[Verkoop-gewicht]]-lammering[[#This Row],[geboorte-gewicht]])","v":""},"",""]
[{"$f":"lammering[[#This Row],[Ooi]]","v":0},0,0,{"$f":"IF(lammering[[#This Row],[Lam-nummer]]=\"\",0,1)","v":0},{"$f":"IF(lammering[[#This Row],[Dood in geboorte]]=\"ja\",1,0)","v":0},{"$f":"IF(lammering[[#This Row],[Ooi]]=\"\",0,IF(Berekeningen!E478=0,1,0))","v":0},{"$f":"IF(D478=0,0,IF(lammering[[#This Row],[Dood in geboorte]]=\"Ja\",0,IF(lammering[[#This Row],[Dood na geboorte]]=\"ja\",0,1)))","v":0},{"$f":"IF(lammering[[#This Row],[Opfok met kunstmelk]]=\"Ja\",1,0)","v":0},{"$f":"IF(lammering[[#This Row],[geslacht]]=\"O\",1,0)","v":0},{"$f":"IF(lammering[[#This Row],[Speen-datum]]=\"\",\"\",(lammering[[#This Row],[Speen-gewicht]]-lammering[[#This Row],[geboorte-gewicht]])/(lammering[[#This Row],[Speen-datum]]-lammering[[#This Row],[Werp-datum]]))","v":""},{"$f":"IF(lammering[[#This Row],[Verkoop-datum]]=\"\",\"\",(lammering[[#This Row],[Verkoop-gewicht]]-lammering[[#This Row],[Speen-gewicht]])/(lammering[[#This Row],[Verkoop-datum]]-lammering[[#This Row],[Speen-datum]]))","v":""},{"$f":"IF(lammering[[#This Row],[Verkoop-datum]]=\"\",\"\",(lammering[[#This Row],[Verkoop-gewicht]]-lammering[[#This Row],[geboorte-gewicht]])/(lammering[[#This Row],[Verkoop-datum]]-lammering[[#This Row],[Werp-datum]]))","v":""},"","","","","","",{"$f":"IF(lammering[[#This Row],[Verkoop-gewicht]]=\"\",\"\",lammering[[#This Row],[Verkoop-gewicht]]-lammering[[#This Row],[geboorte-gewicht]])","v":""},"",""]
[{"$f":"lammering[[#This Row],[Ooi]]","v":0},0,0,{"$f":"IF(lammering[[#This Row],[Lam-nummer]]=\"\",0,1)","v":0},{"$f":"IF(lammering[[#This Row],[Dood in geboorte]]=\"ja\",1,0)","v":0},{"$f":"IF(lammering[[#This Row],[Ooi]]=\"\",0,IF(Berekeningen!E479=0,1,0))","v":0},{"$f":"IF(D479=0,0,IF(lammering[[#This Row],[Dood in geboorte]]=\"Ja\",0,IF(lammering[[#This Row],[Dood na geboorte]]=\"ja\",0,1)))","v":0},{"$f":"IF(lammering[[#This Row],[Opfok met kunstmelk]]=\"Ja\",1,0)","v":0},{"$f":"IF(lammering[[#This Row],[geslacht]]=\"O\",1,0)","v":0},{"$f":"IF(lammering[[#This Row],[Speen-datum]]=\"\",\"\",(lammering[[#This Row],[Speen-gewicht]]-lammering[[#This Row],[geboorte-gewicht]])/(lammering[[#This Row],[Speen-datum]]-lammering[[#This Row],[Werp-datum]]))","v":""},{"$f":"IF(lammering[[#This Row],[Verkoop-datum]]=\"\",\"\",(lammering[[#This Row],[Verkoop-gewicht]]-lammering[[#This Row],[Speen-gewicht]])/(lammering[[#This Row],[Verkoop-datum]]-lammering[[#This Row],[Speen-datum]]))","v":""},{"$f":"IF(lammering[[#This Row],[Verkoop-datum]]=\"\",\"\",(lammering[[#This Row],[Verkoop-gewicht]]-lammering[[#This Row],[geboorte-gewicht]])/(lammering[[#This Row],[Verkoop-datum]]-lammering[[#This Row],[Werp-datum]]))","v":""},"","","","","","",{"$f":"IF(lammering[[#This Row],[Verkoop-gewicht]]=\"\",\"\",lammering[[#This Row],[Verkoop-gewicht]]-lammering[[#This Row],[geboorte-gewicht]])","v":""},"",""]
[{"$f":"lammering[[#This Row],[Ooi]]","v":0},0,0,{"$f":"IF(lammering[[#This Row],[Lam-nummer]]=\"\",0,1)","v":0},{"$f":"IF(lammering[[#This Row],[Dood in geboorte]]=\"ja\",1,0)","v":0},{"$f":"IF(lammering[[#This Row],[Ooi]]=\"\",0,IF(Berekeningen!E480=0,1,0))","v":0},{"$f":"IF(D480=0,0,IF(lammering[[#This Row],[Dood in geboorte]]=\"Ja\",0,IF(lammering[[#This Row],[Dood na geboorte]]=\"ja\",0,1)))","v":0},{"$f":"IF(lammering[[#This Row],[Opfok met kunstmelk]]=\"Ja\",1,0)","v":0},{"$f":"IF(lammering[[#This Row],[geslacht]]=\"O\",1,0)","v":0},{"$f":"IF(lammering[[#This Row],[Speen-datum]]=\"\",\"\",(lammering[[#This Row],[Speen-gewicht]]-lammering[[#This Row],[geboorte-gewicht]])/(lammering[[#This Row],[Speen-datum]]-lammering[[#This Row],[Werp-datum]]))","v":""},{"$f":"IF(lammering[[#This Row],[Verkoop-datum]]=\"\",\"\",(lammering[[#This Row],[Verkoop-gewicht]]-lammering[[#This Row],[Speen-gewicht]])/(lammering[[#This Row],[Verkoop-datum]]-lammering[[#This Row],[Speen-datum]]))","v":""},{"$f":"IF(lammering[[#This Row],[Verkoop-datum]]=\"\",\"\",(lammering[[#This Row],[Verkoop-gewicht]]-lammering[[#This Row],[geboorte-gewicht]])/(lammering[[#This Row],[Verkoop-datum]]-lammering[[#This Row],[Werp-datum]]))","v":""},"","","","","","",{"$f":"IF(lammering[[#This Row],[Verkoop-gewicht]]=\"\",\"\",lammering[[#This Row],[Verkoop-gewicht]]-lammering[[#This Row],[geboorte-gewicht]])","v":""},"",""]
[{"$f":"lammering[[#This Row],[Ooi]]","v":0},0,0,{"$f":"IF(lammering[[#This Row],[Lam-nummer]]=\"\",0,1)","v":0},{"$f":"IF(lammering[[#This Row],[Dood in geboorte]]=\"ja\",1,0)","v":0},{"$f":"IF(lammering[[#This Row],[Ooi]]=\"\",0,IF(Berekeningen!E481=0,1,0))","v":0},{"$f":"IF(D481=0,0,IF(lammering[[#This Row],[Dood in geboorte]]=\"Ja\",0,IF(lammering[[#This Row],[Dood na geboorte]]=\"ja\",0,1)))","v":0},{"$f":"IF(lammering[[#This Row],[Opfok met kunstmelk]]=\"Ja\",1,0)","v":0},{"$f":"IF(lammering[[#This Row],[geslacht]]=\"O\",1,0)","v":0},{"$f":"IF(lammering[[#This Row],[Speen-datum]]=\"\",\"\",(lammering[[#This Row],[Speen-gewicht]]-lammering[[#This Row],[geboorte-gewicht]])/(lammering[[#This Row],[Speen-datum]]-lammering[[#This Row],[Werp-datum]]))","v":""},{"$f":"IF(lammering[[#This Row],[Verkoop-datum]]=\"\",\"\",(lammering[[#This Row],[Verkoop-gewicht]]-lammering[[#This Row],[Speen-gewicht]])/(lammering[[#This Row],[Verkoop-datum]]-lammering[[#This Row],[Speen-datum]]))","v":""},{"$f":"IF(lammering[[#This Row],[Verkoop-datum]]=\"\",\"\",(lammering[[#This Row],[Verkoop-gewicht]]-lammering[[#This Row],[geboorte-gewicht]])/(lammering[[#This Row],[Verkoop-datum]]-lammering[[#This Row],[Werp-datum]]))","v":""},"","","","","","",{"$f":"IF(lammering[[#This Row],[Verkoop-gewicht]]=\"\",\"\",lammering[[#This Row],[Verkoop-gewicht]]-lammering[[#This Row],[geboorte-gewicht]])","v":""},"",""]
[{"$f":"lammering[[#This Row],[Ooi]]","v":0},0,0,{"$f":"IF(lammering[[#This Row],[Lam-nummer]]=\"\",0,1)","v":0},{"$f":"IF(lammering[[#This Row],[Dood in geboorte]]=\"ja\",1,0)","v":0},{"$f":"IF(lammering[[#This Row],[Ooi]]=\"\",0,IF(Berekeningen!E482=0,1,0))","v":0},{"$f":"IF(D482=0,0,IF(lammering[[#This Row],[Dood in geboorte]]=\"Ja\",0,IF(lammering[[#This Row],[Dood na geboorte]]=\"ja\",0,1)))","v":0},{"$f":"IF(lammering[[#This Row],[Opfok met kunstmelk]]=\"Ja\",1,0)","v":0},{"$f":"IF(lammering[[#This Row],[geslacht]]=\"O\",1,0)","v":0},{"$f":"IF(lammering[[#This Row],[Speen-datum]]=\"\",\"\",(lammering[[#This Row],[Speen-gewicht]]-lammering[[#This Row],[geboorte-gewicht]])/(lammering[[#This Row],[Speen-datum]]-lammering[[#This Row],[Werp-datum]]))","v":""},{"$f":"IF(lammering[[#This Row],[Verkoop-datum]]=\"\",\"\",(lammering[[#This Row],[Verkoop-gewicht]]-lammering[[#This Row],[Speen-gewicht]])/(lammering[[#This Row],[Verkoop-datum]]-lammering[[#This Row],[Speen-datum]]))","v":""},{"$f":"IF(lammering[[#This Row],[Verkoop-datum]]=\"\",\"\",(lammering[[#This Row],[Verkoop-gewicht]]-lammering[[#This Row],[geboorte-gewicht]])/(lammering[[#This Row],[Verkoop-datum]]-lammering[[#This Row],[Werp-datum]]))","v":""},"","","","","","",{"$f":"IF(lammering[[#This Row],[Verkoop-gewicht]]=\"\",\"\",lammering[[#This Row],[Verkoop-gewicht]]-lammering[[#This Row],[geboorte-gewicht]])","v":""},"",""]
[{"$f":"lammering[[#This Row],[Ooi]]","v":0},0,0,{"$f":"IF(lammering[[#This Row],[Lam-nummer]]=\"\",0,1)","v":0},{"$f":"IF(lammering[[#This Row],[Dood in geboorte]]=\"ja\",1,0)","v":0},{"$f":"IF(lammering[[#This Row],[Ooi]]=\"\",0,IF(Berekeningen!E483=0,1,0))","v":0},{"$f":"IF(D483=0,0,IF(lammering[[#This Row],[Dood in geboorte]]=\"Ja\",0,IF(lammering[[#This Row],[Dood na geboorte]]=\"ja\",0,1)))","v":0},{"$f":"IF(lammering[[#This Row],[Opfok met kunstmelk]]=\"Ja\",1,0)","v":0},{"$f":"IF(lammering[[#This Row],[geslacht]]=\"O\",1,0)","v":0},{"$f":"IF(lammering[[#This Row],[Speen-datum]]=\"\",\"\",(lammering[[#This Row],[Speen-gewicht]]-lammering[[#This Row],[geboorte-gewicht]])/(lammering[[#This Row],[Speen-datum]]-lammering[[#This Row],[Werp-datum]]))","v":""},{"$f":"IF(lammering[[#This Row],[Verkoop-datum]]=\"\",\"\",(lammering[[#This Row],[Verkoop-gewicht]]-lammering[[#This Row],[Speen-gewicht]])/(lammering[[#This Row],[Verkoop-datum]]-lammering[[#This Row],[Speen-datum]]))","v":""},{"$f":"IF(lammering[[#This Row],[Verkoop-datum]]=\"\",\"\",(lammering[[#This Row],[Verkoop-gewicht]]-lammering[[#This Row],[geboorte-gewicht]])/(lammering[[#This Row],[Verkoop-datum]]-lammering[[#This Row],[Werp-datum]]))","v":""},"","","","","","",{"$f":"IF(lammering[[#This Row],[Verkoop-gewicht]]=\"\",\"\",lammering[[#This Row],[Verkoop-gewicht]]-lammering[[#This Row],[geboorte-gewicht]])","v":""},"",""]
[{"$f":"lammering[[#This Row],[Ooi]]","v":0},0,0,{"$f":"IF(lammering[[#This Row],[Lam-nummer]]=\"\",0,1)","v":0},{"$f":"IF(lammering[[#This Row],[Dood in geboorte]]=\"ja\",1,0)","v":0},{"$f":"IF(lammering[[#This Row],[Ooi]]=\"\",0,IF(Berekeningen!E484=0,1,0))","v":0},{"$f":"IF(D484=0,0,IF(lammering[[#This Row],[Dood in geboorte]]=\"Ja\",0,IF(lammering[[#This Row],[Dood na geboorte]]=\"ja\",0,1)))","v":0},{"$f":"IF(lammering[[#This Row],[Opfok met kunstmelk]]=\"Ja\",1,0)","v":0},{"$f":"IF(lammering[[#This Row],[geslacht]]=\"O\",1,0)","v":0},{"$f":"IF(lammering[[#This Row],[Speen-datum]]=\"\",\"\",(lammering[[#This Row],[Speen-gewicht]]-lammering[[#This Row],[geboorte-gewicht]])/(lammering[[#This Row],[Speen-datum]]-lammering[[#This Row],[Werp-datum]]))","v":""},{"$f":"IF(lammering[[#This Row],[Verkoop-datum]]=\"\",\"\",(lammering[[#This Row],[Verkoop-gewicht]]-lammering[[#This Row],[Speen-gewicht]])/(lammering[[#This Row],[Verkoop-datum]]-lammering[[#This Row],[Speen-datum]]))","v":""},{"$f":"IF(lammering[[#This Row],[Verkoop-datum]]=\"\",\"\",(lammering[[#This Row],[Verkoop-gewicht]]-lammering[[#This Row],[geboorte-gewicht]])/(lammering[[#This Row],[Verkoop-datum]]-lammering[[#This Row],[Werp-datum]]))","v":""},"","","","","","",{"$f":"IF(lammering[[#This Row],[Verkoop-gewicht]]=\"\",\"\",lammering[[#This Row],[Verkoop-gewicht]]-lammering[[#This Row],[geboorte-gewicht]])","v":""},"",""]
[{"$f":"lammering[[#This Row],[Ooi]]","v":0},0,0,{"$f":"IF(lammering[[#This Row],[Lam-nummer]]=\"\",0,1)","v":0},{"$f":"IF(lammering[[#This Row],[Dood in geboorte]]=\"ja\",1,0)","v":0},{"$f":"IF(lammering[[#This Row],[Ooi]]=\"\",0,IF(Berekeningen!E485=0,1,0))","v":0},{"$f":"IF(D485=0,0,IF(lammering[[#This Row],[Dood in geboorte]]=\"Ja\",0,IF(lammering[[#This Row],[Dood na geboorte]]=\"ja\",0,1)))","v":0},{"$f":"IF(lammering[[#This Row],[Opfok met kunstmelk]]=\"Ja\",1,0)","v":0},{"$f":"IF(lammering[[#This Row],[geslacht]]=\"O\",1,0)","v":0},{"$f":"IF(lammering[[#This Row],[Speen-datum]]=\"\",\"\",(lammering[[#This Row],[Speen-gewicht]]-lammering[[#This Row],[geboorte-gewicht]])/(lammering[[#This Row],[Speen-datum]]-lammering[[#This Row],[Werp-datum]]))","v":""},{"$f":"IF(lammering[[#This Row],[Verkoop-datum]]=\"\",\"\",(lammering[[#This Row],[Verkoop-gewicht]]-lammering[[#This Row],[Speen-gewicht]])/(lammering[[#This Row],[Verkoop-datum]]-lammering[[#This Row],[Speen-datum]]))","v":""},{"$f":"IF(lammering[[#This Row],[Verkoop-datum]]=\"\",\"\",(lammering[[#This Row],[Verkoop-gewicht]]-lammering[[#This Row],[geboorte-gewicht]])/(lammering[[#This Row],[Verkoop-datum]]-lammering[[#This Row],[Werp-datum]]))","v":""},"","","","","","",{"$f":"IF(lammering[[#This Row],[Verkoop-gewicht]]=\"\",\"\",lammering[[#This Row],[Verkoop-gewicht]]-lammering[[#This Row],[geboorte-gewicht]])","v":""},"",""]
[{"$f":"lammering[[#This Row],[Ooi]]","v":0},0,0,{"$f":"IF(lammering[[#This Row],[Lam-nummer]]=\"\",0,1)","v":0},{"$f":"IF(lammering[[#This Row],[Dood in geboorte]]=\"ja\",1,0)","v":0},{"$f":"IF(lammering[[#This Row],[Ooi]]=\"\",0,IF(Berekeningen!E486=0,1,0))","v":0},{"$f":"IF(D486=0,0,IF(lammering[[#This Row],[Dood in geboorte]]=\"Ja\",0,IF(lammering[[#This Row],[Dood na geboorte]]=\"ja\",0,1)))","v":0},{"$f":"IF(lammering[[#This Row],[Opfok met kunstmelk]]=\"Ja\",1,0)","v":0},{"$f":"IF(lammering[[#This Row],[geslacht]]=\"O\",1,0)","v":0},{"$f":"IF(lammering[[#This Row],[Speen-datum]]=\"\",\"\",(lammering[[#This Row],[Speen-gewicht]]-lammering[[#This Row],[geboorte-gewicht]])/(lammering[[#This Row],[Speen-datum]]-lammering[[#This Row],[Werp-datum]]))","v":""},{"$f":"IF(lammering[[#This Row],[Verkoop-datum]]=\"\",\"\",(lammering[[#This Row],[Verkoop-gewicht]]-lammering[[#This Row],[Speen-gewicht]])/(lammering[[#This Row],[Verkoop-datum]]-lammering[[#This Row],[Speen-datum]]))","v":""},{"$f":"IF(lammering[[#This Row],[Verkoop-datum]]=\"\",\"\",(lammering[[#This Row],[Verkoop-gewicht]]-lammering[[#This Row],[geboorte-gewicht]])/(lammering[[#This Row],[Verkoop-datum]]-lammering[[#This Row],[Werp-datum]]))","v":""},"","","","","","",{"$f":"IF(lammering[[#This Row],[Verkoop-gewicht]]=\"\",\"\",lammering[[#This Row],[Verkoop-gewicht]]-lammering[[#This Row],[geboorte-gewicht]])","v":""},"",""]
[{"$f":"lammering[[#This Row],[Ooi]]","v":0},0,0,{"$f":"IF(lammering[[#This Row],[Lam-nummer]]=\"\",0,1)","v":0},{"$f":"IF(lammering[[#This Row],[Dood in geboorte]]=\"ja\",1,0)","v":0},{"$f":"IF(lammering[[#This Row],[Ooi]]=\"\",0,IF(Berekeningen!E487=0,1,0))","v":0},{"$f":"IF(D487=0,0,IF(lammering[[#This Row],[Dood in geboorte]]=\"Ja\",0,IF(lammering[[#This Row],[Dood na geboorte]]=\"ja\",0,1)))","v":0},{"$f":"IF(lammering[[#This Row],[Opfok met kunstmelk]]=\"Ja\",1,0)","v":0},{"$f":"IF(lammering[[#This Row],[geslacht]]=\"O\",1,0)","v":0},{"$f":"IF(lammering[[#This Row],[Speen-datum]]=\"\",\"\",(lammering[[#This Row],[Speen-gewicht]]-lammering[[#This Row],[geboorte-gewicht]])/(lammering[[#This Row],[Speen-datum]]-lammering[[#This Row],[Werp-datum]]))","v":""},{"$f":"IF(lammering[[#This Row],[Verkoop-datum]]=\"\",\"\",(lammering[[#This Row],[Verkoop-gewicht]]-lammering[[#This Row],[Speen-gewicht]])/(lammering[[#This Row],[Verkoop-datum]]-lammering[[#This Row],[Speen-datum]]))","v":""},{"$f":"IF(lammering[[#This Row],[Verkoop-datum]]=\"\",\"\",(lammering[[#This Row],[Verkoop-gewicht]]-lammering[[#This Row],[geboorte-gewicht]])/(lammering[[#This Row],[Verkoop-datum]]-lammering[[#This Row],[Werp-datum]]))","v":""},"","","","","","",{"$f":"IF(lammering[[#This Row],[Verkoop-gewicht]]=\"\",\"\",lammering[[#This Row],[Verkoop-gewicht]]-lammering[[#This Row],[geboorte-gewicht]])","v":""},"",""]
[{"$f":"lammering[[#This Row],[Ooi]]","v":0},0,0,{"$f":"IF(lammering[[#This Row],[Lam-nummer]]=\"\",0,1)","v":0},{"$f":"IF(lammering[[#This Row],[Dood in geboorte]]=\"ja\",1,0)","v":0},{"$f":"IF(lammering[[#This Row],[Ooi]]=\"\",0,IF(Berekeningen!E488=0,1,0))","v":0},{"$f":"IF(D488=0,0,IF(lammering[[#This Row],[Dood in geboorte]]=\"Ja\",0,IF(lammering[[#This Row],[Dood na geboorte]]=\"ja\",0,1)))","v":0},{"$f":"IF(lammering[[#This Row],[Opfok met kunstmelk]]=\"Ja\",1,0)","v":0},{"$f":"IF(lammering[[#This Row],[geslacht]]=\"O\",1,0)","v":0},{"$f":"IF(lammering[[#This Row],[Speen-datum]]=\"\",\"\",(lammering[[#This Row],[Speen-gewicht]]-lammering[[#This Row],[geboorte-gewicht]])/(lammering[[#This Row],[Speen-datum]]-lammering[[#This Row],[Werp-datum]]))","v":""},{"$f":"IF(lammering[[#This Row],[Verkoop-datum]]=\"\",\"\",(lammering[[#This Row],[Verkoop-gewicht]]-lammering[[#This Row],[Speen-gewicht]])/(lammering[[#This Row],[Verkoop-datum]]-lammering[[#This Row],[Speen-datum]]))","v":""},{"$f":"IF(lammering[[#This Row],[Verkoop-datum]]=\"\",\"\",(lammering[[#This Row],[Verkoop-gewicht]]-lammering[[#This Row],[geboorte-gewicht]])/(lammering[[#This Row],[Verkoop-datum]]-lammering[[#This Row],[Werp-datum]]))","v":""},"","","","","","",{"$f":"IF(lammering[[#This Row],[Verkoop-gewicht]]=\"\",\"\",lammering[[#This Row],[Verkoop-gewicht]]-lammering[[#This Row],[geboorte-gewicht]])","v":""},"",""]
[{"$f":"lammering[[#This Row],[Ooi]]","v":0},0,0,{"$f":"IF(lammering[[#This Row],[Lam-nummer]]=\"\",0,1)","v":0},{"$f":"IF(lammering[[#This Row],[Dood in geboorte]]=\"ja\",1,0)","v":0},{"$f":"IF(lammering[[#This Row],[Ooi]]=\"\",0,IF(Berekeningen!E489=0,1,0))","v":0},{"$f":"IF(D489=0,0,IF(lammering[[#This Row],[Dood in geboorte]]=\"Ja\",0,IF(lammering[[#This Row],[Dood na geboorte]]=\"ja\",0,1)))","v":0},{"$f":"IF(lammering[[#This Row],[Opfok met kunstmelk]]=\"Ja\",1,0)","v":0},{"$f":"IF(lammering[[#This Row],[geslacht]]=\"O\",1,0)","v":0},{"$f":"IF(lammering[[#This Row],[Speen-datum]]=\"\",\"\",(lammering[[#This Row],[Speen-gewicht]]-lammering[[#This Row],[geboorte-gewicht]])/(lammering[[#This Row],[Speen-datum]]-lammering[[#This Row],[Werp-datum]]))","v":""},{"$f":"IF(lammering[[#This Row],[Verkoop-datum]]=\"\",\"\",(lammering[[#This Row],[Verkoop-gewicht]]-lammering[[#This Row],[Speen-gewicht]])/(lammering[[#This Row],[Verkoop-datum]]-lammering[[#This Row],[Speen-datum]]))","v":""},{"$f":"IF(lammering[[#This Row],[Verkoop-datum]]=\"\",\"\",(lammering[[#This Row],[Verkoop-gewicht]]-lammering[[#This Row],[geboorte-gewicht]])/(lammering[[#This Row],[Verkoop-datum]]-lammering[[#This Row],[Werp-datum]]))","v":""},"","","","","","",{"$f":"IF(lammering[[#This Row],[Verkoop-gewicht]]=\"\",\"\",lammering[[#This Row],[Verkoop-gewicht]]-lammering[[#This Row],[geboorte-gewicht]])","v":""},"",""]
[{"$f":"lammering[[#This Row],[Ooi]]","v":0},0,0,{"$f":"IF(lammering[[#This Row],[Lam-nummer]]=\"\",0,1)","v":0},{"$f":"IF(lammering[[#This Row],[Dood in geboorte]]=\"ja\",1,0)","v":0},{"$f":"IF(lammering[[#This Row],[Ooi]]=\"\",0,IF(Berekeningen!E490=0,1,0))","v":0},{"$f":"IF(D490=0,0,IF(lammering[[#This Row],[Dood in geboorte]]=\"Ja\",0,IF(lammering[[#This Row],[Dood na geboorte]]=\"ja\",0,1)))","v":0},{"$f":"IF(lammering[[#This Row],[Opfok met kunstmelk]]=\"Ja\",1,0)","v":0},{"$f":"IF(lammering[[#This Row],[geslacht]]=\"O\",1,0)","v":0},{"$f":"IF(lammering[[#This Row],[Speen-datum]]=\"\",\"\",(lammering[[#This Row],[Speen-gewicht]]-lammering[[#This Row],[geboorte-gewicht]])/(lammering[[#This Row],[Speen-datum]]-lammering[[#This Row],[Werp-datum]]))","v":""},{"$f":"IF(lammering[[#This Row],[Verkoop-datum]]=\"\",\"\",(lammering[[#This Row],[Verkoop-gewicht]]-lammering[[#This Row],[Speen-gewicht]])/(lammering[[#This Row],[Verkoop-datum]]-lammering[[#This Row],[Speen-datum]]))","v":""},{"$f":"IF(lammering[[#This Row],[Verkoop-datum]]=\"\",\"\",(lammering[[#This Row],[Verkoop-gewicht]]-lammering[[#This Row],[geboorte-gewicht]])/(lammering[[#This Row],[Verkoop-datum]]-lammering[[#This Row],[Werp-datum]]))","v":""},"","","","","","",{"$f":"IF(lammering[[#This Row],[Verkoop-gewicht]]=\"\",\"\",lammering[[#This Row],[Verkoop-gewicht]]-lammering[[#This Row],[geboorte-gewicht]])","v":""},"",""]
[{"$f":"lammering[[#This Row],[Ooi]]","v":0},0,0,{"$f":"IF(lammering[[#This Row],[Lam-nummer]]=\"\",0,1)","v":0},{"$f":"IF(lammering[[#This Row],[Dood in geboorte]]=\"ja\",1,0)","v":0},{"$f":"IF(lammering[[#This Row],[Ooi]]=\"\",0,IF(Berekeningen!E491=0,1,0))","v":0},{"$f":"IF(D491=0,0,IF(lammering[[#This Row],[Dood in geboorte]]=\"Ja\",0,IF(lammering[[#This Row],[Dood na geboorte]]=\"ja\",0,1)))","v":0},{"$f":"IF(lammering[[#This Row],[Opfok met kunstmelk]]=\"Ja\",1,0)","v":0},{"$f":"IF(lammering[[#This Row],[geslacht]]=\"O\",1,0)","v":0},{"$f":"IF(lammering[[#This Row],[Speen-datum]]=\"\",\"\",(lammering[[#This Row],[Speen-gewicht]]-lammering[[#This Row],[geboorte-gewicht]])/(lammering[[#This Row],[Speen-datum]]-lammering[[#This Row],[Werp-datum]]))","v":""},{"$f":"IF(lammering[[#This Row],[Verkoop-datum]]=\"\",\"\",(lammering[[#This Row],[Verkoop-gewicht]]-lammering[[#This Row],[Speen-gewicht]])/(lammering[[#This Row],[Verkoop-datum]]-lammering[[#This Row],[Speen-datum]]))","v":""},{"$f":"IF(lammering[[#This Row],[Verkoop-datum]]=\"\",\"\",(lammering[[#This Row],[Verkoop-gewicht]]-lammering[[#This Row],[geboorte-gewicht]])/(lammering[[#This Row],[Verkoop-datum]]-lammering[[#This Row],[Werp-datum]]))","v":""},"","","","","","",{"$f":"IF(lammering[[#This Row],[Verkoop-gewicht]]=\"\",\"\",lammering[[#This Row],[Verkoop-gewicht]]-lammering[[#This Row],[geboorte-gewicht]])","v":""},"",""]
[{"$f":"lammering[[#This Row],[Ooi]]","v":0},0,0,{"$f":"IF(lammering[[#This Row],[Lam-nummer]]=\"\",0,1)","v":0},{"$f":"IF(lammering[[#This Row],[Dood in geboorte]]=\"ja\",1,0)","v":0},{"$f":"IF(lammering[[#This Row],[Ooi]]=\"\",0,IF(Berekeningen!E492=0,1,0))","v":0},{"$f":"IF(D492=0,0,IF(lammering[[#This Row],[Dood in geboorte]]=\"Ja\",0,IF(lammering[[#This Row],[Dood na geboorte]]=\"ja\",0,1)))","v":0},{"$f":"IF(lammering[[#This Row],[Opfok met kunstmelk]]=\"Ja\",1,0)","v":0},{"$f":"IF(lammering[[#This Row],[geslacht]]=\"O\",1,0)","v":0},{"$f":"IF(lammering[[#This Row],[Speen-datum]]=\"\",\"\",(lammering[[#This Row],[Speen-gewicht]]-lammering[[#This Row],[geboorte-gewicht]])/(lammering[[#This Row],[Speen-datum]]-lammering[[#This Row],[Werp-datum]]))","v":""},{"$f":"IF(lammering[[#This Row],[Verkoop-datum]]=\"\",\"\",(lammering[[#This Row],[Verkoop-gewicht]]-lammering[[#This Row],[Speen-gewicht]])/(lammering[[#This Row],[Verkoop-datum]]-lammering[[#This Row],[Speen-datum]]))","v":""},{"$f":"IF(lammering[[#This Row],[Verkoop-datum]]=\"\",\"\",(lammering[[#This Row],[Verkoop-gewicht]]-lammering[[#This Row],[geboorte-gewicht]])/(lammering[[#This Row],[Verkoop-datum]]-lammering[[#This Row],[Werp-datum]]))","v":""},"","","","","","",{"$f":"IF(lammering[[#This Row],[Verkoop-gewicht]]=\"\",\"\",lammering[[#This Row],[Verkoop-gewicht]]-lammering[[#This Row],[geboorte-gewicht]])","v":""},"",""]
[{"$f":"lammering[[#This Row],[Ooi]]","v":0},0,0,{"$f":"IF(lammering[[#This Row],[Lam-nummer]]=\"\",0,1)","v":0},{"$f":"IF(lammering[[#This Row],[Dood in geboorte]]=\"ja\",1,0)","v":0},{"$f":"IF(lammering[[#This Row],[Ooi]]=\"\",0,IF(Berekeningen!E493=0,1,0))","v":0},{"$f":"IF(D493=0,0,IF(lammering[[#This Row],[Dood in geboorte]]=\"Ja\",0,IF(lammering[[#This Row],[Dood na geboorte]]=\"ja\",0,1)))","v":0},{"$f":"IF(lammering[[#This Row],[Opfok met kunstmelk]]=\"Ja\",1,0)","v":0},{"$f":"IF(lammering[[#This Row],[geslacht]]=\"O\",1,0)","v":0},{"$f":"IF(lammering[[#This Row],[Speen-datum]]=\"\",\"\",(lammering[[#This Row],[Speen-gewicht]]-lammering[[#This Row],[geboorte-gewicht]])/(lammering[[#This Row],[Speen-datum]]-lammering[[#This Row],[Werp-datum]]))","v":""},{"$f":"IF(lammering[[#This Row],[Verkoop-datum]]=\"\",\"\",(lammering[[#This Row],[Verkoop-gewicht]]-lammering[[#This Row],[Speen-gewicht]])/(lammering[[#This Row],[Verkoop-datum]]-lammering[[#This Row],[Speen-datum]]))","v":""},{"$f":"IF(lammering[[#This Row],[Verkoop-datum]]=\"\",\"\",(lammering[[#This Row],[Verkoop-gewicht]]-lammering[[#This Row],[geboorte-gewicht]])/(lammering[[#This Row],[Verkoop-datum]]-lammering[[#This Row],[Werp-datum]]))","v":""},"","","","","","",{"$f":"IF(lammering[[#This Row],[Verkoop-gewicht]]=\"\",\"\",lammering[[#This Row],[Verkoop-gewicht]]-lammering[[#This Row],[geboorte-gewicht]])","v":""},"",""]
[{"$f":"lammering[[#This Row],[Ooi]]","v":0},0,0,{"$f":"IF(lammering[[#This Row],[Lam-nummer]]=\"\",0,1)","v":0},{"$f":"IF(lammering[[#This Row],[Dood in geboorte]]=\"ja\",1,0)","v":0},{"$f":"IF(lammering[[#This Row],[Ooi]]=\"\",0,IF(Berekeningen!E494=0,1,0))","v":0},{"$f":"IF(D494=0,0,IF(lammering[[#This Row],[Dood in geboorte]]=\"Ja\",0,IF(lammering[[#This Row],[Dood na geboorte]]=\"ja\",0,1)))","v":0},{"$f":"IF(lammering[[#This Row],[Opfok met kunstmelk]]=\"Ja\",1,0)","v":0},{"$f":"IF(lammering[[#This Row],[geslacht]]=\"O\",1,0)","v":0},{"$f":"IF(lammering[[#This Row],[Speen-datum]]=\"\",\"\",(lammering[[#This Row],[Speen-gewicht]]-lammering[[#This Row],[geboorte-gewicht]])/(lammering[[#This Row],[Speen-datum]]-lammering[[#This Row],[Werp-datum]]))","v":""},{"$f":"IF(lammering[[#This Row],[Verkoop-datum]]=\"\",\"\",(lammering[[#This Row],[Verkoop-gewicht]]-lammering[[#This Row],[Speen-gewicht]])/(lammering[[#This Row],[Verkoop-datum]]-lammering[[#This Row],[Speen-datum]]))","v":""},{"$f":"IF(lammering[[#This Row],[Verkoop-datum]]=\"\",\"\",(lammering[[#This Row],[Verkoop-gewicht]]-lammering[[#This Row],[geboorte-gewicht]])/(lammering[[#This Row],[Verkoop-datum]]-lammering[[#This Row],[Werp-datum]]))","v":""},"","","","","","",{"$f":"IF(lammering[[#This Row],[Verkoop-gewicht]]=\"\",\"\",lammering[[#This Row],[Verkoop-gewicht]]-lammering[[#This Row],[geboorte-gewicht]])","v":""},"",""]
[{"$f":"lammering[[#This Row],[Ooi]]","v":0},0,0,{"$f":"IF(lammering[[#This Row],[Lam-nummer]]=\"\",0,1)","v":0},{"$f":"IF(lammering[[#This Row],[Dood in geboorte]]=\"ja\",1,0)","v":0},{"$f":"IF(lammering[[#This Row],[Ooi]]=\"\",0,IF(Berekeningen!E495=0,1,0))","v":0},{"$f":"IF(D495=0,0,IF(lammering[[#This Row],[Dood in geboorte]]=\"Ja\",0,IF(lammering[[#This Row],[Dood na geboorte]]=\"ja\",0,1)))","v":0},{"$f":"IF(lammering[[#This Row],[Opfok met kunstmelk]]=\"Ja\",1,0)","v":0},{"$f":"IF(lammering[[#This Row],[geslacht]]=\"O\",1,0)","v":0},{"$f":"IF(lammering[[#This Row],[Speen-datum]]=\"\",\"\",(lammering[[#This Row],[Speen-gewicht]]-lammering[[#This Row],[geboorte-gewicht]])/(lammering[[#This Row],[Speen-datum]]-lammering[[#This Row],[Werp-datum]]))","v":""},{"$f":"IF(lammering[[#This Row],[Verkoop-datum]]=\"\",\"\",(lammering[[#This Row],[Verkoop-gewicht]]-lammering[[#This Row],[Speen-gewicht]])/(lammering[[#This Row],[Verkoop-datum]]-lammering[[#This Row],[Speen-datum]]))","v":""},{"$f":"IF(lammering[[#This Row],[Verkoop-datum]]=\"\",\"\",(lammering[[#This Row],[Verkoop-gewicht]]-lammering[[#This Row],[geboorte-gewicht]])/(lammering[[#This Row],[Verkoop-datum]]-lammering[[#This Row],[Werp-datum]]))","v":""},"","","","","","",{"$f":"IF(lammering[[#This Row],[Verkoop-gewicht]]=\"\",\"\",lammering[[#This Row],[Verkoop-gewicht]]-lammering[[#This Row],[geboorte-gewicht]])","v":""},"",""]
[{"$f":"lammering[[#This Row],[Ooi]]","v":0},0,0,{"$f":"IF(lammering[[#This Row],[Lam-nummer]]=\"\",0,1)","v":0},{"$f":"IF(lammering[[#This Row],[Dood in geboorte]]=\"ja\",1,0)","v":0},{"$f":"IF(lammering[[#This Row],[Ooi]]=\"\",0,IF(Berekeningen!E496=0,1,0))","v":0},{"$f":"IF(D496=0,0,IF(lammering[[#This Row],[Dood in geboorte]]=\"Ja\",0,IF(lammering[[#This Row],[Dood na geboorte]]=\"ja\",0,1)))","v":0},{"$f":"IF(lammering[[#This Row],[Opfok met kunstmelk]]=\"Ja\",1,0)","v":0},{"$f":"IF(lammering[[#This Row],[geslacht]]=\"O\",1,0)","v":0},{"$f":"IF(lammering[[#This Row],[Speen-datum]]=\"\",\"\",(lammering[[#This Row],[Speen-gewicht]]-lammering[[#This Row],[geboorte-gewicht]])/(lammering[[#This Row],[Speen-datum]]-lammering[[#This Row],[Werp-datum]]))","v":""},{"$f":"IF(lammering[[#This Row],[Verkoop-datum]]=\"\",\"\",(lammering[[#This Row],[Verkoop-gewicht]]-lammering[[#This Row],[Speen-gewicht]])/(lammering[[#This Row],[Verkoop-datum]]-lammering[[#This Row],[Speen-datum]]))","v":""},{"$f":"IF(lammering[[#This Row],[Verkoop-datum]]=\"\",\"\",(lammering[[#This Row],[Verkoop-gewicht]]-lammering[[#This Row],[geboorte-gewicht]])/(lammering[[#This Row],[Verkoop-datum]]-lammering[[#This Row],[Werp-datum]]))","v":""},"","","","","","",{"$f":"IF(lammering[[#This Row],[Verkoop-gewicht]]=\"\",\"\",lammering[[#This Row],[Verkoop-gewicht]]-lammering[[#This Row],[geboorte-gewicht]])","v":""},"",""]
[{"$f":"lammering[[#This Row],[Ooi]]","v":0},0,0,{"$f":"IF(lammering[[#This Row],[Lam-nummer]]=\"\",0,1)","v":0},{"$f":"IF(lammering[[#This Row],[Dood in geboorte]]=\"ja\",1,0)","v":0},{"$f":"IF(lammering[[#This Row],[Ooi]]=\"\",0,IF(Berekeningen!E497=0,1,0))","v":0},{"$f":"IF(D497=0,0,IF(lammering[[#This Row],[Dood in geboorte]]=\"Ja\",0,IF(lammering[[#This Row],[Dood na geboorte]]=\"ja\",0,1)))","v":0},{"$f":"IF(lammering[[#This Row],[Opfok met kunstmelk]]=\"Ja\",1,0)","v":0},{"$f":"IF(lammering[[#This Row],[geslacht]]=\"O\",1,0)","v":0},{"$f":"IF(lammering[[#This Row],[Speen-datum]]=\"\",\"\",(lammering[[#This Row],[Speen-gewicht]]-lammering[[#This Row],[geboorte-gewicht]])/(lammering[[#This Row],[Speen-datum]]-lammering[[#This Row],[Werp-datum]]))","v":""},{"$f":"IF(lammering[[#This Row],[Verkoop-datum]]=\"\",\"\",(lammering[[#This Row],[Verkoop-gewicht]]-lammering[[#This Row],[Speen-gewicht]])/(lammering[[#This Row],[Verkoop-datum]]-lammering[[#This Row],[Speen-datum]]))","v":""},{"$f":"IF(lammering[[#This Row],[Verkoop-datum]]=\"\",\"\",(lammering[[#This Row],[Verkoop-gewicht]]-lammering[[#This Row],[geboorte-gewicht]])/(lammering[[#This Row],[Verkoop-datum]]-lammering[[#This Row],[Werp-datum]]))","v":""},"","","","","","",{"$f":"IF(lammering[[#This Row],[Verkoop-gewicht]]=\"\",\"\",lammering[[#This Row],[Verkoop-gewicht]]-lammering[[#This Row],[geboorte-gewicht]])","v":""},"",""]
[{"$f":"lammering[[#This Row],[Ooi]]","v":0},0,0,{"$f":"IF(lammering[[#This Row],[Lam-nummer]]=\"\",0,1)","v":0},{"$f":"IF(lammering[[#This Row],[Dood in geboorte]]=\"ja\",1,0)","v":0},{"$f":"IF(lammering[[#This Row],[Ooi]]=\"\",0,IF(Berekeningen!E498=0,1,0))","v":0},{"$f":"IF(D498=0,0,IF(lammering[[#This Row],[Dood in geboorte]]=\"Ja\",0,IF(lammering[[#This Row],[Dood na geboorte]]=\"ja\",0,1)))","v":0},{"$f":"IF(lammering[[#This Row],[Opfok met kunstmelk]]=\"Ja\",1,0)","v":0},{"$f":"IF(lammering[[#This Row],[geslacht]]=\"O\",1,0)","v":0},{"$f":"IF(lammering[[#This Row],[Speen-datum]]=\"\",\"\",(lammering[[#This Row],[Speen-gewicht]]-lammering[[#This Row],[geboorte-gewicht]])/(lammering[[#This Row],[Speen-datum]]-lammering[[#This Row],[Werp-datum]]))","v":""},{"$f":"IF(lammering[[#This Row],[Verkoop-datum]]=\"\",\"\",(lammering[[#This Row],[Verkoop-gewicht]]-lammering[[#This Row],[Speen-gewicht]])/(lammering[[#This Row],[Verkoop-datum]]-lammering[[#This Row],[Speen-datum]]))","v":""},{"$f":"IF(lammering[[#This Row],[Verkoop-datum]]=\"\",\"\",(lammering[[#This Row],[Verkoop-gewicht]]-lammering[[#This Row],[geboorte-gewicht]])/(lammering[[#This Row],[Verkoop-datum]]-lammering[[#This Row],[Werp-datum]]))","v":""},"","","","","","",{"$f":"IF(lammering[[#This Row],[Verkoop-gewicht]]=\"\",\"\",lammering[[#This Row],[Verkoop-gewicht]]-lammering[[#This Row],[geboorte-gewicht]])","v":""},"",""]
[{"$f":"lammering[[#This Row],[Ooi]]","v":0},0,0,{"$f":"IF(lammering[[#This Row],[Lam-nummer]]=\"\",0,1)","v":0},{"$f":"IF(lammering[[#This Row],[Dood in geboorte]]=\"ja\",1,0)","v":0},{"$f":"IF(lammering[[#This Row],[Ooi]]=\"\",0,IF(Berekeningen!E499=0,1,0))","v":0},{"$f":"IF(D499=0,0,IF(lammering[[#This Row],[Dood in geboorte]]=\"Ja\",0,IF(lammering[[#This Row],[Dood na geboorte]]=\"ja\",0,1)))","v":0},{"$f":"IF(lammering[[#This Row],[Opfok met kunstmelk]]=\"Ja\",1,0)","v":0},{"$f":"IF(lammering[[#This Row],[geslacht]]=\"O\",1,0)","v":0},{"$f":"IF(lammering[[#This Row],[Speen-datum]]=\"\",\"\",(lammering[[#This Row],[Speen-gewicht]]-lammering[[#This Row],[geboorte-gewicht]])/(lammering[[#This Row],[Speen-datum]]-lammering[[#This Row],[Werp-datum]]))","v":""},{"$f":"IF(lammering[[#This Row],[Verkoop-datum]]=\"\",\"\",(lammering[[#This Row],[Verkoop-gewicht]]-lammering[[#This Row],[Speen-gewicht]])/(lammering[[#This Row],[Verkoop-datum]]-lammering[[#This Row],[Speen-datum]]))","v":""},{"$f":"IF(lammering[[#This Row],[Verkoop-datum]]=\"\",\"\",(lammering[[#This Row],[Verkoop-gewicht]]-lammering[[#This Row],[geboorte-gewicht]])/(lammering[[#This Row],[Verkoop-datum]]-lammering[[#This Row],[Werp-datum]]))","v":""},"","","","","","",{"$f":"IF(lammering[[#This Row],[Verkoop-gewicht]]=\"\",\"\",lammering[[#This Row],[Verkoop-gewicht]]-lammering[[#This Row],[geboorte-gewicht]])","v":""},"",""]
[{"$f":"lammering[[#This Row],[Ooi]]","v":0},0,0,{"$f":"IF(lammering[[#This Row],[Lam-nummer]]=\"\",0,1)","v":0},{"$f":"IF(lammering[[#This Row],[Dood in geboorte]]=\"ja\",1,0)","v":0},{"$f":"IF(lammering[[#This Row],[Ooi]]=\"\",0,IF(Berekeningen!E500=0,1,0))","v":0},{"$f":"IF(D500=0,0,IF(lammering[[#This Row],[Dood in geboorte]]=\"Ja\",0,IF(lammering[[#This Row],[Dood na geboorte]]=\"ja\",0,1)))","v":0},{"$f":"IF(lammering[[#This Row],[Opfok met kunstmelk]]=\"Ja\",1,0)","v":0},{"$f":"IF(lammering[[#This Row],[geslacht]]=\"O\",1,0)","v":0},{"$f":"IF(lammering[[#This Row],[Speen-datum]]=\"\",\"\",(lammering[[#This Row],[Speen-gewicht]]-lammering[[#This Row],[geboorte-gewicht]])/(lammering[[#This Row],[Speen-datum]]-lammering[[#This Row],[Werp-datum]]))","v":""},{"$f":"IF(lammering[[#This Row],[Verkoop-datum]]=\"\",\"\",(lammering[[#This Row],[Verkoop-gewicht]]-lammering[[#This Row],[Speen-gewicht]])/(lammering[[#This Row],[Verkoop-datum]]-lammering[[#This Row],[Speen-datum]]))","v":""},{"$f":"IF(lammering[[#This Row],[Verkoop-datum]]=\"\",\"\",(lammering[[#This Row],[Verkoop-gewicht]]-lammering[[#This Row],[geboorte-gewicht]])/(lammering[[#This Row],[Verkoop-datum]]-lammering[[#This Row],[Werp-datum]]))","v":""},"","","","","","",{"$f":"IF(lammering[[#This Row],[Verkoop-gewicht]]=\"\",\"\",lammering[[#This Row],[Verkoop-gewicht]]-lammering[[#This Row],[geboorte-gewicht]])","v":""},"",""]

{"sheet":"Bedrijfsresultaten","index":6,"n_rows":31,"n_cols":5,"rows_kept":31,"cut":false,"hidden":false,"merged":[]}
["Analyse"]
[]
["Lammeringen"]
["Totaal aantal lammeringen per jaar",{"$f":"SUM(Berekeningen!B2:B502)","v":0},null,"aantal worpen per jaar"]
["Gemiddelde worpindex - alle ooien",{"$f":"AVERAGE(Berekeningen!W2:W220)","v":{"$error":"#DIV/0!"}},null,"aantal keer dat een ooi werpt per jaar, op basis van alle ooien aanwezig op het bedrijf"]
["Gemiddelde worpindex - gelammerde ooien",{"$f":"AVERAGE(Berekeningen!X2:X220)","v":{"$error":"#DIV/0!"}},null,"aantal keer dat een ooi werpt per jaar, op basis van alle ooien die geworpen hebben"]
[]
["Lammeren"]
["Totaal aantal lammeren per jaar",{"$f":"SUM(Berekeningen!D2:D500)","v":0}]
["Gemiddelde worpgrootte",{"$f":"SUM(Berekeningen!D2:D500)/SUM(Berekeningen!B2:B500)","v":{"$error":"#DIV/0!"}},null,"aantal lammeren / aantal worpen per jaar"]
["Totaal aantal levend geboren lammeren per jaar",{"$f":"SUM(Berekeningen!F2:F500)","v":0}]
["Gemiddeld aantal levende lammeren per worp per jaar",{"$f":"B11/B4","v":{"$error":"#DIV/0!"}},null,"aantal levend geboren lammeren / aantal worpen per jaar"]
["Totaal aantal dode lammeren bij geboorte per jaar",{"$f":"B9-B11","v":0}]
["Gemiddeld aantal dode lammeren bij geboorte per worp per jaar",{"$f":"B13/B4","v":{"$error":"#DIV/0!"}},null,"aantal dood geboren lammeren /  aantal worpen per jaar"]
["totaal aantal levende lammeren op verkoopleeftijd per jaar",{"$f":"SUM(Berekeningen!G2:G500)","v":9}]
["Gemiddeld aantal levende lammeren verkoopbaar per worp per jaar",{"$f":"B15/B4","v":{"$error":"#DIV/0!"}},null,"aantal levende lammeren bij verkoop / aantal worpen per jaar"]
["Totaal aantal dode lammeren bij verkoop per jaar",{"$f":"B9-SUM(Berekeningen!G2:G500)","v":-9}]
["Gemiddeld aantal dode lammeren bij verkoop per worp per jaar",{"$f":"B17/B4","v":{"$error":"#DIV/0!"}},null,"aantal dode lammeren bij verkoop / aantal worpen per jaar"]
["% sterfte bij lammeren bij geboorte",{"$f":"B13/B9","v":{"$error":"#DIV/0!"}}]
["% sterfte bij lammeren tot  verkoopleeftijd",{"$f":"B17/B9","v":{"$error":"#DIV/0!"}}]
["Totaal aantal lammeren met opfok kunstmelk",{"$f":"SUM(Berekeningen!H2:H500)","v":0}]
["Aantal vrouwelijke lammeren",{"$f":"SUM(Berekeningen!I2:I500)","v":0},null,"aantal vrouwelijke lammeren (levend geboren)"]
["Aantal mannelijke lammeren",{"$f":"B9-B22-B13","v":0},null,"aantal mannelijke lammeren (levend geboren)"]
["% vrouwelijke lammeren",{"$f":"B22/B11","v":{"$error":"#DIV/0!"}}]
["% mannelijke lammeren",{"$f":"B23/B11","v":{"$error":"#DIV/0!"}}]
[]
["Groei","totaal","rammen","ooien"]
["Totale gewichtsaanwinst  van geboorte tot verkoop",{"$f":"AVERAGE(Berekeningen!S2:S500)","v":{"$error":"#DIV/0!"}},{"$f":"AVERAGE(Berekeningen!U2:U500)","v":{"$error":"#DIV/0!"}},{"$f":"AVERAGE(Berekeningen!T2:T500)","v":{"$error":"#DIV/0!"}},"kg"]
["Gemiddelde groei van geboorte tot spenen",{"$f":"AVERAGE(Berekeningen!J2:J500)","v":{"$error":"#DIV/0!"}},{"$f":"AVERAGE(Berekeningen!P2:P500)","v":{"$error":"#DIV/0!"}},{"$f":"AVERAGE(Berekeningen!M2:M500)","v":{"$error":"#DIV/0!"}},"kg/dag"]
["Gemiddelde groei van spenen tot verkoop",{"$f":"AVERAGE(Berekeningen!K2:K500)","v":{"$error":"#DIV/0!"}},{"$f":"AVERAGE(Berekeningen!Q2:Q500)","v":{"$error":"#DIV/0!"}},{"$f":"AVERAGE(Berekeningen!N2:N500)","v":{"$error":"#DIV/0!"}},"kg/dag"]
["Gemiddelde groei van geboorte tot verkoop",{"$f":"AVERAGE(Berekeningen!L2:L500)","v":{"$error":"#DIV/0!"}},{"$f":"AVERAGE(Berekeningen!R2:R500)","v":{"$error":"#DIV/0!"}},{"$f":"AVERAGE(Berekeningen!O2:O500)","v":{"$error":"#DIV/0!"}},"kg/dag"]

{"sheet":"Resultaten","index":7,"n_rows":10,"n_cols":2,"rows_kept":10,"cut":false,"hidden":true,"merged":[]}
["Resultaten"]
[]
["Rijlabels","Aantal geboren lammeren"]
["2017"]
["mei",4]
["Eindtotaal",4]
[]
[]
["Count of Ooi"]
[4]

{"sheet":"Setup","index":8,"n_rows":6,"n_cols":3,"rows_kept":6,"cut":false,"hidden":true,"merged":[]}
["Deze pagina bevat algemene setup"]
[]
[]
["Geslacht",null,"Keuze"]
["R",null,"Ja"]
["O",null,"Neen"]